{"text_format":"2","workbook":"xlsx","n_sheets":19,"sheets":["personnages","persos Shtandart","persos Fort","remplissage du jeu","dispos orgas","validés","stats validés","pb PAF","non-validés","stats non-validés","validés juin","stats juin","validés septembre","stats septembre","stats preinscrits","Réponses au formulaire - copy-c","feuille technique intermediaire","Tableau croisé dynamique 1","Jack - prospection FB"],"not_rendered":{"charts":32,"images":0,"macros":0,"external_links":0,"defined_names":0,"comments":4,"pivot_tables":1},"unopened":[],"bounds":{"document_bytes":16777216,"sheet_cells":100000,"run_cost":"one","rows_first":2000,"rows_last":500,"rows_between":2000,"halvings":0,"cell_chars":16384,"cell_head_chars":4096},"cells_cut":0,"cells_raw":0,"read":"whole","date_system":"1900"}

{"sheet":"personnages","index":0,"n_rows":114,"n_cols":14,"rows_kept":114,"cut":false,"hidden":false,"merged":[]}
["nom perso","genre","âge","Groupe","Fonction","Lieu demarrage","archetype redigé ?","personnage redigé ?","personnage relu ?","envoi ?","orga","joueur","objets à fournir\npar PJ","objets fournis\nau PJ"]
["Morgan Lennox","H",null,"Le Carolyn","Capitaine","Shtandart","Archetype OK","redigé","finalisé","perso envoyé","Shindra"]
["Mary Smith","F",null,"Le Carolyn","Chirurgienne ","Shtandart","Archetype OK","redigé","relu","perso non envoyé","Shindra"]
["Ailfrid O’connor","H",null,"Le Carolyn","Musicien","Shtandart","Archetype OK","redigé","soumis","perso non envoyé","Shindra"]
["Abigail Hamilton","F",null,"Le Carolyn","Second ","Shtandart","Archetype OK","redigé","non relu","perso non envoyé","Shindra"]
["Billy Lloyd","H",null,"Le Carolyn","Quartier maitre","Shtandart","Archetype OK","en cours","non relu","perso non envoyé","Shindra"]
["Victoria Johnson","F",null,"Le Carolyn","Cambusière","Shtandart","Archetype OK","non commencé","non relu","perso non envoyé","Shindra"]
["Will robinson","H",null,"Le Carolyn","Timonier","Shtandart","Archetype KO","non commencé","non relu","perso non envoyé","Shindra"]
["meg snider","F",null,"Le Carolyn",null,"Shtandart","Archetype KO","non commencé","non relu","perso non envoyé","Shindra"]
["Isaia hernandez","H",null,"Le Carolyn",null,"Shtandart","Archetype KO","non commencé","non relu","perso non envoyé","Shindra"]
["Mia","F",null,"Libertalia","Quartier maître - Cpt","Shtandart","Archetype OK","non commencé","non relu","perso non envoyé","Shindra"]
["X","F",null,"Libertalia",null,"Shtandart","Archetype OK","non commencé","non relu","perso non envoyé","Shindra"]
["Django Awassam","H",null,"Libertalia","Pilote","Shtandart","Archetype OK","non commencé","non relu","perso non envoyé","Shindra"]
["Thomas Henry  Lewis","H",null,"Libertalia","Officier de quart","Shtandart","Archetype OK","non commencé","non relu","perso non envoyé","Shindra"]
["Ethan Connoway","H",null,"Libertalia","Maître voilier","Shtandart","Archetype OK","non commencé","non relu","perso non envoyé","Shindra",null," un carnet de compte"]
["X","F",null,"Libertalia",null,"Shtandart","Archetype KO","non commencé","non relu","perso non envoyé","Shindra"]
["X","F",null,"Libertalia",null,"Shtandart","Archetype KO","non commencé","non relu","perso non envoyé","Shindra"]
["X","H",null,"Libertalia",null,"Shtandart","Archetype KO","non commencé","non relu","perso non envoyé","Shindra"]
["Barthelemy. Delhay ","H",null,"L’Antares","Capitaine","Shtandart","Archetype OK","non commencé","non relu","perso non envoyé","Shindra"]
["Esperanza Lopez ","F",null,"L’Antares","Timonière","Shtandart","Archetype OK","non commencé","non relu","perso non envoyé","Shindra"]
["Diane Lefebvre","F",null,"L’Antares","Canonnière","Shtandart","Archetype OK","non commencé","non relu","perso non envoyé","Shindra"]
["Louis Sable","H",null,"L’Antares","Second","Shtandart","Archetype OK","non commencé","non relu","perso non envoyé","Shindra"]
["Aenor Lacaune","F",null,"L’Antares","Quartier maitre","Shtandart","Archetype OK","non commencé","non relu","perso non envoyé","Shindra"]
["Henry Jacques ","H",null,"L’Antares",null,"Shtandart","Archetype OK","non commencé","non relu","perso non envoyé","Shindra"]
["Leo Gueguen","H",null,"L’Antares",null,"Shtandart","Archetype OK","non commencé","non relu","perso non envoyé","Shindra"]
["Ptit fut","H",null,"L’Antares",null,"Shtandart","Archetype OK","non commencé","non relu","perso non envoyé","Shindra"]
["John Golder ","H",null,"L’Antares",null,"Shtandart","Archetype OK","non commencé","non relu","perso non envoyé","Shindra"]
["Dolores Maria louise Navarro Baillehache","F",null,"L’Antares",null,"Shtandart","Archetype OK","non commencé","non relu","perso non envoyé","Shindra"]
["Vasco Cervantes","H",null,"L’Antares",null,"Shtandart","Archetype OK","non commencé","non relu","perso non envoyé","Shindra"]
["Juan Carlos Rodriguez","H",null,"L’Isabella","Capitaine","Shtandart","Archetype OK","non commencé","non relu","perso non envoyé","Gilles",null,null,"pistolet (volable)"]
["Anne Trevare","F",null,"L’Isabella","Seconde","Shtandart","Archetype OK","non commencé","non relu","perso non envoyé","Gilles"]
["Diogo Soares","H",null,"L’Isabella","Matelot","Shtandart","Archetype OK","non commencé","non relu","perso non envoyé","Gilles"]
["Alice Clark","F",null,"L’Isabella","Quartier maitre","Shtandart","Archetype OK","non commencé","non relu","perso non envoyé","Gilles"]
["Andres de Heredia","H",null,"L’Isabella","Médecin","Shtandart","Archetype OK","non commencé","non relu","perso non envoyé","Gilles"]
["Sarah Miller","F",null,"L’Isabella","Gabier","Shtandart","Archetype OK","non commencé","non relu","perso non envoyé","Gilles"]
["Jorge Castro","H",null,"L’Isabella","Cannonier","Shtandart","Archetype OK","non commencé","non relu","perso non envoyé","Gilles"]
["Lorenz conti","H",null,"L’Isabella","Matelot","Shtandart","Archetype OK","non commencé","non relu","perso non envoyé","Gilles"]
["x homme","H",null,"L’Isabella",null,"Shtandart","Archetype OK","non commencé","non relu","perso non envoyé","Gilles"]
["Charles Vasseur","H",null,"L’Hirondelle","Capitaine","Shtandart","Archetype OK","en cours","non relu","perso non envoyé","Ely"]
["François  Hourdeaux","H",null,"L’Hirondelle","matelot","Shtandart","Archetype OK","en cours","non relu","perso non envoyé","Ely"]
["Sally Brown","F",null,"L’Hirondelle","Apothicaire","Shtandart","Archetype KO","non commencé","non relu","perso non envoyé","Ely"]
["Romaric Mulet","H",null,"L’Hirondelle","Biographe","Shtandart","Archetype OK","non commencé","non relu","perso non envoyé","Ely"]
["Jerome Smith","H",null,"L’Hirondelle","Second","Shtandart","Archetype OK","en cours","non relu","perso non envoyé","Ely"]
["Hélène Maupas","F",null,"L’Hirondelle","Maitre Cannonière","Shtandart","Archetype OK","en cours","non relu","perso non envoyé","Ely"]
["Charlotte Beauregard","F",null,"L’Hirondelle","Timonière","Shtandart","Archetype KO","non commencé","non relu","perso non envoyé","Ely"]
["Léonard Carponci","H",null,"L’Hirondelle","Charpentier","Shtandart","Archetype KO","non commencé","non relu","perso non envoyé","Ely"]
["Jules Argoussin","H",null,"L’Hirondelle","Matelot","Shtandart","Archetype OK","en cours","non relu","perso non envoyé","Ely"]
["Peter de Vire","H",null,"Le vulture","Capitaine","Shtandart","Archetype KO","non commencé","non relu","perso non envoyé","Alexis"]
["Miranda Preston","F",null,"Le vulture",null,"Shtandart","Archetype KO","non commencé","non relu","perso non envoyé","Alexis"]
["Alphonse mikul","H",null,"Le vulture","Medecin","Shtandart","Archetype KO","non commencé","non relu","perso non envoyé","Alexis"]
["Cyrano Volfoni","H",null,"Le vulture","Pilote","Shtandart","Archetype KO","non commencé","non relu","perso non envoyé","Alexis"]
["Magali Milton","F",null,"Le vulture","Comptable","Shtandart","Archetype KO","non commencé","non relu","perso non envoyé","Alexis"]
["Will Brown","H",null,"Le vulture",null,"Shtandart","Archetype KO","non commencé","non relu","perso non envoyé","Alexis"]
[" x ","H",null,"Le vulture",null,"Shtandart","Archetype KO","non commencé","non relu","perso non envoyé","Alexis"]
["X",{"$nulls":4},"Shtandart","Archetype KO","non commencé","non relu","perso non envoyé","Alexis"]
["X femme","F",null,"Le vulture","Second","Shtandart","Archetype KO","non commencé","non relu","perso non envoyé","Alexis"]
["Thomas Farmer ","H",50.0,"Le Raven","Capitaine","Le Fort","Archetype OK","en cours","non relu","perso non envoyé","Jack"]
["Emilia Brandt","F",30.0,"Le Raven","Commandant","Le Fort","Archetype OK","en cours","non relu","perso non envoyé","Jack"]
["Peter Cullen","H",48.0,"Le Raven","Cannonier","Le Fort","Archetype OK","non commencé","non relu","perso non envoyé","Jack"]
["Cornelis Akersloot","H",38.0,"Le Raven","Matelot","Le Fort","Archetype OK","non commencé","non relu","perso non envoyé","Jack"]
["Jacob Akersloot ","H",38.0,"Le Raven","Matelot","Le Fort","Archetype OK","non commencé","non relu","perso non envoyé","Jack"]
["Latizia Short","F",53.0,"Le Raven","Bosco","Le Fort","Archetype OK","non commencé","non relu","perso non envoyé","Jack"]
["Iscouanda ","F",29.0,"Le Raven","Matelot&rabouteuse","Le Fort","Archetype OK","non commencé","non relu","perso non envoyé","Jack"]
["Harry White","H",38.0,"Le Broyeur","Capitaine","Le Fort","Archetype OK","redigé","non relu","perso non envoyé","Victor "]
["James Fox","H",41.0,"Le Broyeur","Second","Le Fort","Archetype OK","en cours","non relu","perso non envoyé","Victor "]
["Will Dekeur","H",32.0,"Le Broyeur","Quartier-maître","Le Fort","Archetype OK","en cours","non relu","perso non envoyé","Victor "]
["Mary Sulky","F",28.0,"Le Broyeur","Matelotte","Le Fort","Archetype OK","en cours","non relu","perso non envoyé","Victor "]
["Greg Gueule de suif","H",48.0,"Le Broyeur","Cannonier","Le Fort","Archetype OK","en cours","non relu","perso non envoyé","Victor "]
["Jaques d'Auray","H",null,"Le Broyeur","Timonier","Le Fort","Archetype OK","en cours","non relu","perso non envoyé","Victor "]
["Grace Davy","F",null,"Le Broyeur","Matelot","Le Fort","Archetype OK","en cours","non relu","perso non envoyé","Victor "]
["Clemente Del Sapo","F",null,"Le Broyeur","Matelot","Le Fort","Archetype OK","en cours","non relu","perso non envoyé","Victor "]
["Olivier de Flandre","H",null,"L'Espérance","Capitaine","Le Fort","Archetype OK","en cours","non relu","perso non envoyé","Ely"]
["Jacques Lebrun","H",null,"L'Espérance","Second","Le Fort","Archetype OK","non commencé","non relu","perso non envoyé","Ely",null,"Pas de couilles"]
["Anthon Smith","H",null,"L'Espérance","Canonnier","Le Fort","Archetype OK","non commencé","non relu","perso non envoyé","Ely"]
["Léon Maille","H",null,"L'Espérance","Quartier-Maître","Le Fort","Archetype OK","non commencé","non relu","perso non envoyé","Ely",null,"lunettes à lorgnons"]
["Bridget Blunt","F",null,"L'Espérance","Cuisinière","Le Fort","Archetype OK","non commencé","non relu","perso non envoyé","Ely"]
["Violaine Lebris","F",null,"L'Espérance","matelot","Le Fort","Archetype OK","non commencé","non relu","perso non envoyé","Ely"]
["Cristobal Ortiz","H",null,"L'Espérance","prêtre","Le Fort","Archetype OK","non commencé","non relu","perso non envoyé","Ely"]
["Nar Bint Hizir","F",null,"L'Espérance","sorcière vaudou","Le Fort","Archetype OK","en cours","non relu","perso non envoyé","Ely"]
["Dago Gray","H",46.0,"Fortune","Capitaine","Le Fort","Archetype OK","non commencé","non relu","perso non envoyé","Jack"]
["Manzel ","F",50.0,"Fortune","Sorcière vaudou","Le Fort","Archetype OK","non commencé","non relu","perso non envoyé","Jack"]
["Jan Veen ","H",50.0,"Fortune","Quartier M+Intendant","Le Fort","Archetype OK","non commencé","non relu","perso non envoyé","Jack"]
["Pierre Margry","H",44.0,"Fortune","Charpentier ","Le Fort","Archetype OK","non commencé","non relu","perso non envoyé","Jack"]
["Frances ","F",31.0,"Fortune","Timonière","Le Fort","Archetype OK","non commencé","non relu","perso non envoyé","Jack"]
["Isabel ","F",35.0,"Fortune","Maître d’équipage","Le Fort","Archetype OK","non commencé","non relu","perso non envoyé","Jack"]
["Jim","H",22.0,"Fortune","Voilier","Le Fort","Archetype OK","non commencé","non relu","perso non envoyé","Jack"]
["Raul Santos ","H",45.0,"Fortune","Second","Le Fort","Archetype OK","non commencé","non relu","perso non envoyé","Jack"]
["Elizabeth Turner","F",null,"Futur équipage","Capitaine","Le Fort","Archetype OK","en cours","non relu","perso non envoyé","Kurteas"]
["Antoine « Le Fennec »","H",null,"Futur équipage",null,"Le Fort","Archetype OK","en cours","non relu","perso non envoyé","Kurteas"]
["Muhamad al'iitalii al'aesa","H",null,"Futur équipage",null,"Le Fort","Archetype OK","en cours","non relu","perso non envoyé","Kurteas"]
["Clem « Grande Gueule »","F",null,"Futur équipage",null,"Le Fort","Archetype OK","en cours","non relu","perso non envoyé","Kurteas"]
["Madeleine \"La Peintre\"","F",null,"Futur équipage",null,"Le Fort","Archetype OK","en cours","non relu","perso non envoyé","Kurteas",null,"Materiel de tatouage"]
["Marie Tisane","F",null,"Futur équipage",null,"Le Fort","Archetype OK","en cours","non relu","perso non envoyé","Kurteas"]
["Mialy Jao","F",null,"Locaux","prostituée","Le Fort","Archetype OK","en cours","non relu","perso non envoyé","Laurent"]
["Gabrielle Caudron","F",null,"Locaux","prostituée","Le Fort","Archetype OK","en cours","non relu","perso non envoyé","Laurent"]
["Mathilda Mayer","F",null,"Locaux","prostituée","Le Fort","Archetype OK","en cours","non relu","perso non envoyé","Laurent"]
["Sabine Camelan","F",null,"Locaux","prostituée","Le Fort","Archetype OK","en cours","non relu","perso non envoyé","Laurent"]
["Pilar de Luz","F",null,"Locaux","prostituée","Le Fort","Archetype OK","en cours","non relu","perso non envoyé","Laurent"]
["Joshua Fowey","H",null,"Locaux","prostituée","Le Fort","Archetype OK","en cours","non relu","perso non envoyé","Laurent"]
["Luca Scipione","F",null,"Locaux","homme de main","Le Fort","Archetype OK","en cours","non relu","perso non envoyé","Laurent"]
[{"$nulls":5},"Le Fort","Archetype KO","non commencé","non relu","perso non envoyé"]
["Jeanne Sorel","F",null,"Locaux","Chef du commerce","Le Fort","Archetype KO","non commencé","non relu","perso non envoyé"]
["james hawkins","H",null,"aldebaran/barth",null,"Le Fort","Archetype KO","non commencé","non relu","perso non envoyé"]
["marin de james","H",null,"aldebaran/barth",null,"Le Fort","Archetype KO","non commencé","non relu","perso non envoyé"]
["Annabelle","F",null,"Locaux",null,"Le Fort","Archetype KO","non commencé","non relu","perso non envoyé"]
["Carolina","F",null,"Locaux","voyante","Le Fort","Archetype OK","en cours","non relu","perso non envoyé","Jack","boule de cristal"]
["total : ",{"$f":"B109+B108","v":103}]
["hommes:",{"$f":"COUNTIF(B2:B106, \"H\")","v":57},{"$f":"B108/B107","v":0.5533980583},null,"Fort",{"$f":"COUNTIF(F2:F106, \"Le Fort\")","v":50},{"$f":"COUNTIF(G2:G106, \"Archetype KO\")","v":23}]
["femmes :",{"$f":"COUNTIF(B2:B106, \"F\")","v":46},{"$f":"B109/B107","v":0.4466019417},null,"Shtandart",{"$f":"COUNTIF(F2:F106, \"Shtandart\")","v":55},{"$f":"COUNTIF(G2:G106, \"Archetype OK\")","v":82}]
[null,"2 vides"]
[]
["PNJs"]
["Davis","H",null,"PNJ","homme de main de\nLouis Moreno","Le Fort"]
["Luis Moreno","H",null,"PNJ","Notable Planteur","Le Fort"]

{"sheet":"persos Shtandart","index":1,"n_rows":57,"n_cols":10,"rows_kept":57,"cut":false,"hidden":false,"merged":[]}
[{"$f":"COUNTA(A3:A60)","v":55},"personnages définis pour jouer sur Shtandart",null,null,null,{"$f":"COUNTA(D3:D57)","v":54},"personnages prévus pour jouer sur Shtandart"]
["nom perso","genre","âge","Groupe","Fonction","orga","joueur\njuin","joueur\nseptembre","objets à fournir\npar PJ","objets fournis\nau PJ"]
[{"$f":"IFERROR(__xludf.DUMMYFUNCTION(\"QUERY(personnages!A:K, \"\"select A, B, C, D, E, K where F='Shtandart'\"\",)\"),\"Morgan Lennox\")","v":"Morgan Lennox"},{"$f":"IFERROR(__xludf.DUMMYFUNCTION(\"\"\"COMPUTED_VALUE\"\"\"),\"H\")","v":"H"},null,{"$f":"IFERROR(__xludf.DUMMYFUNCTION(\"\"\"COMPUTED_VALUE\"\"\"),\"Le Carolyn\")","v":"Le Carolyn"},{"$f":"IFERROR(__xludf.DUMMYFUNCTION(\"\"\"COMPUTED_VALUE\"\"\"),\"Capitaine\")","v":"Capitaine"},{"$f":"IFERROR(__xludf.DUMMYFUNCTION(\"\"\"COMPUTED_VALUE\"\"\"),\"Shindra\")","v":"Shindra"}]
[{"$f":"IFERROR(__xludf.DUMMYFUNCTION(\"\"\"COMPUTED_VALUE\"\"\"),\"Mary Smith\")","v":"Mary Smith"},{"$f":"IFERROR(__xludf.DUMMYFUNCTION(\"\"\"COMPUTED_VALUE\"\"\"),\"F\")","v":"F"},null,{"$f":"IFERROR(__xludf.DUMMYFUNCTION(\"\"\"COMPUTED_VALUE\"\"\"),\"Le Carolyn\")","v":"Le Carolyn"},{"$f":"IFERROR(__xludf.DUMMYFUNCTION(\"\"\"COMPUTED_VALUE\"\"\"),\"Chirurgienne \")","v":"Chirurgienne "},{"$f":"IFERROR(__xludf.DUMMYFUNCTION(\"\"\"COMPUTED_VALUE\"\"\"),\"Shindra\")","v":"Shindra"}]
[{"$f":"IFERROR(__xludf.DUMMYFUNCTION(\"\"\"COMPUTED_VALUE\"\"\"),\"Ailfrid O’connor\")","v":"Ailfrid O’connor"},{"$f":"IFERROR(__xludf.DUMMYFUNCTION(\"\"\"COMPUTED_VALUE\"\"\"),\"H\")","v":"H"},null,{"$f":"IFERROR(__xludf.DUMMYFUNCTION(\"\"\"COMPUTED_VALUE\"\"\"),\"Le Carolyn\")","v":"Le Carolyn"},{"$f":"IFERROR(__xludf.DUMMYFUNCTION(\"\"\"COMPUTED_VALUE\"\"\"),\"Musicien\")","v":"Musicien"},{"$f":"IFERROR(__xludf.DUMMYFUNCTION(\"\"\"COMPUTED_VALUE\"\"\"),\"Shindra\")","v":"Shindra"}]
[{"$f":"IFERROR(__xludf.DUMMYFUNCTION(\"\"\"COMPUTED_VALUE\"\"\"),\"Abigail Hamilton\")","v":"Abigail Hamilton"},{"$f":"IFERROR(__xludf.DUMMYFUNCTION(\"\"\"COMPUTED_VALUE\"\"\"),\"F\")","v":"F"},null,{"$f":"IFERROR(__xludf.DUMMYFUNCTION(\"\"\"COMPUTED_VALUE\"\"\"),\"Le Carolyn\")","v":"Le Carolyn"},{"$f":"IFERROR(__xludf.DUMMYFUNCTION(\"\"\"COMPUTED_VALUE\"\"\"),\"Second \")","v":"Second "},{"$f":"IFERROR(__xludf.DUMMYFUNCTION(\"\"\"COMPUTED_VALUE\"\"\"),\"Shindra\")","v":"Shindra"}]
[{"$f":"IFERROR(__xludf.DUMMYFUNCTION(\"\"\"COMPUTED_VALUE\"\"\"),\"Billy Lloyd\")","v":"Billy Lloyd"},{"$f":"IFERROR(__xludf.DUMMYFUNCTION(\"\"\"COMPUTED_VALUE\"\"\"),\"H\")","v":"H"},null,{"$f":"IFERROR(__xludf.DUMMYFUNCTION(\"\"\"COMPUTED_VALUE\"\"\"),\"Le Carolyn\")","v":"Le Carolyn"},{"$f":"IFERROR(__xludf.DUMMYFUNCTION(\"\"\"COMPUTED_VALUE\"\"\"),\"Quartier maitre\")","v":"Quartier maitre"},{"$f":"IFERROR(__xludf.DUMMYFUNCTION(\"\"\"COMPUTED_VALUE\"\"\"),\"Shindra\")","v":"Shindra"}]
[{"$f":"IFERROR(__xludf.DUMMYFUNCTION(\"\"\"COMPUTED_VALUE\"\"\"),\"Victoria Johnson\")","v":"Victoria Johnson"},{"$f":"IFERROR(__xludf.DUMMYFUNCTION(\"\"\"COMPUTED_VALUE\"\"\"),\"F\")","v":"F"},null,{"$f":"IFERROR(__xludf.DUMMYFUNCTION(\"\"\"COMPUTED_VALUE\"\"\"),\"Le Carolyn\")","v":"Le Carolyn"},{"$f":"IFERROR(__xludf.DUMMYFUNCTION(\"\"\"COMPUTED_VALUE\"\"\"),\"Cambusière\")","v":"Cambusière"},{"$f":"IFERROR(__xludf.DUMMYFUNCTION(\"\"\"COMPUTED_VALUE\"\"\"),\"Shindra\")","v":"Shindra"}]
[{"$f":"IFERROR(__xludf.DUMMYFUNCTION(\"\"\"COMPUTED_VALUE\"\"\"),\"Will robinson\")","v":"Will robinson"},{"$f":"IFERROR(__xludf.DUMMYFUNCTION(\"\"\"COMPUTED_VALUE\"\"\"),\"H\")","v":"H"},null,{"$f":"IFERROR(__xludf.DUMMYFUNCTION(\"\"\"COMPUTED_VALUE\"\"\"),\"Le Carolyn\")","v":"Le Carolyn"},{"$f":"IFERROR(__xludf.DUMMYFUNCTION(\"\"\"COMPUTED_VALUE\"\"\"),\"Timonier\")","v":"Timonier"},{"$f":"IFERROR(__xludf.DUMMYFUNCTION(\"\"\"COMPUTED_VALUE\"\"\"),\"Shindra\")","v":"Shindra"}]
[{"$f":"IFERROR(__xludf.DUMMYFUNCTION(\"\"\"COMPUTED_VALUE\"\"\"),\"meg snider\")","v":"meg snider"},{"$f":"IFERROR(__xludf.DUMMYFUNCTION(\"\"\"COMPUTED_VALUE\"\"\"),\"F\")","v":"F"},null,{"$f":"IFERROR(__xludf.DUMMYFUNCTION(\"\"\"COMPUTED_VALUE\"\"\"),\"Le Carolyn\")","v":"Le Carolyn"},null,{"$f":"IFERROR(__xludf.DUMMYFUNCTION(\"\"\"COMPUTED_VALUE\"\"\"),\"Shindra\")","v":"Shindra"}]
[{"$f":"IFERROR(__xludf.DUMMYFUNCTION(\"\"\"COMPUTED_VALUE\"\"\"),\"Isaia hernandez\")","v":"Isaia hernandez"},{"$f":"IFERROR(__xludf.DUMMYFUNCTION(\"\"\"COMPUTED_VALUE\"\"\"),\"H\")","v":"H"},null,{"$f":"IFERROR(__xludf.DUMMYFUNCTION(\"\"\"COMPUTED_VALUE\"\"\"),\"Le Carolyn\")","v":"Le Carolyn"},null,{"$f":"IFERROR(__xludf.DUMMYFUNCTION(\"\"\"COMPUTED_VALUE\"\"\"),\"Shindra\")","v":"Shindra"}]
[{"$f":"IFERROR(__xludf.DUMMYFUNCTION(\"\"\"COMPUTED_VALUE\"\"\"),\"Mia\")","v":"Mia"},{"$f":"IFERROR(__xludf.DUMMYFUNCTION(\"\"\"COMPUTED_VALUE\"\"\"),\"F\")","v":"F"},null,{"$f":"IFERROR(__xludf.DUMMYFUNCTION(\"\"\"COMPUTED_VALUE\"\"\"),\"Libertalia\")","v":"Libertalia"},{"$f":"IFERROR(__xludf.DUMMYFUNCTION(\"\"\"COMPUTED_VALUE\"\"\"),\"Quartier maître - Cpt\")","v":"Quartier maître - Cpt"},{"$f":"IFERROR(__xludf.DUMMYFUNCTION(\"\"\"COMPUTED_VALUE\"\"\"),\"Shindra\")","v":"Shindra"}]
[{"$f":"IFERROR(__xludf.DUMMYFUNCTION(\"\"\"COMPUTED_VALUE\"\"\"),\"X\")","v":"X"},{"$f":"IFERROR(__xludf.DUMMYFUNCTION(\"\"\"COMPUTED_VALUE\"\"\"),\"F\")","v":"F"},null,{"$f":"IFERROR(__xludf.DUMMYFUNCTION(\"\"\"COMPUTED_VALUE\"\"\"),\"Libertalia\")","v":"Libertalia"},null,{"$f":"IFERROR(__xludf.DUMMYFUNCTION(\"\"\"COMPUTED_VALUE\"\"\"),\"Shindra\")","v":"Shindra"}]
[{"$f":"IFERROR(__xludf.DUMMYFUNCTION(\"\"\"COMPUTED_VALUE\"\"\"),\"Django Awassam\")","v":"Django Awassam"},{"$f":"IFERROR(__xludf.DUMMYFUNCTION(\"\"\"COMPUTED_VALUE\"\"\"),\"H\")","v":"H"},null,{"$f":"IFERROR(__xludf.DUMMYFUNCTION(\"\"\"COMPUTED_VALUE\"\"\"),\"Libertalia\")","v":"Libertalia"},{"$f":"IFERROR(__xludf.DUMMYFUNCTION(\"\"\"COMPUTED_VALUE\"\"\"),\"Pilote\")","v":"Pilote"},{"$f":"IFERROR(__xludf.DUMMYFUNCTION(\"\"\"COMPUTED_VALUE\"\"\"),\"Shindra\")","v":"Shindra"}]
[{"$f":"IFERROR(__xludf.DUMMYFUNCTION(\"\"\"COMPUTED_VALUE\"\"\"),\"Thomas Henry  Lewis\")","v":"Thomas Henry  Lewis"},{"$f":"IFERROR(__xludf.DUMMYFUNCTION(\"\"\"COMPUTED_VALUE\"\"\"),\"H\")","v":"H"},null,{"$f":"IFERROR(__xludf.DUMMYFUNCTION(\"\"\"COMPUTED_VALUE\"\"\"),\"Libertalia\")","v":"Libertalia"},{"$f":"IFERROR(__xludf.DUMMYFUNCTION(\"\"\"COMPUTED_VALUE\"\"\"),\"Officier de quart\")","v":"Officier de quart"},{"$f":"IFERROR(__xludf.DUMMYFUNCTION(\"\"\"COMPUTED_VALUE\"\"\"),\"Shindra\")","v":"Shindra"}]
[{"$f":"IFERROR(__xludf.DUMMYFUNCTION(\"\"\"COMPUTED_VALUE\"\"\"),\"Ethan Connoway\")","v":"Ethan Connoway"},{"$f":"IFERROR(__xludf.DUMMYFUNCTION(\"\"\"COMPUTED_VALUE\"\"\"),\"H\")","v":"H"},null,{"$f":"IFERROR(__xludf.DUMMYFUNCTION(\"\"\"COMPUTED_VALUE\"\"\"),\"Libertalia\")","v":"Libertalia"},{"$f":"IFERROR(__xludf.DUMMYFUNCTION(\"\"\"COMPUTED_VALUE\"\"\"),\"Maître voilier\")","v":"Maître voilier"},{"$f":"IFERROR(__xludf.DUMMYFUNCTION(\"\"\"COMPUTED_VALUE\"\"\"),\"Shindra\")","v":"Shindra"}]
[{"$f":"IFERROR(__xludf.DUMMYFUNCTION(\"\"\"COMPUTED_VALUE\"\"\"),\"X\")","v":"X"},{"$f":"IFERROR(__xludf.DUMMYFUNCTION(\"\"\"COMPUTED_VALUE\"\"\"),\"F\")","v":"F"},null,{"$f":"IFERROR(__xludf.DUMMYFUNCTION(\"\"\"COMPUTED_VALUE\"\"\"),\"Libertalia\")","v":"Libertalia"},null,{"$f":"IFERROR(__xludf.DUMMYFUNCTION(\"\"\"COMPUTED_VALUE\"\"\"),\"Shindra\")","v":"Shindra"}]
[{"$f":"IFERROR(__xludf.DUMMYFUNCTION(\"\"\"COMPUTED_VALUE\"\"\"),\"X\")","v":"X"},{"$f":"IFERROR(__xludf.DUMMYFUNCTION(\"\"\"COMPUTED_VALUE\"\"\"),\"F\")","v":"F"},null,{"$f":"IFERROR(__xludf.DUMMYFUNCTION(\"\"\"COMPUTED_VALUE\"\"\"),\"Libertalia\")","v":"Libertalia"},null,{"$f":"IFERROR(__xludf.DUMMYFUNCTION(\"\"\"COMPUTED_VALUE\"\"\"),\"Shindra\")","v":"Shindra"}]
[{"$f":"IFERROR(__xludf.DUMMYFUNCTION(\"\"\"COMPUTED_VALUE\"\"\"),\"X\")","v":"X"},{"$f":"IFERROR(__xludf.DUMMYFUNCTION(\"\"\"COMPUTED_VALUE\"\"\"),\"H\")","v":"H"},null,{"$f":"IFERROR(__xludf.DUMMYFUNCTION(\"\"\"COMPUTED_VALUE\"\"\"),\"Libertalia\")","v":"Libertalia"},null,{"$f":"IFERROR(__xludf.DUMMYFUNCTION(\"\"\"COMPUTED_VALUE\"\"\"),\"Shindra\")","v":"Shindra"}]
[{"$f":"IFERROR(__xludf.DUMMYFUNCTION(\"\"\"COMPUTED_VALUE\"\"\"),\"Barthelemy. Delhay \")","v":"Barthelemy. Delhay "},{"$f":"IFERROR(__xludf.DUMMYFUNCTION(\"\"\"COMPUTED_VALUE\"\"\"),\"H\")","v":"H"},null,{"$f":"IFERROR(__xludf.DUMMYFUNCTION(\"\"\"COMPUTED_VALUE\"\"\"),\"L’Antares\")","v":"L’Antares"},{"$f":"IFERROR(__xludf.DUMMYFUNCTION(\"\"\"COMPUTED_VALUE\"\"\"),\"Capitaine\")","v":"Capitaine"},{"$f":"IFERROR(__xludf.DUMMYFUNCTION(\"\"\"COMPUTED_VALUE\"\"\"),\"Shindra\")","v":"Shindra"}]
[{"$f":"IFERROR(__xludf.DUMMYFUNCTION(\"\"\"COMPUTED_VALUE\"\"\"),\"Esperanza Lopez \")","v":"Esperanza Lopez "},{"$f":"IFERROR(__xludf.DUMMYFUNCTION(\"\"\"COMPUTED_VALUE\"\"\"),\"F\")","v":"F"},null,{"$f":"IFERROR(__xludf.DUMMYFUNCTION(\"\"\"COMPUTED_VALUE\"\"\"),\"L’Antares\")","v":"L’Antares"},{"$f":"IFERROR(__xludf.DUMMYFUNCTION(\"\"\"COMPUTED_VALUE\"\"\"),\"Timonière\")","v":"Timonière"},{"$f":"IFERROR(__xludf.DUMMYFUNCTION(\"\"\"COMPUTED_VALUE\"\"\"),\"Shindra\")","v":"Shindra"}]
[{"$f":"IFERROR(__xludf.DUMMYFUNCTION(\"\"\"COMPUTED_VALUE\"\"\"),\"Diane Lefebvre\")","v":"Diane Lefebvre"},{"$f":"IFERROR(__xludf.DUMMYFUNCTION(\"\"\"COMPUTED_VALUE\"\"\"),\"F\")","v":"F"},null,{"$f":"IFERROR(__xludf.DUMMYFUNCTION(\"\"\"COMPUTED_VALUE\"\"\"),\"L’Antares\")","v":"L’Antares"},{"$f":"IFERROR(__xludf.DUMMYFUNCTION(\"\"\"COMPUTED_VALUE\"\"\"),\"Canonnière\")","v":"Canonnière"},{"$f":"IFERROR(__xludf.DUMMYFUNCTION(\"\"\"COMPUTED_VALUE\"\"\"),\"Shindra\")","v":"Shindra"}]
[{"$f":"IFERROR(__xludf.DUMMYFUNCTION(\"\"\"COMPUTED_VALUE\"\"\"),\"Louis Sable\")","v":"Louis Sable"},{"$f":"IFERROR(__xludf.DUMMYFUNCTION(\"\"\"COMPUTED_VALUE\"\"\"),\"H\")","v":"H"},null,{"$f":"IFERROR(__xludf.DUMMYFUNCTION(\"\"\"COMPUTED_VALUE\"\"\"),\"L’Antares\")","v":"L’Antares"},{"$f":"IFERROR(__xludf.DUMMYFUNCTION(\"\"\"COMPUTED_VALUE\"\"\"),\"Second\")","v":"Second"},{"$f":"IFERROR(__xludf.DUMMYFUNCTION(\"\"\"COMPUTED_VALUE\"\"\"),\"Shindra\")","v":"Shindra"}]
[{"$f":"IFERROR(__xludf.DUMMYFUNCTION(\"\"\"COMPUTED_VALUE\"\"\"),\"Aenor Lacaune\")","v":"Aenor Lacaune"},{"$f":"IFERROR(__xludf.DUMMYFUNCTION(\"\"\"COMPUTED_VALUE\"\"\"),\"F\")","v":"F"},null,{"$f":"IFERROR(__xludf.DUMMYFUNCTION(\"\"\"COMPUTED_VALUE\"\"\"),\"L’Antares\")","v":"L’Antares"},{"$f":"IFERROR(__xludf.DUMMYFUNCTION(\"\"\"COMPUTED_VALUE\"\"\"),\"Quartier maitre\")","v":"Quartier maitre"},{"$f":"IFERROR(__xludf.DUMMYFUNCTION(\"\"\"COMPUTED_VALUE\"\"\"),\"Shindra\")","v":"Shindra"}]
[{"$f":"IFERROR(__xludf.DUMMYFUNCTION(\"\"\"COMPUTED_VALUE\"\"\"),\"Henry Jacques \")","v":"Henry Jacques "},{"$f":"IFERROR(__xludf.DUMMYFUNCTION(\"\"\"COMPUTED_VALUE\"\"\"),\"H\")","v":"H"},null,{"$f":"IFERROR(__xludf.DUMMYFUNCTION(\"\"\"COMPUTED_VALUE\"\"\"),\"L’Antares\")","v":"L’Antares"},null,{"$f":"IFERROR(__xludf.DUMMYFUNCTION(\"\"\"COMPUTED_VALUE\"\"\"),\"Shindra\")","v":"Shindra"}]
[{"$f":"IFERROR(__xludf.DUMMYFUNCTION(\"\"\"COMPUTED_VALUE\"\"\"),\"Leo Gueguen\")","v":"Leo Gueguen"},{"$f":"IFERROR(__xludf.DUMMYFUNCTION(\"\"\"COMPUTED_VALUE\"\"\"),\"H\")","v":"H"},null,{"$f":"IFERROR(__xludf.DUMMYFUNCTION(\"\"\"COMPUTED_VALUE\"\"\"),\"L’Antares\")","v":"L’Antares"},null,{"$f":"IFERROR(__xludf.DUMMYFUNCTION(\"\"\"COMPUTED_VALUE\"\"\"),\"Shindra\")","v":"Shindra"}]
[{"$f":"IFERROR(__xludf.DUMMYFUNCTION(\"\"\"COMPUTED_VALUE\"\"\"),\"Ptit fut\")","v":"Ptit fut"},{"$f":"IFERROR(__xludf.DUMMYFUNCTION(\"\"\"COMPUTED_VALUE\"\"\"),\"H\")","v":"H"},null,{"$f":"IFERROR(__xludf.DUMMYFUNCTION(\"\"\"COMPUTED_VALUE\"\"\"),\"L’Antares\")","v":"L’Antares"},null,{"$f":"IFERROR(__xludf.DUMMYFUNCTION(\"\"\"COMPUTED_VALUE\"\"\"),\"Shindra\")","v":"Shindra"}]
[{"$f":"IFERROR(__xludf.DUMMYFUNCTION(\"\"\"COMPUTED_VALUE\"\"\"),\"John Golder \")","v":"John Golder "},{"$f":"IFERROR(__xludf.DUMMYFUNCTION(\"\"\"COMPUTED_VALUE\"\"\"),\"H\")","v":"H"},null,{"$f":"IFERROR(__xludf.DUMMYFUNCTION(\"\"\"COMPUTED_VALUE\"\"\"),\"L’Antares\")","v":"L’Antares"},null,{"$f":"IFERROR(__xludf.DUMMYFUNCTION(\"\"\"COMPUTED_VALUE\"\"\"),\"Shindra\")","v":"Shindra"}]
[{"$f":"IFERROR(__xludf.DUMMYFUNCTION(\"\"\"COMPUTED_VALUE\"\"\"),\"Dolores Maria louise Navarro Baillehache\")","v":"Dolores Maria louise Navarro Baillehache"},{"$f":"IFERROR(__xludf.DUMMYFUNCTION(\"\"\"COMPUTED_VALUE\"\"\"),\"F\")","v":"F"},null,{"$f":"IFERROR(__xludf.DUMMYFUNCTION(\"\"\"COMPUTED_VALUE\"\"\"),\"L’Antares\")","v":"L’Antares"},null,{"$f":"IFERROR(__xludf.DUMMYFUNCTION(\"\"\"COMPUTED_VALUE\"\"\"),\"Shindra\")","v":"Shindra"}]
[{"$f":"IFERROR(__xludf.DUMMYFUNCTION(\"\"\"COMPUTED_VALUE\"\"\"),\"Vasco Cervantes\")","v":"Vasco Cervantes"},{"$f":"IFERROR(__xludf.DUMMYFUNCTION(\"\"\"COMPUTED_VALUE\"\"\"),\"H\")","v":"H"},null,{"$f":"IFERROR(__xludf.DUMMYFUNCTION(\"\"\"COMPUTED_VALUE\"\"\"),\"L’Antares\")","v":"L’Antares"},null,{"$f":"IFERROR(__xludf.DUMMYFUNCTION(\"\"\"COMPUTED_VALUE\"\"\"),\"Shindra\")","v":"Shindra"}]
[{"$f":"IFERROR(__xludf.DUMMYFUNCTION(\"\"\"COMPUTED_VALUE\"\"\"),\"Juan Carlos Rodriguez\")","v":"Juan Carlos Rodriguez"},{"$f":"IFERROR(__xludf.DUMMYFUNCTION(\"\"\"COMPUTED_VALUE\"\"\"),\"H\")","v":"H"},null,{"$f":"IFERROR(__xludf.DUMMYFUNCTION(\"\"\"COMPUTED_VALUE\"\"\"),\"L’Isabella\")","v":"L’Isabella"},{"$f":"IFERROR(__xludf.DUMMYFUNCTION(\"\"\"COMPUTED_VALUE\"\"\"),\"Capitaine\")","v":"Capitaine"},{"$f":"IFERROR(__xludf.DUMMYFUNCTION(\"\"\"COMPUTED_VALUE\"\"\"),\"Gilles\")","v":"Gilles"}]
[{"$f":"IFERROR(__xludf.DUMMYFUNCTION(\"\"\"COMPUTED_VALUE\"\"\"),\"Anne Trevare\")","v":"Anne Trevare"},{"$f":"IFERROR(__xludf.DUMMYFUNCTION(\"\"\"COMPUTED_VALUE\"\"\"),\"F\")","v":"F"},null,{"$f":"IFERROR(__xludf.DUMMYFUNCTION(\"\"\"COMPUTED_VALUE\"\"\"),\"L’Isabella\")","v":"L’Isabella"},{"$f":"IFERROR(__xludf.DUMMYFUNCTION(\"\"\"COMPUTED_VALUE\"\"\"),\"Seconde\")","v":"Seconde"},{"$f":"IFERROR(__xludf.DUMMYFUNCTION(\"\"\"COMPUTED_VALUE\"\"\"),\"Gilles\")","v":"Gilles"}]
[{"$f":"IFERROR(__xludf.DUMMYFUNCTION(\"\"\"COMPUTED_VALUE\"\"\"),\"Diogo Soares\")","v":"Diogo Soares"},{"$f":"IFERROR(__xludf.DUMMYFUNCTION(\"\"\"COMPUTED_VALUE\"\"\"),\"H\")","v":"H"},null,{"$f":"IFERROR(__xludf.DUMMYFUNCTION(\"\"\"COMPUTED_VALUE\"\"\"),\"L’Isabella\")","v":"L’Isabella"},{"$f":"IFERROR(__xludf.DUMMYFUNCTION(\"\"\"COMPUTED_VALUE\"\"\"),\"Matelot\")","v":"Matelot"},{"$f":"IFERROR(__xludf.DUMMYFUNCTION(\"\"\"COMPUTED_VALUE\"\"\"),\"Gilles\")","v":"Gilles"}]
[{"$f":"IFERROR(__xludf.DUMMYFUNCTION(\"\"\"COMPUTED_VALUE\"\"\"),\"Alice Clark\")","v":"Alice Clark"},{"$f":"IFERROR(__xludf.DUMMYFUNCTION(\"\"\"COMPUTED_VALUE\"\"\"),\"F\")","v":"F"},null,{"$f":"IFERROR(__xludf.DUMMYFUNCTION(\"\"\"COMPUTED_VALUE\"\"\"),\"L’Isabella\")","v":"L’Isabella"},{"$f":"IFERROR(__xludf.DUMMYFUNCTION(\"\"\"COMPUTED_VALUE\"\"\"),\"Quartier maitre\")","v":"Quartier maitre"},{"$f":"IFERROR(__xludf.DUMMYFUNCTION(\"\"\"COMPUTED_VALUE\"\"\"),\"Gilles\")","v":"Gilles"}]
[{"$f":"IFERROR(__xludf.DUMMYFUNCTION(\"\"\"COMPUTED_VALUE\"\"\"),\"Andres de Heredia\")","v":"Andres de Heredia"},{"$f":"IFERROR(__xludf.DUMMYFUNCTION(\"\"\"COMPUTED_VALUE\"\"\"),\"H\")","v":"H"},null,{"$f":"IFERROR(__xludf.DUMMYFUNCTION(\"\"\"COMPUTED_VALUE\"\"\"),\"L’Isabella\")","v":"L’Isabella"},{"$f":"IFERROR(__xludf.DUMMYFUNCTION(\"\"\"COMPUTED_VALUE\"\"\"),\"Médecin\")","v":"Médecin"},{"$f":"IFERROR(__xludf.DUMMYFUNCTION(\"\"\"COMPUTED_VALUE\"\"\"),\"Gilles\")","v":"Gilles"}]
[{"$f":"IFERROR(__xludf.DUMMYFUNCTION(\"\"\"COMPUTED_VALUE\"\"\"),\"Sarah Miller\")","v":"Sarah Miller"},{"$f":"IFERROR(__xludf.DUMMYFUNCTION(\"\"\"COMPUTED_VALUE\"\"\"),\"F\")","v":"F"},null,{"$f":"IFERROR(__xludf.DUMMYFUNCTION(\"\"\"COMPUTED_VALUE\"\"\"),\"L’Isabella\")","v":"L’Isabella"},{"$f":"IFERROR(__xludf.DUMMYFUNCTION(\"\"\"COMPUTED_VALUE\"\"\"),\"Gabier\")","v":"Gabier"},{"$f":"IFERROR(__xludf.DUMMYFUNCTION(\"\"\"COMPUTED_VALUE\"\"\"),\"Gilles\")","v":"Gilles"}]
[{"$f":"IFERROR(__xludf.DUMMYFUNCTION(\"\"\"COMPUTED_VALUE\"\"\"),\"Jorge Castro\")","v":"Jorge Castro"},{"$f":"IFERROR(__xludf.DUMMYFUNCTION(\"\"\"COMPUTED_VALUE\"\"\"),\"H\")","v":"H"},null,{"$f":"IFERROR(__xludf.DUMMYFUNCTION(\"\"\"COMPUTED_VALUE\"\"\"),\"L’Isabella\")","v":"L’Isabella"},{"$f":"IFERROR(__xludf.DUMMYFUNCTION(\"\"\"COMPUTED_VALUE\"\"\"),\"Cannonier\")","v":"Cannonier"},{"$f":"IFERROR(__xludf.DUMMYFUNCTION(\"\"\"COMPUTED_VALUE\"\"\"),\"Gilles\")","v":"Gilles"}]
[{"$f":"IFERROR(__xludf.DUMMYFUNCTION(\"\"\"COMPUTED_VALUE\"\"\"),\"Lorenz conti\")","v":"Lorenz conti"},{"$f":"IFERROR(__xludf.DUMMYFUNCTION(\"\"\"COMPUTED_VALUE\"\"\"),\"H\")","v":"H"},null,{"$f":"IFERROR(__xludf.DUMMYFUNCTION(\"\"\"COMPUTED_VALUE\"\"\"),\"L’Isabella\")","v":"L’Isabella"},{"$f":"IFERROR(__xludf.DUMMYFUNCTION(\"\"\"COMPUTED_VALUE\"\"\"),\"Matelot\")","v":"Matelot"},{"$f":"IFERROR(__xludf.DUMMYFUNCTION(\"\"\"COMPUTED_VALUE\"\"\"),\"Gilles\")","v":"Gilles"}]
[{"$f":"IFERROR(__xludf.DUMMYFUNCTION(\"\"\"COMPUTED_VALUE\"\"\"),\"x homme\")","v":"x homme"},{"$f":"IFERROR(__xludf.DUMMYFUNCTION(\"\"\"COMPUTED_VALUE\"\"\"),\"H\")","v":"H"},null,{"$f":"IFERROR(__xludf.DUMMYFUNCTION(\"\"\"COMPUTED_VALUE\"\"\"),\"L’Isabella\")","v":"L’Isabella"},null,{"$f":"IFERROR(__xludf.DUMMYFUNCTION(\"\"\"COMPUTED_VALUE\"\"\"),\"Gilles\")","v":"Gilles"}]
[{"$f":"IFERROR(__xludf.DUMMYFUNCTION(\"\"\"COMPUTED_VALUE\"\"\"),\"Charles Vasseur\")","v":"Charles Vasseur"},{"$f":"IFERROR(__xludf.DUMMYFUNCTION(\"\"\"COMPUTED_VALUE\"\"\"),\"H\")","v":"H"},null,{"$f":"IFERROR(__xludf.DUMMYFUNCTION(\"\"\"COMPUTED_VALUE\"\"\"),\"L’Hirondelle\")","v":"L’Hirondelle"},{"$f":"IFERROR(__xludf.DUMMYFUNCTION(\"\"\"COMPUTED_VALUE\"\"\"),\"Capitaine\")","v":"Capitaine"},{"$f":"IFERROR(__xludf.DUMMYFUNCTION(\"\"\"COMPUTED_VALUE\"\"\"),\"Ely\")","v":"Ely"}]
[{"$f":"IFERROR(__xludf.DUMMYFUNCTION(\"\"\"COMPUTED_VALUE\"\"\"),\"François  Hourdeaux\")","v":"François  Hourdeaux"},{"$f":"IFERROR(__xludf.DUMMYFUNCTION(\"\"\"COMPUTED_VALUE\"\"\"),\"H\")","v":"H"},null,{"$f":"IFERROR(__xludf.DUMMYFUNCTION(\"\"\"COMPUTED_VALUE\"\"\"),\"L’Hirondelle\")","v":"L’Hirondelle"},{"$f":"IFERROR(__xludf.DUMMYFUNCTION(\"\"\"COMPUTED_VALUE\"\"\"),\"matelot\")","v":"matelot"},{"$f":"IFERROR(__xludf.DUMMYFUNCTION(\"\"\"COMPUTED_VALUE\"\"\"),\"Ely\")","v":"Ely"}]
[{"$f":"IFERROR(__xludf.DUMMYFUNCTION(\"\"\"COMPUTED_VALUE\"\"\"),\"Sally Brown\")","v":"Sally Brown"},{"$f":"IFERROR(__xludf.DUMMYFUNCTION(\"\"\"COMPUTED_VALUE\"\"\"),\"F\")","v":"F"},null,{"$f":"IFERROR(__xludf.DUMMYFUNCTION(\"\"\"COMPUTED_VALUE\"\"\"),\"L’Hirondelle\")","v":"L’Hirondelle"},{"$f":"IFERROR(__xludf.DUMMYFUNCTION(\"\"\"COMPUTED_VALUE\"\"\"),\"Apothicaire\")","v":"Apothicaire"},{"$f":"IFERROR(__xludf.DUMMYFUNCTION(\"\"\"COMPUTED_VALUE\"\"\"),\"Ely\")","v":"Ely"}]
[{"$f":"IFERROR(__xludf.DUMMYFUNCTION(\"\"\"COMPUTED_VALUE\"\"\"),\"Romaric Mulet\")","v":"Romaric Mulet"},{"$f":"IFERROR(__xludf.DUMMYFUNCTION(\"\"\"COMPUTED_VALUE\"\"\"),\"H\")","v":"H"},null,{"$f":"IFERROR(__xludf.DUMMYFUNCTION(\"\"\"COMPUTED_VALUE\"\"\"),\"L’Hirondelle\")","v":"L’Hirondelle"},{"$f":"IFERROR(__xludf.DUMMYFUNCTION(\"\"\"COMPUTED_VALUE\"\"\"),\"Biographe\")","v":"Biographe"},{"$f":"IFERROR(__xludf.DUMMYFUNCTION(\"\"\"COMPUTED_VALUE\"\"\"),\"Ely\")","v":"Ely"}]
[{"$f":"IFERROR(__xludf.DUMMYFUNCTION(\"\"\"COMPUTED_VALUE\"\"\"),\"Jerome Smith\")","v":"Jerome Smith"},{"$f":"IFERROR(__xludf.DUMMYFUNCTION(\"\"\"COMPUTED_VALUE\"\"\"),\"H\")","v":"H"},null,{"$f":"IFERROR(__xludf.DUMMYFUNCTION(\"\"\"COMPUTED_VALUE\"\"\"),\"L’Hirondelle\")","v":"L’Hirondelle"},{"$f":"IFERROR(__xludf.DUMMYFUNCTION(\"\"\"COMPUTED_VALUE\"\"\"),\"Second\")","v":"Second"},{"$f":"IFERROR(__xludf.DUMMYFUNCTION(\"\"\"COMPUTED_VALUE\"\"\"),\"Ely\")","v":"Ely"}]
[{"$f":"IFERROR(__xludf.DUMMYFUNCTION(\"\"\"COMPUTED_VALUE\"\"\"),\"Hélène Maupas\")","v":"Hélène Maupas"},{"$f":"IFERROR(__xludf.DUMMYFUNCTION(\"\"\"COMPUTED_VALUE\"\"\"),\"F\")","v":"F"},null,{"$f":"IFERROR(__xludf.DUMMYFUNCTION(\"\"\"COMPUTED_VALUE\"\"\"),\"L’Hirondelle\")","v":"L’Hirondelle"},{"$f":"IFERROR(__xludf.DUMMYFUNCTION(\"\"\"COMPUTED_VALUE\"\"\"),\"Maitre Cannonière\")","v":"Maitre Cannonière"},{"$f":"IFERROR(__xludf.DUMMYFUNCTION(\"\"\"COMPUTED_VALUE\"\"\"),\"Ely\")","v":"Ely"}]
[{"$f":"IFERROR(__xludf.DUMMYFUNCTION(\"\"\"COMPUTED_VALUE\"\"\"),\"Charlotte Beauregard\")","v":"Charlotte Beauregard"},{"$f":"IFERROR(__xludf.DUMMYFUNCTION(\"\"\"COMPUTED_VALUE\"\"\"),\"F\")","v":"F"},null,{"$f":"IFERROR(__xludf.DUMMYFUNCTION(\"\"\"COMPUTED_VALUE\"\"\"),\"L’Hirondelle\")","v":"L’Hirondelle"},{"$f":"IFERROR(__xludf.DUMMYFUNCTION(\"\"\"COMPUTED_VALUE\"\"\"),\"Timonière\")","v":"Timonière"},{"$f":"IFERROR(__xludf.DUMMYFUNCTION(\"\"\"COMPUTED_VALUE\"\"\"),\"Ely\")","v":"Ely"}]
[{"$f":"IFERROR(__xludf.DUMMYFUNCTION(\"\"\"COMPUTED_VALUE\"\"\"),\"Léonard Carponci\")","v":"Léonard Carponci"},{"$f":"IFERROR(__xludf.DUMMYFUNCTION(\"\"\"COMPUTED_VALUE\"\"\"),\"H\")","v":"H"},null,{"$f":"IFERROR(__xludf.DUMMYFUNCTION(\"\"\"COMPUTED_VALUE\"\"\"),\"L’Hirondelle\")","v":"L’Hirondelle"},{"$f":"IFERROR(__xludf.DUMMYFUNCTION(\"\"\"COMPUTED_VALUE\"\"\"),\"Charpentier\")","v":"Charpentier"},{"$f":"IFERROR(__xludf.DUMMYFUNCTION(\"\"\"COMPUTED_VALUE\"\"\"),\"Ely\")","v":"Ely"}]
[{"$f":"IFERROR(__xludf.DUMMYFUNCTION(\"\"\"COMPUTED_VALUE\"\"\"),\"Jules Argoussin\")","v":"Jules Argoussin"},{"$f":"IFERROR(__xludf.DUMMYFUNCTION(\"\"\"COMPUTED_VALUE\"\"\"),\"H\")","v":"H"},null,{"$f":"IFERROR(__xludf.DUMMYFUNCTION(\"\"\"COMPUTED_VALUE\"\"\"),\"L’Hirondelle\")","v":"L’Hirondelle"},{"$f":"IFERROR(__xludf.DUMMYFUNCTION(\"\"\"COMPUTED_VALUE\"\"\"),\"Matelot\")","v":"Matelot"},{"$f":"IFERROR(__xludf.DUMMYFUNCTION(\"\"\"COMPUTED_VALUE\"\"\"),\"Ely\")","v":"Ely"}]
[{"$f":"IFERROR(__xludf.DUMMYFUNCTION(\"\"\"COMPUTED_VALUE\"\"\"),\"Peter de Vire\")","v":"Peter de Vire"},{"$f":"IFERROR(__xludf.DUMMYFUNCTION(\"\"\"COMPUTED_VALUE\"\"\"),\"H\")","v":"H"},null,{"$f":"IFERROR(__xludf.DUMMYFUNCTION(\"\"\"COMPUTED_VALUE\"\"\"),\"Le vulture\")","v":"Le vulture"},{"$f":"IFERROR(__xludf.DUMMYFUNCTION(\"\"\"COMPUTED_VALUE\"\"\"),\"Capitaine\")","v":"Capitaine"},{"$f":"IFERROR(__xludf.DUMMYFUNCTION(\"\"\"COMPUTED_VALUE\"\"\"),\"Alexis\")","v":"Alexis"}]
[{"$f":"IFERROR(__xludf.DUMMYFUNCTION(\"\"\"COMPUTED_VALUE\"\"\"),\"Miranda Preston\")","v":"Miranda Preston"},{"$f":"IFERROR(__xludf.DUMMYFUNCTION(\"\"\"COMPUTED_VALUE\"\"\"),\"F\")","v":"F"},null,{"$f":"IFERROR(__xludf.DUMMYFUNCTION(\"\"\"COMPUTED_VALUE\"\"\"),\"Le vulture\")","v":"Le vulture"},null,{"$f":"IFERROR(__xludf.DUMMYFUNCTION(\"\"\"COMPUTED_VALUE\"\"\"),\"Alexis\")","v":"Alexis"}]
[{"$f":"IFERROR(__xludf.DUMMYFUNCTION(\"\"\"COMPUTED_VALUE\"\"\"),\"Alphonse mikul\")","v":"Alphonse mikul"},{"$f":"IFERROR(__xludf.DUMMYFUNCTION(\"\"\"COMPUTED_VALUE\"\"\"),\"H\")","v":"H"},null,{"$f":"IFERROR(__xludf.DUMMYFUNCTION(\"\"\"COMPUTED_VALUE\"\"\"),\"Le vulture\")","v":"Le vulture"},{"$f":"IFERROR(__xludf.DUMMYFUNCTION(\"\"\"COMPUTED_VALUE\"\"\"),\"Medecin\")","v":"Medecin"},{"$f":"IFERROR(__xludf.DUMMYFUNCTION(\"\"\"COMPUTED_VALUE\"\"\"),\"Alexis\")","v":"Alexis"}]
[{"$f":"IFERROR(__xludf.DUMMYFUNCTION(\"\"\"COMPUTED_VALUE\"\"\"),\"Cyrano Volfoni\")","v":"Cyrano Volfoni"},{"$f":"IFERROR(__xludf.DUMMYFUNCTION(\"\"\"COMPUTED_VALUE\"\"\"),\"H\")","v":"H"},null,{"$f":"IFERROR(__xludf.DUMMYFUNCTION(\"\"\"COMPUTED_VALUE\"\"\"),\"Le vulture\")","v":"Le vulture"},{"$f":"IFERROR(__xludf.DUMMYFUNCTION(\"\"\"COMPUTED_VALUE\"\"\"),\"Pilote\")","v":"Pilote"},{"$f":"IFERROR(__xludf.DUMMYFUNCTION(\"\"\"COMPUTED_VALUE\"\"\"),\"Alexis\")","v":"Alexis"}]
[{"$f":"IFERROR(__xludf.DUMMYFUNCTION(\"\"\"COMPUTED_VALUE\"\"\"),\"Magali Milton\")","v":"Magali Milton"},{"$f":"IFERROR(__xludf.DUMMYFUNCTION(\"\"\"COMPUTED_VALUE\"\"\"),\"F\")","v":"F"},null,{"$f":"IFERROR(__xludf.DUMMYFUNCTION(\"\"\"COMPUTED_VALUE\"\"\"),\"Le vulture\")","v":"Le vulture"},{"$f":"IFERROR(__xludf.DUMMYFUNCTION(\"\"\"COMPUTED_VALUE\"\"\"),\"Comptable\")","v":"Comptable"},{"$f":"IFERROR(__xludf.DUMMYFUNCTION(\"\"\"COMPUTED_VALUE\"\"\"),\"Alexis\")","v":"Alexis"}]
[{"$f":"IFERROR(__xludf.DUMMYFUNCTION(\"\"\"COMPUTED_VALUE\"\"\"),\"Will Brown\")","v":"Will Brown"},{"$f":"IFERROR(__xludf.DUMMYFUNCTION(\"\"\"COMPUTED_VALUE\"\"\"),\"H\")","v":"H"},null,{"$f":"IFERROR(__xludf.DUMMYFUNCTION(\"\"\"COMPUTED_VALUE\"\"\"),\"Le vulture\")","v":"Le vulture"},null,{"$f":"IFERROR(__xludf.DUMMYFUNCTION(\"\"\"COMPUTED_VALUE\"\"\"),\"Alexis\")","v":"Alexis"}]
[{"$f":"IFERROR(__xludf.DUMMYFUNCTION(\"\"\"COMPUTED_VALUE\"\"\"),\" x \")","v":" x "},{"$f":"IFERROR(__xludf.DUMMYFUNCTION(\"\"\"COMPUTED_VALUE\"\"\"),\"H\")","v":"H"},null,{"$f":"IFERROR(__xludf.DUMMYFUNCTION(\"\"\"COMPUTED_VALUE\"\"\"),\"Le vulture\")","v":"Le vulture"},null,{"$f":"IFERROR(__xludf.DUMMYFUNCTION(\"\"\"COMPUTED_VALUE\"\"\"),\"Alexis\")","v":"Alexis"}]
[{"$f":"IFERROR(__xludf.DUMMYFUNCTION(\"\"\"COMPUTED_VALUE\"\"\"),\"X\")","v":"X"},{"$nulls":4},{"$f":"IFERROR(__xludf.DUMMYFUNCTION(\"\"\"COMPUTED_VALUE\"\"\"),\"Alexis\")","v":"Alexis"}]
[{"$f":"IFERROR(__xludf.DUMMYFUNCTION(\"\"\"COMPUTED_VALUE\"\"\"),\"X femme\")","v":"X femme"},{"$f":"IFERROR(__xludf.DUMMYFUNCTION(\"\"\"COMPUTED_VALUE\"\"\"),\"F\")","v":"F"},null,{"$f":"IFERROR(__xludf.DUMMYFUNCTION(\"\"\"COMPUTED_VALUE\"\"\"),\"Le vulture\")","v":"Le vulture"},{"$f":"IFERROR(__xludf.DUMMYFUNCTION(\"\"\"COMPUTED_VALUE\"\"\"),\"Second\")","v":"Second"},{"$f":"IFERROR(__xludf.DUMMYFUNCTION(\"\"\"COMPUTED_VALUE\"\"\"),\"Alexis\")","v":"Alexis"}]

{"sheet":"persos Fort","index":2,"n_rows":54,"n_cols":10,"rows_kept":54,"cut":false,"hidden":false,"merged":[]}
[{"$f":"COUNTA(A3:A52)","v":49},"personnages définis pour jouer au fort",null,null,null,{"$f":"COUNTA(D3:D52)","v":49},"personnages prévus pour jouer au fort"]
["nom perso","genre","âge","Groupe","Fonction","orga","joueur\njuin","joueur\nseptembre","objets à fournir\npar PJ","objets fournis\nau PJ"]
[{"$f":"IFERROR(__xludf.DUMMYFUNCTION(\"QUERY(personnages!A:K, \"\"select A, B, C, D, E, K where F='Le Fort'\"\",)\"),\"Thomas Farmer \")","v":"Thomas Farmer "},{"$f":"IFERROR(__xludf.DUMMYFUNCTION(\"\"\"COMPUTED_VALUE\"\"\"),\"H\")","v":"H"},{"$f":"IFERROR(__xludf.DUMMYFUNCTION(\"\"\"COMPUTED_VALUE\"\"\"),50.0)","v":50},{"$f":"IFERROR(__xludf.DUMMYFUNCTION(\"\"\"COMPUTED_VALUE\"\"\"),\"Le Raven\")","v":"Le Raven"},{"$f":"IFERROR(__xludf.DUMMYFUNCTION(\"\"\"COMPUTED_VALUE\"\"\"),\"Capitaine\")","v":"Capitaine"},{"$f":"IFERROR(__xludf.DUMMYFUNCTION(\"\"\"COMPUTED_VALUE\"\"\"),\"Jack\")","v":"Jack"}]
[{"$f":"IFERROR(__xludf.DUMMYFUNCTION(\"\"\"COMPUTED_VALUE\"\"\"),\"Emilia Brandt\")","v":"Emilia Brandt"},{"$f":"IFERROR(__xludf.DUMMYFUNCTION(\"\"\"COMPUTED_VALUE\"\"\"),\"F\")","v":"F"},{"$f":"IFERROR(__xludf.DUMMYFUNCTION(\"\"\"COMPUTED_VALUE\"\"\"),30.0)","v":30},{"$f":"IFERROR(__xludf.DUMMYFUNCTION(\"\"\"COMPUTED_VALUE\"\"\"),\"Le Raven\")","v":"Le Raven"},{"$f":"IFERROR(__xludf.DUMMYFUNCTION(\"\"\"COMPUTED_VALUE\"\"\"),\"Commandant\")","v":"Commandant"},{"$f":"IFERROR(__xludf.DUMMYFUNCTION(\"\"\"COMPUTED_VALUE\"\"\"),\"Jack\")","v":"Jack"}]
[{"$f":"IFERROR(__xludf.DUMMYFUNCTION(\"\"\"COMPUTED_VALUE\"\"\"),\"Peter Cullen\")","v":"Peter Cullen"},{"$f":"IFERROR(__xludf.DUMMYFUNCTION(\"\"\"COMPUTED_VALUE\"\"\"),\"H\")","v":"H"},{"$f":"IFERROR(__xludf.DUMMYFUNCTION(\"\"\"COMPUTED_VALUE\"\"\"),48.0)","v":48},{"$f":"IFERROR(__xludf.DUMMYFUNCTION(\"\"\"COMPUTED_VALUE\"\"\"),\"Le Raven\")","v":"Le Raven"},{"$f":"IFERROR(__xludf.DUMMYFUNCTION(\"\"\"COMPUTED_VALUE\"\"\"),\"Cannonier\")","v":"Cannonier"},{"$f":"IFERROR(__xludf.DUMMYFUNCTION(\"\"\"COMPUTED_VALUE\"\"\"),\"Jack\")","v":"Jack"}]
[{"$f":"IFERROR(__xludf.DUMMYFUNCTION(\"\"\"COMPUTED_VALUE\"\"\"),\"Cornelis Akersloot\")","v":"Cornelis Akersloot"},{"$f":"IFERROR(__xludf.DUMMYFUNCTION(\"\"\"COMPUTED_VALUE\"\"\"),\"H\")","v":"H"},{"$f":"IFERROR(__xludf.DUMMYFUNCTION(\"\"\"COMPUTED_VALUE\"\"\"),38.0)","v":38},{"$f":"IFERROR(__xludf.DUMMYFUNCTION(\"\"\"COMPUTED_VALUE\"\"\"),\"Le Raven\")","v":"Le Raven"},{"$f":"IFERROR(__xludf.DUMMYFUNCTION(\"\"\"COMPUTED_VALUE\"\"\"),\"Matelot\")","v":"Matelot"},{"$f":"IFERROR(__xludf.DUMMYFUNCTION(\"\"\"COMPUTED_VALUE\"\"\"),\"Jack\")","v":"Jack"}]
[{"$f":"IFERROR(__xludf.DUMMYFUNCTION(\"\"\"COMPUTED_VALUE\"\"\"),\"Jacob Akersloot \")","v":"Jacob Akersloot "},{"$f":"IFERROR(__xludf.DUMMYFUNCTION(\"\"\"COMPUTED_VALUE\"\"\"),\"H\")","v":"H"},{"$f":"IFERROR(__xludf.DUMMYFUNCTION(\"\"\"COMPUTED_VALUE\"\"\"),38.0)","v":38},{"$f":"IFERROR(__xludf.DUMMYFUNCTION(\"\"\"COMPUTED_VALUE\"\"\"),\"Le Raven\")","v":"Le Raven"},{"$f":"IFERROR(__xludf.DUMMYFUNCTION(\"\"\"COMPUTED_VALUE\"\"\"),\"Matelot\")","v":"Matelot"},{"$f":"IFERROR(__xludf.DUMMYFUNCTION(\"\"\"COMPUTED_VALUE\"\"\"),\"Jack\")","v":"Jack"}]
[{"$f":"IFERROR(__xludf.DUMMYFUNCTION(\"\"\"COMPUTED_VALUE\"\"\"),\"Latizia Short\")","v":"Latizia Short"},{"$f":"IFERROR(__xludf.DUMMYFUNCTION(\"\"\"COMPUTED_VALUE\"\"\"),\"F\")","v":"F"},{"$f":"IFERROR(__xludf.DUMMYFUNCTION(\"\"\"COMPUTED_VALUE\"\"\"),53.0)","v":53},{"$f":"IFERROR(__xludf.DUMMYFUNCTION(\"\"\"COMPUTED_VALUE\"\"\"),\"Le Raven\")","v":"Le Raven"},{"$f":"IFERROR(__xludf.DUMMYFUNCTION(\"\"\"COMPUTED_VALUE\"\"\"),\"Bosco\")","v":"Bosco"},{"$f":"IFERROR(__xludf.DUMMYFUNCTION(\"\"\"COMPUTED_VALUE\"\"\"),\"Jack\")","v":"Jack"}]
[{"$f":"IFERROR(__xludf.DUMMYFUNCTION(\"\"\"COMPUTED_VALUE\"\"\"),\"Iscouanda \")","v":"Iscouanda "},{"$f":"IFERROR(__xludf.DUMMYFUNCTION(\"\"\"COMPUTED_VALUE\"\"\"),\"F\")","v":"F"},{"$f":"IFERROR(__xludf.DUMMYFUNCTION(\"\"\"COMPUTED_VALUE\"\"\"),29.0)","v":29},{"$f":"IFERROR(__xludf.DUMMYFUNCTION(\"\"\"COMPUTED_VALUE\"\"\"),\"Le Raven\")","v":"Le Raven"},{"$f":"IFERROR(__xludf.DUMMYFUNCTION(\"\"\"COMPUTED_VALUE\"\"\"),\"Matelot&rabouteuse\")","v":"Matelot&rabouteuse"},{"$f":"IFERROR(__xludf.DUMMYFUNCTION(\"\"\"COMPUTED_VALUE\"\"\"),\"Jack\")","v":"Jack"}]
[{"$f":"IFERROR(__xludf.DUMMYFUNCTION(\"\"\"COMPUTED_VALUE\"\"\"),\"Harry White\")","v":"Harry White"},{"$f":"IFERROR(__xludf.DUMMYFUNCTION(\"\"\"COMPUTED_VALUE\"\"\"),\"H\")","v":"H"},{"$f":"IFERROR(__xludf.DUMMYFUNCTION(\"\"\"COMPUTED_VALUE\"\"\"),38.0)","v":38},{"$f":"IFERROR(__xludf.DUMMYFUNCTION(\"\"\"COMPUTED_VALUE\"\"\"),\"Le Broyeur\")","v":"Le Broyeur"},{"$f":"IFERROR(__xludf.DUMMYFUNCTION(\"\"\"COMPUTED_VALUE\"\"\"),\"Capitaine\")","v":"Capitaine"},{"$f":"IFERROR(__xludf.DUMMYFUNCTION(\"\"\"COMPUTED_VALUE\"\"\"),\"Victor \")","v":"Victor "}]
[{"$f":"IFERROR(__xludf.DUMMYFUNCTION(\"\"\"COMPUTED_VALUE\"\"\"),\"James Fox\")","v":"James Fox"},{"$f":"IFERROR(__xludf.DUMMYFUNCTION(\"\"\"COMPUTED_VALUE\"\"\"),\"H\")","v":"H"},{"$f":"IFERROR(__xludf.DUMMYFUNCTION(\"\"\"COMPUTED_VALUE\"\"\"),41.0)","v":41},{"$f":"IFERROR(__xludf.DUMMYFUNCTION(\"\"\"COMPUTED_VALUE\"\"\"),\"Le Broyeur\")","v":"Le Broyeur"},{"$f":"IFERROR(__xludf.DUMMYFUNCTION(\"\"\"COMPUTED_VALUE\"\"\"),\"Second\")","v":"Second"},{"$f":"IFERROR(__xludf.DUMMYFUNCTION(\"\"\"COMPUTED_VALUE\"\"\"),\"Victor \")","v":"Victor "}]
[{"$f":"IFERROR(__xludf.DUMMYFUNCTION(\"\"\"COMPUTED_VALUE\"\"\"),\"Will Dekeur\")","v":"Will Dekeur"},{"$f":"IFERROR(__xludf.DUMMYFUNCTION(\"\"\"COMPUTED_VALUE\"\"\"),\"H\")","v":"H"},{"$f":"IFERROR(__xludf.DUMMYFUNCTION(\"\"\"COMPUTED_VALUE\"\"\"),32.0)","v":32},{"$f":"IFERROR(__xludf.DUMMYFUNCTION(\"\"\"COMPUTED_VALUE\"\"\"),\"Le Broyeur\")","v":"Le Broyeur"},{"$f":"IFERROR(__xludf.DUMMYFUNCTION(\"\"\"COMPUTED_VALUE\"\"\"),\"Quartier-maître\")","v":"Quartier-maître"},{"$f":"IFERROR(__xludf.DUMMYFUNCTION(\"\"\"COMPUTED_VALUE\"\"\"),\"Victor \")","v":"Victor "}]
[{"$f":"IFERROR(__xludf.DUMMYFUNCTION(\"\"\"COMPUTED_VALUE\"\"\"),\"Mary Sulky\")","v":"Mary Sulky"},{"$f":"IFERROR(__xludf.DUMMYFUNCTION(\"\"\"COMPUTED_VALUE\"\"\"),\"F\")","v":"F"},{"$f":"IFERROR(__xludf.DUMMYFUNCTION(\"\"\"COMPUTED_VALUE\"\"\"),28.0)","v":28},{"$f":"IFERROR(__xludf.DUMMYFUNCTION(\"\"\"COMPUTED_VALUE\"\"\"),\"Le Broyeur\")","v":"Le Broyeur"},{"$f":"IFERROR(__xludf.DUMMYFUNCTION(\"\"\"COMPUTED_VALUE\"\"\"),\"Matelotte\")","v":"Matelotte"},{"$f":"IFERROR(__xludf.DUMMYFUNCTION(\"\"\"COMPUTED_VALUE\"\"\"),\"Victor \")","v":"Victor "}]
[{"$f":"IFERROR(__xludf.DUMMYFUNCTION(\"\"\"COMPUTED_VALUE\"\"\"),\"Greg Gueule de suif\")","v":"Greg Gueule de suif"},{"$f":"IFERROR(__xludf.DUMMYFUNCTION(\"\"\"COMPUTED_VALUE\"\"\"),\"H\")","v":"H"},{"$f":"IFERROR(__xludf.DUMMYFUNCTION(\"\"\"COMPUTED_VALUE\"\"\"),48.0)","v":48},{"$f":"IFERROR(__xludf.DUMMYFUNCTION(\"\"\"COMPUTED_VALUE\"\"\"),\"Le Broyeur\")","v":"Le Broyeur"},{"$f":"IFERROR(__xludf.DUMMYFUNCTION(\"\"\"COMPUTED_VALUE\"\"\"),\"Cannonier\")","v":"Cannonier"},{"$f":"IFERROR(__xludf.DUMMYFUNCTION(\"\"\"COMPUTED_VALUE\"\"\"),\"Victor \")","v":"Victor "}]
[{"$f":"IFERROR(__xludf.DUMMYFUNCTION(\"\"\"COMPUTED_VALUE\"\"\"),\"Jaques d'Auray\")","v":"Jaques d'Auray"},{"$f":"IFERROR(__xludf.DUMMYFUNCTION(\"\"\"COMPUTED_VALUE\"\"\"),\"H\")","v":"H"},null,{"$f":"IFERROR(__xludf.DUMMYFUNCTION(\"\"\"COMPUTED_VALUE\"\"\"),\"Le Broyeur\")","v":"Le Broyeur"},{"$f":"IFERROR(__xludf.DUMMYFUNCTION(\"\"\"COMPUTED_VALUE\"\"\"),\"Timonier\")","v":"Timonier"},{"$f":"IFERROR(__xludf.DUMMYFUNCTION(\"\"\"COMPUTED_VALUE\"\"\"),\"Victor \")","v":"Victor "}]
[{"$f":"IFERROR(__xludf.DUMMYFUNCTION(\"\"\"COMPUTED_VALUE\"\"\"),\"Grace Davy\")","v":"Grace Davy"},{"$f":"IFERROR(__xludf.DUMMYFUNCTION(\"\"\"COMPUTED_VALUE\"\"\"),\"F\")","v":"F"},null,{"$f":"IFERROR(__xludf.DUMMYFUNCTION(\"\"\"COMPUTED_VALUE\"\"\"),\"Le Broyeur\")","v":"Le Broyeur"},{"$f":"IFERROR(__xludf.DUMMYFUNCTION(\"\"\"COMPUTED_VALUE\"\"\"),\"Matelot\")","v":"Matelot"},{"$f":"IFERROR(__xludf.DUMMYFUNCTION(\"\"\"COMPUTED_VALUE\"\"\"),\"Victor \")","v":"Victor "}]
[{"$f":"IFERROR(__xludf.DUMMYFUNCTION(\"\"\"COMPUTED_VALUE\"\"\"),\"Clemente Del Sapo\")","v":"Clemente Del Sapo"},{"$f":"IFERROR(__xludf.DUMMYFUNCTION(\"\"\"COMPUTED_VALUE\"\"\"),\"F\")","v":"F"},null,{"$f":"IFERROR(__xludf.DUMMYFUNCTION(\"\"\"COMPUTED_VALUE\"\"\"),\"Le Broyeur\")","v":"Le Broyeur"},{"$f":"IFERROR(__xludf.DUMMYFUNCTION(\"\"\"COMPUTED_VALUE\"\"\"),\"Matelot\")","v":"Matelot"},{"$f":"IFERROR(__xludf.DUMMYFUNCTION(\"\"\"COMPUTED_VALUE\"\"\"),\"Victor \")","v":"Victor "}]
[{"$f":"IFERROR(__xludf.DUMMYFUNCTION(\"\"\"COMPUTED_VALUE\"\"\"),\"Olivier de Flandre\")","v":"Olivier de Flandre"},{"$f":"IFERROR(__xludf.DUMMYFUNCTION(\"\"\"COMPUTED_VALUE\"\"\"),\"H\")","v":"H"},null,{"$f":"IFERROR(__xludf.DUMMYFUNCTION(\"\"\"COMPUTED_VALUE\"\"\"),\"L'Espérance\")","v":"L'Espérance"},{"$f":"IFERROR(__xludf.DUMMYFUNCTION(\"\"\"COMPUTED_VALUE\"\"\"),\"Capitaine\")","v":"Capitaine"},{"$f":"IFERROR(__xludf.DUMMYFUNCTION(\"\"\"COMPUTED_VALUE\"\"\"),\"Ely\")","v":"Ely"}]
[{"$f":"IFERROR(__xludf.DUMMYFUNCTION(\"\"\"COMPUTED_VALUE\"\"\"),\"Jacques Lebrun\")","v":"Jacques Lebrun"},{"$f":"IFERROR(__xludf.DUMMYFUNCTION(\"\"\"COMPUTED_VALUE\"\"\"),\"H\")","v":"H"},null,{"$f":"IFERROR(__xludf.DUMMYFUNCTION(\"\"\"COMPUTED_VALUE\"\"\"),\"L'Espérance\")","v":"L'Espérance"},{"$f":"IFERROR(__xludf.DUMMYFUNCTION(\"\"\"COMPUTED_VALUE\"\"\"),\"Second\")","v":"Second"},{"$f":"IFERROR(__xludf.DUMMYFUNCTION(\"\"\"COMPUTED_VALUE\"\"\"),\"Ely\")","v":"Ely"}]
[{"$f":"IFERROR(__xludf.DUMMYFUNCTION(\"\"\"COMPUTED_VALUE\"\"\"),\"Anthon Smith\")","v":"Anthon Smith"},{"$f":"IFERROR(__xludf.DUMMYFUNCTION(\"\"\"COMPUTED_VALUE\"\"\"),\"H\")","v":"H"},null,{"$f":"IFERROR(__xludf.DUMMYFUNCTION(\"\"\"COMPUTED_VALUE\"\"\"),\"L'Espérance\")","v":"L'Espérance"},{"$f":"IFERROR(__xludf.DUMMYFUNCTION(\"\"\"COMPUTED_VALUE\"\"\"),\"Canonnier\")","v":"Canonnier"},{"$f":"IFERROR(__xludf.DUMMYFUNCTION(\"\"\"COMPUTED_VALUE\"\"\"),\"Ely\")","v":"Ely"}]
[{"$f":"IFERROR(__xludf.DUMMYFUNCTION(\"\"\"COMPUTED_VALUE\"\"\"),\"Léon Maille\")","v":"Léon Maille"},{"$f":"IFERROR(__xludf.DUMMYFUNCTION(\"\"\"COMPUTED_VALUE\"\"\"),\"H\")","v":"H"},null,{"$f":"IFERROR(__xludf.DUMMYFUNCTION(\"\"\"COMPUTED_VALUE\"\"\"),\"L'Espérance\")","v":"L'Espérance"},{"$f":"IFERROR(__xludf.DUMMYFUNCTION(\"\"\"COMPUTED_VALUE\"\"\"),\"Quartier-Maître\")","v":"Quartier-Maître"},{"$f":"IFERROR(__xludf.DUMMYFUNCTION(\"\"\"COMPUTED_VALUE\"\"\"),\"Ely\")","v":"Ely"}]
[{"$f":"IFERROR(__xludf.DUMMYFUNCTION(\"\"\"COMPUTED_VALUE\"\"\"),\"Bridget Blunt\")","v":"Bridget Blunt"},{"$f":"IFERROR(__xludf.DUMMYFUNCTION(\"\"\"COMPUTED_VALUE\"\"\"),\"F\")","v":"F"},null,{"$f":"IFERROR(__xludf.DUMMYFUNCTION(\"\"\"COMPUTED_VALUE\"\"\"),\"L'Espérance\")","v":"L'Espérance"},{"$f":"IFERROR(__xludf.DUMMYFUNCTION(\"\"\"COMPUTED_VALUE\"\"\"),\"Cuisinière\")","v":"Cuisinière"},{"$f":"IFERROR(__xludf.DUMMYFUNCTION(\"\"\"COMPUTED_VALUE\"\"\"),\"Ely\")","v":"Ely"}]
[{"$f":"IFERROR(__xludf.DUMMYFUNCTION(\"\"\"COMPUTED_VALUE\"\"\"),\"Violaine Lebris\")","v":"Violaine Lebris"},{"$f":"IFERROR(__xludf.DUMMYFUNCTION(\"\"\"COMPUTED_VALUE\"\"\"),\"F\")","v":"F"},null,{"$f":"IFERROR(__xludf.DUMMYFUNCTION(\"\"\"COMPUTED_VALUE\"\"\"),\"L'Espérance\")","v":"L'Espérance"},{"$f":"IFERROR(__xludf.DUMMYFUNCTION(\"\"\"COMPUTED_VALUE\"\"\"),\"matelot\")","v":"matelot"},{"$f":"IFERROR(__xludf.DUMMYFUNCTION(\"\"\"COMPUTED_VALUE\"\"\"),\"Ely\")","v":"Ely"}]
[{"$f":"IFERROR(__xludf.DUMMYFUNCTION(\"\"\"COMPUTED_VALUE\"\"\"),\"Cristobal Ortiz\")","v":"Cristobal Ortiz"},{"$f":"IFERROR(__xludf.DUMMYFUNCTION(\"\"\"COMPUTED_VALUE\"\"\"),\"H\")","v":"H"},null,{"$f":"IFERROR(__xludf.DUMMYFUNCTION(\"\"\"COMPUTED_VALUE\"\"\"),\"L'Espérance\")","v":"L'Espérance"},{"$f":"IFERROR(__xludf.DUMMYFUNCTION(\"\"\"COMPUTED_VALUE\"\"\"),\"prêtre\")","v":"prêtre"},{"$f":"IFERROR(__xludf.DUMMYFUNCTION(\"\"\"COMPUTED_VALUE\"\"\"),\"Ely\")","v":"Ely"}]
[{"$f":"IFERROR(__xludf.DUMMYFUNCTION(\"\"\"COMPUTED_VALUE\"\"\"),\"Nar Bint Hizir\")","v":"Nar Bint Hizir"},{"$f":"IFERROR(__xludf.DUMMYFUNCTION(\"\"\"COMPUTED_VALUE\"\"\"),\"F\")","v":"F"},null,{"$f":"IFERROR(__xludf.DUMMYFUNCTION(\"\"\"COMPUTED_VALUE\"\"\"),\"L'Espérance\")","v":"L'Espérance"},{"$f":"IFERROR(__xludf.DUMMYFUNCTION(\"\"\"COMPUTED_VALUE\"\"\"),\"sorcière vaudou\")","v":"sorcière vaudou"},{"$f":"IFERROR(__xludf.DUMMYFUNCTION(\"\"\"COMPUTED_VALUE\"\"\"),\"Ely\")","v":"Ely"}]
[{"$f":"IFERROR(__xludf.DUMMYFUNCTION(\"\"\"COMPUTED_VALUE\"\"\"),\"Dago Gray\")","v":"Dago Gray"},{"$f":"IFERROR(__xludf.DUMMYFUNCTION(\"\"\"COMPUTED_VALUE\"\"\"),\"H\")","v":"H"},{"$f":"IFERROR(__xludf.DUMMYFUNCTION(\"\"\"COMPUTED_VALUE\"\"\"),46.0)","v":46},{"$f":"IFERROR(__xludf.DUMMYFUNCTION(\"\"\"COMPUTED_VALUE\"\"\"),\"Fortune\")","v":"Fortune"},{"$f":"IFERROR(__xludf.DUMMYFUNCTION(\"\"\"COMPUTED_VALUE\"\"\"),\"Capitaine\")","v":"Capitaine"},{"$f":"IFERROR(__xludf.DUMMYFUNCTION(\"\"\"COMPUTED_VALUE\"\"\"),\"Jack\")","v":"Jack"}]
[{"$f":"IFERROR(__xludf.DUMMYFUNCTION(\"\"\"COMPUTED_VALUE\"\"\"),\"Manzel \")","v":"Manzel "},{"$f":"IFERROR(__xludf.DUMMYFUNCTION(\"\"\"COMPUTED_VALUE\"\"\"),\"F\")","v":"F"},{"$f":"IFERROR(__xludf.DUMMYFUNCTION(\"\"\"COMPUTED_VALUE\"\"\"),50.0)","v":50},{"$f":"IFERROR(__xludf.DUMMYFUNCTION(\"\"\"COMPUTED_VALUE\"\"\"),\"Fortune\")","v":"Fortune"},{"$f":"IFERROR(__xludf.DUMMYFUNCTION(\"\"\"COMPUTED_VALUE\"\"\"),\"Sorcière vaudou\")","v":"Sorcière vaudou"},{"$f":"IFERROR(__xludf.DUMMYFUNCTION(\"\"\"COMPUTED_VALUE\"\"\"),\"Jack\")","v":"Jack"}]
[{"$f":"IFERROR(__xludf.DUMMYFUNCTION(\"\"\"COMPUTED_VALUE\"\"\"),\"Jan Veen \")","v":"Jan Veen "},{"$f":"IFERROR(__xludf.DUMMYFUNCTION(\"\"\"COMPUTED_VALUE\"\"\"),\"H\")","v":"H"},{"$f":"IFERROR(__xludf.DUMMYFUNCTION(\"\"\"COMPUTED_VALUE\"\"\"),50.0)","v":50},{"$f":"IFERROR(__xludf.DUMMYFUNCTION(\"\"\"COMPUTED_VALUE\"\"\"),\"Fortune\")","v":"Fortune"},{"$f":"IFERROR(__xludf.DUMMYFUNCTION(\"\"\"COMPUTED_VALUE\"\"\"),\"Quartier M+Intendant\")","v":"Quartier M+Intendant"},{"$f":"IFERROR(__xludf.DUMMYFUNCTION(\"\"\"COMPUTED_VALUE\"\"\"),\"Jack\")","v":"Jack"}]
[{"$f":"IFERROR(__xludf.DUMMYFUNCTION(\"\"\"COMPUTED_VALUE\"\"\"),\"Pierre Margry\")","v":"Pierre Margry"},{"$f":"IFERROR(__xludf.DUMMYFUNCTION(\"\"\"COMPUTED_VALUE\"\"\"),\"H\")","v":"H"},{"$f":"IFERROR(__xludf.DUMMYFUNCTION(\"\"\"COMPUTED_VALUE\"\"\"),44.0)","v":44},{"$f":"IFERROR(__xludf.DUMMYFUNCTION(\"\"\"COMPUTED_VALUE\"\"\"),\"Fortune\")","v":"Fortune"},{"$f":"IFERROR(__xludf.DUMMYFUNCTION(\"\"\"COMPUTED_VALUE\"\"\"),\"Charpentier \")","v":"Charpentier "},{"$f":"IFERROR(__xludf.DUMMYFUNCTION(\"\"\"COMPUTED_VALUE\"\"\"),\"Jack\")","v":"Jack"}]
[{"$f":"IFERROR(__xludf.DUMMYFUNCTION(\"\"\"COMPUTED_VALUE\"\"\"),\"Frances \")","v":"Frances "},{"$f":"IFERROR(__xludf.DUMMYFUNCTION(\"\"\"COMPUTED_VALUE\"\"\"),\"F\")","v":"F"},{"$f":"IFERROR(__xludf.DUMMYFUNCTION(\"\"\"COMPUTED_VALUE\"\"\"),31.0)","v":31},{"$f":"IFERROR(__xludf.DUMMYFUNCTION(\"\"\"COMPUTED_VALUE\"\"\"),\"Fortune\")","v":"Fortune"},{"$f":"IFERROR(__xludf.DUMMYFUNCTION(\"\"\"COMPUTED_VALUE\"\"\"),\"Timonière\")","v":"Timonière"},{"$f":"IFERROR(__xludf.DUMMYFUNCTION(\"\"\"COMPUTED_VALUE\"\"\"),\"Jack\")","v":"Jack"}]
[{"$f":"IFERROR(__xludf.DUMMYFUNCTION(\"\"\"COMPUTED_VALUE\"\"\"),\"Isabel \")","v":"Isabel "},{"$f":"IFERROR(__xludf.DUMMYFUNCTION(\"\"\"COMPUTED_VALUE\"\"\"),\"F\")","v":"F"},{"$f":"IFERROR(__xludf.DUMMYFUNCTION(\"\"\"COMPUTED_VALUE\"\"\"),35.0)","v":35},{"$f":"IFERROR(__xludf.DUMMYFUNCTION(\"\"\"COMPUTED_VALUE\"\"\"),\"Fortune\")","v":"Fortune"},{"$f":"IFERROR(__xludf.DUMMYFUNCTION(\"\"\"COMPUTED_VALUE\"\"\"),\"Maître d’équipage\")","v":"Maître d’équipage"},{"$f":"IFERROR(__xludf.DUMMYFUNCTION(\"\"\"COMPUTED_VALUE\"\"\"),\"Jack\")","v":"Jack"}]
[{"$f":"IFERROR(__xludf.DUMMYFUNCTION(\"\"\"COMPUTED_VALUE\"\"\"),\"Jim\")","v":"Jim"},{"$f":"IFERROR(__xludf.DUMMYFUNCTION(\"\"\"COMPUTED_VALUE\"\"\"),\"H\")","v":"H"},{"$f":"IFERROR(__xludf.DUMMYFUNCTION(\"\"\"COMPUTED_VALUE\"\"\"),22.0)","v":22},{"$f":"IFERROR(__xludf.DUMMYFUNCTION(\"\"\"COMPUTED_VALUE\"\"\"),\"Fortune\")","v":"Fortune"},{"$f":"IFERROR(__xludf.DUMMYFUNCTION(\"\"\"COMPUTED_VALUE\"\"\"),\"Voilier\")","v":"Voilier"},{"$f":"IFERROR(__xludf.DUMMYFUNCTION(\"\"\"COMPUTED_VALUE\"\"\"),\"Jack\")","v":"Jack"}]
[{"$f":"IFERROR(__xludf.DUMMYFUNCTION(\"\"\"COMPUTED_VALUE\"\"\"),\"Raul Santos \")","v":"Raul Santos "},{"$f":"IFERROR(__xludf.DUMMYFUNCTION(\"\"\"COMPUTED_VALUE\"\"\"),\"H\")","v":"H"},{"$f":"IFERROR(__xludf.DUMMYFUNCTION(\"\"\"COMPUTED_VALUE\"\"\"),45.0)","v":45},{"$f":"IFERROR(__xludf.DUMMYFUNCTION(\"\"\"COMPUTED_VALUE\"\"\"),\"Fortune\")","v":"Fortune"},{"$f":"IFERROR(__xludf.DUMMYFUNCTION(\"\"\"COMPUTED_VALUE\"\"\"),\"Second\")","v":"Second"},{"$f":"IFERROR(__xludf.DUMMYFUNCTION(\"\"\"COMPUTED_VALUE\"\"\"),\"Jack\")","v":"Jack"}]
[{"$f":"IFERROR(__xludf.DUMMYFUNCTION(\"\"\"COMPUTED_VALUE\"\"\"),\"Elizabeth Turner\")","v":"Elizabeth Turner"},{"$f":"IFERROR(__xludf.DUMMYFUNCTION(\"\"\"COMPUTED_VALUE\"\"\"),\"F\")","v":"F"},null,{"$f":"IFERROR(__xludf.DUMMYFUNCTION(\"\"\"COMPUTED_VALUE\"\"\"),\"Futur équipage\")","v":"Futur équipage"},{"$f":"IFERROR(__xludf.DUMMYFUNCTION(\"\"\"COMPUTED_VALUE\"\"\"),\"Capitaine\")","v":"Capitaine"},{"$f":"IFERROR(__xludf.DUMMYFUNCTION(\"\"\"COMPUTED_VALUE\"\"\"),\"Kurteas\")","v":"Kurteas"}]
[{"$f":"IFERROR(__xludf.DUMMYFUNCTION(\"\"\"COMPUTED_VALUE\"\"\"),\"Antoine « Le Fennec »\")","v":"Antoine « Le Fennec »"},{"$f":"IFERROR(__xludf.DUMMYFUNCTION(\"\"\"COMPUTED_VALUE\"\"\"),\"H\")","v":"H"},null,{"$f":"IFERROR(__xludf.DUMMYFUNCTION(\"\"\"COMPUTED_VALUE\"\"\"),\"Futur équipage\")","v":"Futur équipage"},null,{"$f":"IFERROR(__xludf.DUMMYFUNCTION(\"\"\"COMPUTED_VALUE\"\"\"),\"Kurteas\")","v":"Kurteas"}]
[{"$f":"IFERROR(__xludf.DUMMYFUNCTION(\"\"\"COMPUTED_VALUE\"\"\"),\"Muhamad al'iitalii al'aesa\")","v":"Muhamad al'iitalii al'aesa"},{"$f":"IFERROR(__xludf.DUMMYFUNCTION(\"\"\"COMPUTED_VALUE\"\"\"),\"H\")","v":"H"},null,{"$f":"IFERROR(__xludf.DUMMYFUNCTION(\"\"\"COMPUTED_VALUE\"\"\"),\"Futur équipage\")","v":"Futur équipage"},null,{"$f":"IFERROR(__xludf.DUMMYFUNCTION(\"\"\"COMPUTED_VALUE\"\"\"),\"Kurteas\")","v":"Kurteas"}]
[{"$f":"IFERROR(__xludf.DUMMYFUNCTION(\"\"\"COMPUTED_VALUE\"\"\"),\"Clem « Grande Gueule »\")","v":"Clem « Grande Gueule »"},{"$f":"IFERROR(__xludf.DUMMYFUNCTION(\"\"\"COMPUTED_VALUE\"\"\"),\"F\")","v":"F"},null,{"$f":"IFERROR(__xludf.DUMMYFUNCTION(\"\"\"COMPUTED_VALUE\"\"\"),\"Futur équipage\")","v":"Futur équipage"},null,{"$f":"IFERROR(__xludf.DUMMYFUNCTION(\"\"\"COMPUTED_VALUE\"\"\"),\"Kurteas\")","v":"Kurteas"}]
[{"$f":"IFERROR(__xludf.DUMMYFUNCTION(\"\"\"COMPUTED_VALUE\"\"\"),\"Madeleine \"\"La Peintre\"\"\")","v":"Madeleine \"La Peintre\""},{"$f":"IFERROR(__xludf.DUMMYFUNCTION(\"\"\"COMPUTED_VALUE\"\"\"),\"F\")","v":"F"},null,{"$f":"IFERROR(__xludf.DUMMYFUNCTION(\"\"\"COMPUTED_VALUE\"\"\"),\"Futur équipage\")","v":"Futur équipage"},null,{"$f":"IFERROR(__xludf.DUMMYFUNCTION(\"\"\"COMPUTED_VALUE\"\"\"),\"Kurteas\")","v":"Kurteas"}]
[{"$f":"IFERROR(__xludf.DUMMYFUNCTION(\"\"\"COMPUTED_VALUE\"\"\"),\"Marie Tisane\")","v":"Marie Tisane"},{"$f":"IFERROR(__xludf.DUMMYFUNCTION(\"\"\"COMPUTED_VALUE\"\"\"),\"F\")","v":"F"},null,{"$f":"IFERROR(__xludf.DUMMYFUNCTION(\"\"\"COMPUTED_VALUE\"\"\"),\"Futur équipage\")","v":"Futur équipage"},null,{"$f":"IFERROR(__xludf.DUMMYFUNCTION(\"\"\"COMPUTED_VALUE\"\"\"),\"Kurteas\")","v":"Kurteas"}]
[{"$f":"IFERROR(__xludf.DUMMYFUNCTION(\"\"\"COMPUTED_VALUE\"\"\"),\"Mialy Jao\")","v":"Mialy Jao"},{"$f":"IFERROR(__xludf.DUMMYFUNCTION(\"\"\"COMPUTED_VALUE\"\"\"),\"F\")","v":"F"},null,{"$f":"IFERROR(__xludf.DUMMYFUNCTION(\"\"\"COMPUTED_VALUE\"\"\"),\"Locaux\")","v":"Locaux"},{"$f":"IFERROR(__xludf.DUMMYFUNCTION(\"\"\"COMPUTED_VALUE\"\"\"),\"prostituée\")","v":"prostituée"},{"$f":"IFERROR(__xludf.DUMMYFUNCTION(\"\"\"COMPUTED_VALUE\"\"\"),\"Laurent\")","v":"Laurent"}]
[{"$f":"IFERROR(__xludf.DUMMYFUNCTION(\"\"\"COMPUTED_VALUE\"\"\"),\"Gabrielle Caudron\")","v":"Gabrielle Caudron"},{"$f":"IFERROR(__xludf.DUMMYFUNCTION(\"\"\"COMPUTED_VALUE\"\"\"),\"F\")","v":"F"},null,{"$f":"IFERROR(__xludf.DUMMYFUNCTION(\"\"\"COMPUTED_VALUE\"\"\"),\"Locaux\")","v":"Locaux"},{"$f":"IFERROR(__xludf.DUMMYFUNCTION(\"\"\"COMPUTED_VALUE\"\"\"),\"prostituée\")","v":"prostituée"},{"$f":"IFERROR(__xludf.DUMMYFUNCTION(\"\"\"COMPUTED_VALUE\"\"\"),\"Laurent\")","v":"Laurent"}]
[{"$f":"IFERROR(__xludf.DUMMYFUNCTION(\"\"\"COMPUTED_VALUE\"\"\"),\"Mathilda Mayer\")","v":"Mathilda Mayer"},{"$f":"IFERROR(__xludf.DUMMYFUNCTION(\"\"\"COMPUTED_VALUE\"\"\"),\"F\")","v":"F"},null,{"$f":"IFERROR(__xludf.DUMMYFUNCTION(\"\"\"COMPUTED_VALUE\"\"\"),\"Locaux\")","v":"Locaux"},{"$f":"IFERROR(__xludf.DUMMYFUNCTION(\"\"\"COMPUTED_VALUE\"\"\"),\"prostituée\")","v":"prostituée"},{"$f":"IFERROR(__xludf.DUMMYFUNCTION(\"\"\"COMPUTED_VALUE\"\"\"),\"Laurent\")","v":"Laurent"}]
[{"$f":"IFERROR(__xludf.DUMMYFUNCTION(\"\"\"COMPUTED_VALUE\"\"\"),\"Sabine Camelan\")","v":"Sabine Camelan"},{"$f":"IFERROR(__xludf.DUMMYFUNCTION(\"\"\"COMPUTED_VALUE\"\"\"),\"F\")","v":"F"},null,{"$f":"IFERROR(__xludf.DUMMYFUNCTION(\"\"\"COMPUTED_VALUE\"\"\"),\"Locaux\")","v":"Locaux"},{"$f":"IFERROR(__xludf.DUMMYFUNCTION(\"\"\"COMPUTED_VALUE\"\"\"),\"prostituée\")","v":"prostituée"},{"$f":"IFERROR(__xludf.DUMMYFUNCTION(\"\"\"COMPUTED_VALUE\"\"\"),\"Laurent\")","v":"Laurent"}]
[{"$f":"IFERROR(__xludf.DUMMYFUNCTION(\"\"\"COMPUTED_VALUE\"\"\"),\"Pilar de Luz\")","v":"Pilar de Luz"},{"$f":"IFERROR(__xludf.DUMMYFUNCTION(\"\"\"COMPUTED_VALUE\"\"\"),\"F\")","v":"F"},null,{"$f":"IFERROR(__xludf.DUMMYFUNCTION(\"\"\"COMPUTED_VALUE\"\"\"),\"Locaux\")","v":"Locaux"},{"$f":"IFERROR(__xludf.DUMMYFUNCTION(\"\"\"COMPUTED_VALUE\"\"\"),\"prostituée\")","v":"prostituée"},{"$f":"IFERROR(__xludf.DUMMYFUNCTION(\"\"\"COMPUTED_VALUE\"\"\"),\"Laurent\")","v":"Laurent"}]
[{"$f":"IFERROR(__xludf.DUMMYFUNCTION(\"\"\"COMPUTED_VALUE\"\"\"),\"Joshua Fowey\")","v":"Joshua Fowey"},{"$f":"IFERROR(__xludf.DUMMYFUNCTION(\"\"\"COMPUTED_VALUE\"\"\"),\"H\")","v":"H"},null,{"$f":"IFERROR(__xludf.DUMMYFUNCTION(\"\"\"COMPUTED_VALUE\"\"\"),\"Locaux\")","v":"Locaux"},{"$f":"IFERROR(__xludf.DUMMYFUNCTION(\"\"\"COMPUTED_VALUE\"\"\"),\"prostituée\")","v":"prostituée"},{"$f":"IFERROR(__xludf.DUMMYFUNCTION(\"\"\"COMPUTED_VALUE\"\"\"),\"Laurent\")","v":"Laurent"}]
[{"$f":"IFERROR(__xludf.DUMMYFUNCTION(\"\"\"COMPUTED_VALUE\"\"\"),\"Luca Scipione\")","v":"Luca Scipione"},{"$f":"IFERROR(__xludf.DUMMYFUNCTION(\"\"\"COMPUTED_VALUE\"\"\"),\"F\")","v":"F"},null,{"$f":"IFERROR(__xludf.DUMMYFUNCTION(\"\"\"COMPUTED_VALUE\"\"\"),\"Locaux\")","v":"Locaux"},{"$f":"IFERROR(__xludf.DUMMYFUNCTION(\"\"\"COMPUTED_VALUE\"\"\"),\"homme de main\")","v":"homme de main"},{"$f":"IFERROR(__xludf.DUMMYFUNCTION(\"\"\"COMPUTED_VALUE\"\"\"),\"Laurent\")","v":"Laurent"}]
[]
[{"$f":"IFERROR(__xludf.DUMMYFUNCTION(\"\"\"COMPUTED_VALUE\"\"\"),\"Jeanne Sorel\")","v":"Jeanne Sorel"},{"$f":"IFERROR(__xludf.DUMMYFUNCTION(\"\"\"COMPUTED_VALUE\"\"\"),\"F\")","v":"F"},null,{"$f":"IFERROR(__xludf.DUMMYFUNCTION(\"\"\"COMPUTED_VALUE\"\"\"),\"Locaux\")","v":"Locaux"},{"$f":"IFERROR(__xludf.DUMMYFUNCTION(\"\"\"COMPUTED_VALUE\"\"\"),\"Chef du commerce\")","v":"Chef du commerce"}]
[{"$f":"IFERROR(__xludf.DUMMYFUNCTION(\"\"\"COMPUTED_VALUE\"\"\"),\"james hawkins\")","v":"james hawkins"},{"$f":"IFERROR(__xludf.DUMMYFUNCTION(\"\"\"COMPUTED_VALUE\"\"\"),\"H\")","v":"H"},null,{"$f":"IFERROR(__xludf.DUMMYFUNCTION(\"\"\"COMPUTED_VALUE\"\"\"),\"aldebaran/barth\")","v":"aldebaran/barth"}]
[{"$f":"IFERROR(__xludf.DUMMYFUNCTION(\"\"\"COMPUTED_VALUE\"\"\"),\"marin de james\")","v":"marin de james"},{"$f":"IFERROR(__xludf.DUMMYFUNCTION(\"\"\"COMPUTED_VALUE\"\"\"),\"H\")","v":"H"},null,{"$f":"IFERROR(__xludf.DUMMYFUNCTION(\"\"\"COMPUTED_VALUE\"\"\"),\"aldebaran/barth\")","v":"aldebaran/barth"}]
[{"$f":"IFERROR(__xludf.DUMMYFUNCTION(\"\"\"COMPUTED_VALUE\"\"\"),\"Annabelle\")","v":"Annabelle"},{"$f":"IFERROR(__xludf.DUMMYFUNCTION(\"\"\"COMPUTED_VALUE\"\"\"),\"F\")","v":"F"},null,{"$f":"IFERROR(__xludf.DUMMYFUNCTION(\"\"\"COMPUTED_VALUE\"\"\"),\"Locaux\")","v":"Locaux"}]
[{"$f":"IFERROR(__xludf.DUMMYFUNCTION(\"\"\"COMPUTED_VALUE\"\"\"),\"Carolina\")","v":"Carolina"},{"$f":"IFERROR(__xludf.DUMMYFUNCTION(\"\"\"COMPUTED_VALUE\"\"\"),\"F\")","v":"F"},null,{"$f":"IFERROR(__xludf.DUMMYFUNCTION(\"\"\"COMPUTED_VALUE\"\"\"),\"Locaux\")","v":"Locaux"},{"$f":"IFERROR(__xludf.DUMMYFUNCTION(\"\"\"COMPUTED_VALUE\"\"\"),\"voyante\")","v":"voyante"},{"$f":"IFERROR(__xludf.DUMMYFUNCTION(\"\"\"COMPUTED_VALUE\"\"\"),\"Jack\")","v":"Jack"}]
[{"$f":"IFERROR(__xludf.DUMMYFUNCTION(\"\"\"COMPUTED_VALUE\"\"\"),\"Davis\")","v":"Davis"},{"$f":"IFERROR(__xludf.DUMMYFUNCTION(\"\"\"COMPUTED_VALUE\"\"\"),\"H\")","v":"H"},null,{"$f":"IFERROR(__xludf.DUMMYFUNCTION(\"\"\"COMPUTED_VALUE\"\"\"),\"PNJ\")","v":"PNJ"},{"$f":"IFERROR(__xludf.DUMMYFUNCTION(\"\"\"COMPUTED_VALUE\"\"\"),\"homme de main de\nLouis Moreno\")","v":"homme de main de\nLouis Moreno"}]
[{"$f":"IFERROR(__xludf.DUMMYFUNCTION(\"\"\"COMPUTED_VALUE\"\"\"),\"Luis Moreno\")","v":"Luis Moreno"},{"$f":"IFERROR(__xludf.DUMMYFUNCTION(\"\"\"COMPUTED_VALUE\"\"\"),\"H\")","v":"H"},null,{"$f":"IFERROR(__xludf.DUMMYFUNCTION(\"\"\"COMPUTED_VALUE\"\"\"),\"PNJ\")","v":"PNJ"},{"$f":"IFERROR(__xludf.DUMMYFUNCTION(\"\"\"COMPUTED_VALUE\"\"\"),\"Notable Planteur\")","v":"Notable Planteur"}]

{"sheet":"remplissage du jeu","index":3,"n_rows":231,"n_cols":23,"rows_kept":231,"cut":false,"hidden":false,"merged":[]}
["i",{"$f":"COUNTA(B14:B246)","v":153},{"$nulls":4}," si bleu : sur DISCORD aussi",{"$f":"COUNTA(H14:H246)","v":149},null,null,{"$f":"COUNTA(K14:K216)","v":149},{"$nulls":5},{"$f":"SUM(Q3:Q216)","v":32206.4},"en standby"]
["date\ninscription","NOM","Prénom","Genre","age","E-MAIL","FB","Tél","souhait type\nparticipation","Personnage\nattribué","souhait\nsession","souhait lieu"," acceptation","email de validation\n+ invit DISCORD","session\nattribuée","Lieu","somme\nversée","état PAF","photo ?","compétence medicale","arrivée","Reste si \npas Shtandart ?"]
[null,"Tetard","Aurélie","F",null,null,"Shindra Ya Jade","06 12 59 69 81","Orga",{"$nulls":8},"gratuit","reçue","R.A.S.","jeudi"]
[null,"Alexis","Alexis","H",null,"alexis.houry.perso@gmail.com",null,null,"Orga",{"$nulls":8},"gratuit","non reçue","médecin","jeudi"]
[null,"Victor","Victor","H",null,"thehogreat@gmail.com",null,null,"Orga",{"$nulls":8},"gratuit","non reçue","secouriste","jeudi"]
[null,"Ely",null,"F",null,"Galgen17@gmail.com",null,null,"Orga",{"$nulls":8},"gratuit","non reçue","secouriste","jeudi"]
[null,"Brasseur","Laurent","H",null,"lobrasseur@gmail.com",null,null,"Orga",{"$nulls":8},"gratuit","non reçue","R.A.S.","jeudi"]
[null,"Kurteas","Laurent","H",null,"kurteas@laposte.net",null,null,"Orga",{"$nulls":8},"gratuit","non reçue","R.A.S.","jeudi"]
[null,"Gilles","Gilles","H",null,"RgillesX@gmail.com",null,null,"Orga",{"$nulls":8},"gratuit","non reçue","R.A.S.","jeudi"]
[{"$nulls":8},"Orga",{"$nulls":8},"gratuit","non reçue","R.A.S.","jeudi"]
[null,"Michaud","Sylvain ","H",null,"slytherogue@gmail.com","isaetsylvain","06 82 91 78 60","Orga PNJ",{"$nulls":8},"gratuit","non reçue","R.A.S.","jeudi"]
[null,"GARRIOUX-MORIENGwenaëlle ",null,"F",null,"gwen.gm@gmail.com","Gwen GM","06 87 39 73 30","Orga PNJ",{"$nulls":8},"gratuit","non reçue","R.A.S.","jeudi"]
[null,"Chodorowski","Jacques","H",null,"jchodorowski@gmail.com","Jacques Chodorowski","06 48 48 60 57","Orga",{"$nulls":8},"gratuit","reçue","R.A.S.","vendredi"]
[{"$f":"DATE(YEAR('Réponses au formulaire - copy-c'!A2), MONTH('Réponses au formulaire - copy-c'!A2), DAY('Réponses au formulaire - copy-c'!A2))","v":"2024-01-12"},{"$f":"'Réponses au formulaire - copy-c'!E2","v":"ARVIN-BEROD "},{"$f":"'Réponses au formulaire - copy-c'!F2","v":"Florence"},{"$f":"'Réponses au formulaire - copy-c'!H2","v":"F"},{"$f":"'feuille technique intermediaire'!E2","v":33},{"$f":"'Réponses au formulaire - copy-c'!I2","v":"flofloab@yahoo.fr"},{"$f":"'Réponses au formulaire - copy-c'!M2","v":"Florence ARVIN-BEROD "},{"$f":"'Réponses au formulaire - copy-c'!K2","v":"0617161474"},{"$f":"'feuille technique intermediaire'!R2","v":"Pur PJ"},"-",{"$f":"'feuille technique intermediaire'!N2","v":"juin"},{"$f":"'feuille technique intermediaire'!P2","v":"Navire et fort"},"OK","OK","juin","Navire & Fort",400.0,"PAF finalisée","non reçue","R.A.S.","samedi",{"$f":"IFERROR(IF(SEARCH(\"ne pas participer\", 'Réponses au formulaire - copy-c'!AV2)>0, \"NON\", \"OUI\"),\"Reste\")","v":"Reste"}]
[{"$f":"DATE(YEAR('Réponses au formulaire - copy-c'!A3), MONTH('Réponses au formulaire - copy-c'!A3), DAY('Réponses au formulaire - copy-c'!A3))","v":"2024-01-12"},{"$f":"'Réponses au formulaire - copy-c'!E3","v":"Bergeret "},{"$f":"'Réponses au formulaire - copy-c'!F3","v":"Mathieu / Leo Gueguen ,dit la teigne"},{"$f":"'Réponses au formulaire - copy-c'!H3","v":"H"},{"$f":"'feuille technique intermediaire'!E3","v":38},{"$f":"'Réponses au formulaire - copy-c'!I3","v":"bergeretmathieu.pro@gmail.com"},{"$f":"'Réponses au formulaire - copy-c'!M3","v":"Spoiler TheThird "},{"$f":"'Réponses au formulaire - copy-c'!K3","v":"0684346225"},{"$f":"'feuille technique intermediaire'!R3","v":"Pur PJ"},"-",{"$f":"'feuille technique intermediaire'!N3","v":"Non précisé"},{"$f":"'feuille technique intermediaire'!P3","v":"Navire et fort"},"OK","OK","juin","Navire & Fort",400.5,"PAF finalisée","non reçue","R.A.S.","samedi",{"$f":"IFERROR(IF(SEARCH(\"ne pas participer\", 'Réponses au formulaire - copy-c'!AV3)>0, \"Quitte\", \"OUI\"),\"Reste\")","v":"Reste"}]
[{"$f":"DATE(YEAR('Réponses au formulaire - copy-c'!A7), MONTH('Réponses au formulaire - copy-c'!A7), DAY('Réponses au formulaire - copy-c'!A7))","v":"2024-01-12"},{"$f":"'Réponses au formulaire - copy-c'!E7","v":"BUCAS"},{"$f":"'Réponses au formulaire - copy-c'!F7","v":"Ced"},{"$f":"'Réponses au formulaire - copy-c'!H7","v":"H"},{"$f":"'feuille technique intermediaire'!E7","v":50},{"$f":"'Réponses au formulaire - copy-c'!I7","v":"sacub@sfr.fr"},{"$f":"'Réponses au formulaire - copy-c'!M7","v":"Cire de Sacub"},{"$f":"'Réponses au formulaire - copy-c'!K7","v":"0675585665"},{"$f":"'feuille technique intermediaire'!R7","v":"Pur PJ"},"-",{"$f":"'feuille technique intermediaire'!N7","v":"Non précisé"},{"$f":"'feuille technique intermediaire'!P7","v":"Navire et fort"},"OK","OK","juin","Navire & Fort",400.0,"PAF finalisée","non reçue","R.A.S.","samedi",{"$f":"IFERROR(IF(SEARCH(\"ne pas participer\", 'Réponses au formulaire - copy-c'!AV7)>0, \"NON\", \"OUI\"),\"Reste\")","v":"Reste"}]
[{"$f":"DATE(YEAR('Réponses au formulaire - copy-c'!A8), MONTH('Réponses au formulaire - copy-c'!A8), DAY('Réponses au formulaire - copy-c'!A8))","v":"2024-01-12"},{"$f":"'Réponses au formulaire - copy-c'!E8","v":"CERUTTI"},{"$f":"'Réponses au formulaire - copy-c'!F8","v":"Laëtitia"},{"$f":"'Réponses au formulaire - copy-c'!H8","v":"F"},{"$f":"'feuille technique intermediaire'!E8","v":35},{"$f":"'Réponses au formulaire - copy-c'!I8","v":"laetitia.cerutti@gozmail.bzh"},{"$f":"'Réponses au formulaire - copy-c'!M8","v":"Laëtitia Elune"},{"$f":"'Réponses au formulaire - copy-c'!K8","v":689400155},{"$f":"'feuille technique intermediaire'!R8","v":"PJ+PNJ"},"-",{"$f":"'feuille technique intermediaire'!N8","v":"Non précisé"},{"$f":"'feuille technique intermediaire'!P8","v":"Navire et fort"},"OK","OK","juin","Navire & Fort",400.0,"PAF finalisée","non reçue","R.A.S.","samedi",{"$f":"IFERROR(IF(SEARCH(\"ne pas participer\", 'Réponses au formulaire - copy-c'!AV8)>0, \"NON\", \"OUI\"),\"Reste\")","v":"Reste"}]
[{"$f":"DATE(YEAR('Réponses au formulaire - copy-c'!A9), MONTH('Réponses au formulaire - copy-c'!A9), DAY('Réponses au formulaire - copy-c'!A9))","v":"2024-02-04"},{"$f":"'Réponses au formulaire - copy-c'!E9","v":"Culot "},{"$f":"'Réponses au formulaire - copy-c'!F9","v":"Grégoire"},{"$f":"'Réponses au formulaire - copy-c'!H9","v":"H"},{"$f":"'feuille technique intermediaire'!E9","v":40},{"$f":"'Réponses au formulaire - copy-c'!I9","v":"gregoire.culot@gmail.com"},{"$f":"'Réponses au formulaire - copy-c'!M9","v":"Grégoire Culot"},{"$f":"'Réponses au formulaire - copy-c'!K9","v":"0672817191"},{"$f":"'feuille technique intermediaire'!R9","v":"Pur PJ"},"-",{"$f":"'feuille technique intermediaire'!N9","v":"juin"},{"$f":"'feuille technique intermediaire'!P9","v":"Navire et fort"},"OK","OK","non attribué","non attribué",null,"PAF non reçue","non reçue","R.A.S.","samedi",{"$f":"IFERROR(IF(SEARCH(\"ne pas participer\", 'Réponses au formulaire - copy-c'!AV9)>0, \"NON\", \"OUI\"),\"Reste\")","v":"Reste"}]
[{"$f":"DATE(YEAR('Réponses au formulaire - copy-c'!A10), MONTH('Réponses au formulaire - copy-c'!A10), DAY('Réponses au formulaire - copy-c'!A10))","v":"2024-04-08"},{"$f":"'Réponses au formulaire - copy-c'!E10","v":"David"},{"$f":"'Réponses au formulaire - copy-c'!F10","v":"Cédric"},{"$f":"'Réponses au formulaire - copy-c'!H10","v":"H"},{"$f":"'feuille technique intermediaire'!E10","v":44},{"$f":"'Réponses au formulaire - copy-c'!I10","v":"tremblechene@gmail.com"},{"$f":"'Réponses au formulaire - copy-c'!M10","v":"cédric abitbol"},{"$f":"'Réponses au formulaire - copy-c'!K10","v":"0695107890"},{"$f":"'feuille technique intermediaire'!R10","v":"PJ+PNJ"},"-",{"$f":"'feuille technique intermediaire'!N10","v":"septembre"},{"$f":"'feuille technique intermediaire'!P10","v":"Peu importe"},"OK","OK","septembre","Navire & Fort",405.5,"PAF finalisée","non reçue","R.A.S.","samedi",{"$f":"IFERROR(IF(SEARCH(\"ne pas participer\", 'Réponses au formulaire - copy-c'!AV10)>0, \"NON\", \"OUI\"),\"Reste\")","v":"Reste"}]
[{"$f":"DATE(YEAR('Réponses au formulaire - copy-c'!A11), MONTH('Réponses au formulaire - copy-c'!A11), DAY('Réponses au formulaire - copy-c'!A11))","v":"2024-06-03"},{"$f":"'Réponses au formulaire - copy-c'!E11","v":"De Maupertuis"},{"$f":"'Réponses au formulaire - copy-c'!F11","v":"Renart"},{"$f":"'Réponses au formulaire - copy-c'!H11","v":"H"},{"$f":"'feuille technique intermediaire'!E11","v":44},{"$f":"'Réponses au formulaire - copy-c'!I11","v":"mithridate.vi@gmail.com"},{"$f":"'Réponses au formulaire - copy-c'!M11","v":"Renart de Maupertuis"},{"$f":"'Réponses au formulaire - copy-c'!K11","v":"0617175397"},{"$f":"'feuille technique intermediaire'!R11","v":"Pur PJ"},"-",{"$f":"'feuille technique intermediaire'!N11","v":"Les deux"},{"$f":"'feuille technique intermediaire'!P11","v":"Navire et fort"},"OK","OK","septembre","Navire & Fort",400.0,"PAF finalisée","non reçue","R.A.S.","samedi",{"$f":"IFERROR(IF(SEARCH(\"ne pas participer\", 'Réponses au formulaire - copy-c'!AV11)>0, \"NON\", \"OUI\"),\"Reste\")","v":"Reste"}]
[{"$f":"DATE(YEAR('Réponses au formulaire - copy-c'!A12), MONTH('Réponses au formulaire - copy-c'!A12), DAY('Réponses au formulaire - copy-c'!A12))","v":"2024-06-22"},{"$f":"'Réponses au formulaire - copy-c'!E12","v":"DELAPORTE"},{"$f":"'Réponses au formulaire - copy-c'!F12","v":"Arnaud"},{"$f":"'Réponses au formulaire - copy-c'!H12","v":"H"},{"$f":"'feuille technique intermediaire'!E12","v":48},{"$f":"'Réponses au formulaire - copy-c'!I12","v":"lordfiendel@wanadoo.fr"},{"$f":"'Réponses au formulaire - copy-c'!M12","v":"Arnaud Delaporte"},{"$f":"'Réponses au formulaire - copy-c'!K12","v":"0660682995"},{"$f":"'feuille technique intermediaire'!R12","v":"PJ+PNJ"},"-",{"$f":"'feuille technique intermediaire'!N12","v":"Les deux"},{"$f":"'feuille technique intermediaire'!P12","v":"Peu importe"},"OK","OK","juin","Navire & Fort",400.0,"PAF finalisée","non reçue","R.A.S.","samedi",{"$f":"IFERROR(IF(SEARCH(\"ne pas participer\", 'Réponses au formulaire - copy-c'!AV12)>0, \"NON\", \"OUI\"),\"Reste\")","v":"Reste"}]
[{"$f":"DATE(YEAR('Réponses au formulaire - copy-c'!A13), MONTH('Réponses au formulaire - copy-c'!A13), DAY('Réponses au formulaire - copy-c'!A13))","v":"2024-01-19"},{"$f":"'Réponses au formulaire - copy-c'!E13","v":"Dumas"},{"$f":"'Réponses au formulaire - copy-c'!F13","v":"Marc"},{"$f":"'Réponses au formulaire - copy-c'!H13","v":"H"},{"$f":"'feuille technique intermediaire'!E13","v":54},{"$f":"'Réponses au formulaire - copy-c'!I13","v":"markal.dumas@gmail.com"},{"$f":"'Réponses au formulaire - copy-c'!M13","v":"Marc-Alain Dumas"},{"$f":"'Réponses au formulaire - copy-c'!K13","v":"0603192840"},{"$f":"'feuille technique intermediaire'!R13","v":"PJ+PNJ"},"-",{"$f":"'feuille technique intermediaire'!N13","v":"juin"},{"$f":"'feuille technique intermediaire'!P13","v":"Seulement au fort"},"OK","OK","septembre","Fort seulement",200.0,"PAF finalisée","non reçue","R.A.S.","samedi",{"$f":"IFERROR(IF(SEARCH(\"ne pas participer\", 'Réponses au formulaire - copy-c'!AV13)>0, \"NON\", \"OUI\"),\"Reste\")","v":"Reste"},"à payé pour session juin"]
[{"$f":"DATE(YEAR('Réponses au formulaire - copy-c'!A14), MONTH('Réponses au formulaire - copy-c'!A14), DAY('Réponses au formulaire - copy-c'!A14))","v":"2024-02-10"},{"$f":"'Réponses au formulaire - copy-c'!E14","v":"Duvert"},{"$f":"'Réponses au formulaire - copy-c'!F14","v":"Guy-Roger"},{"$f":"'Réponses au formulaire - copy-c'!H14","v":"H"},{"$f":"'feuille technique intermediaire'!E14","v":49},{"$f":"'Réponses au formulaire - copy-c'!I14","v":"grmuse@yahoo.fr"},{"$f":"'Réponses au formulaire - copy-c'!M14","v":"Guy-Roger Duvert"},{"$f":"'Réponses au formulaire - copy-c'!K14","v":"0616133285"},{"$f":"'feuille technique intermediaire'!R14","v":"Pur PJ"},"-",{"$f":"'feuille technique intermediaire'!N14","v":"septembre"},{"$f":"'feuille technique intermediaire'!P14","v":"Peu importe"},"OK","OK","septembre","Navire & Fort",405.0,"PAF finalisée","non reçue","R.A.S.","samedi",{"$f":"IFERROR(IF(SEARCH(\"ne pas participer\", 'Réponses au formulaire - copy-c'!AV14)>0, \"NON\", \"OUI\"),\"Reste\")","v":"Reste"}]
[{"$f":"DATE(YEAR('Réponses au formulaire - copy-c'!A15), MONTH('Réponses au formulaire - copy-c'!A15), DAY('Réponses au formulaire - copy-c'!A15))","v":"2024-06-18"},{"$f":"'Réponses au formulaire - copy-c'!E15","v":"Fabre"},{"$f":"'Réponses au formulaire - copy-c'!F15","v":"Alexandre"},{"$f":"'Réponses au formulaire - copy-c'!H15","v":"H"},{"$f":"'feuille technique intermediaire'!E15","v":39},{"$f":"'Réponses au formulaire - copy-c'!I15","v":"alexandre.fabre@free.fr"},{"$f":"'Réponses au formulaire - copy-c'!M15","v":"Alexandre Fabre"},{"$f":"'Réponses au formulaire - copy-c'!K15","v":"0607341244"},{"$f":"'feuille technique intermediaire'!R15","v":"Pur PJ"},"-",{"$f":"'feuille technique intermediaire'!N15","v":"Les deux"},{"$f":"'feuille technique intermediaire'!P15","v":"Navire et fort"},"OK","OK","septembre","Navire & Fort",133.5,"PAF partielle + erreur","non reçue","R.A.S.","samedi",{"$f":"IFERROR(IF(SEARCH(\"ne pas participer\", 'Réponses au formulaire - copy-c'!AV15)>0, \"NON\", \"OUI\"),\"Reste\")","v":"Reste"}]
[{"$f":"DATE(YEAR('Réponses au formulaire - copy-c'!A16), MONTH('Réponses au formulaire - copy-c'!A16), DAY('Réponses au formulaire - copy-c'!A16))","v":"2024-01-12"},{"$f":"'Réponses au formulaire - copy-c'!E16","v":"Faure "},{"$f":"'Réponses au formulaire - copy-c'!F16","v":"Guillaume"},{"$f":"'Réponses au formulaire - copy-c'!H16","v":"H"},{"$f":"'feuille technique intermediaire'!E16","v":36},{"$f":"'Réponses au formulaire - copy-c'!I16","v":"Versangre@gmail.com"},{"$f":"'Réponses au formulaire - copy-c'!M16","v":"Yôm Guillaume Faure "},{"$f":"'Réponses au formulaire - copy-c'!K16","v":"0681454981"},{"$f":"'feuille technique intermediaire'!R16","v":"PJ+PNJ"},"-",{"$f":"'feuille technique intermediaire'!N16","v":"Non précisé"},{"$f":"'feuille technique intermediaire'!P16","v":"Peu importe"},"OK","KO","juin","Navire & Fort",null,"PAF non reçue","non reçue","R.A.S.","samedi",{"$f":"IFERROR(IF(SEARCH(\"ne pas participer\", 'Réponses au formulaire - copy-c'!AV16)>0, \"NON\", \"OUI\"),\"Reste\")","v":"Reste"}]
[{"$f":"DATE(YEAR('Réponses au formulaire - copy-c'!A17), MONTH('Réponses au formulaire - copy-c'!A17), DAY('Réponses au formulaire - copy-c'!A17))","v":"2024-01-22"},{"$f":"'Réponses au formulaire - copy-c'!E17","v":"GANTET"},{"$f":"'Réponses au formulaire - copy-c'!F17","v":"Guillaume"},{"$f":"'Réponses au formulaire - copy-c'!H17","v":"H"},{"$f":"'feuille technique intermediaire'!E17","v":40},{"$f":"'Réponses au formulaire - copy-c'!I17","v":"guilland@gmail.com"},{"$f":"'Réponses au formulaire - copy-c'!M17","v":"Guillaume GANTET"},{"$f":"'Réponses au formulaire - copy-c'!K17","v":649193710},{"$f":"'feuille technique intermediaire'!R17","v":"Pur PJ"},"-",{"$f":"'feuille technique intermediaire'!N17","v":"Les deux"},{"$f":"'feuille technique intermediaire'!P17","v":"Navire et fort"},"OK","OK","septembre","Navire & Fort",133.5,"PAF partielle","non reçue","R.A.S.","samedi",{"$f":"IFERROR(IF(SEARCH(\"ne pas participer\", 'Réponses au formulaire - copy-c'!AV17)>0, \"NON\", \"OUI\"),\"Reste\")","v":"NON"}]
[{"$f":"DATE(YEAR('Réponses au formulaire - copy-c'!A18), MONTH('Réponses au formulaire - copy-c'!A18), DAY('Réponses au formulaire - copy-c'!A18))","v":"2024-07-22"},{"$f":"'Réponses au formulaire - copy-c'!E18","v":"gerberon "},{"$f":"'Réponses au formulaire - copy-c'!F18","v":"Elodie"},{"$f":"'Réponses au formulaire - copy-c'!H18","v":"F"},{"$f":"'feuille technique intermediaire'!E18","v":43},{"$f":"'Réponses au formulaire - copy-c'!I18","v":"dodimails@gmail.com"},{"$f":"'Réponses au formulaire - copy-c'!M18","v":"Élodie Circlepuke "},{"$f":"'Réponses au formulaire - copy-c'!K18","v":"0666617248"},{"$f":"'feuille technique intermediaire'!R18","v":"Pur PJ"},"-",{"$f":"'feuille technique intermediaire'!N18","v":"juin"},{"$f":"'feuille technique intermediaire'!P18","v":"Navire et fort"},"OK","OK","juin","Navire & Fort",400.5,"PAF finalisée","non reçue","R.A.S.","samedi",{"$f":"IFERROR(IF(SEARCH(\"ne pas participer\", 'Réponses au formulaire - copy-c'!AV18)>0, \"NON\", \"OUI\"),\"Reste\")","v":"Reste"}]
[{"$f":"DATE(YEAR('Réponses au formulaire - copy-c'!A19), MONTH('Réponses au formulaire - copy-c'!A19), DAY('Réponses au formulaire - copy-c'!A19))","v":"2024-01-14"},{"$f":"'Réponses au formulaire - copy-c'!E19","v":"Harrand "},{"$f":"'Réponses au formulaire - copy-c'!F19","v":"Chloé"},{"$f":"'Réponses au formulaire - copy-c'!H19","v":"F"},{"$f":"'feuille technique intermediaire'!E19","v":29},{"$f":"'Réponses au formulaire - copy-c'!I19","v":"chloeharrand@gmail.com"},{"$f":"'Réponses au formulaire - copy-c'!M19","v":"Chloé Sardine"},{"$f":"'Réponses au formulaire - copy-c'!K19","v":611290595},{"$f":"'feuille technique intermediaire'!R19","v":"PJ+PNJ"},"-","juin",{"$f":"'feuille technique intermediaire'!P19","v":"Navire et fort"},"OK","OK","septembre","Fort seulement",200.0,"PAF finalisée","non reçue","R.A.S.","samedi",{"$f":"IFERROR(IF(SEARCH(\"ne pas participer\", 'Réponses au formulaire - copy-c'!AV19)>0, \"NON\", \"OUI\"),\"Reste\")","v":"Reste"}]
[{"$f":"DATE(YEAR('Réponses au formulaire - copy-c'!A20), MONTH('Réponses au formulaire - copy-c'!A20), DAY('Réponses au formulaire - copy-c'!A20))","v":"2024-01-12"},{"$f":"'Réponses au formulaire - copy-c'!E20","v":"Hawkins "},{"$f":"'Réponses au formulaire - copy-c'!F20","v":"James"},{"$f":"'Réponses au formulaire - copy-c'!H20","v":"H"},{"$f":"'feuille technique intermediaire'!E20","v":33},{"$f":"'Réponses au formulaire - copy-c'!I20","v":"stevenlecointre0@gmail.com"},{"$f":"'Réponses au formulaire - copy-c'!M20","v":"James Hawkins "},{"$f":"'Réponses au formulaire - copy-c'!K20","v":"0631587139"},{"$f":"'feuille technique intermediaire'!R20","v":"PJ+PNJ"},"-",{"$f":"'feuille technique intermediaire'!N20","v":"Non précisé"},{"$f":"'feuille technique intermediaire'!P20","v":"Seulement au fort"},"OK","OK","juin","Fort seulement",0.0,"gratuit","non reçue","R.A.S.","samedi",{"$f":"IFERROR(IF(SEARCH(\"ne pas participer\", 'Réponses au formulaire - copy-c'!AV20)>0, \"NON\", \"OUI\"),\"Reste\")","v":"Reste"}]
[{"$f":"DATE(YEAR('Réponses au formulaire - copy-c'!A21), MONTH('Réponses au formulaire - copy-c'!A21), DAY('Réponses au formulaire - copy-c'!A21))","v":"2024-01-12"},{"$f":"'Réponses au formulaire - copy-c'!E21","v":"Jacq"},{"$f":"'Réponses au formulaire - copy-c'!F21","v":"Gaëlle"},{"$f":"'Réponses au formulaire - copy-c'!H21","v":"F"},{"$f":"'feuille technique intermediaire'!E21","v":47},{"$f":"'Réponses au formulaire - copy-c'!I21","v":"gaellejacq@yahoo.com"},{"$f":"'Réponses au formulaire - copy-c'!M21","v":"Adira GJ"},{"$f":"'Réponses au formulaire - copy-c'!K21","v":630975006},{"$f":"'feuille technique intermediaire'!R21","v":"Pur PJ"},"-",{"$f":"'feuille technique intermediaire'!N21","v":"juin"},{"$f":"'feuille technique intermediaire'!P21","v":"Navire et fort"},"OK","OK","juin","Navire & Fort",400.0,"PAF finalisée","non reçue","R.A.S.","samedi",{"$f":"IFERROR(IF(SEARCH(\"ne pas participer\", 'Réponses au formulaire - copy-c'!AV21)>0, \"NON\", \"OUI\"),\"Reste\")","v":"Reste"}]
[{"$f":"DATE(YEAR('Réponses au formulaire - copy-c'!A24), MONTH('Réponses au formulaire - copy-c'!A24), DAY('Réponses au formulaire - copy-c'!A24))","v":"2024-01-12"},{"$f":"'Réponses au formulaire - copy-c'!E24","v":"Letteron "},{"$f":"'Réponses au formulaire - copy-c'!F24","v":"Seb"},{"$f":"'Réponses au formulaire - copy-c'!H24","v":"H"},{"$f":"'feuille technique intermediaire'!E24","v":56},{"$f":"'Réponses au formulaire - copy-c'!I24","v":"rencata@aliceadsl.fr"},{"$f":"'Réponses au formulaire - copy-c'!M24","v":"Seb Lett"},{"$f":"'Réponses au formulaire - copy-c'!K24","v":"0622546336"},{"$f":"'feuille technique intermediaire'!R24","v":"PJ+PNJ"},"-",{"$f":"'feuille technique intermediaire'!N24","v":"Non précisé"},{"$f":"'feuille technique intermediaire'!P24","v":"Seulement au fort"},"OK","OK","juin","Fort seulement",205.0,"PAF finalisée","non reçue","R.A.S.","samedi",{"$f":"IFERROR(IF(SEARCH(\"ne pas participer\", 'Réponses au formulaire - copy-c'!AV24)>0, \"NON\", \"OUI\"),\"Reste\")","v":"Reste"}]
[{"$f":"DATE(YEAR('Réponses au formulaire - copy-c'!A25), MONTH('Réponses au formulaire - copy-c'!A25), DAY('Réponses au formulaire - copy-c'!A25))","v":"2024-01-12"},{"$f":"'Réponses au formulaire - copy-c'!E25","v":"Lorente"},{"$f":"'Réponses au formulaire - copy-c'!F25","v":"Matthieu"},{"$f":"'Réponses au formulaire - copy-c'!H25","v":"H"},{"$f":"'feuille technique intermediaire'!E25","v":41},{"$f":"'Réponses au formulaire - copy-c'!I25","v":"lorentemathieu@gmail.com"},{"$f":"'Réponses au formulaire - copy-c'!M25","v":"Mathieu LORENTE"},{"$f":"'Réponses au formulaire - copy-c'!K25","v":"0647832624"},{"$f":"'feuille technique intermediaire'!R25","v":"Pur PJ"},"-",{"$f":"'feuille technique intermediaire'!N25","v":"septembre"},{"$f":"'feuille technique intermediaire'!P25","v":"Seulement au fort"},"OK","OK","septembre","Fort seulement",null,"PAF non reçue","non reçue","R.A.S.","samedi",{"$f":"IFERROR(IF(SEARCH(\"ne pas participer\", 'Réponses au formulaire - copy-c'!AV25)>0, \"NON\", \"OUI\"),\"Reste\")","v":"Reste"}]
[{"$f":"DATE(YEAR('Réponses au formulaire - copy-c'!A26), MONTH('Réponses au formulaire - copy-c'!A26), DAY('Réponses au formulaire - copy-c'!A26))","v":"2024-01-12"},{"$f":"'Réponses au formulaire - copy-c'!E26","v":"Lorente"},{"$f":"'Réponses au formulaire - copy-c'!F26","v":"Yann"},{"$f":"'Réponses au formulaire - copy-c'!H26","v":"H"},{"$f":"'feuille technique intermediaire'!E26","v":42},{"$f":"'Réponses au formulaire - copy-c'!I26","v":"yann.lorente@gmail.com"},{"$f":"'Réponses au formulaire - copy-c'!M26","v":"Yann lo"},{"$f":"'Réponses au formulaire - copy-c'!K26","v":"+33630208984"},{"$f":"'feuille technique intermediaire'!R26","v":"PJ+PNJ"},"-",{"$f":"'feuille technique intermediaire'!N26","v":"Non précisé"},{"$f":"'feuille technique intermediaire'!P26","v":"Navire et fort"},"OK","OK","septembre","Navire & Fort",200.1,"PAF partielle","non reçue","R.A.S.","samedi",{"$f":"IFERROR(IF(SEARCH(\"ne pas participer\", 'Réponses au formulaire - copy-c'!AV26)>0, \"NON\", \"OUI\"),\"Reste\")","v":"Reste"}]
[{"$f":"DATE(YEAR('Réponses au formulaire - copy-c'!A27), MONTH('Réponses au formulaire - copy-c'!A27), DAY('Réponses au formulaire - copy-c'!A27))","v":"2024-01-14"},{"$f":"'Réponses au formulaire - copy-c'!E27","v":"MAGNANT"},{"$f":"'Réponses au formulaire - copy-c'!F27","v":"Catherine"},{"$f":"'Réponses au formulaire - copy-c'!H27","v":"F"},{"$f":"'feuille technique intermediaire'!E27","v":49},{"$f":"'Réponses au formulaire - copy-c'!I27","v":"catherine.magnant@orange.fr"},{"$f":"'Réponses au formulaire - copy-c'!M27","v":"Catherine Magnant"},{"$f":"'Réponses au formulaire - copy-c'!K27","v":""},{"$f":"'feuille technique intermediaire'!R27","v":"PJ+PNJ"},"-",{"$f":"'feuille technique intermediaire'!N27","v":"Non précisé"},{"$f":"'feuille technique intermediaire'!P27","v":"Peu importe"},"OK","OK","juin","Navire & Fort",400.5,"PAF finalisée","non reçue","R.A.S.","samedi",{"$f":"IFERROR(IF(SEARCH(\"ne pas participer\", 'Réponses au formulaire - copy-c'!AV27)>0, \"NON\", \"OUI\"),\"Reste\")","v":"Reste"}]
[{"$f":"DATE(YEAR('Réponses au formulaire - copy-c'!A28), MONTH('Réponses au formulaire - copy-c'!A28), DAY('Réponses au formulaire - copy-c'!A28))","v":"2024-01-12"},{"$f":"'Réponses au formulaire - copy-c'!E28","v":"MAILLOT"},{"$f":"'Réponses au formulaire - copy-c'!F28","v":"Roland"},{"$f":"'Réponses au formulaire - copy-c'!H28","v":"H"},{"$f":"'feuille technique intermediaire'!E28","v":65},{"$f":"'Réponses au formulaire - copy-c'!I28","v":"combatmedievalroland@hotmail.fr"},{"$f":"'Réponses au formulaire - copy-c'!M28","v":"Roland Maillot"},{"$f":"'Réponses au formulaire - copy-c'!K28","v":"0660768099"},{"$f":"'feuille technique intermediaire'!R28","v":"PJ+PNJ"},"-",{"$f":"'feuille technique intermediaire'!N28","v":"Non précisé"},{"$f":"'feuille technique intermediaire'!P28","v":"Navire et fort"},"OK","OK","juin","Fort seulement",138.4,"PAF partielle","non reçue","R.A.S.","samedi",{"$f":"IFERROR(IF(SEARCH(\"ne pas participer\", 'Réponses au formulaire - copy-c'!AV28)>0, \"NON\", \"OUI\"),\"Reste\")","v":"Reste"}]
[{"$f":"DATE(YEAR('Réponses au formulaire - copy-c'!A30), MONTH('Réponses au formulaire - copy-c'!A30), DAY('Réponses au formulaire - copy-c'!A30))","v":"2024-01-12"},{"$f":"'Réponses au formulaire - copy-c'!E30","v":"PHILBERT"},{"$f":"'Réponses au formulaire - copy-c'!F30","v":"Charles"},{"$f":"'Réponses au formulaire - copy-c'!H30","v":"H"},{"$f":"'feuille technique intermediaire'!E30","v":42},{"$f":"'Réponses au formulaire - copy-c'!I30","v":"Philbert.charles@neuf.fr"},{"$f":"'Réponses au formulaire - copy-c'!M30","v":"charles PHILBERT"},{"$f":"'Réponses au formulaire - copy-c'!K30","v":"0688981791"},{"$f":"'feuille technique intermediaire'!R30","v":"PJ+PNJ"},"-",{"$f":"'feuille technique intermediaire'!N30","v":"Non précisé"},{"$f":"'feuille technique intermediaire'!P30","v":"Navire et fort"},"OK","OK","juin","Navire & Fort",400.5,"PAF finalisée","non reçue","R.A.S.","samedi",{"$f":"IFERROR(IF(SEARCH(\"ne pas participer\", 'Réponses au formulaire - copy-c'!AV30)>0, \"NON\", \"OUI\"),\"Reste\")","v":"Reste"}]
[{"$f":"DATE(YEAR('Réponses au formulaire - copy-c'!A31), MONTH('Réponses au formulaire - copy-c'!A31), DAY('Réponses au formulaire - copy-c'!A31))","v":"2024-01-19"},{"$f":"'Réponses au formulaire - copy-c'!E31","v":"Pitel"},{"$f":"'Réponses au formulaire - copy-c'!F31","v":"Marion"},{"$f":"'Réponses au formulaire - copy-c'!H31","v":"F"},{"$f":"'feuille technique intermediaire'!E31","v":29},{"$f":"'Réponses au formulaire - copy-c'!I31","v":"marionpitel.scott@gmail.com"},{"$f":"'Réponses au formulaire - copy-c'!M31","v":"Mads Croc"},{"$f":"'Réponses au formulaire - copy-c'!K31","v":"0673467578"},{"$f":"'feuille technique intermediaire'!R31","v":"PJ+PNJ"},"-",{"$f":"'feuille technique intermediaire'!N31","v":"juin"},{"$f":"'feuille technique intermediaire'!P31","v":"Seulement au fort"},"OK","OK","septembre","Fort seulement",200.0,"PAF finalisée","non reçue","R.A.S.","samedi",{"$f":"IFERROR(IF(SEARCH(\"ne pas participer\", 'Réponses au formulaire - copy-c'!AV31)>0, \"NON\", \"OUI\"),\"Reste\")","v":"Reste"},"à payé pour session juin"]
[{"$f":"DATE(YEAR('Réponses au formulaire - copy-c'!A32), MONTH('Réponses au formulaire - copy-c'!A32), DAY('Réponses au formulaire - copy-c'!A32))","v":"2024-01-12"},{"$f":"'Réponses au formulaire - copy-c'!E32","v":"Richard"},{"$f":"'Réponses au formulaire - copy-c'!F32","v":"Marion"},{"$f":"'Réponses au formulaire - copy-c'!H32","v":"F"},{"$f":"'feuille technique intermediaire'!E32","v":36},{"$f":"'Réponses au formulaire - copy-c'!I32","v":"marionjsphand@yahoo.fr"},{"$f":"'Réponses au formulaire - copy-c'!M32","v":"Handmar"},{"$f":"'Réponses au formulaire - copy-c'!K32","v":781107844},{"$f":"'feuille technique intermediaire'!R32","v":"Pur PJ"},"-",{"$f":"'feuille technique intermediaire'!N32","v":"juin"},{"$f":"'feuille technique intermediaire'!P32","v":"Navire et fort"},"OK","OK","juin","Navire & Fort",800.0,"PAF finalisée","non reçue","R.A.S.","samedi",{"$f":"IFERROR(IF(SEARCH(\"ne pas participer\", 'Réponses au formulaire - copy-c'!AV32)>0, \"NON\", \"OUI\"),\"Reste\")","v":"Reste"}]
[{"$f":"DATE(YEAR('Réponses au formulaire - copy-c'!A37), MONTH('Réponses au formulaire - copy-c'!A37), DAY('Réponses au formulaire - copy-c'!A37))","v":"2024-06-17"},{"$f":"'Réponses au formulaire - copy-c'!E37","v":"Vacari"},{"$f":"'Réponses au formulaire - copy-c'!F37","v":"Lydia"},{"$f":"'Réponses au formulaire - copy-c'!H37","v":"F"},{"$f":"'feuille technique intermediaire'!E35","v":35},{"$f":"'Réponses au formulaire - copy-c'!I37","v":"vacarilydia@hotmail.fr"},{"$f":"'Réponses au formulaire - copy-c'!M37","v":"Lydia Vacari"},{"$f":"'Réponses au formulaire - copy-c'!K37","v":"0607341244"},{"$f":"'feuille technique intermediaire'!R35","v":"PJ+PNJ"},"-",{"$f":"'feuille technique intermediaire'!N35","v":"septembre"},{"$f":"'feuille technique intermediaire'!P35","v":"Seulement au fort"},"OK","OK","septembre","Fort seulement",133.4,"PAF partielle","non reçue","R.A.S.","samedi",{"$f":"IFERROR(IF(SEARCH(\"ne pas participer\", 'Réponses au formulaire - copy-c'!AV37)>0, \"NON\", \"OUI\"),\"Reste\")","v":"Reste"}]
[{"$f":"DATE(YEAR('Réponses au formulaire - copy-c'!A38), MONTH('Réponses au formulaire - copy-c'!A38), DAY('Réponses au formulaire - copy-c'!A38))","v":"2024-01-12"},{"$f":"'Réponses au formulaire - copy-c'!E38","v":"Warszawski "},{"$f":"'Réponses au formulaire - copy-c'!F38","v":"Jessica"},{"$f":"'Réponses au formulaire - copy-c'!H38","v":"F"},{"$f":"'feuille technique intermediaire'!E36","v":35},{"$f":"'Réponses au formulaire - copy-c'!I38","v":"jessica.warszawski@gmail.com"},{"$f":"'Réponses au formulaire - copy-c'!M38","v":"Jessica warszawski"},{"$f":"'Réponses au formulaire - copy-c'!K38","v":"0689440259"},{"$f":"'feuille technique intermediaire'!R36","v":"PJ+PNJ"},"-",{"$f":"'feuille technique intermediaire'!N36","v":"septembre"},{"$f":"'feuille technique intermediaire'!P36","v":"Navire et fort"},"OK","OK","septembre","Navire & Fort",400.5,"PAF finalisée","non reçue","R.A.S.","samedi",{"$f":"IFERROR(IF(SEARCH(\"ne pas participer\", 'Réponses au formulaire - copy-c'!AV38)>0, \"NON\", \"OUI\"),\"Reste\")","v":"Reste"}]
[{"$f":"DATE(YEAR('Réponses au formulaire - copy-c'!A39), MONTH('Réponses au formulaire - copy-c'!A39), DAY('Réponses au formulaire - copy-c'!A39))","v":"2024-02-10"},{"$f":"'Réponses au formulaire - copy-c'!E39","v":"Hurel"},{"$f":"'Réponses au formulaire - copy-c'!F39","v":"Marcouf"},{"$f":"'Réponses au formulaire - copy-c'!H39","v":"H"},{"$f":"'feuille technique intermediaire'!E37","v":37},{"$f":"'Réponses au formulaire - copy-c'!I39","v":"marcouf.hurel@gmail.com"},{"$f":"'Réponses au formulaire - copy-c'!M39","v":"Dagoth Pat"},{"$f":"'Réponses au formulaire - copy-c'!K39","v":"+33619763483"},{"$f":"'feuille technique intermediaire'!R37","v":"Pur PJ"},"-",{"$f":"'feuille technique intermediaire'!N37","v":"juin"},{"$f":"'feuille technique intermediaire'!P37","v":"Navire et fort"},"OK","OK","juin","Navire & Fort",400.5,"PAF finalisée","non reçue","R.A.S.","samedi",{"$f":"IFERROR(IF(SEARCH(\"ne pas participer\", 'Réponses au formulaire - copy-c'!AV39)>0, \"NON\", \"OUI\"),\"Reste\")","v":"Reste"}]
[{"$f":"DATE(YEAR('Réponses au formulaire - copy-c'!A41), MONTH('Réponses au formulaire - copy-c'!A41), DAY('Réponses au formulaire - copy-c'!A41))","v":"2024-01-21"},{"$f":"'Réponses au formulaire - copy-c'!E41","v":"Doche De Laquintane "},{"$f":"'Réponses au formulaire - copy-c'!F41","v":"Nicolas "},{"$f":"'Réponses au formulaire - copy-c'!H41","v":"H"},{"$f":"'feuille technique intermediaire'!E39","v":44},{"$f":"'Réponses au formulaire - copy-c'!I41","v":"jeanflur@gmail.com"},{"$f":"'Réponses au formulaire - copy-c'!M41","v":"Jean Flur"},{"$f":"'Réponses au formulaire - copy-c'!K41","v":"0672711392"},{"$f":"'feuille technique intermediaire'!R39","v":"PJ+PNJ"},"-",{"$f":"'feuille technique intermediaire'!N39","v":"Les deux"},{"$f":"'feuille technique intermediaire'!P39","v":"Peu importe"},"OK","OK","septembre","non attribué",null,"PAF non reçue","non reçue","R.A.S.","samedi",{"$f":"IFERROR(IF(SEARCH(\"ne pas participer\", 'Réponses au formulaire - copy-c'!AV41)>0, \"NON\", \"OUI\"),\"Reste\")","v":"Reste"}]
[{"$f":"DATE(YEAR('Réponses au formulaire - copy-c'!A42), MONTH('Réponses au formulaire - copy-c'!A42), DAY('Réponses au formulaire - copy-c'!A42))","v":"2024-02-20"},{"$f":"'Réponses au formulaire - copy-c'!E42","v":"Giraud"},{"$f":"'Réponses au formulaire - copy-c'!F42","v":"Caroline"},{"$f":"'Réponses au formulaire - copy-c'!H42","v":"F"},{"$f":"'feuille technique intermediaire'!E40","v":43},{"$f":"'Réponses au formulaire - copy-c'!I42","v":"blue.hirondelle@gmail.com"},{"$f":"'Réponses au formulaire - copy-c'!M42","v":"Caroline Giraud "},{"$f":"'Réponses au formulaire - copy-c'!K42","v":"0754053891"},{"$f":"'feuille technique intermediaire'!R40","v":"Pur PJ"},"-",{"$f":"'feuille technique intermediaire'!N40","v":"septembre"},{"$f":"'feuille technique intermediaire'!P40","v":"Peu importe"},"OK","OK","septembre","Navire & Fort",400.0,"PAF finalisée","non reçue","R.A.S.","samedi",{"$f":"IFERROR(IF(SEARCH(\"ne pas participer\", 'Réponses au formulaire - copy-c'!AV42)>0, \"NON\", \"OUI\"),\"Reste\")","v":"Reste"}]
[{"$f":"DATE(YEAR('Réponses au formulaire - copy-c'!A43), MONTH('Réponses au formulaire - copy-c'!A43), DAY('Réponses au formulaire - copy-c'!A43))","v":"2024-01-19"},{"$f":"'Réponses au formulaire - copy-c'!E43","v":"Jallet"},{"$f":"'Réponses au formulaire - copy-c'!F43","v":"Benoit"},{"$f":"'Réponses au formulaire - copy-c'!H43","v":"H"},{"$f":"'feuille technique intermediaire'!E41","v":39},{"$f":"'Réponses au formulaire - copy-c'!I43","v":"bjallet@gmail.com"},{"$f":"'Réponses au formulaire - copy-c'!M43","v":"Benoit Jallet"},{"$f":"'Réponses au formulaire - copy-c'!K43","v":"0674223846"},{"$f":"'feuille technique intermediaire'!R41","v":"Pur PJ"},"-",{"$f":"'feuille technique intermediaire'!N41","v":"juin"},{"$f":"'feuille technique intermediaire'!P41","v":"Peu importe"},"OK","OK","juin","Navire & Fort",400.0,"PAF finalisée","non reçue","R.A.S.","samedi",{"$f":"IFERROR(IF(SEARCH(\"ne pas participer\", 'Réponses au formulaire - copy-c'!AV43)>0, \"NON\", \"OUI\"),\"Reste\")","v":"Reste"}]
[{"$f":"DATE(YEAR('Réponses au formulaire - copy-c'!A44), MONTH('Réponses au formulaire - copy-c'!A44), DAY('Réponses au formulaire - copy-c'!A44))","v":"2024-02-04"},{"$f":"'Réponses au formulaire - copy-c'!E44","v":"Lair"},{"$f":"'Réponses au formulaire - copy-c'!F44","v":"François"},{"$f":"'Réponses au formulaire - copy-c'!H44","v":"H"},{"$f":"'feuille technique intermediaire'!E42","v":38},{"$f":"'Réponses au formulaire - copy-c'!I44","v":"lair.francois@gmail.com"},{"$f":"'Réponses au formulaire - copy-c'!M44","v":"Francois Lair"},{"$f":"'Réponses au formulaire - copy-c'!K44","v":"0630479704"},{"$f":"'feuille technique intermediaire'!R42","v":"Pur PJ"},"-",{"$f":"'feuille technique intermediaire'!N42","v":"Les deux"},{"$f":"'feuille technique intermediaire'!P42","v":"Peu importe"},"OK","OK","septembre","Navire & Fort",410.0,"PAF finalisée","non reçue","R.A.S.","samedi",{"$f":"IFERROR(IF(SEARCH(\"ne pas participer\", 'Réponses au formulaire - copy-c'!AV44)>0, \"NON\", \"OUI\"),\"Reste\")","v":"Reste"}]
[{"$f":"DATE(YEAR('Réponses au formulaire - copy-c'!A46), MONTH('Réponses au formulaire - copy-c'!A46), DAY('Réponses au formulaire - copy-c'!A46))","v":"2024-01-13"},{"$f":"'Réponses au formulaire - copy-c'!E46","v":"Maitreheu"},{"$f":"'Réponses au formulaire - copy-c'!F46","v":"Mélodie"},{"$f":"'Réponses au formulaire - copy-c'!H46","v":"F"},{"$f":"'feuille technique intermediaire'!E44","v":35},{"$f":"'Réponses au formulaire - copy-c'!I46","v":"melodie.maitreheu@gmail.com"},{"$f":"'Réponses au formulaire - copy-c'!M46","v":"Mélodie Maitreheu"},{"$f":"'Réponses au formulaire - copy-c'!K46","v":"0623465958"},{"$f":"'feuille technique intermediaire'!R44","v":"Pur PJ"},"-",{"$f":"'feuille technique intermediaire'!N44","v":"Non précisé"},{"$f":"'feuille technique intermediaire'!P44","v":"Navire et fort"},"OK","OK","septembre","Navire & Fort",null,"PAF non reçue","non reçue","R.A.S.","samedi",{"$f":"IFERROR(IF(SEARCH(\"ne pas participer\", 'Réponses au formulaire - copy-c'!AV46)>0, \"NON\", \"OUI\"),\"Reste\")","v":"Reste"}]
[{"$f":"DATE(YEAR('Réponses au formulaire - copy-c'!A47), MONTH('Réponses au formulaire - copy-c'!A47), DAY('Réponses au formulaire - copy-c'!A47))","v":"2024-03-15"},{"$f":"'Réponses au formulaire - copy-c'!E47","v":"Poimboeuf "},{"$f":"'Réponses au formulaire - copy-c'!F47","v":"Thibault "},{"$f":"'Réponses au formulaire - copy-c'!H47","v":"H"},{"$f":"'feuille technique intermediaire'!E45","v":31},{"$f":"'Réponses au formulaire - copy-c'!I47","v":"georin@live.fr"},{"$f":"'Réponses au formulaire - copy-c'!M47","v":"Kalma San "},{"$f":"'Réponses au formulaire - copy-c'!K47","v":"0679585124"},{"$f":"'feuille technique intermediaire'!R45","v":"PJ+PNJ"},"-",{"$f":"'feuille technique intermediaire'!N45","v":"Les deux"},{"$f":"'feuille technique intermediaire'!P45","v":"Navire et fort"},"OK","OK","septembre","Navire & Fort",{"$f":"'Réponses au formulaire - copy-c'!B47","v":400},"PAF finalisée","non reçue","R.A.S.","samedi",{"$f":"IFERROR(IF(SEARCH(\"ne pas participer\", 'Réponses au formulaire - copy-c'!AV47)>0, \"NON\", \"OUI\"),\"Reste\")","v":"Reste"}]
[{"$f":"DATE(YEAR('Réponses au formulaire - copy-c'!A49), MONTH('Réponses au formulaire - copy-c'!A49), DAY('Réponses au formulaire - copy-c'!A49))","v":"2024-01-13"},{"$f":"'Réponses au formulaire - copy-c'!E49","v":"Raimbault "},{"$f":"'Réponses au formulaire - copy-c'!F49","v":"Cécile"},{"$f":"'Réponses au formulaire - copy-c'!H49","v":"F"},{"$f":"'feuille technique intermediaire'!E47","v":44},{"$f":"'Réponses au formulaire - copy-c'!I49","v":"llialn@gmail.com"},{"$f":"'Réponses au formulaire - copy-c'!M49","v":"Llialn di Maluisien"},{"$f":"'Réponses au formulaire - copy-c'!K49","v":"0620226425"},{"$f":"'feuille technique intermediaire'!R47","v":"Pur PJ"},"-",{"$f":"'feuille technique intermediaire'!N47","v":"juin"},{"$f":"'feuille technique intermediaire'!P47","v":"Navire et fort"},"OK","OK","juin","Navire & Fort",0.0,"PAF finalisée","non reçue","R.A.S.","samedi",{"$f":"IFERROR(IF(SEARCH(\"ne pas participer\", 'Réponses au formulaire - copy-c'!AV49)>0, \"NON\", \"OUI\"),\"Reste\")","v":"Reste"}]
[{"$f":"DATE(YEAR('Réponses au formulaire - copy-c'!A50), MONTH('Réponses au formulaire - copy-c'!A50), DAY('Réponses au formulaire - copy-c'!A50))","v":"2024-01-12"},{"$f":"'Réponses au formulaire - copy-c'!E50","v":"RICHARD"},{"$f":"'Réponses au formulaire - copy-c'!F50","v":"Patrice"},{"$f":"'Réponses au formulaire - copy-c'!H50","v":"H"},{"$f":"'feuille technique intermediaire'!E48","v":47},{"$f":"'Réponses au formulaire - copy-c'!I50","v":"pastbug@msn.com"},{"$f":"'Réponses au formulaire - copy-c'!M50","v":"Patrice rich"},{"$f":"'Réponses au formulaire - copy-c'!K50","v":"0781481945"},{"$f":"'feuille technique intermediaire'!R48","v":"Pur PJ"},"-",{"$f":"'feuille technique intermediaire'!N48","v":"juin"},{"$f":"'feuille technique intermediaire'!P48","v":"Navire et fort"},"OK","OK","juin","Navire & Fort",0.0,"PAF finalisée","non reçue","R.A.S.","samedi",{"$f":"IFERROR(IF(SEARCH(\"ne pas participer\", 'Réponses au formulaire - copy-c'!AV50)>0, \"NON\", \"OUI\"),\"Reste\")","v":"Reste"}]
[{"$f":"DATE(YEAR('Réponses au formulaire - copy-c'!A51), MONTH('Réponses au formulaire - copy-c'!A51), DAY('Réponses au formulaire - copy-c'!A51))","v":"2024-01-12"},{"$f":"'Réponses au formulaire - copy-c'!E51","v":"RIGAUD"},{"$f":"'Réponses au formulaire - copy-c'!F51","v":"Véronique"},{"$f":"'Réponses au formulaire - copy-c'!H51","v":"F"},{"$f":"'feuille technique intermediaire'!E49","v":60},{"$f":"'Réponses au formulaire - copy-c'!I51","v":"rigaudvero@yahoo.fr"},{"$f":"'Réponses au formulaire - copy-c'!M51","v":"Véronique RiZa"},{"$f":"'Réponses au formulaire - copy-c'!K51","v":"0613792264"},{"$f":"'feuille technique intermediaire'!R49","v":"Pur PJ"},"-",{"$f":"'feuille technique intermediaire'!N49","v":"juin"},{"$f":"'feuille technique intermediaire'!P49","v":"Navire et fort"},"OK","OK","juin","Navire & Fort",400.5,"PAF finalisée","non reçue","R.A.S.","samedi",{"$f":"IFERROR(IF(SEARCH(\"ne pas participer\", 'Réponses au formulaire - copy-c'!AV51)>0, \"NON\", \"OUI\"),\"Reste\")","v":"Reste"}]
[{"$f":"DATE(YEAR('Réponses au formulaire - copy-c'!A53), MONTH('Réponses au formulaire - copy-c'!A53), DAY('Réponses au formulaire - copy-c'!A53))","v":"2024-01-13"},{"$f":"'Réponses au formulaire - copy-c'!E53","v":"VIGIER "},{"$f":"'Réponses au formulaire - copy-c'!F53","v":"Yann"},{"$f":"'Réponses au formulaire - copy-c'!H53","v":"H"},{"$f":"'feuille technique intermediaire'!E51","v":48},{"$f":"'Réponses au formulaire - copy-c'!I53","v":"yanvigier63@gmail.com"},{"$f":"'Réponses au formulaire - copy-c'!M53","v":"Lialn Di Maluisien"},{"$f":"'Réponses au formulaire - copy-c'!K53","v":"0634991751"},{"$f":"'feuille technique intermediaire'!R51","v":"PJ+PNJ"},"-",{"$f":"'feuille technique intermediaire'!N51","v":"juin"},{"$f":"'feuille technique intermediaire'!P51","v":"Navire et fort"},"OK","OK","juin","Navire & Fort",801.0,"PAF finalisée","non reçue","R.A.S.","samedi",{"$f":"IFERROR(IF(SEARCH(\"ne pas participer\", 'Réponses au formulaire - copy-c'!AV53)>0, \"NON\", \"OUI\"),\"Reste\")","v":"Reste"}]
[{"$f":"DATE(YEAR('Réponses au formulaire - copy-c'!A54), MONTH('Réponses au formulaire - copy-c'!A54), DAY('Réponses au formulaire - copy-c'!A54))","v":"2024-01-15"},{"$f":"'Réponses au formulaire - copy-c'!E54","v":"Vignier"},{"$f":"'Réponses au formulaire - copy-c'!F54","v":"Fanny"},{"$f":"'Réponses au formulaire - copy-c'!H54","v":"F"},{"$f":"'feuille technique intermediaire'!E52","v":"?"},{"$f":"'Réponses au formulaire - copy-c'!I54","v":"fannyvignier@hotmail.fr"},{"$f":"'Réponses au formulaire - copy-c'!M54","v":"Fanny Vgn"},{"$f":"'Réponses au formulaire - copy-c'!K54","v":""},{"$f":"'feuille technique intermediaire'!R52","v":"Pur PJ"},"-",{"$f":"'feuille technique intermediaire'!N52","v":"Les deux"},{"$f":"'feuille technique intermediaire'!P52","v":"Navire et fort"},"OK","OK","juin","Navire & Fort",400.5,"PAF finalisée","non reçue","R.A.S.","samedi",{"$f":"IFERROR(IF(SEARCH(\"ne pas participer\", 'Réponses au formulaire - copy-c'!AV54)>0, \"NON\", \"OUI\"),\"Reste\")","v":"Reste"}]
[{"$f":"DATE(YEAR('Réponses au formulaire - copy-c'!A55), MONTH('Réponses au formulaire - copy-c'!A55), DAY('Réponses au formulaire - copy-c'!A55))","v":"2024-02-19"},{"$f":"'Réponses au formulaire - copy-c'!E55","v":"Vaes"},{"$f":"'Réponses au formulaire - copy-c'!F55","v":"Thomas"},{"$f":"'Réponses au formulaire - copy-c'!H55","v":"H"},{"$f":"'feuille technique intermediaire'!E53","v":31},{"$f":"'Réponses au formulaire - copy-c'!I55","v":"thomas.vaes@hotmail.com"},{"$f":"'Réponses au formulaire - copy-c'!M55","v":"Vaes Thomas"},{"$f":"'Réponses au formulaire - copy-c'!K55","v":"0471502173"},{"$f":"'feuille technique intermediaire'!R53","v":"PJ+PNJ"},"-",{"$f":"'feuille technique intermediaire'!N53","v":"Les deux"},{"$f":"'feuille technique intermediaire'!P53","v":"Navire et fort"},"OK","OK","juin","Navire & Fort",400.5,"PAF finalisée","non reçue","R.A.S.","samedi",{"$f":"IFERROR(IF(SEARCH(\"ne pas participer\", 'Réponses au formulaire - copy-c'!AV55)>0, \"NON\", \"OUI\"),\"Reste\")","v":"NON"}]
[{"$f":"DATE(YEAR('Réponses au formulaire - copy-c'!A57), MONTH('Réponses au formulaire - copy-c'!A57), DAY('Réponses au formulaire - copy-c'!A57))","v":"2024-02-20"},{"$f":"'Réponses au formulaire - copy-c'!E57","v":"Bonnecarrère "},{"$f":"'Réponses au formulaire - copy-c'!F57","v":"Julie"},{"$f":"'Réponses au formulaire - copy-c'!H57","v":"F"},{"$f":"'feuille technique intermediaire'!E55","v":29},{"$f":"'Réponses au formulaire - copy-c'!I57","v":"julie@nebulae.world"},{"$f":"'Réponses au formulaire - copy-c'!M57","v":"Julie Baboudak"},{"$f":"'Réponses au formulaire - copy-c'!K57","v":"0640666077"},{"$f":"'feuille technique intermediaire'!R55","v":"Pur PJ"},"-",{"$f":"'feuille technique intermediaire'!N55","v":"septembre"},{"$f":"'feuille technique intermediaire'!P55","v":"Navire et fort"},"OK","OK","septembre","Navire & Fort",400.0,"PAF finalisée","non reçue","R.A.S.","samedi",{"$f":"IFERROR(IF(SEARCH(\"ne pas participer\", 'Réponses au formulaire - copy-c'!AV57)>0, \"NON\", \"OUI\"),\"Reste\")","v":"Reste"}]
[{"$f":"DATE(YEAR('Réponses au formulaire - copy-c'!A58), MONTH('Réponses au formulaire - copy-c'!A58), DAY('Réponses au formulaire - copy-c'!A58))","v":"2024-01-14"},{"$f":"'Réponses au formulaire - copy-c'!E58","v":"Bouroumeau"},{"$f":"'Réponses au formulaire - copy-c'!F58","v":"Kevin"},{"$f":"'Réponses au formulaire - copy-c'!H58","v":"H"},{"$f":"'feuille technique intermediaire'!E56","v":39},{"$f":"'Réponses au formulaire - copy-c'!I58","v":"kevinbouroumeau@gmail.com"},{"$f":"'Réponses au formulaire - copy-c'!M58","v":"Kevin Caoimhin"},{"$f":"'Réponses au formulaire - copy-c'!K58","v":"0688492254"},{"$f":"'feuille technique intermediaire'!R56","v":"PJ+PNJ"},"-",{"$f":"'feuille technique intermediaire'!N56","v":"juin"},{"$f":"'feuille technique intermediaire'!P56","v":"Navire et fort"},"OK","OK","juin","Navire & Fort",267.0,"PAF partielle","non reçue","R.A.S.","samedi",{"$f":"IFERROR(IF(SEARCH(\"ne pas participer\", 'Réponses au formulaire - copy-c'!AV58)>0, \"NON\", \"OUI\"),\"Reste\")","v":"Reste"}]
[{"$f":"DATE(YEAR('Réponses au formulaire - copy-c'!A59), MONTH('Réponses au formulaire - copy-c'!A59), DAY('Réponses au formulaire - copy-c'!A59))","v":"2024-01-12"},{"$f":"'Réponses au formulaire - copy-c'!E59","v":"Chasserat"},{"$f":"'Réponses au formulaire - copy-c'!F59","v":"Emmanuel"},{"$f":"'Réponses au formulaire - copy-c'!H59","v":"H"},{"$f":"'feuille technique intermediaire'!E57","v":39},{"$f":"'Réponses au formulaire - copy-c'!I59","v":"chasserat@yahoo.fr"},{"$f":"'Réponses au formulaire - copy-c'!M59","v":"Manu Rathunter"},{"$f":"'Réponses au formulaire - copy-c'!K59","v":"0613517679"},{"$f":"'feuille technique intermediaire'!R57","v":"Pur PJ"},"-",{"$f":"'feuille technique intermediaire'!N57","v":"juin"},{"$f":"'feuille technique intermediaire'!P57","v":"Navire et fort"},"OK","OK","juin","Navire & Fort",267.0,"PAF partielle","non reçue","R.A.S.","samedi",{"$f":"IFERROR(IF(SEARCH(\"ne pas participer\", 'Réponses au formulaire - copy-c'!AV59)>0, \"NON\", \"OUI\"),\"Reste\")","v":"Reste"}]
[{"$f":"DATE(YEAR('Réponses au formulaire - copy-c'!A61), MONTH('Réponses au formulaire - copy-c'!A61), DAY('Réponses au formulaire - copy-c'!A61))","v":"2024-02-20"},{"$f":"'Réponses au formulaire - copy-c'!E61","v":"COSTERG"},{"$f":"'Réponses au formulaire - copy-c'!F61","v":"Gaël"},{"$f":"'Réponses au formulaire - copy-c'!H61","v":"H"},{"$f":"'feuille technique intermediaire'!E59","v":27},{"$f":"'Réponses au formulaire - copy-c'!I61","v":"g.costerg@gmail.com"},{"$f":"'Réponses au formulaire - copy-c'!M61","v":"Gaël costerg"},{"$f":"'Réponses au formulaire - copy-c'!K61","v":"0638057198"},{"$f":"'feuille technique intermediaire'!R59","v":"PJ+PNJ"},"-",{"$f":"'feuille technique intermediaire'!N59","v":"septembre"},{"$f":"'feuille technique intermediaire'!P59","v":"Navire et fort"},"OK","OK","septembre","Navire & Fort",400.0,"PAF finalisée","non reçue","R.A.S.","samedi",{"$f":"IFERROR(IF(SEARCH(\"ne pas participer\", 'Réponses au formulaire - copy-c'!AV61)>0, \"NON\", \"OUI\"),\"Reste\")","v":"Reste"}]
[{"$f":"DATE(YEAR('Réponses au formulaire - copy-c'!A63), MONTH('Réponses au formulaire - copy-c'!A63), DAY('Réponses au formulaire - copy-c'!A63))","v":"2024-03-12"},{"$f":"'Réponses au formulaire - copy-c'!E63","v":"Dagrain"},{"$f":"'Réponses au formulaire - copy-c'!F63","v":"Valerie"},{"$f":"'Réponses au formulaire - copy-c'!H63","v":"F"},{"$f":"'feuille technique intermediaire'!E61","v":51},{"$f":"'Réponses au formulaire - copy-c'!I63","v":"valerie.dagrain@protonmail.com"},{"$f":"'Réponses au formulaire - copy-c'!M63","v":"Valérie Dagrain "},{"$f":"'Réponses au formulaire - copy-c'!K63","v":"0663614215"},{"$f":"'feuille technique intermediaire'!R61","v":"PJ+PNJ"},"-",{"$f":"'feuille technique intermediaire'!N61","v":"Les deux"},{"$f":"'feuille technique intermediaire'!P61","v":"Navire et fort"},"OK","OK","septembre","Navire & Fort",null,"PAF non reçue","non reçue","R.A.S.","samedi",{"$f":"IFERROR(IF(SEARCH(\"ne pas participer\", 'Réponses au formulaire - copy-c'!AV63)>0, \"NON\", \"OUI\"),\"Reste\")","v":"NON"}]
[{"$f":"DATE(YEAR('Réponses au formulaire - copy-c'!A65), MONTH('Réponses au formulaire - copy-c'!A65), DAY('Réponses au formulaire - copy-c'!A65))","v":"2024-01-24"},{"$f":"'Réponses au formulaire - copy-c'!E65","v":"EUVE"},{"$f":"'Réponses au formulaire - copy-c'!F65","v":"MAXIME"},{"$f":"'Réponses au formulaire - copy-c'!H65","v":"H"},{"$f":"'feuille technique intermediaire'!E63","v":42},{"$f":"'Réponses au formulaire - copy-c'!I65","v":"maxime.euve@gmail.com"},{"$f":"'Réponses au formulaire - copy-c'!M65","v":"max_ev"},{"$f":"'Réponses au formulaire - copy-c'!K65","v":671542820},{"$f":"'feuille technique intermediaire'!R63","v":"PJ+PNJ"},"-",{"$f":"'feuille technique intermediaire'!N63","v":"juin"},{"$f":"'feuille technique intermediaire'!P63","v":"Navire et fort"},"OK","OK","juin","Navire & Fort",400.0,"PAF finalisée","non reçue","R.A.S.","samedi",{"$f":"IFERROR(IF(SEARCH(\"ne pas participer\", 'Réponses au formulaire - copy-c'!AV65)>0, \"NON\", \"OUI\"),\"Reste\")","v":"Reste"}]
[{"$f":"DATE(YEAR('Réponses au formulaire - copy-c'!A66), MONTH('Réponses au formulaire - copy-c'!A66), DAY('Réponses au formulaire - copy-c'!A66))","v":"2024-01-12"},{"$f":"'Réponses au formulaire - copy-c'!E66","v":"Goury"},{"$f":"'Réponses au formulaire - copy-c'!F66","v":"Fabien"},{"$f":"'Réponses au formulaire - copy-c'!H66","v":"H"},{"$f":"'feuille technique intermediaire'!E64","v":33},{"$f":"'Réponses au formulaire - copy-c'!I66","v":"gouryfabien@gmail.com"},{"$f":"'Réponses au formulaire - copy-c'!M66","v":"Fabien Laerin"},{"$f":"'Réponses au formulaire - copy-c'!K66","v":"0623498552"},{"$f":"'feuille technique intermediaire'!R64","v":"Pur PJ"},"-",{"$f":"'feuille technique intermediaire'!N64","v":"Non précisé"},{"$f":"'feuille technique intermediaire'!P64","v":"Navire et fort"},"OK","OK","juin","Navire & Fort",133.5,"PAF partielle","non reçue","R.A.S.","samedi",{"$f":"IFERROR(IF(SEARCH(\"ne pas participer\", 'Réponses au formulaire - copy-c'!AV66)>0, \"NON\", \"OUI\"),\"Reste\")","v":"Reste"}]
[{"$f":"DATE(YEAR('Réponses au formulaire - copy-c'!A67), MONTH('Réponses au formulaire - copy-c'!A67), DAY('Réponses au formulaire - copy-c'!A67))","v":"2024-01-12"},{"$f":"'Réponses au formulaire - copy-c'!E67","v":"Lucarelli"},{"$f":"'Réponses au formulaire - copy-c'!F67","v":"Jean-Yves"},{"$f":"'Réponses au formulaire - copy-c'!H67","v":"H"},{"$f":"'feuille technique intermediaire'!E65","v":39},{"$f":"'Réponses au formulaire - copy-c'!I67","v":"lucarelli.jy@gmail.com"},{"$f":"'Réponses au formulaire - copy-c'!M67","v":"Jean-Yves LC"},{"$f":"'Réponses au formulaire - copy-c'!K67","v":"0667748530"},{"$f":"'feuille technique intermediaire'!R65","v":"Pur PJ"},"-",{"$f":"'feuille technique intermediaire'!N65","v":"juin"},{"$f":"'feuille technique intermediaire'!P65","v":"Navire et fort"},"OK","OK","juin","Navire & Fort",400.0,"PAF finalisée","non reçue","R.A.S.","samedi",{"$f":"IFERROR(IF(SEARCH(\"ne pas participer\", 'Réponses au formulaire - copy-c'!AV67)>0, \"NON\", \"OUI\"),\"Reste\")","v":"Reste"}]
[{"$f":"DATE(YEAR('Réponses au formulaire - copy-c'!A68), MONTH('Réponses au formulaire - copy-c'!A68), DAY('Réponses au formulaire - copy-c'!A68))","v":"2024-02-10"},{"$f":"'Réponses au formulaire - copy-c'!E68","v":"Moynier"},{"$f":"'Réponses au formulaire - copy-c'!F68","v":"Bérénice"},{"$f":"'Réponses au formulaire - copy-c'!H68","v":"F"},{"$f":"'feuille technique intermediaire'!E66","v":30},{"$f":"'Réponses au formulaire - copy-c'!I68","v":"berenicemoynier@gmail.com"},{"$f":"'Réponses au formulaire - copy-c'!M68","v":"Baby Suisse "},{"$f":"'Réponses au formulaire - copy-c'!K68","v":"00.41.77.449.23.78"},{"$f":"'feuille technique intermediaire'!R66","v":"Pur PJ"},"-",{"$f":"'feuille technique intermediaire'!N66","v":"Les deux"},{"$f":"'feuille technique intermediaire'!P66","v":"Navire et fort"},"OK","OK","septembre","Navire & Fort",null,"PAF non reçue","non reçue","R.A.S.","samedi",{"$f":"IFERROR(IF(SEARCH(\"ne pas participer\", 'Réponses au formulaire - copy-c'!AV68)>0, \"NON\", \"OUI\"),\"Reste\")","v":"Reste"}]
[{"$f":"DATE(YEAR('Réponses au formulaire - copy-c'!A69), MONTH('Réponses au formulaire - copy-c'!A69), DAY('Réponses au formulaire - copy-c'!A69))","v":"2024-02-10"},{"$f":"'Réponses au formulaire - copy-c'!E69","v":"Piodella"},{"$f":"'Réponses au formulaire - copy-c'!F69","v":"Geoffrey"},{"$f":"'Réponses au formulaire - copy-c'!H69","v":"H"},{"$f":"'feuille technique intermediaire'!E67","v":34},{"$f":"'Réponses au formulaire - copy-c'!I69","v":"piodella-geoffrey@hotmail.fr"},{"$f":"'Réponses au formulaire - copy-c'!M69","v":"Geoffrey piodella"},{"$f":"'Réponses au formulaire - copy-c'!K69","v":"0670631495"},{"$f":"'feuille technique intermediaire'!R67","v":"PJ+PNJ"},"-",{"$f":"'feuille technique intermediaire'!N67","v":"Non précisé"},{"$f":"'feuille technique intermediaire'!P67","v":"Navire et fort"},"OK","OK","juin","Navire & Fort",0.0,"gratuit","non reçue","R.A.S.","samedi",{"$f":"IFERROR(IF(SEARCH(\"ne pas participer\", 'Réponses au formulaire - copy-c'!AV69)>0, \"NON\", \"OUI\"),\"Reste\")","v":"Reste"}]
[{"$f":"DATE(YEAR('Réponses au formulaire - copy-c'!A73), MONTH('Réponses au formulaire - copy-c'!A73), DAY('Réponses au formulaire - copy-c'!A73))","v":"2024-01-12"},{"$f":"'Réponses au formulaire - copy-c'!E73","v":"Servel"},{"$f":"'Réponses au formulaire - copy-c'!F73","v":"Manon"},{"$f":"'Réponses au formulaire - copy-c'!H73","v":"F"},{"$f":"'feuille technique intermediaire'!E71","v":32},{"$f":"'Réponses au formulaire - copy-c'!I73","v":"servel.manon@orange.fr"},{"$f":"'Réponses au formulaire - copy-c'!M73","v":"Manon la Dioux"},{"$f":"'Réponses au formulaire - copy-c'!K73","v":"0668554965"},{"$f":"'feuille technique intermediaire'!R71","v":"PJ+PNJ"},"-",{"$f":"'feuille technique intermediaire'!N71","v":"Non précisé"},{"$f":"'feuille technique intermediaire'!P71","v":"Navire et fort"},"OK","OK","septembre","Navire & Fort",133.5,"PAF partielle","non reçue","R.A.S.","samedi",{"$f":"IFERROR(IF(SEARCH(\"ne pas participer\", 'Réponses au formulaire - copy-c'!AV73)>0, \"NON\", \"OUI\"),\"Reste\")","v":"Reste"}]
[{"$f":"DATE(YEAR('Réponses au formulaire - copy-c'!A74), MONTH('Réponses au formulaire - copy-c'!A74), DAY('Réponses au formulaire - copy-c'!A74))","v":"2024-02-10"},{"$f":"'Réponses au formulaire - copy-c'!E74","v":"Trocquet"},{"$f":"'Réponses au formulaire - copy-c'!F74","v":"Daniel"},{"$f":"'Réponses au formulaire - copy-c'!H74","v":"H"},{"$f":"'feuille technique intermediaire'!E72","v":74},{"$f":"'Réponses au formulaire - copy-c'!I74","v":"trocquetdaniel@gmail.com"},{"$f":"'Réponses au formulaire - copy-c'!M74","v":"Cui-cui"},{"$f":"'Réponses au formulaire - copy-c'!K74","v":"0762920768"},{"$f":"'feuille technique intermediaire'!R72","v":"PJ+PNJ"},"-",{"$f":"'feuille technique intermediaire'!N72","v":"juin"},{"$f":"'feuille technique intermediaire'!P72","v":"Navire et fort"},"OK","OK","juin","Navire & Fort",400.0,"PAF finalisée","non reçue","R.A.S.","samedi",{"$f":"IFERROR(IF(SEARCH(\"ne pas participer\", 'Réponses au formulaire - copy-c'!AV74)>0, \"NON\", \"OUI\"),\"Reste\")","v":"Reste"}]
[{"$f":"DATE(YEAR('Réponses au formulaire - copy-c'!A77), MONTH('Réponses au formulaire - copy-c'!A77), DAY('Réponses au formulaire - copy-c'!A77))","v":"2024-07-21"},{"$f":"'Réponses au formulaire - copy-c'!E77","v":"Lallier "},{"$f":"'Réponses au formulaire - copy-c'!F77","v":"Frédéric "},{"$f":"'Réponses au formulaire - copy-c'!H77","v":"H"},{"$f":"'feuille technique intermediaire'!E75","v":54},{"$f":"'Réponses au formulaire - copy-c'!I77","v":"lallierf@gmail.com"},{"$f":"'Réponses au formulaire - copy-c'!M77","v":"Fred lorelyn loretoile"},{"$f":"'Réponses au formulaire - copy-c'!K77","v":"0611029361"},{"$f":"'feuille technique intermediaire'!R75","v":"Pur PJ"},"-",{"$f":"'feuille technique intermediaire'!N75","v":"juin"},{"$f":"'feuille technique intermediaire'!P75","v":"Navire et fort"},"OK","OK","juin","Navire & Fort",400.0,"PAF finalisée","non reçue","R.A.S.","samedi",{"$f":"IFERROR(IF(SEARCH(\"ne pas participer\", 'Réponses au formulaire - copy-c'!AV77)>0, \"NON\", \"OUI\"),\"Reste\")","v":"Reste"}]
[{"$f":"DATE(YEAR('Réponses au formulaire - copy-c'!A78), MONTH('Réponses au formulaire - copy-c'!A78), DAY('Réponses au formulaire - copy-c'!A78))","v":"2024-07-21"},{"$f":"'Réponses au formulaire - copy-c'!E78","v":"Bullier "},{"$f":"'Réponses au formulaire - copy-c'!F78","v":"Maxime "},{"$f":"'Réponses au formulaire - copy-c'!H78","v":"H"},{"$f":"'feuille technique intermediaire'!E76","v":42},{"$f":"'Réponses au formulaire - copy-c'!I78","v":"maxime.bullier@hotmail.fr"},{"$f":"'Réponses au formulaire - copy-c'!M78","v":"Max du boulet"},{"$f":"'Réponses au formulaire - copy-c'!K78","v":"0669056818"},{"$f":"'feuille technique intermediaire'!R76","v":"Pur PJ"},"-",{"$f":"'feuille technique intermediaire'!N76","v":"septembre"},{"$f":"'feuille technique intermediaire'!P76","v":"Peu importe"},"OK","OK","septembre","Fort seulement",200.0,"PAF finalisée","non reçue","R.A.S.","samedi",{"$f":"IFERROR(IF(SEARCH(\"ne pas participer\", 'Réponses au formulaire - copy-c'!AV78)>0, \"NON\", \"OUI\"),\"Reste\")","v":"Reste"}]
[{"$f":"DATE(YEAR('Réponses au formulaire - copy-c'!A80), MONTH('Réponses au formulaire - copy-c'!A80), DAY('Réponses au formulaire - copy-c'!A80))","v":"2024-07-21"},{"$f":"'Réponses au formulaire - copy-c'!E80","v":"Lenouvel "},{"$f":"'Réponses au formulaire - copy-c'!F80","v":"Maryline "},{"$f":"'Réponses au formulaire - copy-c'!H80","v":"F"},{"$f":"'feuille technique intermediaire'!E78","v":"?"},{"$f":"'Réponses au formulaire - copy-c'!I80","v":"lylou_07@hotmail.com"},{"$f":"'Réponses au formulaire - copy-c'!M80","v":"Bellis Lylou Ajola"},{"$f":"'Réponses au formulaire - copy-c'!K80","v":""},{"$f":"'feuille technique intermediaire'!R78","v":"Pur PJ"},"-",{"$f":"'feuille technique intermediaire'!N78","v":"septembre"},{"$f":"'feuille technique intermediaire'!P78","v":"Seulement au fort"},"OK","OK","septembre","Fort seulement",200.0,"PAF finalisée","non reçue","R.A.S.","samedi",{"$f":"IFERROR(IF(SEARCH(\"ne pas participer\", 'Réponses au formulaire - copy-c'!AV80)>0, \"NON\", \"OUI\"),\"Reste\")","v":"Reste"}]
[{"$f":"DATE(YEAR('Réponses au formulaire - copy-c'!A81), MONTH('Réponses au formulaire - copy-c'!A81), DAY('Réponses au formulaire - copy-c'!A81))","v":"2024-07-21"},{"$f":"'Réponses au formulaire - copy-c'!E81","v":"Brule"},{"$f":"'Réponses au formulaire - copy-c'!F81","v":"Mélanie "},{"$f":"'Réponses au formulaire - copy-c'!H81","v":"F"},{"$f":"'feuille technique intermediaire'!E79","v":23},{"$f":"'Réponses au formulaire - copy-c'!I81","v":"melanie.brule1906@orange.fr"},{"$f":"'Réponses au formulaire - copy-c'!M81","v":"Mélanie BRULE "},{"$f":"'Réponses au formulaire - copy-c'!K81","v":"0762198427"},{"$f":"'feuille technique intermediaire'!R79","v":"PJ+PNJ"},"-",{"$f":"'feuille technique intermediaire'!N79","v":"Non précisé"},{"$f":"'feuille technique intermediaire'!P79","v":"Navire et fort"},"OK","OK","juin","Navire & Fort",400.0,"PAF finalisée","non reçue","R.A.S.","samedi",{"$f":"IFERROR(IF(SEARCH(\"ne pas participer\", 'Réponses au formulaire - copy-c'!AV81)>0, \"NON\", \"OUI\"),\"Reste\")","v":"Reste"}]
[{"$f":"DATE(YEAR('Réponses au formulaire - copy-c'!A82), MONTH('Réponses au formulaire - copy-c'!A82), DAY('Réponses au formulaire - copy-c'!A82))","v":"2024-07-22"},{"$f":"'Réponses au formulaire - copy-c'!E82","v":"MUNARO"},{"$f":"'Réponses au formulaire - copy-c'!F82","v":"Perrine"},{"$f":"'Réponses au formulaire - copy-c'!H82","v":"F"},{"$f":"'feuille technique intermediaire'!E80","v":40},{"$f":"'Réponses au formulaire - copy-c'!I82","v":"perrine.munaro@gmail.com"},{"$f":"'Réponses au formulaire - copy-c'!M82","v":"Perrine Duracell"},{"$f":"'Réponses au formulaire - copy-c'!K82","v":"0673120151"},{"$f":"'feuille technique intermediaire'!R80","v":"Pur PJ"},"-",{"$f":"'feuille technique intermediaire'!N80","v":"Les deux"},{"$f":"'feuille technique intermediaire'!P80","v":"Navire et fort"},"OK","OK","septembre","Navire & Fort",null,"PAF non reçue","non reçue","R.A.S.","samedi",{"$f":"IFERROR(IF(SEARCH(\"ne pas participer\", 'Réponses au formulaire - copy-c'!AV82)>0, \"NON\", \"OUI\"),\"Reste\")","v":"Reste"}]
[{"$f":"DATE(YEAR('Réponses au formulaire - copy-c'!A83), MONTH('Réponses au formulaire - copy-c'!A83), DAY('Réponses au formulaire - copy-c'!A83))","v":"2024-07-22"},{"$f":"'Réponses au formulaire - copy-c'!E83","v":"Yogananthan "},{"$f":"'Réponses au formulaire - copy-c'!F83","v":"Karuna"},{"$f":"'Réponses au formulaire - copy-c'!H83","v":"H"},{"$f":"'feuille technique intermediaire'!E81","v":119},{"$f":"'Réponses au formulaire - copy-c'!I83","v":"karuna.yogananthan@gmail.com"},{"$f":"'Réponses au formulaire - copy-c'!M83","v":"Karuna Yogananthan "},{"$f":"'Réponses au formulaire - copy-c'!K83","v":"0610838975"},{"$f":"'feuille technique intermediaire'!R81","v":"Pur PJ"},"-",{"$f":"'feuille technique intermediaire'!N81","v":"Les deux"},{"$f":"'feuille technique intermediaire'!P81","v":"Navire et fort"},"OK","OK","septembre","Navire & Fort",400.0,"PAF finalisée","non reçue","R.A.S.","samedi",{"$f":"IFERROR(IF(SEARCH(\"ne pas participer\", 'Réponses au formulaire - copy-c'!AV83)>0, \"NON\", \"OUI\"),\"Reste\")","v":"NON"}]
[{"$f":"DATE(YEAR('Réponses au formulaire - copy-c'!A86), MONTH('Réponses au formulaire - copy-c'!A86), DAY('Réponses au formulaire - copy-c'!A86))","v":"2024-07-22"},{"$f":"'Réponses au formulaire - copy-c'!E86","v":"le merdy"},{"$f":"'Réponses au formulaire - copy-c'!F86","v":"claire"},{"$f":"'Réponses au formulaire - copy-c'!H86","v":"F"},{"$f":"'feuille technique intermediaire'!E84","v":32},{"$f":"'Réponses au formulaire - copy-c'!I86","v":"claire.lem@hotmail.fr"},{"$f":"'Réponses au formulaire - copy-c'!M86","v":"claire LM"},{"$f":"'Réponses au formulaire - copy-c'!K86","v":674802559},{"$f":"'feuille technique intermediaire'!R84","v":"PNJ"},"-",{"$f":"'feuille technique intermediaire'!N84","v":"Les deux"},{"$f":"'feuille technique intermediaire'!P84","v":"Peu importe"},"OK","OK","juin","Fort seulement",null,"PAF non reçue","non reçue","R.A.S.","samedi",{"$f":"IFERROR(IF(SEARCH(\"ne pas participer\", 'Réponses au formulaire - copy-c'!AV86)>0, \"NON\", \"OUI\"),\"Reste\")","v":"Reste"}]
[{"$f":"DATE(YEAR('Réponses au formulaire - copy-c'!A87), MONTH('Réponses au formulaire - copy-c'!A87), DAY('Réponses au formulaire - copy-c'!A87))","v":"2024-07-22"},{"$f":"'Réponses au formulaire - copy-c'!E87","v":"Gayot"},{"$f":"'Réponses au formulaire - copy-c'!F87","v":"Eléna"},{"$f":"'Réponses au formulaire - copy-c'!H87","v":"F"},{"$f":"'feuille technique intermediaire'!E85","v":25},{"$f":"'Réponses au formulaire - copy-c'!I87","v":"elena.gayot@gmail.com"},{"$f":"'Réponses au formulaire - copy-c'!M87","v":"Eléna Gayot"},{"$f":"'Réponses au formulaire - copy-c'!K87","v":"0750498366"},{"$f":"'feuille technique intermediaire'!R85","v":"Pur PJ"},"-",{"$f":"'feuille technique intermediaire'!N85","v":"juin"},{"$f":"'feuille technique intermediaire'!P85","v":"Navire et fort"},"OK","OK","juin","Navire & Fort",267.0,"PAF partielle","non reçue","R.A.S.","samedi",{"$f":"IFERROR(IF(SEARCH(\"ne pas participer\", 'Réponses au formulaire - copy-c'!AV87)>0, \"NON\", \"OUI\"),\"Reste\")","v":"Reste"}]
[{"$f":"DATE(YEAR('Réponses au formulaire - copy-c'!A88), MONTH('Réponses au formulaire - copy-c'!A88), DAY('Réponses au formulaire - copy-c'!A88))","v":"2024-07-22"},{"$f":"'Réponses au formulaire - copy-c'!E88","v":"cornu"},{"$f":"'Réponses au formulaire - copy-c'!F88","v":"FRANCOISE"},{"$f":"'Réponses au formulaire - copy-c'!H88","v":"F"},{"$f":"'feuille technique intermediaire'!E86","v":64},{"$f":"'Réponses au formulaire - copy-c'!I88","v":"wamael@aol.com"},{"$f":"'Réponses au formulaire - copy-c'!M88","v":"Mamie Soaz"},{"$f":"'Réponses au formulaire - copy-c'!K88","v":"0681186863"},{"$f":"'feuille technique intermediaire'!R86","v":"PNJ"},"-",{"$f":"'feuille technique intermediaire'!N86","v":"Les deux"},{"$f":"'feuille technique intermediaire'!P86","v":"Navire et fort"},"OK","OK","juin","Fort seulement",66.7,"PAF partielle + erreur","non reçue","R.A.S.","samedi",{"$f":"IFERROR(IF(SEARCH(\"ne pas participer\", 'Réponses au formulaire - copy-c'!AV88)>0, \"NON\", \"OUI\"),\"Reste\")","v":"Reste"}]
[{"$f":"DATE(YEAR('Réponses au formulaire - copy-c'!A90), MONTH('Réponses au formulaire - copy-c'!A90), DAY('Réponses au formulaire - copy-c'!A90))","v":"2024-07-22"},{"$f":"'Réponses au formulaire - copy-c'!E90","v":"Ardalan"},{"$f":"'Réponses au formulaire - copy-c'!F90","v":"Pouria"},{"$f":"'Réponses au formulaire - copy-c'!H90","v":"H"},{"$f":"'feuille technique intermediaire'!E88","v":42},{"$f":"'Réponses au formulaire - copy-c'!I90","v":"pepebicho@yahoo.com"},{"$f":"'Réponses au formulaire - copy-c'!M90","v":"Pepebicho Leroy"},{"$f":"'Réponses au formulaire - copy-c'!K90","v":"0622217382"},{"$f":"'feuille technique intermediaire'!R88","v":"PJ+PNJ"},"-",{"$f":"'feuille technique intermediaire'!N88","v":"juin"},{"$f":"'feuille technique intermediaire'!P88","v":"Seulement au fort"},"OK","OK","septembre","Fort seulement",200.0,"PAF finalisée","non reçue","R.A.S.","samedi",{"$f":"IFERROR(IF(SEARCH(\"ne pas participer\", 'Réponses au formulaire - copy-c'!AV90)>0, \"NON\", \"OUI\"),\"Reste\")","v":"Reste"}]
[{"$f":"DATE(YEAR('Réponses au formulaire - copy-c'!A91), MONTH('Réponses au formulaire - copy-c'!A91), DAY('Réponses au formulaire - copy-c'!A91))","v":"2024-07-23"},{"$f":"'Réponses au formulaire - copy-c'!E91","v":"Petit "},{"$f":"'Réponses au formulaire - copy-c'!F91","v":"Vincent "},{"$f":"'Réponses au formulaire - copy-c'!H91","v":"H"},{"$f":"'feuille technique intermediaire'!E89","v":48},{"$f":"'Réponses au formulaire - copy-c'!I91","v":"vincentsterne@yahoo.fr"},{"$f":"'Réponses au formulaire - copy-c'!M91","v":"Vincent Petit"},{"$f":"'Réponses au formulaire - copy-c'!K91","v":"0619600814"},{"$f":"'feuille technique intermediaire'!R89","v":"PJ+PNJ"},"-",{"$f":"'feuille technique intermediaire'!N89","v":"septembre"},{"$f":"'feuille technique intermediaire'!P89","v":"Peu importe"},"OK","OK","septembre","Fort seulement",220.0,"PAF finalisée","non reçue","R.A.S.","samedi",{"$f":"IFERROR(IF(SEARCH(\"ne pas participer\", 'Réponses au formulaire - copy-c'!AV91)>0, \"NON\", \"OUI\"),\"Reste\")","v":"Reste"}]
[{"$f":"DATE(YEAR('Réponses au formulaire - copy-c'!A92), MONTH('Réponses au formulaire - copy-c'!A92), DAY('Réponses au formulaire - copy-c'!A92))","v":"2024-07-23"},{"$f":"'Réponses au formulaire - copy-c'!E92","v":"battung"},{"$f":"'Réponses au formulaire - copy-c'!F92","v":"coralie"},{"$f":"'Réponses au formulaire - copy-c'!H92","v":"F"},{"$f":"'feuille technique intermediaire'!E90","v":34},{"$f":"'Réponses au formulaire - copy-c'!I92","v":"corabattung@gmail.com"},{"$f":"'Réponses au formulaire - copy-c'!M92","v":"Cora la rousse"},{"$f":"'Réponses au formulaire - copy-c'!K92","v":"0611246957"},{"$f":"'feuille technique intermediaire'!R90","v":"Pur PJ"},"-",{"$f":"'feuille technique intermediaire'!N90","v":"juin"},{"$f":"'feuille technique intermediaire'!P90","v":"Navire et fort"},"OK","OK","juin","Navire & Fort",267.0,"PAF partielle","non reçue","R.A.S.","samedi",{"$f":"IFERROR(IF(SEARCH(\"ne pas participer\", 'Réponses au formulaire - copy-c'!AV92)>0, \"NON\", \"OUI\"),\"Reste\")","v":"Reste"}]
[{"$f":"DATE(YEAR('Réponses au formulaire - copy-c'!A93), MONTH('Réponses au formulaire - copy-c'!A93), DAY('Réponses au formulaire - copy-c'!A93))","v":"2024-07-23"},{"$f":"'Réponses au formulaire - copy-c'!E93","v":"FRACHON"},{"$f":"'Réponses au formulaire - copy-c'!F93","v":"Aurélia"},{"$f":"'Réponses au formulaire - copy-c'!H93","v":"F"},{"$f":"'feuille technique intermediaire'!E91","v":119},{"$f":"'Réponses au formulaire - copy-c'!I93","v":"aureliafrachon@gmail.com"},{"$f":"'Réponses au formulaire - copy-c'!M93","v":"Aurélia Frachon"},{"$f":"'Réponses au formulaire - copy-c'!K93","v":"0643592580"},{"$f":"'feuille technique intermediaire'!R91","v":"PJ+PNJ"},"-",{"$f":"'feuille technique intermediaire'!N91","v":"juin"},{"$f":"'feuille technique intermediaire'!P91","v":"Navire et fort"},"OK","OK","juin","Navire & Fort",267.0,"PAF partielle","non reçue","R.A.S.","samedi",{"$f":"IFERROR(IF(SEARCH(\"ne pas participer\", 'Réponses au formulaire - copy-c'!AV93)>0, \"NON\", \"OUI\"),\"Reste\")","v":"NON"}]
[{"$f":"DATE(YEAR('Réponses au formulaire - copy-c'!A94), MONTH('Réponses au formulaire - copy-c'!A94), DAY('Réponses au formulaire - copy-c'!A94))","v":"2024-07-23"},{"$f":"'Réponses au formulaire - copy-c'!E94","v":"Cornu "},{"$f":"'Réponses au formulaire - copy-c'!F94","v":"Nathan"},{"$f":"'Réponses au formulaire - copy-c'!H94","v":"H"},{"$f":"'feuille technique intermediaire'!E92","v":30},{"$f":"'Réponses au formulaire - copy-c'!I94","v":"nathancornu@gmail.com"},{"$f":"'Réponses au formulaire - copy-c'!M94","v":"Nathan cornu"},{"$f":"'Réponses au formulaire - copy-c'!K94","v":"0646031612"},{"$f":"'feuille technique intermediaire'!R92","v":"PNJ"},"-",{"$f":"'feuille technique intermediaire'!N92","v":"Les deux"},{"$f":"'feuille technique intermediaire'!P92","v":"Peu importe"},"OK","OK","juin","Fort seulement",null,"PAF non reçue","non reçue","R.A.S.","samedi",{"$f":"IFERROR(IF(SEARCH(\"ne pas participer\", 'Réponses au formulaire - copy-c'!AV94)>0, \"NON\", \"OUI\"),\"Reste\")","v":"Reste"}]
[{"$f":"DATE(YEAR('Réponses au formulaire - copy-c'!A97), MONTH('Réponses au formulaire - copy-c'!A97), DAY('Réponses au formulaire - copy-c'!A97))","v":"2024-07-25"},{"$f":"'Réponses au formulaire - copy-c'!E97","v":"Blanchard Quentin"},{"$f":"'Réponses au formulaire - copy-c'!F97","v":"Quentin"},{"$f":"'Réponses au formulaire - copy-c'!H97","v":"H"},{"$f":"'feuille technique intermediaire'!E95","v":32},{"$f":"'Réponses au formulaire - copy-c'!I97","v":"blanchard.quentin1@gmail.com"},{"$f":"'Réponses au formulaire - copy-c'!M97","v":"Quentin Kando"},{"$f":"'Réponses au formulaire - copy-c'!K97","v":"0676788950"},{"$f":"'feuille technique intermediaire'!R95","v":"PJ+PNJ"},"-",{"$f":"'feuille technique intermediaire'!N95","v":"septembre"},{"$f":"'feuille technique intermediaire'!P95","v":"Navire et fort"},"OK","OK","septembre","Navire & Fort",null,"PAF non reçue","non reçue","R.A.S.","samedi",{"$f":"IFERROR(IF(SEARCH(\"ne pas participer\", 'Réponses au formulaire - copy-c'!AV97)>0, \"NON\", \"OUI\"),\"Reste\")","v":"NON"}]
[{"$f":"DATE(YEAR('Réponses au formulaire - copy-c'!A99), MONTH('Réponses au formulaire - copy-c'!A99), DAY('Réponses au formulaire - copy-c'!A99))","v":"2024-07-25"},{"$f":"'Réponses au formulaire - copy-c'!E99","v":"BRANDELY"},{"$f":"'Réponses au formulaire - copy-c'!F99","v":"Guillaume"},{"$f":"'Réponses au formulaire - copy-c'!H99","v":"H"},{"$f":"'feuille technique intermediaire'!E97","v":51},{"$f":"'Réponses au formulaire - copy-c'!I99","v":"yom@mythoz.org"},{"$f":"'Réponses au formulaire - copy-c'!M99","v":"Guillaume BRANDELY"},{"$f":"'Réponses au formulaire - copy-c'!K99","v":"+33661799673"},{"$f":"'feuille technique intermediaire'!R97","v":"Pur PJ"},"-",{"$f":"'feuille technique intermediaire'!N97","v":"Non précisé"},{"$f":"'feuille technique intermediaire'!P97","v":"Navire et fort"},"OK","OK","juin","Navire & Fort",272.0,"PAF partielle","non reçue","R.A.S.","samedi",{"$f":"IFERROR(IF(SEARCH(\"ne pas participer\", 'Réponses au formulaire - copy-c'!AV99)>0, \"NON\", \"OUI\"),\"Reste\")","v":"NON"}]
[{"$f":"DATE(YEAR('Réponses au formulaire - copy-c'!A100), MONTH('Réponses au formulaire - copy-c'!A100), DAY('Réponses au formulaire - copy-c'!A100))","v":"2024-07-26"},{"$f":"'Réponses au formulaire - copy-c'!E100","v":"Birat "},{"$f":"'Réponses au formulaire - copy-c'!F100","v":"Stéphanie "},{"$f":"'Réponses au formulaire - copy-c'!H100","v":"F"},{"$f":"'feuille technique intermediaire'!E98","v":35},{"$f":"'Réponses au formulaire - copy-c'!I100","v":"birat.stephanie@gmail.com"},{"$f":"'Réponses au formulaire - copy-c'!M100","v":"Steph birat"},{"$f":"'Réponses au formulaire - copy-c'!K100","v":695850677},{"$f":"'feuille technique intermediaire'!R98","v":"PJ+PNJ"},"-",{"$f":"'feuille technique intermediaire'!N98","v":"septembre"},{"$f":"'feuille technique intermediaire'!P98","v":"Navire et fort"},"OK","OK","juin","Navire & Fort",400.0,"PAF finalisée","non reçue","R.A.S.","samedi",{"$f":"IFERROR(IF(SEARCH(\"ne pas participer\", 'Réponses au formulaire - copy-c'!AV100)>0, \"NON\", \"OUI\"),\"Reste\")","v":"Reste"}]
[{"$f":"DATE(YEAR('Réponses au formulaire - copy-c'!A102), MONTH('Réponses au formulaire - copy-c'!A102), DAY('Réponses au formulaire - copy-c'!A102))","v":"2024-08-04"},{"$f":"'Réponses au formulaire - copy-c'!E102","v":"Lafosse"},{"$f":"'Réponses au formulaire - copy-c'!F102","v":"Candice"},{"$f":"'Réponses au formulaire - copy-c'!H102","v":"F"},{"$f":"'feuille technique intermediaire'!E100","v":51},{"$f":"'Réponses au formulaire - copy-c'!I102","v":"candice.lafosse@gmail.com"},{"$f":"'Réponses au formulaire - copy-c'!M102","v":"Candice Impératrice"},{"$f":"'Réponses au formulaire - copy-c'!K102","v":"0613046704"},{"$f":"'feuille technique intermediaire'!R100","v":"Pur PJ"},"-",{"$f":"'feuille technique intermediaire'!N100","v":"juin"},{"$f":"'feuille technique intermediaire'!P100","v":"Navire et fort"},"OK","OK","septembre","Navire & Fort",267.0,"PAF partielle","non reçue","R.A.S.","samedi",{"$f":"IFERROR(IF(SEARCH(\"ne pas participer\", 'Réponses au formulaire - copy-c'!AV102)>0, \"NON\", \"OUI\"),\"Reste\")","v":"Reste"}]
[{"$f":"DATE(YEAR('Réponses au formulaire - copy-c'!A104), MONTH('Réponses au formulaire - copy-c'!A104), DAY('Réponses au formulaire - copy-c'!A104))","v":"2024-09-05"},{"$f":"'Réponses au formulaire - copy-c'!E104","v":"Lallier"},{"$f":"'Réponses au formulaire - copy-c'!F104","v":"Olivier"},{"$f":"'Réponses au formulaire - copy-c'!H104","v":"H"},{"$f":"'feuille technique intermediaire'!E102","v":51},{"$f":"'Réponses au formulaire - copy-c'!I104","v":"olivier.lallier@gmail.com"},{"$f":"'Réponses au formulaire - copy-c'!M104","v":"Olivier sailoff"},{"$f":"'Réponses au formulaire - copy-c'!K104","v":"0627213127"},{"$f":"'feuille technique intermediaire'!R102","v":"PJ+PNJ"},"-",{"$f":"'feuille technique intermediaire'!N102","v":"juin"},{"$f":"'feuille technique intermediaire'!P102","v":"Peu importe"},"OK","OK","juin","Navire & Fort",267.0,"PAF partielle","non reçue","R.A.S.","samedi",{"$f":"IFERROR(IF(SEARCH(\"ne pas participer\", 'Réponses au formulaire - copy-c'!AV104)>0, \"NON\", \"OUI\"),\"Reste\")","v":"Reste"}]
[{"$f":"DATE(YEAR('Réponses au formulaire - copy-c'!A105), MONTH('Réponses au formulaire - copy-c'!A105), DAY('Réponses au formulaire - copy-c'!A105))","v":"2024-09-05"},{"$f":"'Réponses au formulaire - copy-c'!E105","v":"Lefebvre "},{"$f":"'Réponses au formulaire - copy-c'!F105","v":"Gregoire "},{"$f":"'Réponses au formulaire - copy-c'!H105","v":"H"},{"$f":"'feuille technique intermediaire'!E103","v":51},{"$f":"'Réponses au formulaire - copy-c'!I105","v":"gregoire.lefebvre38@gmail.com"},{"$f":"'Réponses au formulaire - copy-c'!M105","v":"Grégoire Lefebvre "},{"$f":"'Réponses au formulaire - copy-c'!K105","v":"0615337655"},{"$f":"'feuille technique intermediaire'!R103","v":"PJ+PNJ"},null,{"$f":"'feuille technique intermediaire'!N103","v":"juin"},{"$f":"'feuille technique intermediaire'!P103","v":"Peu importe"},"OK","KO","juin","Fort seulement",null,"PAF non reçue","non reçue","R.A.S.","samedi",{"$f":"IFERROR(IF(SEARCH(\"ne pas participer\", 'Réponses au formulaire - copy-c'!AV105)>0, \"NON\", \"OUI\"),\"Reste\")","v":"Reste"}]
[{"$f":"DATE(YEAR('Réponses au formulaire - copy-c'!A107), MONTH('Réponses au formulaire - copy-c'!A107), DAY('Réponses au formulaire - copy-c'!A107))","v":"2024-09-07"},{"$f":"'Réponses au formulaire - copy-c'!E107","v":"Abbé"},{"$f":"'Réponses au formulaire - copy-c'!F107","v":"Valentin "},{"$f":"'Réponses au formulaire - copy-c'!H107","v":"H"},{"$f":"'feuille technique intermediaire'!E105","v":31},{"$f":"'Réponses au formulaire - copy-c'!I107","v":"abbe.valentin@gmail.com"},{"$f":"'Réponses au formulaire - copy-c'!M107","v":"Abbé Valentin"},{"$f":"'Réponses au formulaire - copy-c'!K107","v":"0621641087"},{"$f":"'feuille technique intermediaire'!R105","v":"Pur PJ"},"-",{"$f":"'feuille technique intermediaire'!N105","v":"juin"},{"$f":"'feuille technique intermediaire'!P105","v":"Seulement au fort"},"OK","OK","juin","Fort seulement",0.0,"gratuit","non reçue","R.A.S.","samedi",{"$f":"IFERROR(IF(SEARCH(\"ne pas participer\", 'Réponses au formulaire - copy-c'!AV107)>0, \"NON\", \"OUI\"),\"Reste\")","v":"Reste"}]
[{"$f":"DATE(YEAR('Réponses au formulaire - copy-c'!A108), MONTH('Réponses au formulaire - copy-c'!A108), DAY('Réponses au formulaire - copy-c'!A108))","v":"2024-09-08"},{"$f":"'Réponses au formulaire - copy-c'!E108","v":"grunemwald"},{"$f":"'Réponses au formulaire - copy-c'!F108","v":"thomas"},{"$f":"'Réponses au formulaire - copy-c'!H108","v":"H"},{"$f":"'feuille technique intermediaire'!E106","v":50},{"$f":"'Réponses au formulaire - copy-c'!I108","v":"virtualthomas@yahoo.fr"},{"$f":"'Réponses au formulaire - copy-c'!M108","v":"thomas grunemwald"},{"$f":"'Réponses au formulaire - copy-c'!K108","v":"0630609519"},{"$f":"'feuille technique intermediaire'!R106","v":"Pur PJ"},"-",{"$f":"'feuille technique intermediaire'!N106","v":"juin"},{"$f":"'feuille technique intermediaire'!P106","v":"Navire et fort"},"OK","OK","septembre","Navire & Fort",400.0,"PAF finalisée","non reçue","R.A.S.","samedi",{"$f":"IFERROR(IF(SEARCH(\"ne pas participer\", 'Réponses au formulaire - copy-c'!AV108)>0, \"NON\", \"OUI\"),\"Reste\")","v":"Reste"}]
[{"$f":"DATE(YEAR('Réponses au formulaire - copy-c'!A109), MONTH('Réponses au formulaire - copy-c'!A109), DAY('Réponses au formulaire - copy-c'!A109))","v":"2024-09-09"},{"$f":"'Réponses au formulaire - copy-c'!E109","v":"Nicolet"},{"$f":"'Réponses au formulaire - copy-c'!F109","v":"Robin"},{"$f":"'Réponses au formulaire - copy-c'!H109","v":"H"},{"$f":"'feuille technique intermediaire'!E107","v":34},{"$f":"'Réponses au formulaire - copy-c'!I109","v":"robin.nicolet@gadz.org"},{"$f":"'Réponses au formulaire - copy-c'!M109","v":"Robin NCLT"},{"$f":"'Réponses au formulaire - copy-c'!K109","v":"0615493964"},{"$f":"'feuille technique intermediaire'!R107","v":"Pur PJ"},"-",{"$f":"'feuille technique intermediaire'!N107","v":"juin"},{"$f":"'feuille technique intermediaire'!P107","v":"Navire et fort"},"OK","OK","juin","Navire & Fort",400.0,"PAF finalisée","non reçue","R.A.S.","samedi",{"$f":"IFERROR(IF(SEARCH(\"ne pas participer\", 'Réponses au formulaire - copy-c'!AV109)>0, \"NON\", \"OUI\"),\"Reste\")","v":"Reste"}]
[{"$f":"DATE(YEAR('Réponses au formulaire - copy-c'!A110), MONTH('Réponses au formulaire - copy-c'!A110), DAY('Réponses au formulaire - copy-c'!A110))","v":"2024-09-09"},{"$f":"'Réponses au formulaire - copy-c'!E110","v":"Guex"},{"$f":"'Réponses au formulaire - copy-c'!F110","v":"Benjamin"},{"$f":"'Réponses au formulaire - copy-c'!H110","v":"H"},{"$f":"'feuille technique intermediaire'!E108","v":33},{"$f":"'Réponses au formulaire - copy-c'!I110","v":"benji91@netplus.ch"},{"$f":"'Réponses au formulaire - copy-c'!M110","v":"benjamin.guex"},{"$f":"'Réponses au formulaire - copy-c'!K110","v":"+41792687562"},{"$f":"'feuille technique intermediaire'!R108","v":"PJ+PNJ"},"-",{"$f":"'feuille technique intermediaire'!N108","v":"juin"},{"$f":"'feuille technique intermediaire'!P108","v":"Navire et fort"},"OK","OK","juin","Navire & Fort",400.0,"PAF finalisée","non reçue","R.A.S.","samedi",{"$f":"IFERROR(IF(SEARCH(\"ne pas participer\", 'Réponses au formulaire - copy-c'!AV110)>0, \"NON\", \"OUI\"),\"Reste\")","v":"NON"}]
[{"$f":"DATE(YEAR('Réponses au formulaire - copy-c'!A111), MONTH('Réponses au formulaire - copy-c'!A111), DAY('Réponses au formulaire - copy-c'!A111))","v":"2024-09-13"},{"$f":"'Réponses au formulaire - copy-c'!E111","v":"Bouhedja "},{"$f":"'Réponses au formulaire - copy-c'!F111","v":"Nawel"},{"$f":"'Réponses au formulaire - copy-c'!H111","v":"F"},{"$f":"'feuille technique intermediaire'!E109","v":46},{"$f":"'Réponses au formulaire - copy-c'!I111","v":"nawelbouhedja2000@gmail.com"},{"$f":"'Réponses au formulaire - copy-c'!M111","v":"Nawel Land"},{"$f":"'Réponses au formulaire - copy-c'!K111","v":"0650643633"},{"$f":"'feuille technique intermediaire'!R109","v":"Pur PJ"},"-",{"$f":"'feuille technique intermediaire'!N109","v":"juin"},{"$f":"'feuille technique intermediaire'!P109","v":"Navire et fort"},"OK","OK","juin","Navire & Fort",267.0,"PAF partielle","non reçue","R.A.S.","samedi",{"$f":"IFERROR(IF(SEARCH(\"ne pas participer\", 'Réponses au formulaire - copy-c'!AV111)>0, \"NON\", \"OUI\"),\"Reste\")","v":"Reste"}]
[{"$f":"DATE(YEAR('Réponses au formulaire - copy-c'!A112), MONTH('Réponses au formulaire - copy-c'!A112), DAY('Réponses au formulaire - copy-c'!A112))","v":"2024-09-14"},{"$f":"'Réponses au formulaire - copy-c'!E112","v":"Besnard"},{"$f":"'Réponses au formulaire - copy-c'!F112","v":"Audrey"},{"$f":"'Réponses au formulaire - copy-c'!H112","v":"F"},{"$f":"'feuille technique intermediaire'!E110","v":37},{"$f":"'Réponses au formulaire - copy-c'!I112","v":"besnardau@gmail.com"},{"$f":"'Réponses au formulaire - copy-c'!M112","v":"Audrey Besnard"},{"$f":"'Réponses au formulaire - copy-c'!K112","v":"0678718660"},{"$f":"'feuille technique intermediaire'!R110","v":"Pur PJ"},"-",{"$f":"'feuille technique intermediaire'!N110","v":"Les deux"},{"$f":"'feuille technique intermediaire'!P110","v":"Navire et fort"},"Réfusé","KO","non attribué","non attribué",null,"PAF non reçue","non reçue","R.A.S.","samedi",{"$f":"IFERROR(IF(SEARCH(\"ne pas participer\", 'Réponses au formulaire - copy-c'!AV112)>0, \"NON\", \"OUI\"),\"Reste\")","v":"NON"}]
[{"$f":"DATE(YEAR('Réponses au formulaire - copy-c'!A113), MONTH('Réponses au formulaire - copy-c'!A113), DAY('Réponses au formulaire - copy-c'!A113))","v":"2024-09-14"},{"$f":"'Réponses au formulaire - copy-c'!E113","v":"Richet "},{"$f":"'Réponses au formulaire - copy-c'!F113","v":"Bruno"},{"$f":"'Réponses au formulaire - copy-c'!H113","v":"H"},{"$f":"'feuille technique intermediaire'!E111","v":51},{"$f":"'Réponses au formulaire - copy-c'!I113","v":"macfly.bruno@gmail.com"},{"$f":"'Réponses au formulaire - copy-c'!M113","v":"Bruno Macfly"},{"$f":"'Réponses au formulaire - copy-c'!K113","v":"0660745209"},{"$f":"'feuille technique intermediaire'!R111","v":"Pur PJ"},"-",{"$f":"'feuille technique intermediaire'!N111","v":"Non précisé"},{"$f":"'feuille technique intermediaire'!P111","v":"Navire et fort"},"Réfusé","KO","non attribué","non attribué",null,"PAF non reçue","non reçue","R.A.S.","samedi",{"$f":"IFERROR(IF(SEARCH(\"ne pas participer\", 'Réponses au formulaire - copy-c'!AV113)>0, \"NON\", \"OUI\"),\"Reste\")","v":"NON"}]
[{"$f":"DATE(YEAR('Réponses au formulaire - copy-c'!A114), MONTH('Réponses au formulaire - copy-c'!A114), DAY('Réponses au formulaire - copy-c'!A114))","v":"2024-09-16"},{"$f":"'Réponses au formulaire - copy-c'!E114","v":"Picq"},{"$f":"'Réponses au formulaire - copy-c'!F114","v":"Dylan"},{"$f":"'Réponses au formulaire - copy-c'!H114","v":"H"},{"$f":"'feuille technique intermediaire'!E112","v":34},{"$f":"'Réponses au formulaire - copy-c'!I114","v":"dylanp.yg@live.fr"},{"$f":"'Réponses au formulaire - copy-c'!M114","v":"Dylan Picq"},{"$f":"'Réponses au formulaire - copy-c'!K114","v":"0680536919"},{"$f":"'feuille technique intermediaire'!R112","v":"PJ+PNJ"},"-",{"$f":"'feuille technique intermediaire'!N112","v":"juin"},{"$f":"'feuille technique intermediaire'!P112","v":"Seulement au fort"},"OK","OK","juin","Fort seulement",133.4,"PAF partielle","non reçue","R.A.S.","samedi",{"$f":"IFERROR(IF(SEARCH(\"ne pas participer\", 'Réponses au formulaire - copy-c'!AV114)>0, \"NON\", \"OUI\"),\"Reste\")","v":"Reste"}]
[{"$f":"DATE(YEAR('Réponses au formulaire - copy-c'!A115), MONTH('Réponses au formulaire - copy-c'!A115), DAY('Réponses au formulaire - copy-c'!A115))","v":"2024-09-16"},{"$f":"'Réponses au formulaire - copy-c'!E115","v":"Dejarnac "},{"$f":"'Réponses au formulaire - copy-c'!F115","v":"Pierre "},{"$f":"'Réponses au formulaire - copy-c'!H115","v":"H"},{"$f":"'feuille technique intermediaire'!E113","v":37},{"$f":"'Réponses au formulaire - copy-c'!I115","v":"pierre.dejarnac@gmail.com"},{"$f":"'Réponses au formulaire - copy-c'!M115","v":"Pierre Dejarnac "},{"$f":"'Réponses au formulaire - copy-c'!K115","v":"0610366894"},{"$f":"'feuille technique intermediaire'!R113","v":"Pur PJ"},"-",{"$f":"'feuille technique intermediaire'!N113","v":"juin"},{"$f":"'feuille technique intermediaire'!P113","v":"Peu importe"},"OK","OK","juin","Fort seulement",200.0,"PAF finalisée","non reçue","R.A.S.","samedi",{"$f":"IFERROR(IF(SEARCH(\"ne pas participer\", 'Réponses au formulaire - copy-c'!AV115)>0, \"NON\", \"OUI\"),\"Reste\")","v":"Reste"}]
[{"$f":"DATE(YEAR('Réponses au formulaire - copy-c'!A116), MONTH('Réponses au formulaire - copy-c'!A116), DAY('Réponses au formulaire - copy-c'!A116))","v":"2024-09-16"},{"$f":"'Réponses au formulaire - copy-c'!E116","v":"Sempéré"},{"$f":"'Réponses au formulaire - copy-c'!F116","v":"Lionel"},{"$f":"'Réponses au formulaire - copy-c'!H116","v":"H"},{"$f":"'feuille technique intermediaire'!E114","v":36},{"$f":"'Réponses au formulaire - copy-c'!I116","v":"semplio@hotmail.fr"},{"$f":"'Réponses au formulaire - copy-c'!M116","v":"Lio Nel"},{"$f":"'Réponses au formulaire - copy-c'!K116","v":"0687966454"},{"$f":"'feuille technique intermediaire'!R114","v":"PJ+PNJ"},"-",{"$f":"'feuille technique intermediaire'!N114","v":"juin"},{"$f":"'feuille technique intermediaire'!P114","v":"Seulement au fort"},"OK","OK","juin","Fort seulement",200.0,"PAF finalisée","non reçue","R.A.S.","samedi",{"$f":"IFERROR(IF(SEARCH(\"ne pas participer\", 'Réponses au formulaire - copy-c'!AV116)>0, \"NON\", \"OUI\"),\"Reste\")","v":"Reste"}]
[{"$f":"DATE(YEAR('Réponses au formulaire - copy-c'!A117), MONTH('Réponses au formulaire - copy-c'!A117), DAY('Réponses au formulaire - copy-c'!A117))","v":"2024-09-18"},{"$f":"'Réponses au formulaire - copy-c'!E117","v":"Testard "},{"$f":"'Réponses au formulaire - copy-c'!F117","v":"Soline "},{"$f":"'Réponses au formulaire - copy-c'!H117","v":"F"},{"$f":"'feuille technique intermediaire'!E115","v":34},{"$f":"'Réponses au formulaire - copy-c'!I117","v":"tsoline30@gmail.com"},{"$f":"'Réponses au formulaire - copy-c'!M117","v":"Soline Yggdrasil "},{"$f":"'Réponses au formulaire - copy-c'!K117","v":760113818},{"$f":"'feuille technique intermediaire'!R115","v":"PJ+PNJ"},"-",{"$f":"'feuille technique intermediaire'!N115","v":"Les deux"},{"$f":"'feuille technique intermediaire'!P115","v":"Navire et fort"},"OK","OK","juin","Navire & Fort",400.0,"PAF finalisée","non reçue","R.A.S.","samedi",{"$f":"IFERROR(IF(SEARCH(\"ne pas participer\", 'Réponses au formulaire - copy-c'!AV117)>0, \"NON\", \"OUI\"),\"Reste\")","v":"Reste"}]
[{"$f":"DATE(YEAR('Réponses au formulaire - copy-c'!A118), MONTH('Réponses au formulaire - copy-c'!A118), DAY('Réponses au formulaire - copy-c'!A118))","v":"2024-09-18"},{"$f":"'Réponses au formulaire - copy-c'!E118","v":"Chapelon "},{"$f":"'Réponses au formulaire - copy-c'!F118","v":"Romain "},{"$f":"'Réponses au formulaire - copy-c'!H118","v":"H"},{"$f":"'feuille technique intermediaire'!E116","v":30},{"$f":"'Réponses au formulaire - copy-c'!I118","v":"romain.chapelon@gmail.com"},{"$f":"'Réponses au formulaire - copy-c'!M118","v":"Romain Chapelon "},{"$f":"'Réponses au formulaire - copy-c'!K118","v":632456597},{"$f":"'feuille technique intermediaire'!R116","v":"Pur PJ"},"-",{"$f":"'feuille technique intermediaire'!N116","v":"Les deux"},{"$f":"'feuille technique intermediaire'!P116","v":"Peu importe"},"OK","OK","juin","Navire & Fort",267.0,"PAF partielle","non reçue","R.A.S.","samedi",{"$f":"IFERROR(IF(SEARCH(\"ne pas participer\", 'Réponses au formulaire - copy-c'!AV118)>0, \"NON\", \"OUI\"),\"Reste\")","v":"Reste"}]
[{"$f":"DATE(YEAR('Réponses au formulaire - copy-c'!A119), MONTH('Réponses au formulaire - copy-c'!A119), DAY('Réponses au formulaire - copy-c'!A119))","v":"2024-09-18"},{"$f":"'Réponses au formulaire - copy-c'!E119","v":"Jegonday "},{"$f":"'Réponses au formulaire - copy-c'!F119","v":"Xavier"},{"$f":"'Réponses au formulaire - copy-c'!H119","v":"H"},{"$f":"'feuille technique intermediaire'!E117","v":32},{"$f":"'Réponses au formulaire - copy-c'!I119","v":"Xavier.jegonday@hotmail.fr"},{"$f":"'Réponses au formulaire - copy-c'!M119","v":"Kurai Ketsurui"},{"$f":"'Réponses au formulaire - copy-c'!K119","v":"0786189956"},{"$f":"'feuille technique intermediaire'!R117","v":"Pur PJ"},"-",{"$f":"'feuille technique intermediaire'!N117","v":"Les deux"},{"$f":"'feuille technique intermediaire'!P117","v":"Navire et fort"},"OK","OK","juin","Navire & Fort",133.5,"PAF partielle","non reçue","R.A.S.","samedi",{"$f":"IFERROR(IF(SEARCH(\"ne pas participer\", 'Réponses au formulaire - copy-c'!AV119)>0, \"NON\", \"OUI\"),\"Reste\")","v":"Reste"}]
[{"$f":"DATE(YEAR('Réponses au formulaire - copy-c'!A120), MONTH('Réponses au formulaire - copy-c'!A120), DAY('Réponses au formulaire - copy-c'!A120))","v":"2024-09-18"},{"$f":"'Réponses au formulaire - copy-c'!E120","v":"Bonfy"},{"$f":"'Réponses au formulaire - copy-c'!F120","v":"Amélia "},{"$f":"'Réponses au formulaire - copy-c'!H120","v":"F"},{"$f":"'feuille technique intermediaire'!E118","v":31},{"$f":"'Réponses au formulaire - copy-c'!I120","v":"Amelia.Bonfy@gmail.com"},{"$f":"'Réponses au formulaire - copy-c'!M120","v":"Bonfy Amélia"},{"$f":"'Réponses au formulaire - copy-c'!K120","v":681619704},{"$f":"'feuille technique intermediaire'!R118","v":"Pur PJ"},"-",{"$f":"'feuille technique intermediaire'!N118","v":"Les deux"},{"$f":"'feuille technique intermediaire'!P118","v":"Navire et fort"},"OK","OK","juin","Navire & Fort",267.0,"PAF partielle","non reçue","R.A.S.","samedi",{"$f":"IFERROR(IF(SEARCH(\"ne pas participer\", 'Réponses au formulaire - copy-c'!AV120)>0, \"NON\", \"OUI\"),\"Reste\")","v":"Reste"}]
[{"$f":"DATE(YEAR('Réponses au formulaire - copy-c'!A121), MONTH('Réponses au formulaire - copy-c'!A121), DAY('Réponses au formulaire - copy-c'!A121))","v":"2024-09-18"},{"$f":"'Réponses au formulaire - copy-c'!E121","v":"Chamontin"},{"$f":"'Réponses au formulaire - copy-c'!F121","v":"Florian"},{"$f":"'Réponses au formulaire - copy-c'!H121","v":"H"},{"$f":"'feuille technique intermediaire'!E119","v":29},{"$f":"'Réponses au formulaire - copy-c'!I121","v":"chamontinflorian@hotmail.fr"},{"$f":"'Réponses au formulaire - copy-c'!M121","v":"Florian Chamontin"},{"$f":"'Réponses au formulaire - copy-c'!K121","v":"0604422064"},{"$f":"'feuille technique intermediaire'!R119","v":"Pur PJ"},"-",{"$f":"'feuille technique intermediaire'!N119","v":"Les deux"},{"$f":"'feuille technique intermediaire'!P119","v":"Navire et fort"},"OK","OK","juin","Navire & Fort",133.5,"PAF partielle","non reçue","R.A.S.","samedi",{"$f":"IFERROR(IF(SEARCH(\"ne pas participer\", 'Réponses au formulaire - copy-c'!AV121)>0, \"NON\", \"OUI\"),\"Reste\")","v":"Reste"}]
[{"$f":"DATE(YEAR('Réponses au formulaire - copy-c'!A122), MONTH('Réponses au formulaire - copy-c'!A122), DAY('Réponses au formulaire - copy-c'!A122))","v":"2024-09-20"},{"$f":"'Réponses au formulaire - copy-c'!E122","v":"Mayor "},{"$f":"'Réponses au formulaire - copy-c'!F122","v":"Tom Bonaventure "},{"$f":"'Réponses au formulaire - copy-c'!H122","v":"H"},{"$f":"'feuille technique intermediaire'!E120","v":27},{"$f":"'Réponses au formulaire - copy-c'!I122","v":"tom.bonaventure.mayor@gmail.com"},{"$f":"'Réponses au formulaire - copy-c'!M122","v":"Tom Bonaventure "},{"$f":"'Réponses au formulaire - copy-c'!K122","v":"+41 77 268 19 97"},{"$f":"'feuille technique intermediaire'!R120","v":"Pur PJ"},"-",{"$f":"'feuille technique intermediaire'!N120","v":"Les deux"},{"$f":"'feuille technique intermediaire'!P120","v":"Navire et fort"},"OK","OK","juin","Navire & Fort",400.0,"PAF finalisée","non reçue","R.A.S.","samedi",{"$f":"IFERROR(IF(SEARCH(\"ne pas participer\", 'Réponses au formulaire - copy-c'!AV122)>0, \"NON\", \"OUI\"),\"Reste\")","v":"Reste"}]
[{"$f":"DATE(YEAR('Réponses au formulaire - copy-c'!A123), MONTH('Réponses au formulaire - copy-c'!A123), DAY('Réponses au formulaire - copy-c'!A123))","v":"2024-09-20"},{"$f":"'Réponses au formulaire - copy-c'!E123","v":"Capitaine"},{"$f":"'Réponses au formulaire - copy-c'!F123","v":"Bobby"},{"$f":"'Réponses au formulaire - copy-c'!H123","v":"H"},{"$f":"'feuille technique intermediaire'!E121","v":339},{"$f":"'Réponses au formulaire - copy-c'!I123","v":"scheuber.joachim@gmail.com"},{"$f":"'Réponses au formulaire - copy-c'!M123","v":"Capitaine Bobby"},{"$f":"'Réponses au formulaire - copy-c'!K123","v":"0619802857"},{"$f":"'feuille technique intermediaire'!R121","v":"PJ+PNJ"},"-",{"$f":"'feuille technique intermediaire'!N121","v":"Les deux"},{"$f":"'feuille technique intermediaire'!P121","v":"Navire et fort"},"OK","OK","septembre","Navire & Fort",133.5,"PAF partielle","non reçue","R.A.S.","samedi",{"$f":"IFERROR(IF(SEARCH(\"ne pas participer\", 'Réponses au formulaire - copy-c'!AV123)>0, \"NON\", \"OUI\"),\"Reste\")","v":"Reste"}]
[{"$f":"DATE(YEAR('Réponses au formulaire - copy-c'!A124), MONTH('Réponses au formulaire - copy-c'!A124), DAY('Réponses au formulaire - copy-c'!A124))","v":"2024-09-20"},{"$f":"'Réponses au formulaire - copy-c'!E124","v":"Tudoux"},{"$f":"'Réponses au formulaire - copy-c'!F124","v":"Charly"},{"$f":"'Réponses au formulaire - copy-c'!H124","v":"H"},{"$f":"'feuille technique intermediaire'!E122","v":50},{"$f":"'Réponses au formulaire - copy-c'!I124","v":"cet49@wanadoo.fr"},{"$f":"'Réponses au formulaire - copy-c'!M124","v":"charlygn"},{"$f":"'Réponses au formulaire - copy-c'!K124","v":"0683159265"},{"$f":"'feuille technique intermediaire'!R122","v":"PJ+PNJ"},"-",{"$f":"'feuille technique intermediaire'!N122","v":"Les deux"},{"$f":"'feuille technique intermediaire'!P122","v":"Peu importe"},"OK","OK","juin","Fort seulement",null,"PAF non reçue","non reçue","R.A.S.","samedi",{"$f":"IFERROR(IF(SEARCH(\"ne pas participer\", 'Réponses au formulaire - copy-c'!AV124)>0, \"NON\", \"OUI\"),\"Reste\")","v":"Reste"}]
[{"$f":"DATE(YEAR('Réponses au formulaire - copy-c'!A125), MONTH('Réponses au formulaire - copy-c'!A125), DAY('Réponses au formulaire - copy-c'!A125))","v":"2024-09-21"},{"$f":"'Réponses au formulaire - copy-c'!E125","v":"Maréchal"},{"$f":"'Réponses au formulaire - copy-c'!F125","v":"William"},{"$f":"'Réponses au formulaire - copy-c'!H125","v":"H"},{"$f":"'feuille technique intermediaire'!E123","v":37},{"$f":"'Réponses au formulaire - copy-c'!I125","v":"willmarechal87@gmail.com"},{"$f":"'Réponses au formulaire - copy-c'!M125","v":"William Maréchal"},{"$f":"'Réponses au formulaire - copy-c'!K125","v":"+33679462220"},{"$f":"'feuille technique intermediaire'!R123","v":"PJ+PNJ"},"-",{"$f":"'feuille technique intermediaire'!N123","v":"Les deux"},{"$f":"'feuille technique intermediaire'!P123","v":"Navire et fort"},"OK","OK","septembre","Navire & Fort",267.0,"PAF partielle","non reçue","R.A.S.","samedi",{"$f":"IFERROR(IF(SEARCH(\"ne pas participer\", 'Réponses au formulaire - copy-c'!AV125)>0, \"NON\", \"OUI\"),\"Reste\")","v":"Reste"}]
[{"$f":"DATE(YEAR('Réponses au formulaire - copy-c'!A126), MONTH('Réponses au formulaire - copy-c'!A126), DAY('Réponses au formulaire - copy-c'!A126))","v":"2024-09-22"},{"$f":"'Réponses au formulaire - copy-c'!E126","v":"Amoureux"},{"$f":"'Réponses au formulaire - copy-c'!F126","v":"Erwan"},{"$f":"'Réponses au formulaire - copy-c'!H126","v":"H"},{"$f":"'feuille technique intermediaire'!E124","v":"?"},{"$f":"'Réponses au formulaire - copy-c'!I126","v":"erwan.amoureux@gmail.com"},{"$f":"'Réponses au formulaire - copy-c'!M126","v":"Erwan Amoureux"},{"$f":"'Réponses au formulaire - copy-c'!K126","v":"0620489095"},{"$f":"'feuille technique intermediaire'!R124","v":"PJ+PNJ"},"-",{"$f":"'feuille technique intermediaire'!N124","v":"septembre"},{"$f":"'feuille technique intermediaire'!P124","v":"Peu importe"},"OK","OK","septembre","Navire & Fort",400.0,"PAF finalisée","non reçue","R.A.S.","samedi",{"$f":"IFERROR(IF(SEARCH(\"ne pas participer\", 'Réponses au formulaire - copy-c'!AV126)>0, \"NON\", \"OUI\"),\"Reste\")","v":"Reste"}]
[{"$f":"DATE(YEAR('Réponses au formulaire - copy-c'!A127), MONTH('Réponses au formulaire - copy-c'!A127), DAY('Réponses au formulaire - copy-c'!A127))","v":"2024-09-22"},{"$f":"'Réponses au formulaire - copy-c'!E127","v":"Vandroux "},{"$f":"'Réponses au formulaire - copy-c'!F127","v":"Karine "},{"$f":"'Réponses au formulaire - copy-c'!H127","v":"F"},{"$f":"'feuille technique intermediaire'!E125","v":55},{"$f":"'Réponses au formulaire - copy-c'!I127","v":"kadroux@gmail.com"},{"$f":"'Réponses au formulaire - copy-c'!M127","v":"Karine vandroux"},{"$f":"'Réponses au formulaire - copy-c'!K127","v":"0662101693"},{"$f":"'feuille technique intermediaire'!R125","v":"PJ+PNJ"},"-",{"$f":"'feuille technique intermediaire'!N125","v":"Les deux"},{"$f":"'feuille technique intermediaire'!P125","v":"Navire et fort"},"OK","OK","septembre","Navire & Fort",400.0,"PAF finalisée","non reçue","R.A.S.","samedi",{"$f":"IFERROR(IF(SEARCH(\"ne pas participer\", 'Réponses au formulaire - copy-c'!AV127)>0, \"NON\", \"OUI\"),\"Reste\")","v":"Reste"}]
[{"$f":"DATE(YEAR('Réponses au formulaire - copy-c'!A128), MONTH('Réponses au formulaire - copy-c'!A128), DAY('Réponses au formulaire - copy-c'!A128))","v":"2024-09-23"},{"$f":"'Réponses au formulaire - copy-c'!E128","v":"Supiot"},{"$f":"'Réponses au formulaire - copy-c'!F128","v":"Lara"},{"$f":"'Réponses au formulaire - copy-c'!H128","v":"F"},{"$f":"'feuille technique intermediaire'!E126","v":134},{"$f":"'Réponses au formulaire - copy-c'!I128","v":"larasupiot@gmail.com"},{"$f":"'Réponses au formulaire - copy-c'!M128","v":"Lara Lambada"},{"$f":"'Réponses au formulaire - copy-c'!K128","v":670468778},{"$f":"'feuille technique intermediaire'!R126","v":"PJ+PNJ"},"-",{"$f":"'feuille technique intermediaire'!N126","v":"Les deux"},{"$f":"'feuille technique intermediaire'!P126","v":"Navire et fort"},"OK","OK","juin","Fort seulement",133.4,"PAF partielle","non reçue","R.A.S.","samedi",{"$f":"IFERROR(IF(SEARCH(\"ne pas participer\", 'Réponses au formulaire - copy-c'!AV128)>0, \"NON\", \"OUI\"),\"Reste\")","v":"Reste"},"*"]
[{"$f":"DATE(YEAR('Réponses au formulaire - copy-c'!A129), MONTH('Réponses au formulaire - copy-c'!A129), DAY('Réponses au formulaire - copy-c'!A129))","v":"2024-09-25"},{"$f":"'Réponses au formulaire - copy-c'!E129","v":"Réveil"},{"$f":"'Réponses au formulaire - copy-c'!F129","v":"Jean Carly"},{"$f":"'Réponses au formulaire - copy-c'!H129","v":"H"},{"$f":"'feuille technique intermediaire'!E127","v":28},{"$f":"'Réponses au formulaire - copy-c'!I129","v":"cest.ticaly@gmail.com"},{"$f":"'Réponses au formulaire - copy-c'!M129","v":"Carly Réveil"},{"$f":"'Réponses au formulaire - copy-c'!K129","v":"+41782687980"},{"$f":"'feuille technique intermediaire'!R127","v":"Pur PJ"},"-",{"$f":"'feuille technique intermediaire'!N127","v":"Les deux"},{"$f":"'feuille technique intermediaire'!P127","v":"Navire et fort"},"OK","OK","juin","Navire & Fort",400.0,"PAF finalisée","non reçue","R.A.S.","samedi",{"$f":"IFERROR(IF(SEARCH(\"ne pas participer\", 'Réponses au formulaire - copy-c'!AV129)>0, \"NON\", \"OUI\"),\"Reste\")","v":"Reste"}]
[{"$f":"DATE(YEAR('Réponses au formulaire - copy-c'!A130), MONTH('Réponses au formulaire - copy-c'!A130), DAY('Réponses au formulaire - copy-c'!A130))","v":"2024-09-25"},{"$f":"'Réponses au formulaire - copy-c'!E130","v":"PAYEN"},{"$f":"'Réponses au formulaire - copy-c'!F130","v":"Renaud"},{"$f":"'Réponses au formulaire - copy-c'!H130","v":"H"},{"$f":"'feuille technique intermediaire'!E128","v":46},{"$f":"'Réponses au formulaire - copy-c'!I130","v":"rpayen@outlook.com"},{"$f":"'Réponses au formulaire - copy-c'!M130","v":"Renaud PAYEN ou RenoPayen"},{"$f":"'Réponses au formulaire - copy-c'!K130","v":""},{"$f":"'feuille technique intermediaire'!R128","v":"Pur PJ"},"-",{"$f":"'feuille technique intermediaire'!N128","v":"Les deux"},{"$f":"'feuille technique intermediaire'!P128","v":"Navire et fort"},"OK","OK","septembre","Navire & Fort",205.0,"PAF partielle","non reçue","R.A.S.","samedi",{"$f":"IFERROR(IF(SEARCH(\"ne pas participer\", 'Réponses au formulaire - copy-c'!AV130)>0, \"NON\", \"OUI\"),\"Reste\")","v":"Reste"}]
[{"$f":"DATE(YEAR('Réponses au formulaire - copy-c'!A131), MONTH('Réponses au formulaire - copy-c'!A131), DAY('Réponses au formulaire - copy-c'!A131))","v":"2024-09-29"},{"$f":"'Réponses au formulaire - copy-c'!E131","v":"Maury"},{"$f":"'Réponses au formulaire - copy-c'!F131","v":"Aurélie"},{"$f":"'Réponses au formulaire - copy-c'!H131","v":"F"},{"$f":"'feuille technique intermediaire'!E129","v":29},{"$f":"'Réponses au formulaire - copy-c'!I131","v":"riedweg.aurelie@gmail.com"},{"$f":"'Réponses au formulaire - copy-c'!M131","v":"Aurélie Riedweg"},{"$f":"'Réponses au formulaire - copy-c'!K131","v":"+41797681703"},{"$f":"'feuille technique intermediaire'!R129","v":"Pur PJ"},"-",{"$f":"'feuille technique intermediaire'!N129","v":"juin"},{"$f":"'feuille technique intermediaire'!P129","v":"Navire et fort"},"OK","OK","juin","Navire & Fort",{"$f":"2*400","v":800},"PAF finalisée","non reçue","R.A.S.","samedi",{"$f":"IFERROR(IF(SEARCH(\"ne pas participer\", 'Réponses au formulaire - copy-c'!AV131)>0, \"NON\", \"OUI\"),\"Reste\")","v":"Reste"}]
[{"$f":"DATE(YEAR('Réponses au formulaire - copy-c'!A132), MONTH('Réponses au formulaire - copy-c'!A132), DAY('Réponses au formulaire - copy-c'!A132))","v":"2024-09-29"},{"$f":"'Réponses au formulaire - copy-c'!E132","v":"Maury"},{"$f":"'Réponses au formulaire - copy-c'!F132","v":"Raphael"},{"$f":"'Réponses au formulaire - copy-c'!H132","v":"H"},{"$f":"'feuille technique intermediaire'!E130","v":33},{"$f":"'Réponses au formulaire - copy-c'!I132","v":"raphael.maury@hotmail.com"},{"$f":"'Réponses au formulaire - copy-c'!M132","v":"Raphu Scargo"},{"$f":"'Réponses au formulaire - copy-c'!K132","v":"+41 76 496 31 79"},{"$f":"'feuille technique intermediaire'!R130","v":"Pur PJ"},"-",{"$f":"'feuille technique intermediaire'!N130","v":"juin"},{"$f":"'feuille technique intermediaire'!P130","v":"Navire et fort"},"OK","OK","juin","Navire & Fort",0.0,"PAF finalisée","non reçue","R.A.S.","samedi",{"$f":"IFERROR(IF(SEARCH(\"ne pas participer\", 'Réponses au formulaire - copy-c'!AV132)>0, \"NON\", \"OUI\"),\"Reste\")","v":"Reste"}]
[{"$f":"DATE(YEAR('Réponses au formulaire - copy-c'!A133), MONTH('Réponses au formulaire - copy-c'!A133), DAY('Réponses au formulaire - copy-c'!A133))","v":"2024-09-29"},{"$f":"'Réponses au formulaire - copy-c'!E133","v":"DANCOT "},{"$f":"'Réponses au formulaire - copy-c'!F133","v":"Olivier "},{"$f":"'Réponses au formulaire - copy-c'!H133","v":"H"},{"$f":"'feuille technique intermediaire'!E131","v":44},{"$f":"'Réponses au formulaire - copy-c'!I133","v":"olivier.dancot@hotmail.fr"},{"$f":"'Réponses au formulaire - copy-c'!M133","v":"Olivier d-t"},{"$f":"'Réponses au formulaire - copy-c'!K133","v":"0625484900"},{"$f":"'feuille technique intermediaire'!R131","v":"PJ+PNJ"},"-",{"$f":"'feuille technique intermediaire'!N131","v":"juin"},{"$f":"'feuille technique intermediaire'!P131","v":"Navire et fort"},"OK","OK","juin","Navire & Fort",267.0,"PAF partielle","non reçue","R.A.S.","samedi",{"$f":"IFERROR(IF(SEARCH(\"ne pas participer\", 'Réponses au formulaire - copy-c'!AV133)>0, \"NON\", \"OUI\"),\"Reste\")","v":"Reste"}]
[{"$f":"DATE(YEAR('Réponses au formulaire - copy-c'!A134), MONTH('Réponses au formulaire - copy-c'!A134), DAY('Réponses au formulaire - copy-c'!A134))","v":"2024-09-29"},{"$f":"'Réponses au formulaire - copy-c'!E134","v":"Schmid "},{"$f":"'Réponses au formulaire - copy-c'!F134","v":"Priscillia "},{"$f":"'Réponses au formulaire - copy-c'!H134","v":"F"},{"$f":"'feuille technique intermediaire'!E132","v":38},{"$f":"'Réponses au formulaire - copy-c'!I134","v":"richerpriscillia@gmail.com"},{"$f":"'Réponses au formulaire - copy-c'!M134","v":"Priscillia Schmid "},{"$f":"'Réponses au formulaire - copy-c'!K134","v":"0663055621"},{"$f":"'feuille technique intermediaire'!R132","v":"PJ+PNJ"},"-",{"$f":"'feuille technique intermediaire'!N132","v":"juin"},{"$f":"'feuille technique intermediaire'!P132","v":"Navire et fort"},"OK","OK","juin","Navire & Fort",0.0,"PAF partielle","non reçue","R.A.S.","samedi",{"$f":"IFERROR(IF(SEARCH(\"ne pas participer\", 'Réponses au formulaire - copy-c'!AV134)>0, \"NON\", \"OUI\"),\"Reste\")","v":"Reste"}]
[{"$f":"DATE(YEAR('Réponses au formulaire - copy-c'!A135), MONTH('Réponses au formulaire - copy-c'!A135), DAY('Réponses au formulaire - copy-c'!A135))","v":"2024-10-09"},{"$f":"'Réponses au formulaire - copy-c'!E135","v":"Mérand"},{"$f":"'Réponses au formulaire - copy-c'!F135","v":"Nicolas"},{"$f":"'Réponses au formulaire - copy-c'!H135","v":"H"},{"$f":"'feuille technique intermediaire'!E133","v":47},{"$f":"'Réponses au formulaire - copy-c'!I135","v":"hillgrob@hotmail.com"},{"$f":"'Réponses au formulaire - copy-c'!M135","v":"Nicolas Mérand"},{"$f":"'Réponses au formulaire - copy-c'!K135","v":"0623412629"},{"$f":"'feuille technique intermediaire'!R133","v":"Pur PJ"},"-",{"$f":"'feuille technique intermediaire'!N133","v":"juin"},{"$f":"'feuille technique intermediaire'!P133","v":"Navire et fort"},"OK","OK","juin","Navire & Fort",400.0,"PAF finalisée","non reçue","R.A.S.","samedi",{"$f":"IFERROR(IF(SEARCH(\"ne pas participer\", 'Réponses au formulaire - copy-c'!AV135)>0, \"NON\", \"OUI\"),\"Reste\")","v":"Reste"}]
[{"$f":"DATE(YEAR('Réponses au formulaire - copy-c'!A136), MONTH('Réponses au formulaire - copy-c'!A136), DAY('Réponses au formulaire - copy-c'!A136))","v":"2024-10-11"},{"$f":"'Réponses au formulaire - copy-c'!E136","v":"Garcia-Cotte"},{"$f":"'Réponses au formulaire - copy-c'!F136","v":"Hugo"},{"$f":"'Réponses au formulaire - copy-c'!H136","v":"H"},{"$f":"'feuille technique intermediaire'!E134","v":37},{"$f":"'Réponses au formulaire - copy-c'!I136","v":"hugo@garcia-cotte.com"},{"$f":"'Réponses au formulaire - copy-c'!M136","v":"Hugo Garcia-Cotte"},{"$f":"'Réponses au formulaire - copy-c'!K136","v":"+33698964090"},{"$f":"'feuille technique intermediaire'!R134","v":"PJ+PNJ"},"-",{"$f":"'feuille technique intermediaire'!N134","v":"Les deux"},{"$f":"'feuille technique intermediaire'!P134","v":"Navire et fort"},"OK","OK","septembre","Navire & Fort",133.5,"PAF partielle + erreur","non reçue","R.A.S.","samedi",{"$f":"IFERROR(IF(SEARCH(\"ne pas participer\", 'Réponses au formulaire - copy-c'!AV136)>0, \"NON\", \"OUI\"),\"Reste\")","v":"Reste"}]
[{"$f":"DATE(YEAR('Réponses au formulaire - copy-c'!A137), MONTH('Réponses au formulaire - copy-c'!A137), DAY('Réponses au formulaire - copy-c'!A137))","v":"2024-10-11"},{"$f":"'Réponses au formulaire - copy-c'!E137","v":"Secher"},{"$f":"'Réponses au formulaire - copy-c'!F137","v":"Gaël"},{"$f":"'Réponses au formulaire - copy-c'!H137","v":"H"},{"$f":"'feuille technique intermediaire'!E135","v":30},{"$f":"'Réponses au formulaire - copy-c'!I137","v":"maitre-chaos@hotmail.fr"},{"$f":"'Réponses au formulaire - copy-c'!M137","v":"Sikna Kaosu"},{"$f":"'Réponses au formulaire - copy-c'!K137","v":"0637877378"},{"$f":"'feuille technique intermediaire'!R135","v":"PJ+PNJ"},"-",{"$f":"'feuille technique intermediaire'!N135","v":"Les deux"},{"$f":"'feuille technique intermediaire'!P135","v":"Navire et fort"},"OK","OK","juin","Navire & Fort",400.0,"PAF finalisée","non reçue","R.A.S.","samedi",{"$f":"IFERROR(IF(SEARCH(\"ne pas participer\", 'Réponses au formulaire - copy-c'!AV137)>0, \"NON\", \"OUI\"),\"Reste\")","v":"Reste"}]
[{"$f":"DATE(YEAR('Réponses au formulaire - copy-c'!A138), MONTH('Réponses au formulaire - copy-c'!A138), DAY('Réponses au formulaire - copy-c'!A138))","v":"2024-10-12"},{"$f":"'Réponses au formulaire - copy-c'!E138","v":"Chojnicki"},{"$f":"'Réponses au formulaire - copy-c'!F138","v":"Solenn"},{"$f":"'Réponses au formulaire - copy-c'!H138","v":"F"},{"$f":"'feuille technique intermediaire'!E136","v":"?"},{"$f":"'Réponses au formulaire - copy-c'!I138","v":"solenn.chojnicki@gmail.com"},{"$f":"'Réponses au formulaire - copy-c'!M138","v":"Solenn Soho"},{"$f":"'Réponses au formulaire - copy-c'!K138","v":"0664300187"},{"$f":"'feuille technique intermediaire'!R136","v":"PJ+PNJ"},"-",{"$f":"'feuille technique intermediaire'!N136","v":"juin"},{"$f":"'feuille technique intermediaire'!P136","v":"Navire et fort"},"OK","OK","juin","Navire & Fort",0.0,"PAF partielle","non reçue","R.A.S.","samedi",{"$f":"IFERROR(IF(SEARCH(\"ne pas participer\", 'Réponses au formulaire - copy-c'!AV138)>0, \"NON\", \"OUI\"),\"Reste\")","v":"NON"}]
[{"$f":"DATE(YEAR('Réponses au formulaire - copy-c'!A139), MONTH('Réponses au formulaire - copy-c'!A139), DAY('Réponses au formulaire - copy-c'!A139))","v":"2024-10-12"},{"$f":"'Réponses au formulaire - copy-c'!E139","v":"Carpentier "},{"$f":"'Réponses au formulaire - copy-c'!F139","v":"Guillaume "},{"$f":"'Réponses au formulaire - copy-c'!H139","v":"H"},{"$f":"'feuille technique intermediaire'!E137","v":32},{"$f":"'Réponses au formulaire - copy-c'!I139","v":"guillaume.surflife@gmail.com"},{"$f":"'Réponses au formulaire - copy-c'!M139","v":"Guillaume Carpentier "},{"$f":"'Réponses au formulaire - copy-c'!K139","v":"0670134925"},{"$f":"'feuille technique intermediaire'!R137","v":"PJ+PNJ"},"-",{"$f":"'feuille technique intermediaire'!N137","v":"juin"},{"$f":"'feuille technique intermediaire'!P137","v":"Navire et fort"},"OK","OK","juin","Navire & Fort",267.0,"PAF partielle","non reçue","R.A.S.","samedi",{"$f":"IFERROR(IF(SEARCH(\"ne pas participer\", 'Réponses au formulaire - copy-c'!AV139)>0, \"NON\", \"OUI\"),\"Reste\")","v":"Reste"}]
[{"$f":"DATE(YEAR('Réponses au formulaire - copy-c'!A140), MONTH('Réponses au formulaire - copy-c'!A140), DAY('Réponses au formulaire - copy-c'!A140))","v":"2024-10-16"},{"$f":"'Réponses au formulaire - copy-c'!E140","v":"Whittaker"},{"$f":"'Réponses au formulaire - copy-c'!F140","v":"Isabelle"},{"$f":"'Réponses au formulaire - copy-c'!H140","v":"F"},{"$f":"'feuille technique intermediaire'!E138","v":37},{"$f":"'Réponses au formulaire - copy-c'!I140","v":"isabelle.whittaker@gmail.com"},{"$f":"'Réponses au formulaire - copy-c'!M140","v":"Isabelle Whittaker"},{"$f":"'Réponses au formulaire - copy-c'!K140","v":"0786144580"},{"$f":"'feuille technique intermediaire'!R138","v":"Pur PJ"},"-",{"$f":"'feuille technique intermediaire'!N138","v":"juin"},{"$f":"'feuille technique intermediaire'!P138","v":"Peu importe"},"OK","OK","septembre","Navire & Fort",null,"PAF non reçue","non reçue","R.A.S.","samedi",{"$f":"IFERROR(IF(SEARCH(\"ne pas participer\", 'Réponses au formulaire - copy-c'!AV140)>0, \"NON\", \"OUI\"),\"Reste\")","v":"Reste"}]
[{"$f":"DATE(YEAR('Réponses au formulaire - copy-c'!A141), MONTH('Réponses au formulaire - copy-c'!A141), DAY('Réponses au formulaire - copy-c'!A141))","v":"2024-10-20"},{"$f":"'Réponses au formulaire - copy-c'!E141","v":"Petitdemange"},{"$f":"'Réponses au formulaire - copy-c'!F141","v":"Floriane"},{"$f":"'Réponses au formulaire - copy-c'!H141","v":"F"},{"$f":"'feuille technique intermediaire'!E139","v":36},{"$f":"'Réponses au formulaire - copy-c'!I141","v":"floriane.petitdemange@gmail.com"},{"$f":"'Réponses au formulaire - copy-c'!M141","v":"Floriane Senami"},{"$f":"'Réponses au formulaire - copy-c'!K141","v":"06.02.36.57.68."},{"$f":"'feuille technique intermediaire'!R139","v":"Pur PJ"},"-",{"$f":"'feuille technique intermediaire'!N139","v":"Les deux"},{"$f":"'feuille technique intermediaire'!P139","v":"Navire et fort"},"OK","OK","septembre","Navire & Fort",null,"PAF non reçue","non reçue","R.A.S.","samedi",{"$f":"IFERROR(IF(SEARCH(\"ne pas participer\", 'Réponses au formulaire - copy-c'!AV141)>0, \"NON\", \"OUI\"),\"Reste\")","v":"Reste"}]
[{"$f":"DATE(YEAR('Réponses au formulaire - copy-c'!A142), MONTH('Réponses au formulaire - copy-c'!A142), DAY('Réponses au formulaire - copy-c'!A142))","v":"2024-10-20"},{"$f":"'Réponses au formulaire - copy-c'!E142","v":"Stoltz "},{"$f":"'Réponses au formulaire - copy-c'!F142","v":"Charline"},{"$f":"'Réponses au formulaire - copy-c'!H142","v":"F"},{"$f":"'feuille technique intermediaire'!E140","v":34},{"$f":"'Réponses au formulaire - copy-c'!I142","v":"charline.stoltz@gmail.com"},{"$f":"'Réponses au formulaire - copy-c'!M142","v":"Charline Sltz"},{"$f":"'Réponses au formulaire - copy-c'!K142","v":"0687014130"},{"$f":"'feuille technique intermediaire'!R140","v":"Pur PJ"},"-",{"$f":"'feuille technique intermediaire'!N140","v":"Les deux"},{"$f":"'feuille technique intermediaire'!P140","v":"Navire et fort"},"OK","OK","septembre","Navire & Fort",400.0,"PAF finalisée","non reçue","R.A.S.","samedi",{"$f":"IFERROR(IF(SEARCH(\"ne pas participer\", 'Réponses au formulaire - copy-c'!AV142)>0, \"NON\", \"OUI\"),\"Reste\")","v":"Reste"}]
[{"$f":"DATE(YEAR('Réponses au formulaire - copy-c'!A143), MONTH('Réponses au formulaire - copy-c'!A143), DAY('Réponses au formulaire - copy-c'!A143))","v":"2024-10-21"},{"$f":"'Réponses au formulaire - copy-c'!E143","v":"Gutierrez"},{"$f":"'Réponses au formulaire - copy-c'!F143","v":"Jeremy"},{"$f":"'Réponses au formulaire - copy-c'!H143","v":"H"},{"$f":"'feuille technique intermediaire'!E141","v":30},{"$f":"'Réponses au formulaire - copy-c'!I143","v":"jeremy.gutierrez.pharma@gmail.com"},{"$f":"'Réponses au formulaire - copy-c'!M143","v":"Jereùy Gutiairré'z"},{"$f":"'Réponses au formulaire - copy-c'!K143","v":"0633788347"},{"$f":"'feuille technique intermediaire'!R141","v":"Pur PJ"},"-",{"$f":"'feuille technique intermediaire'!N141","v":"Les deux"},{"$f":"'feuille technique intermediaire'!P141","v":"Seulement au fort"},"OK","OK","septembre","Navire & Fort",400.0,"PAF finalisée","non reçue","R.A.S.","samedi",{"$f":"IFERROR(IF(SEARCH(\"ne pas participer\", 'Réponses au formulaire - copy-c'!AV143)>0, \"NON\", \"OUI\"),\"Reste\")","v":"Reste"}]
[{"$f":"DATE(YEAR('Réponses au formulaire - copy-c'!A144), MONTH('Réponses au formulaire - copy-c'!A144), DAY('Réponses au formulaire - copy-c'!A144))","v":"2024-10-21"},{"$f":"'Réponses au formulaire - copy-c'!E144","v":"FLAMMANN"},{"$f":"'Réponses au formulaire - copy-c'!F144","v":"Sasha"},{"$f":"'Réponses au formulaire - copy-c'!H144","v":"H"},{"$f":"'feuille technique intermediaire'!E142","v":30},{"$f":"'Réponses au formulaire - copy-c'!I144","v":"sasha.flammann@gmail.com"},{"$f":"'Réponses au formulaire - copy-c'!M144","v":"Sasha WAELES"},{"$f":"'Réponses au formulaire - copy-c'!K144","v":"0659086247"},{"$f":"'feuille technique intermediaire'!R142","v":"PJ+PNJ"},"-",{"$f":"'feuille technique intermediaire'!N142","v":"Les deux"},{"$f":"'feuille technique intermediaire'!P142","v":"Navire et fort"},"OK","OK","septembre","Navire & Fort",400.0,"PAF finalisée","non reçue","R.A.S.","samedi",{"$f":"IFERROR(IF(SEARCH(\"ne pas participer\", 'Réponses au formulaire - copy-c'!AV144)>0, \"NON\", \"OUI\"),\"Reste\")","v":"Reste"}]
[{"$f":"DATE(YEAR('Réponses au formulaire - copy-c'!A145), MONTH('Réponses au formulaire - copy-c'!A145), DAY('Réponses au formulaire - copy-c'!A145))","v":"2024-10-23"},{"$f":"'Réponses au formulaire - copy-c'!E145","v":"FAR"},{"$f":"'Réponses au formulaire - copy-c'!F145","v":"William"},{"$f":"'Réponses au formulaire - copy-c'!H145","v":"H"},{"$f":"'feuille technique intermediaire'!E143","v":31},{"$f":"'Réponses au formulaire - copy-c'!I145","v":"william.daniel.far@gmail.com"},{"$f":"'Réponses au formulaire - copy-c'!M145","v":"William FAR"},{"$f":"'Réponses au formulaire - copy-c'!K145","v":"0681330259"},{"$f":"'feuille technique intermediaire'!R143","v":"Pur PJ"},"-",{"$f":"'feuille technique intermediaire'!N143","v":"Non précisé"},{"$f":"'feuille technique intermediaire'!P143","v":"Navire et fort"},"OK","OK","septembre","Navire & Fort",133.5,"PAF partielle","non reçue","R.A.S.","samedi",{"$f":"IFERROR(IF(SEARCH(\"ne pas participer\", 'Réponses au formulaire - copy-c'!AV145)>0, \"NON\", \"OUI\"),\"Reste\")","v":"Reste"}]
[{"$f":"DATE(YEAR('Réponses au formulaire - copy-c'!A146), MONTH('Réponses au formulaire - copy-c'!A146), DAY('Réponses au formulaire - copy-c'!A146))","v":"2024-10-31"},{"$f":"'Réponses au formulaire - copy-c'!E146","v":"Gresset"},{"$f":"'Réponses au formulaire - copy-c'!F146","v":"Véronique "},{"$f":"'Réponses au formulaire - copy-c'!H146","v":"F"},{"$f":"'feuille technique intermediaire'!E144","v":56},{"$f":"'Réponses au formulaire - copy-c'!I146","v":"veronique.gresset@gmail.com"},{"$f":"'Réponses au formulaire - copy-c'!M146","v":"charlottesurlenet"},{"$f":"'Réponses au formulaire - copy-c'!K146","v":"0783736968"},{"$f":"'feuille technique intermediaire'!R144","v":"Pur PJ"},"-",{"$f":"'feuille technique intermediaire'!N144","v":"septembre"},{"$f":"'feuille technique intermediaire'!P144","v":"Seulement au fort"},"OK","OK","septembre","Fort seulement",null,"PAF non reçue","non reçue","R.A.S.","samedi",{"$f":"IFERROR(IF(SEARCH(\"ne pas participer\", 'Réponses au formulaire - copy-c'!AV146)>0, \"NON\", \"OUI\"),\"Reste\")","v":"Reste"}]
[{"$f":"DATE(YEAR('Réponses au formulaire - copy-c'!A147), MONTH('Réponses au formulaire - copy-c'!A147), DAY('Réponses au formulaire - copy-c'!A147))","v":"2024-11-01"},{"$f":"'Réponses au formulaire - copy-c'!E147","v":"Ortalo"},{"$f":"'Réponses au formulaire - copy-c'!F147","v":"Pierre"},{"$f":"'Réponses au formulaire - copy-c'!H147","v":"H"},{"$f":"'feuille technique intermediaire'!E145","v":34},{"$f":"'Réponses au formulaire - copy-c'!I147","v":"pierre@yuzupulse.eu"},{"$f":"'Réponses au formulaire - copy-c'!M147","v":"Pierre ortalo"},{"$f":"'Réponses au formulaire - copy-c'!K147","v":""},{"$f":"'feuille technique intermediaire'!R145","v":"PJ+PNJ"},"-",{"$f":"'feuille technique intermediaire'!N145","v":"Les deux"},{"$f":"'feuille technique intermediaire'!P145","v":"Navire et fort"},"OK","OK","septembre","Navire & Fort",400.0,"PAF finalisée","non reçue","R.A.S.","samedi",{"$f":"IFERROR(IF(SEARCH(\"ne pas participer\", 'Réponses au formulaire - copy-c'!AV147)>0, \"NON\", \"OUI\"),\"Reste\")","v":"Reste"}]
[{"$f":"DATE(YEAR('Réponses au formulaire - copy-c'!A148), MONTH('Réponses au formulaire - copy-c'!A148), DAY('Réponses au formulaire - copy-c'!A148))","v":"2024-11-09"},{"$f":"'Réponses au formulaire - copy-c'!E148","v":"Garros"},{"$f":"'Réponses au formulaire - copy-c'!F148","v":"Alban"},{"$f":"'Réponses au formulaire - copy-c'!H148","v":"H"},{"$f":"'feuille technique intermediaire'!E146","v":38},{"$f":"'Réponses au formulaire - copy-c'!I148","v":"alban.garros@gmail.com"},{"$f":"'Réponses au formulaire - copy-c'!M148","v":"Greffier Vicious Soul"},{"$f":"'Réponses au formulaire - copy-c'!K148","v":"0686285280"},{"$f":"'feuille technique intermediaire'!R146","v":"PJ+PNJ"},"-",{"$f":"'feuille technique intermediaire'!N146","v":"septembre"},{"$f":"'feuille technique intermediaire'!P146","v":"Peu importe"},"OK","OK","septembre","Navire & Fort",400.0,"PAF finalisée","non reçue","R.A.S.","samedi",{"$f":"IFERROR(IF(SEARCH(\"ne pas participer\", 'Réponses au formulaire - copy-c'!AV148)>0, \"NON\", \"OUI\"),\"Reste\")","v":"Reste"}]
[{"$f":"DATE(YEAR('Réponses au formulaire - copy-c'!A149), MONTH('Réponses au formulaire - copy-c'!A149), DAY('Réponses au formulaire - copy-c'!A149))","v":"2024-11-17"},{"$f":"'Réponses au formulaire - copy-c'!E149","v":"quintero y perez"},{"$f":"'Réponses au formulaire - copy-c'!F149","v":"Flori"},{"$f":"'Réponses au formulaire - copy-c'!H149","v":"F"},{"$f":"'feuille technique intermediaire'!E147","v":42},{"$f":"'Réponses au formulaire - copy-c'!I149","v":"florieveillon@hotmail.fr"},{"$f":"'Réponses au formulaire - copy-c'!M149","v":"Florie BackTo TheBeat "},{"$f":"'Réponses au formulaire - copy-c'!K149","v":"0642989902"},{"$f":"'feuille technique intermediaire'!R147","v":"PJ+PNJ"},"-",{"$f":"'feuille technique intermediaire'!N147","v":"Les deux"},{"$f":"'feuille technique intermediaire'!P147","v":"Seulement au fort"},"OK","OK","juin","Fort seulement",200.0,"PAF finalisée","reçue","R.A.S.","samedi",{"$f":"IFERROR(IF(SEARCH(\"ne pas participer\", 'Réponses au formulaire - copy-c'!AV149)>0, \"NON\", \"OUI\"),\"Reste\")","v":"Reste"}]
[{"$f":"DATE(YEAR('Réponses au formulaire - copy-c'!A150), MONTH('Réponses au formulaire - copy-c'!A150), DAY('Réponses au formulaire - copy-c'!A150))","v":"2024-11-21"},{"$f":"'Réponses au formulaire - copy-c'!E150","v":"Trémoulière"},{"$f":"'Réponses au formulaire - copy-c'!F150","v":"Claire"},{"$f":"'Réponses au formulaire - copy-c'!H150","v":"F"},{"$f":"'feuille technique intermediaire'!E148","v":30},{"$f":"'Réponses au formulaire - copy-c'!I150","v":"claire.tremouliere@gmail.com"},{"$f":"'Réponses au formulaire - copy-c'!M150","v":"Claire Trml"},{"$f":"'Réponses au formulaire - copy-c'!K150","v":"0647932215"},{"$f":"'feuille technique intermediaire'!R148","v":"Pur PJ"},"-",{"$f":"'feuille technique intermediaire'!N148","v":"septembre"},{"$f":"'feuille technique intermediaire'!P148","v":"Seulement au fort"},"OK","OK","septembre","Fort seulement",null,"PAF non reçue","non reçue","R.A.S.","samedi",{"$f":"IFERROR(IF(SEARCH(\"ne pas participer\", 'Réponses au formulaire - copy-c'!AV150)>0, \"NON\", \"OUI\"),\"Reste\")","v":"Reste"}]
[{"$f":"DATE(YEAR('Réponses au formulaire - copy-c'!A151), MONTH('Réponses au formulaire - copy-c'!A151), DAY('Réponses au formulaire - copy-c'!A151))","v":"2024-11-22"},{"$f":"'Réponses au formulaire - copy-c'!E151","v":"Fustec"},{"$f":"'Réponses au formulaire - copy-c'!F151","v":"Timothée"},{"$f":"'Réponses au formulaire - copy-c'!H151","v":"H"},{"$f":"'feuille technique intermediaire'!E149","v":31},{"$f":"'Réponses au formulaire - copy-c'!I151","v":"timothee.fustec@gmail.com"},{"$f":"'Réponses au formulaire - copy-c'!M151","v":"L'Homme À Tentacules"},{"$f":"'Réponses au formulaire - copy-c'!K151","v":"0679313968"},{"$f":"'feuille technique intermediaire'!R149","v":"PJ+PNJ"},"-",{"$f":"'feuille technique intermediaire'!N149","v":"septembre"},{"$f":"'feuille technique intermediaire'!P149","v":"Peu importe"},"OK","OK","septembre","Fort seulement",null,"PAF non reçue","non reçue","R.A.S.","samedi",{"$f":"IFERROR(IF(SEARCH(\"ne pas participer\", 'Réponses au formulaire - copy-c'!AV151)>0, \"NON\", \"OUI\"),\"Reste\")","v":"Reste"}]
[{"$f":"DATE(YEAR('Réponses au formulaire - copy-c'!A152), MONTH('Réponses au formulaire - copy-c'!A152), DAY('Réponses au formulaire - copy-c'!A152))","v":"2024-12-16"},{"$f":"'Réponses au formulaire - copy-c'!E152","v":"Tallon"},{"$f":"'Réponses au formulaire - copy-c'!F152","v":"Anais (Anya)"},{"$f":"'Réponses au formulaire - copy-c'!H152","v":"F"},{"$f":"'feuille technique intermediaire'!E150","v":32},{"$f":"'Réponses au formulaire - copy-c'!I152","v":"anya.tallon@gmail.com"},{"$f":"'Réponses au formulaire - copy-c'!M152","v":"Pas de FB"},{"$f":"'Réponses au formulaire - copy-c'!K152","v":"0780727728"},{"$f":"'feuille technique intermediaire'!R150","v":"PJ+PNJ"},"-",{"$f":"'feuille technique intermediaire'!N150","v":"septembre"},{"$f":"'feuille technique intermediaire'!P150","v":"Seulement au fort"},"OK","OK","septembre","Fort seulement",200.0,"PAF finalisée","non reçue","R.A.S.","samedi",{"$f":"IFERROR(IF(SEARCH(\"ne pas participer\", 'Réponses au formulaire - copy-c'!AV152)>0, \"NON\", \"OUI\"),\"Reste\")","v":"Reste"}]
[{"$f":"DATE(YEAR('Réponses au formulaire - copy-c'!A153), MONTH('Réponses au formulaire - copy-c'!A153), DAY('Réponses au formulaire - copy-c'!A153))","v":"2025-01-03"},{"$f":"'Réponses au formulaire - copy-c'!E153","v":"Vidal "},{"$f":"'Réponses au formulaire - copy-c'!F153","v":"Jules"},{"$f":"'Réponses au formulaire - copy-c'!H153","v":"H"},{"$f":"'feuille technique intermediaire'!E151","v":31},{"$f":"'Réponses au formulaire - copy-c'!I153","v":"jules.vidal@live.fr"},{"$f":"'Réponses au formulaire - copy-c'!M153","v":"Jules Vidal "},{"$f":"'Réponses au formulaire - copy-c'!K153","v":645063353},{"$f":"'feuille technique intermediaire'!R151","v":"PJ+PNJ"},"-",{"$f":"'feuille technique intermediaire'!N151","v":"Les deux"},{"$f":"'feuille technique intermediaire'!P151","v":"Navire et fort"},"OK","OK","septembre","Navire & Fort",null,"PAF non reçue","non reçue","R.A.S.","samedi",{"$f":"IFERROR(IF(SEARCH(\"ne pas participer\", 'Réponses au formulaire - copy-c'!AV153)>0, \"NON\", \"OUI\"),\"Reste\")","v":"Reste"}]
[{"$f":"DATE(YEAR('Réponses au formulaire - copy-c'!A154), MONTH('Réponses au formulaire - copy-c'!A154), DAY('Réponses au formulaire - copy-c'!A154))","v":"2025-01-04"},{"$f":"'Réponses au formulaire - copy-c'!E154","v":"marcelin-gabriel"},{"$f":"'Réponses au formulaire - copy-c'!F154","v":"magali"},{"$f":"'Réponses au formulaire - copy-c'!H154","v":"F"},{"$f":"'feuille technique intermediaire'!E152","v":57},{"$f":"'Réponses au formulaire - copy-c'!I154","v":"magalimarcelin@orange.fr"},{"$f":"'Réponses au formulaire - copy-c'!M154","v":"magali marcelin"},{"$f":"'Réponses au formulaire - copy-c'!K154","v":"0684115179"},{"$f":"'feuille technique intermediaire'!R152","v":"PJ+PNJ"},"-",{"$f":"'feuille technique intermediaire'!N152","v":"Les deux"},{"$f":"'feuille technique intermediaire'!P152","v":"Peu importe"},"OK","OK","juin","Fort seulement",200.0,"PAF finalisée","non reçue","R.A.S.","samedi",{"$f":"IFERROR(IF(SEARCH(\"ne pas participer\", 'Réponses au formulaire - copy-c'!AV154)>0, \"NON\", \"OUI\"),\"Reste\")","v":"Reste"}]
[{"$f":"DATE(YEAR('Réponses au formulaire - copy-c'!A155), MONTH('Réponses au formulaire - copy-c'!A155), DAY('Réponses au formulaire - copy-c'!A155))","v":"2025-01-04"},{"$f":"'Réponses au formulaire - copy-c'!E155","v":"Barrere"},{"$f":"'Réponses au formulaire - copy-c'!F155","v":"Ludovic"},{"$f":"'Réponses au formulaire - copy-c'!H155","v":"H"},{"$f":"'feuille technique intermediaire'!E153","v":-68648},{"$f":"'Réponses au formulaire - copy-c'!I155","v":"ludobarrere@hotmail.fr"},{"$f":"'Réponses au formulaire - copy-c'!M155","v":"Lu Dovic"},{"$f":"'Réponses au formulaire - copy-c'!K155","v":"0617981351"},{"$f":"'feuille technique intermediaire'!R153","v":"Pur PJ"},"-",{"$f":"'feuille technique intermediaire'!N153","v":"septembre"},{"$f":"'feuille technique intermediaire'!P153","v":"Navire et fort"},"OK","OK","septembre","Navire & Fort",null,"PAF non reçue","non reçue","R.A.S.","samedi",{"$f":"IFERROR(IF(SEARCH(\"ne pas participer\", 'Réponses au formulaire - copy-c'!AV155)>0, \"NON\", \"OUI\"),\"Reste\")","v":"Reste"}]
[{"$f":"DATE(YEAR('Réponses au formulaire - copy-c'!A156), MONTH('Réponses au formulaire - copy-c'!A156), DAY('Réponses au formulaire - copy-c'!A156))","v":"2025-01-04"},{"$f":"'Réponses au formulaire - copy-c'!E156","v":"Dubois "},{"$f":"'Réponses au formulaire - copy-c'!F156","v":"Patrick "},{"$f":"'Réponses au formulaire - copy-c'!H156","v":"H"},{"$f":"'feuille technique intermediaire'!E154","v":54},{"$f":"'Réponses au formulaire - copy-c'!I156","v":"caninepointue@yahoo.fr"},{"$f":"'Réponses au formulaire - copy-c'!M156","v":"Patrick Dubois "},{"$f":"'Réponses au formulaire - copy-c'!K156","v":"0681649536"},{"$f":"'feuille technique intermediaire'!R154","v":"Pur PJ"},"-",{"$f":"'feuille technique intermediaire'!N154","v":"juin"},{"$f":"'feuille technique intermediaire'!P154","v":"Peu importe"},"OK","OK","juin","Fort seulement",null,"PAF non reçue","non reçue","R.A.S.","samedi",{"$f":"IFERROR(IF(SEARCH(\"ne pas participer\", 'Réponses au formulaire - copy-c'!AV156)>0, \"NON\", \"OUI\"),\"Reste\")","v":"Reste"}]
[{"$f":"DATE(YEAR('Réponses au formulaire - copy-c'!A157), MONTH('Réponses au formulaire - copy-c'!A157), DAY('Réponses au formulaire - copy-c'!A157))","v":"2025-01-05"},{"$f":"'Réponses au formulaire - copy-c'!E157","v":"Kerfriden "},{"$f":"'Réponses au formulaire - copy-c'!F157","v":"Claire "},{"$f":"'Réponses au formulaire - copy-c'!H157","v":"F"},{"$f":"'feuille technique intermediaire'!E155","v":22},{"$f":"'Réponses au formulaire - copy-c'!I157","v":"claire.kerfriden@gmail.com"},{"$f":"'Réponses au formulaire - copy-c'!M157","v":"Claire Kerfriden "},{"$f":"'Réponses au formulaire - copy-c'!K157","v":"06-09-73-55-13 "},{"$f":"'feuille technique intermediaire'!R155","v":"Pur PJ"},"-",{"$f":"'feuille technique intermediaire'!N155","v":"juin"},{"$f":"'feuille technique intermediaire'!P155","v":"Peu importe"},"OK","OK","juin","Fort seulement",null,"PAF non reçue","non reçue","R.A.S.","samedi",{"$f":"IFERROR(IF(SEARCH(\"ne pas participer\", 'Réponses au formulaire - copy-c'!AV157)>0, \"NON\", \"OUI\"),\"Reste\")","v":"NON"}]
[{"$f":"DATE(YEAR('Réponses au formulaire - copy-c'!A158), MONTH('Réponses au formulaire - copy-c'!A158), DAY('Réponses au formulaire - copy-c'!A158))","v":"2025-01-06"},{"$f":"'Réponses au formulaire - copy-c'!E158","v":"JONAS"},{"$f":"'Réponses au formulaire - copy-c'!F158","v":"Thomas"},{"$f":"'Réponses au formulaire - copy-c'!H158","v":"H"},{"$f":"'feuille technique intermediaire'!E156","v":"?"},{"$f":"'Réponses au formulaire - copy-c'!I158","v":"black_writer@hotmail.fr"},{"$f":"'Réponses au formulaire - copy-c'!M158","v":"Baron von Bismarck"},{"$f":"'Réponses au formulaire - copy-c'!K158","v":"0651389187"},{"$f":"'feuille technique intermediaire'!R156","v":"Pur PJ"},"-",{"$f":"'feuille technique intermediaire'!N156","v":"septembre"},{"$f":"'feuille technique intermediaire'!P156","v":"Navire et fort"},"OK","OK","septembre","Navire & Fort",400.0,"PAF finalisée","non reçue","R.A.S.","samedi",{"$f":"IFERROR(IF(SEARCH(\"ne pas participer\", 'Réponses au formulaire - copy-c'!AV158)>0, \"NON\", \"OUI\"),\"Reste\")","v":"Reste"}]
[{"$f":"DATE(YEAR('Réponses au formulaire - copy-c'!A159), MONTH('Réponses au formulaire - copy-c'!A159), DAY('Réponses au formulaire - copy-c'!A159))","v":"2025-01-07"},{"$f":"'Réponses au formulaire - copy-c'!E159","v":"leveque"},{"$f":"'Réponses au formulaire - copy-c'!F159","v":"Jonathan"},{"$f":"'Réponses au formulaire - copy-c'!H159","v":"H"},{"$f":"'feuille technique intermediaire'!E157","v":39},{"$f":"'Réponses au formulaire - copy-c'!I159","v":"j.leveque44@gmail.com"},{"$f":"'Réponses au formulaire - copy-c'!M159","v":"John Calias"},{"$f":"'Réponses au formulaire - copy-c'!K159","v":"0474450053"},{"$f":"'feuille technique intermediaire'!R157","v":"PJ+PNJ"},"-",{"$f":"'feuille technique intermediaire'!N157","v":"Les deux"},{"$f":"'feuille technique intermediaire'!P157","v":"Navire et fort"},"OK","OK","septembre","Navire & Fort",null,"PAF non reçue","non reçue","R.A.S.","samedi",{"$f":"IFERROR(IF(SEARCH(\"ne pas participer\", 'Réponses au formulaire - copy-c'!AV159)>0, \"NON\", \"OUI\"),\"Reste\")","v":"Reste"}]
[{"$f":"DATE(YEAR('Réponses au formulaire - copy-c'!A160), MONTH('Réponses au formulaire - copy-c'!A160), DAY('Réponses au formulaire - copy-c'!A160))","v":"2025-01-12"},{"$f":"'Réponses au formulaire - copy-c'!E160","v":"Méron "},{"$f":"'Réponses au formulaire - copy-c'!F160","v":"Thomas "},{"$f":"'Réponses au formulaire - copy-c'!H160","v":"H"},{"$f":"'feuille technique intermediaire'!E158","v":37},{"$f":"'Réponses au formulaire - copy-c'!I160","v":"meronthomas6@gmail.com"},{"$f":"'Réponses au formulaire - copy-c'!M160","v":"JACK DANIEL "},{"$f":"'Réponses au formulaire - copy-c'!K160","v":624838163},{"$f":"'feuille technique intermediaire'!R158","v":"PJ+PNJ"},"-",{"$f":"'feuille technique intermediaire'!N158","v":"juin"},{"$f":"'feuille technique intermediaire'!P158","v":"Navire et fort"},"OK","OK","juin","Navire & Fort",400.0,"PAF finalisée","reçue","R.A.S.","samedi",{"$f":"IFERROR(IF(SEARCH(\"ne pas participer\", 'Réponses au formulaire - copy-c'!AV160)>0, \"NON\", \"OUI\"),\"Reste\")","v":"Reste"}]
[{"$f":"DATE(YEAR('Réponses au formulaire - copy-c'!A161), MONTH('Réponses au formulaire - copy-c'!A161), DAY('Réponses au formulaire - copy-c'!A161))","v":"2025-01-13"},{"$f":"'Réponses au formulaire - copy-c'!E161","v":" Saada"},{"$f":"'Réponses au formulaire - copy-c'!F161","v":"laurent"},{"$f":"'Réponses au formulaire - copy-c'!H161","v":"H"},{"$f":"'feuille technique intermediaire'!E159","v":48},{"$f":"'Réponses au formulaire - copy-c'!I161","v":"laursaad@gmail.com"},{"$f":"'Réponses au formulaire - copy-c'!M161","v":"Laurent S lolo"},{"$f":"'Réponses au formulaire - copy-c'!K161","v":"0614462023"},{"$f":"'feuille technique intermediaire'!R159","v":"Pur PJ"},"-",{"$f":"'feuille technique intermediaire'!N159","v":"juin"},{"$f":"'feuille technique intermediaire'!P159","v":"Navire et fort"},"OK","OK","juin","Navire & Fort",133.5,"PAF partielle","non reçue","R.A.S.","samedi",{"$f":"IFERROR(IF(SEARCH(\"ne pas participer\", 'Réponses au formulaire - copy-c'!AV161)>0, \"NON\", \"OUI\"),\"Reste\")","v":"Reste"}]
[{"$f":"DATE(YEAR('Réponses au formulaire - copy-c'!A162), MONTH('Réponses au formulaire - copy-c'!A162), DAY('Réponses au formulaire - copy-c'!A162))","v":"2025-01-14"},{"$f":"'Réponses au formulaire - copy-c'!E162","v":"Guyot"},{"$f":"'Réponses au formulaire - copy-c'!F162","v":"Romain"},{"$f":"'Réponses au formulaire - copy-c'!H162","v":"H"},{"$f":"'feuille technique intermediaire'!E160","v":34},{"$f":"'Réponses au formulaire - copy-c'!I162","v":"rogguyot@gmail.com"},{"$f":"'Réponses au formulaire - copy-c'!M162","v":"romain.guyot.334"},{"$f":"'Réponses au formulaire - copy-c'!K162","v":"0680168165"},{"$f":"'feuille technique intermediaire'!R160","v":"Pur PJ"},"-",{"$f":"'feuille technique intermediaire'!N160","v":"Les deux"},{"$f":"'feuille technique intermediaire'!P160","v":"Navire et fort"},"OK","OK","septembre","Navire & Fort",133.5,"PAF partielle","non reçue","R.A.S.","samedi",{"$f":"IFERROR(IF(SEARCH(\"ne pas participer\", 'Réponses au formulaire - copy-c'!AV162)>0, \"NON\", \"OUI\"),\"Reste\")","v":"Reste"}]
[{"$f":"DATE(YEAR('Réponses au formulaire - copy-c'!A163), MONTH('Réponses au formulaire - copy-c'!A163), DAY('Réponses au formulaire - copy-c'!A163))","v":"2025-01-15"},{"$f":"'Réponses au formulaire - copy-c'!E163","v":"Flamant"},{"$f":"'Réponses au formulaire - copy-c'!F163","v":"Julien"},{"$f":"'Réponses au formulaire - copy-c'!H163","v":"H"},{"$f":"'feuille technique intermediaire'!E161","v":42},{"$f":"'Réponses au formulaire - copy-c'!I163","v":"julien.flamant@gmail.com"},{"$f":"'Réponses au formulaire - copy-c'!M163","v":"P'tit Fût l'Apostat"},{"$f":"'Réponses au formulaire - copy-c'!K163","v":"0679705430"},{"$f":"'feuille technique intermediaire'!R161","v":"Pur PJ"},"-",{"$f":"'feuille technique intermediaire'!N161","v":"septembre"},{"$f":"'feuille technique intermediaire'!P161","v":"Seulement au fort"},"OK","OK","septembre","Fort seulement",null,"PAF non reçue","non reçue","R.A.S.","samedi",{"$f":"IFERROR(IF(SEARCH(\"ne pas participer\", 'Réponses au formulaire - copy-c'!AV163)>0, \"NON\", \"OUI\"),\"Reste\")","v":"Reste"}]
[{"$f":"DATE(YEAR('Réponses au formulaire - copy-c'!A164), MONTH('Réponses au formulaire - copy-c'!A164), DAY('Réponses au formulaire - copy-c'!A164))","v":"2025-01-16"},{"$f":"'Réponses au formulaire - copy-c'!E164","v":"Jullien"},{"$f":"'Réponses au formulaire - copy-c'!F164","v":"Agnes"},{"$f":"'Réponses au formulaire - copy-c'!H164","v":"F"},{"$f":"'feuille technique intermediaire'!E162","v":44},{"$f":"'Réponses au formulaire - copy-c'!I164","v":"ag9734@yahoo.com"},{"$f":"'Réponses au formulaire - copy-c'!M164","v":"Agnès Jullien"},{"$f":"'Réponses au formulaire - copy-c'!K164","v":"0642584516"},{"$f":"'feuille technique intermediaire'!R162","v":"Pur PJ"},"-",{"$f":"'feuille technique intermediaire'!N162","v":"septembre"},{"$f":"'feuille technique intermediaire'!P162","v":"Peu importe"},"OK","OK","septembre","Navire & Fort",400.0,"PAF finalisée","non reçue","R.A.S.","samedi",{"$f":"IFERROR(IF(SEARCH(\"ne pas participer\", 'Réponses au formulaire - copy-c'!AV164)>0, \"NON\", \"OUI\"),\"Reste\")","v":"Reste"}]
[{"$f":"DATE(YEAR('Réponses au formulaire - copy-c'!A165), MONTH('Réponses au formulaire - copy-c'!A165), DAY('Réponses au formulaire - copy-c'!A165))","v":"2025-01-16"},{"$f":"'Réponses au formulaire - copy-c'!E165","v":"Navarro"},{"$f":"'Réponses au formulaire - copy-c'!F165","v":"Grégory "},{"$f":"'Réponses au formulaire - copy-c'!H165","v":"H"},{"$f":"'feuille technique intermediaire'!E163","v":45},{"$f":"'Réponses au formulaire - copy-c'!I165","v":"gregory.navarro@googlemail.com"},{"$f":"'Réponses au formulaire - copy-c'!M165","v":"Gregaf Tapdurhörson"},{"$f":"'Réponses au formulaire - copy-c'!K165","v":""},{"$f":"'feuille technique intermediaire'!R163","v":"Pur PJ"},"-",{"$f":"'feuille technique intermediaire'!N163","v":"septembre"},{"$f":"'feuille technique intermediaire'!P163","v":"Navire et fort"},"OK","OK","septembre","Navire & Fort",null,"PAF non reçue","non reçue","R.A.S.","samedi",{"$f":"IFERROR(IF(SEARCH(\"ne pas participer\", 'Réponses au formulaire - copy-c'!AV165)>0, \"NON\", \"OUI\"),\"Reste\")","v":"Reste"}]
[{"$f":"DATE(YEAR('Réponses au formulaire - copy-c'!A166), MONTH('Réponses au formulaire - copy-c'!A166), DAY('Réponses au formulaire - copy-c'!A166))","v":"2025-01-16"},{"$f":"'Réponses au formulaire - copy-c'!E166","v":"Pichot"},{"$f":"'Réponses au formulaire - copy-c'!F166","v":"Claire"},{"$f":"'Réponses au formulaire - copy-c'!H166","v":"F"},{"$f":"'feuille technique intermediaire'!E164","v":30},{"$f":"'Réponses au formulaire - copy-c'!I166","v":"pichot.cl@gmail.com"},{"$f":"'Réponses au formulaire - copy-c'!M166","v":"Claire Ette"},{"$f":"'Réponses au formulaire - copy-c'!K166","v":"0684298287"},{"$f":"'feuille technique intermediaire'!R164","v":"Pur PJ"},"-",{"$f":"'feuille technique intermediaire'!N164","v":"septembre"},{"$f":"'feuille technique intermediaire'!P164","v":"Peu importe"},"OK","OK","septembre","Navire & Fort",133.5,"PAF partielle","non reçue","R.A.S.","samedi",{"$f":"IFERROR(IF(SEARCH(\"ne pas participer\", 'Réponses au formulaire - copy-c'!AV166)>0, \"NON\", \"OUI\"),\"Reste\")","v":"Reste"}]
[{"$f":"DATE(YEAR('Réponses au formulaire - copy-c'!A167), MONTH('Réponses au formulaire - copy-c'!A167), DAY('Réponses au formulaire - copy-c'!A167))","v":"2025-01-17"},{"$f":"'Réponses au formulaire - copy-c'!E167","v":"Mousset "},{"$f":"'Réponses au formulaire - copy-c'!F167","v":"Valérie "},{"$f":"'Réponses au formulaire - copy-c'!H167","v":"F"},{"$f":"'feuille technique intermediaire'!E165","v":46},{"$f":"'Réponses au formulaire - copy-c'!I167","v":"valmousset@gmail.com"},{"$f":"'Réponses au formulaire - copy-c'!M167","v":"Valeriemousset"},{"$f":"'Réponses au formulaire - copy-c'!K167","v":"0620784623"},{"$f":"'feuille technique intermediaire'!R165","v":"Pur PJ"},"-",{"$f":"'feuille technique intermediaire'!N165","v":"septembre"},{"$f":"'feuille technique intermediaire'!P165","v":"Navire et fort"},"OK","OK","septembre","Navire & Fort",null,"PAF non reçue","non reçue","R.A.S.","samedi",{"$f":"IFERROR(IF(SEARCH(\"ne pas participer\", 'Réponses au formulaire - copy-c'!AV167)>0, \"NON\", \"OUI\"),\"Reste\")","v":"Reste"}]
[{"$f":"DATE(YEAR('Réponses au formulaire - copy-c'!A168), MONTH('Réponses au formulaire - copy-c'!A168), DAY('Réponses au formulaire - copy-c'!A168))","v":"2025-01-17"},{"$f":"'Réponses au formulaire - copy-c'!E168","v":"Trébosc"},{"$f":"'Réponses au formulaire - copy-c'!F168","v":"David"},{"$f":"'Réponses au formulaire - copy-c'!H168","v":"H"},{"$f":"'feuille technique intermediaire'!E166","v":41},{"$f":"'Réponses au formulaire - copy-c'!I168","v":"trebosc.david@gmail.com"},{"$f":"'Réponses au formulaire - copy-c'!M168","v":"David Trébosc"},{"$f":"'Réponses au formulaire - copy-c'!K168","v":618811757},{"$f":"'feuille technique intermediaire'!R166","v":"PJ+PNJ"},"-",{"$f":"'feuille technique intermediaire'!N166","v":"septembre"},{"$f":"'feuille technique intermediaire'!P166","v":"Seulement au fort"},"OK","OK","septembre","Fort seulement",null,"PAF non reçue","non reçue","R.A.S.","samedi",{"$f":"IFERROR(IF(SEARCH(\"ne pas participer\", 'Réponses au formulaire - copy-c'!AV168)>0, \"NON\", \"OUI\"),\"Reste\")","v":"Reste"}]
[{"$f":"DATE(YEAR('Réponses au formulaire - copy-c'!A169), MONTH('Réponses au formulaire - copy-c'!A169), DAY('Réponses au formulaire - copy-c'!A169))","v":"2024-07-24"},{"$f":"'Réponses au formulaire - copy-c'!E169","v":"orfeuvre"},{"$f":"'Réponses au formulaire - copy-c'!F169","v":"emilie"},{"$f":"'Réponses au formulaire - copy-c'!H169","v":"F"},{"$f":"'feuille technique intermediaire'!E167","v":35},{"$f":"'Réponses au formulaire - copy-c'!I169","v":"emilie.orfeuvre@gmail.com"},{"$f":"'Réponses au formulaire - copy-c'!M169","v":"Milie oh"},{"$f":"'Réponses au formulaire - copy-c'!K169","v":"0688550880"},{"$f":"'feuille technique intermediaire'!R167","v":"PJ+PNJ"},"-",{"$f":"'feuille technique intermediaire'!N167","v":"septembre"},{"$f":"'feuille technique intermediaire'!P167","v":"Seulement au fort"},"OK","OK","juin","Fort seulement",200.0,"PAF finalisée","non reçue","R.A.S.","samedi",{"$f":"IFERROR(IF(SEARCH(\"ne pas participer\", 'Réponses au formulaire - copy-c'!AV169)>0, \"NON\", \"OUI\"),\"Reste\")","v":"Reste"}]
[{"$f":"DATE(YEAR('Réponses au formulaire - copy-c'!A170), MONTH('Réponses au formulaire - copy-c'!A170), DAY('Réponses au formulaire - copy-c'!A170))","v":"2025-01-19"},{"$f":"'Réponses au formulaire - copy-c'!E170","v":"saison"},{"$f":"'Réponses au formulaire - copy-c'!F170","v":"arthur"},{"$f":"'Réponses au formulaire - copy-c'!H170","v":"H"},{"$f":"'feuille technique intermediaire'!E168","v":25},{"$f":"'Réponses au formulaire - copy-c'!I170","v":"arthur.saison@hotmail.com"},{"$f":"'Réponses au formulaire - copy-c'!M170","v":"Arthur Saison"},{"$f":"'Réponses au formulaire - copy-c'!K170","v":"0674426558"},{"$f":"'feuille technique intermediaire'!R168","v":"Pur PJ"},"-",{"$f":"'feuille technique intermediaire'!N168","v":"septembre"},{"$f":"'feuille technique intermediaire'!P168","v":"Navire et fort"},"OK","OK","septembre","Navire & Fort",null,"PAF non reçue","non reçue","R.A.S.","samedi",{"$f":"IFERROR(IF(SEARCH(\"ne pas participer\", 'Réponses au formulaire - copy-c'!AV170)>0, \"NON\", \"OUI\"),\"Reste\")","v":"Reste"}]
[{"$f":"DATE(YEAR('Réponses au formulaire - copy-c'!A171), MONTH('Réponses au formulaire - copy-c'!A171), DAY('Réponses au formulaire - copy-c'!A171))","v":"2025-01-19"},{"$f":"'Réponses au formulaire - copy-c'!E171","v":"Richard"},{"$f":"'Réponses au formulaire - copy-c'!F171","v":"Lea"},{"$f":"'Réponses au formulaire - copy-c'!H171","v":"F"},{"$f":"'feuille technique intermediaire'!E169","v":32},{"$f":"'Réponses au formulaire - copy-c'!I171","v":"lea.p.y.richard@outlook.fr"},{"$f":"'Réponses au formulaire - copy-c'!M171","v":"Lea Richard "},{"$f":"'Réponses au formulaire - copy-c'!K171","v":"0032494182566"},{"$f":"'feuille technique intermediaire'!R169","v":"PJ+PNJ"},"-",{"$f":"'feuille technique intermediaire'!N169","v":"Les deux"},{"$f":"'feuille technique intermediaire'!P169","v":"Peu importe"},"OK","OK","juin","Navire & Fort",null,"PAF non reçue","non reçue","R.A.S.","samedi",{"$f":"IFERROR(IF(SEARCH(\"ne pas participer\", 'Réponses au formulaire - copy-c'!AV171)>0, \"NON\", \"OUI\"),\"Reste\")","v":"Reste"}]
[{"$f":"DATE(YEAR('Réponses au formulaire - copy-c'!A172), MONTH('Réponses au formulaire - copy-c'!A172), DAY('Réponses au formulaire - copy-c'!A172))","v":"2025-01-19"},{"$f":"'Réponses au formulaire - copy-c'!E172","v":"Beeckman"},{"$f":"'Réponses au formulaire - copy-c'!F172","v":"Nathan"},{"$f":"'Réponses au formulaire - copy-c'!H172","v":"H"},{"$f":"'feuille technique intermediaire'!E170","v":30},{"$f":"'Réponses au formulaire - copy-c'!I172","v":"nbee@live.be"},{"$f":"'Réponses au formulaire - copy-c'!M172","v":"Nathan Beeckman"},{"$f":"'Réponses au formulaire - copy-c'!K172","v":"+32 471541547"},{"$f":"'feuille technique intermediaire'!R170","v":"Pur PJ"},"-",{"$f":"'feuille technique intermediaire'!N170","v":"septembre"},{"$f":"'feuille technique intermediaire'!P170","v":"Navire et fort"},"OK","OK","septembre","Navire & Fort",null,"PAF non reçue","non reçue","R.A.S.","samedi",{"$f":"IFERROR(IF(SEARCH(\"ne pas participer\", 'Réponses au formulaire - copy-c'!AV172)>0, \"NON\", \"OUI\"),\"Reste\")","v":"Reste"}]
[{"$f":"DATE(YEAR('Réponses au formulaire - copy-c'!A173), MONTH('Réponses au formulaire - copy-c'!A173), DAY('Réponses au formulaire - copy-c'!A173))","v":"2025-01-19"},{"$f":"'Réponses au formulaire - copy-c'!E173","v":"Philbert"},{"$f":"'Réponses au formulaire - copy-c'!F173","v":"SOPHIE"},{"$f":"'Réponses au formulaire - copy-c'!H173","v":"F"},{"$f":"'feuille technique intermediaire'!E171","v":41},{"$f":"'Réponses au formulaire - copy-c'!I173","v":"sofides@wanadoo.fr"},{"$f":"'Réponses au formulaire - copy-c'!M173","v":"Sophie Philbert"},{"$f":"'Réponses au formulaire - copy-c'!K173","v":"0669724980"},{"$f":"'feuille technique intermediaire'!R171","v":"PJ+PNJ"},"-",{"$f":"'feuille technique intermediaire'!N171","v":"septembre"},{"$f":"'feuille technique intermediaire'!P171","v":"Seulement au fort"},"OK","OK","septembre","Fort seulement",200.0,"PAF finalisée","non reçue","R.A.S.","samedi",{"$f":"IFERROR(IF(SEARCH(\"ne pas participer\", 'Réponses au formulaire - copy-c'!AV173)>0, \"NON\", \"OUI\"),\"Reste\")","v":"Reste"}]
[{"$f":"DATE(YEAR('Réponses au formulaire - copy-c'!A174), MONTH('Réponses au formulaire - copy-c'!A174), DAY('Réponses au formulaire - copy-c'!A174))","v":"2024-01-12"},{"$f":"'Réponses au formulaire - copy-c'!E174","v":"PHILBERT"},{"$f":"'Réponses au formulaire - copy-c'!F174","v":"Charles"},{"$f":"'Réponses au formulaire - copy-c'!H174","v":"H"},{"$f":"'feuille technique intermediaire'!E172","v":42},{"$f":"'Réponses au formulaire - copy-c'!I174","v":"Philbert.charles@neuf.fr"},{"$f":"'Réponses au formulaire - copy-c'!M174","v":"charles PHILBERT"},{"$f":"'Réponses au formulaire - copy-c'!K174","v":"0688981791"},{"$f":"'feuille technique intermediaire'!R172","v":"PJ+PNJ"},"-",{"$f":"'feuille technique intermediaire'!N172","v":"septembre"},{"$f":"'feuille technique intermediaire'!P172","v":"Seulement au fort"},"OK","OK","septembre","Fort seulement",null,"PAF non reçue","non reçue","R.A.S.","samedi",{"$f":"IFERROR(IF(SEARCH(\"ne pas participer\", 'Réponses au formulaire - copy-c'!AV174)>0, \"NON\", \"OUI\"),\"Reste\")","v":"Reste"}]
[{"$f":"DATE(YEAR('Réponses au formulaire - copy-c'!A175), MONTH('Réponses au formulaire - copy-c'!A175), DAY('Réponses au formulaire - copy-c'!A175))","v":"2025-01-20"},{"$f":"'Réponses au formulaire - copy-c'!E175","v":"Delahaye "},{"$f":"'Réponses au formulaire - copy-c'!F175","v":"Damien"},{"$f":"'Réponses au formulaire - copy-c'!H175","v":"H"},{"$f":"'feuille technique intermediaire'!E173","v":32},{"$f":"'Réponses au formulaire - copy-c'!I175","v":"damien-kidds@hotmail.fr"},{"$f":"'Réponses au formulaire - copy-c'!M175","v":"Kidds teach Rackham "},{"$f":"'Réponses au formulaire - copy-c'!K175","v":"07-85-94-49-12"},{"$f":"'feuille technique intermediaire'!R173","v":"PJ+PNJ"},"-",{"$f":"'feuille technique intermediaire'!N173","v":"Les deux"},{"$f":"'feuille technique intermediaire'!P173","v":"Peu importe"},"OK","OK","juin","Navire & Fort",null,"PAF non reçue","non reçue","R.A.S.","samedi",{"$f":"IFERROR(IF(SEARCH(\"ne pas participer\", 'Réponses au formulaire - copy-c'!AV175)>0, \"NON\", \"OUI\"),\"Reste\")","v":"Reste"}]
[{"$f":"DATE(YEAR('Réponses au formulaire - copy-c'!A176), MONTH('Réponses au formulaire - copy-c'!A176), DAY('Réponses au formulaire - copy-c'!A176))","v":"2025-01-20"},{"$f":"'Réponses au formulaire - copy-c'!E176","v":"Lefebvre"},{"$f":"'Réponses au formulaire - copy-c'!F176","v":"Charline"},{"$f":"'Réponses au formulaire - copy-c'!H176","v":"F"},{"$f":"'feuille technique intermediaire'!E174","v":26},{"$f":"'Réponses au formulaire - copy-c'!I176","v":"charline.lefebvre7@orange.fr"},{"$f":"'Réponses au formulaire - copy-c'!M176","v":"Mini-Mew Chatouxe"},{"$f":"'Réponses au formulaire - copy-c'!K176","v":"0762276863"},{"$f":"'feuille technique intermediaire'!R174","v":"PJ+PNJ"},"-",{"$f":"'feuille technique intermediaire'!N174","v":"Les deux"},{"$f":"'feuille technique intermediaire'!P174","v":"Peu importe"},"OK","OK","juin","Navire & Fort",null,"PAF non reçue","non reçue","R.A.S.","samedi",{"$f":"IFERROR(IF(SEARCH(\"ne pas participer\", 'Réponses au formulaire - copy-c'!AV176)>0, \"NON\", \"OUI\"),\"Reste\")","v":"Reste"}]
[{"$f":"DATE(YEAR('Réponses au formulaire - copy-c'!A177), MONTH('Réponses au formulaire - copy-c'!A177), DAY('Réponses au formulaire - copy-c'!A177))","v":"2025-01-20"},{"$f":"'Réponses au formulaire - copy-c'!E177","v":"Pressoir"},{"$f":"'Réponses au formulaire - copy-c'!F177","v":"Valentine"},{"$f":"'Réponses au formulaire - copy-c'!H177","v":"F"},{"$f":"'feuille technique intermediaire'!E175","v":26},{"$f":"'Réponses au formulaire - copy-c'!I177","v":"valentine.pressoir@gmail.com"},{"$f":"'Réponses au formulaire - copy-c'!M177","v":"Valentine "},{"$f":"'Réponses au formulaire - copy-c'!K177","v":"0645130094"},{"$f":"'feuille technique intermediaire'!R175","v":"PJ+PNJ"},"-",{"$f":"'feuille technique intermediaire'!N175","v":"juin"},{"$f":"'feuille technique intermediaire'!P175","v":"Seulement au fort"},"OK","OK","juin","Fort seulement",null,"PAF non reçue","non reçue","R.A.S.","samedi",{"$f":"IFERROR(IF(SEARCH(\"ne pas participer\", 'Réponses au formulaire - copy-c'!AV177)>0, \"NON\", \"OUI\"),\"Reste\")","v":"Reste"}]
[{"$f":"DATE(YEAR('Réponses au formulaire - copy-c'!A178), MONTH('Réponses au formulaire - copy-c'!A178), DAY('Réponses au formulaire - copy-c'!A178))","v":"2025-01-21"},{"$f":"'Réponses au formulaire - copy-c'!E178","v":"VOINOT"},{"$f":"'Réponses au formulaire - copy-c'!F178","v":"Sébastien"},{"$f":"'Réponses au formulaire - copy-c'!H178","v":"H"},{"$f":"'feuille technique intermediaire'!E176","v":50},{"$f":"'Réponses au formulaire - copy-c'!I178","v":"sebvoinot@yahoo.fr"},{"$f":"'Réponses au formulaire - copy-c'!M178","v":"Sébastien VOINOT"},{"$f":"'Réponses au formulaire - copy-c'!K178","v":"0603087308"},{"$f":"'feuille technique intermediaire'!R176","v":"Pur PJ"},"-",{"$f":"'feuille technique intermediaire'!N176","v":"septembre"},{"$f":"'feuille technique intermediaire'!P176","v":"Navire et fort"},"OK","OK","septembre","Navire & Fort",400.0,"PAF finalisée","non reçue","R.A.S.","samedi",{"$f":"IFERROR(IF(SEARCH(\"ne pas participer\", 'Réponses au formulaire - copy-c'!AV178)>0, \"NON\", \"OUI\"),\"Reste\")","v":"Reste"}]
[{"$f":"DATE(YEAR('Réponses au formulaire - copy-c'!A179), MONTH('Réponses au formulaire - copy-c'!A179), DAY('Réponses au formulaire - copy-c'!A179))","v":"2025-01-21"},{"$f":"'Réponses au formulaire - copy-c'!E179","v":"Moulin"},{"$f":"'Réponses au formulaire - copy-c'!F179","v":"Philippe"},{"$f":"'Réponses au formulaire - copy-c'!H179","v":"H"},{"$f":"'feuille technique intermediaire'!E177","v":54},{"$f":"'Réponses au formulaire - copy-c'!I179","v":"moulin.philippe@gmail.com"},{"$f":"'Réponses au formulaire - copy-c'!M179","v":"https://www.facebook.com/moulinp1"},{"$f":"'Réponses au formulaire - copy-c'!K179","v":"0662476913"},{"$f":"'feuille technique intermediaire'!R177","v":"PJ+PNJ"},"-",{"$f":"'feuille technique intermediaire'!N177","v":"Non précisé"},{"$f":"'feuille technique intermediaire'!P177","v":"Navire et fort"},"OK","OK","septembre","Navire & Fort",400.0,"PAF finalisée","non reçue","R.A.S.","samedi",{"$f":"IFERROR(IF(SEARCH(\"ne pas participer\", 'Réponses au formulaire - copy-c'!AV179)>0, \"NON\", \"OUI\"),\"Reste\")","v":"Reste"}]
[{"$f":"DATE(YEAR('Réponses au formulaire - copy-c'!A180), MONTH('Réponses au formulaire - copy-c'!A180), DAY('Réponses au formulaire - copy-c'!A180))","v":"2025-01-21"},{"$f":"'Réponses au formulaire - copy-c'!E180","v":"Rys"},{"$f":"'Réponses au formulaire - copy-c'!F180","v":"Ninon"},{"$f":"'Réponses au formulaire - copy-c'!H180","v":"F"},{"$f":"'feuille technique intermediaire'!E178","v":35},{"$f":"'Réponses au formulaire - copy-c'!I180","v":"ninon.rys@gmail.com"},{"$f":"'Réponses au formulaire - copy-c'!M180","v":"Ninon Ysr"},{"$f":"'Réponses au formulaire - copy-c'!K180","v":"0625906212"},{"$f":"'feuille technique intermediaire'!R178","v":"PJ+PNJ"},"-",{"$f":"'feuille technique intermediaire'!N178","v":"juin"},{"$f":"'feuille technique intermediaire'!P178","v":"Peu importe"},"OK","OK","juin","Navire & Fort",null,"PAF non reçue","non reçue","R.A.S.","samedi",{"$f":"IFERROR(IF(SEARCH(\"ne pas participer\", 'Réponses au formulaire - copy-c'!AV180)>0, \"NON\", \"OUI\"),\"Reste\")","v":"Reste"}]
[{"$f":"DATE(YEAR('Réponses au formulaire - copy-c'!A181), MONTH('Réponses au formulaire - copy-c'!A181), DAY('Réponses au formulaire - copy-c'!A181))","v":"2025-01-21"},{"$f":"'Réponses au formulaire - copy-c'!E181","v":"picano"},{"$f":"'Réponses au formulaire - copy-c'!F181","v":"benjamin"},{"$f":"'Réponses au formulaire - copy-c'!H181","v":"H"},{"$f":"'feuille technique intermediaire'!E179","v":43},{"$f":"'Réponses au formulaire - copy-c'!I181","v":"hulrek@gmail.com"},{"$f":"'Réponses au formulaire - copy-c'!M181","v":"benjamin picano"},{"$f":"'Réponses au formulaire - copy-c'!K181","v":"0664754371"},{"$f":"'feuille technique intermediaire'!R179","v":"Pur PJ"},"-",{"$f":"'feuille technique intermediaire'!N179","v":"juin"},{"$f":"'feuille technique intermediaire'!P179","v":"Navire et fort"},"OK","OK","juin","Navire & Fort",null,"PAF non reçue","non reçue","R.A.S.","samedi",{"$f":"IFERROR(IF(SEARCH(\"ne pas participer\", 'Réponses au formulaire - copy-c'!AV181)>0, \"NON\", \"OUI\"),\"Reste\")","v":"Reste"}]
[{"$f":"DATE(YEAR('Réponses au formulaire - copy-c'!A183), MONTH('Réponses au formulaire - copy-c'!A183), DAY('Réponses au formulaire - copy-c'!A183))","v":"2025-01-22"},{"$f":"'Réponses au formulaire - copy-c'!E183","v":"Glapa"},{"$f":"'Réponses au formulaire - copy-c'!F183","v":"Denis"},{"$f":"'Réponses au formulaire - copy-c'!H183","v":"H"},{"$f":"'feuille technique intermediaire'!E181","v":42},{"$f":"'Réponses au formulaire - copy-c'!I183","v":"d.glapa@laposte.net"},{"$f":"'Réponses au formulaire - copy-c'!M183","v":"Denis Carcajou Bondissant"},{"$f":"'Réponses au formulaire - copy-c'!K183","v":"0660570605"},{"$f":"'feuille technique intermediaire'!R181","v":"PJ+PNJ"},"-",{"$f":"'feuille technique intermediaire'!N181","v":"juin"},{"$f":"'feuille technique intermediaire'!P181","v":"Seulement au fort"},"OK","OK","juin","Fort seulement",null,"PAF non reçue","non reçue","R.A.S.","samedi",{"$f":"IFERROR(IF(SEARCH(\"ne pas participer\", 'Réponses au formulaire - copy-c'!AV183)>0, \"NON\", \"OUI\"),\"Reste\")","v":"Reste"}]
[{"$f":"DATE(YEAR('Réponses au formulaire - copy-c'!A184), MONTH('Réponses au formulaire - copy-c'!A184), DAY('Réponses au formulaire - copy-c'!A184))","v":"2025-01-23"},{"$f":"'Réponses au formulaire - copy-c'!E184","v":" Rollin"},{"$f":"'Réponses au formulaire - copy-c'!F184","v":"Cecile"},{"$f":"'Réponses au formulaire - copy-c'!H184","v":"F"},{"$f":"'feuille technique intermediaire'!E182","v":48},{"$f":"'Réponses au formulaire - copy-c'!I184","v":"cecile.rollin@gmail.com"},{"$f":"'Réponses au formulaire - copy-c'!M184","v":"Cécilia Thor Diaz"},{"$f":"'Réponses au formulaire - copy-c'!K184","v":"0615362940"},{"$f":"'feuille technique intermediaire'!R182","v":"Pur PJ"},"-",{"$f":"'feuille technique intermediaire'!N182","v":"septembre"},{"$f":"'feuille technique intermediaire'!P182","v":"Navire et fort"},"OK","OK","septembre","Navire & Fort",400.0,"PAF finalisée","non reçue","R.A.S.","samedi",{"$f":"IFERROR(IF(SEARCH(\"ne pas participer\", 'Réponses au formulaire - copy-c'!AV184)>0, \"NON\", \"OUI\"),\"Reste\")","v":"NON"}]
[{"$nulls":12},"KO","KO","non attribué","non attribué",null,"PAF non reçue","non reçue","R.A.S.","samedi"]
[{"$nulls":12},"KO","KO","non attribué","non attribué",null,"PAF non reçue","non reçue","R.A.S.","samedi"]
[{"$nulls":12},"KO","KO","non attribué","non attribué",null,"PAF non reçue","non reçue","R.A.S.","samedi"]
[{"$nulls":12},"KO","KO","non attribué","non attribué",null,"PAF non reçue","non reçue","R.A.S.","samedi"]
[{"$nulls":12},"KO","KO","non attribué","non attribué",null,"PAF non reçue","non reçue","R.A.S.","samedi"]
[{"$nulls":12},"KO","KO","non attribué","non attribué",null,"PAF non reçue","non reçue","R.A.S.","samedi"]
[{"$nulls":12},"KO","KO","non attribué","non attribué",null,"PAF non reçue","non reçue","R.A.S.","samedi"]
[{"$nulls":12},"KO","KO","non attribué","non attribué",null,"PAF non reçue","non reçue","R.A.S.","samedi"]
[{"$nulls":12},"KO","KO","non attribué","non attribué",null,"PAF non reçue","non reçue","R.A.S.","samedi"]
[{"$nulls":12},"KO","KO","non attribué","non attribué",null,"PAF non reçue","non reçue","R.A.S.","samedi"]
[{"$nulls":12},"KO","KO","non attribué","non attribué",null,"PAF non reçue","non reçue","R.A.S.","samedi"]
[{"$nulls":12},"KO","KO","non attribué","non attribué",null,"PAF non reçue","non reçue","R.A.S.","samedi"]
[{"$nulls":12},"KO","KO","non attribué","non attribué",null,"PAF non reçue","non reçue","R.A.S.","samedi"]
[{"$nulls":12},"KO","KO","non attribué","non attribué",null,"PAF non reçue","non reçue","R.A.S.","samedi"]
[{"$nulls":12},"KO","KO","non attribué","non attribué",null,"PAF non reçue","non reçue","R.A.S.","samedi"]
[{"$nulls":12},"KO","KO","non attribué","non attribué",null,"PAF non reçue","non reçue","R.A.S.","samedi"]
[{"$nulls":12},"KO","KO","non attribué","non attribué",null,"PAF non reçue","non reçue","R.A.S.","samedi"]
[{"$nulls":12},"KO","KO","non attribué","non attribué",null,"PAF non reçue","non reçue","R.A.S.","samedi"]
[{"$nulls":12},"KO","KO","non attribué","non attribué",null,"PAF non reçue","non reçue","R.A.S.","samedi"]
[{"$nulls":12},"KO","KO","non attribué","non attribué",null,"PAF non reçue","non reçue","R.A.S.","samedi"]
[{"$nulls":12},"KO","KO","non attribué","non attribué",null,"PAF non reçue","non reçue","R.A.S.","samedi"]
[{"$nulls":12},"KO","KO","non attribué","non attribué",null,"PAF non reçue","non reçue","R.A.S.","samedi"]
[{"$nulls":12},"KO","KO","non attribué","non attribué",null,"PAF non reçue","non reçue","R.A.S.","samedi"]
[{"$nulls":12},"KO","KO","non attribué","non attribué",null,"PAF non reçue","non reçue","R.A.S.","samedi"]
[{"$nulls":12},"KO","KO","non attribué","non attribué",null,"PAF non reçue","non reçue","R.A.S.","samedi"]
[{"$nulls":12},"KO","KO","non attribué","non attribué",null,"PAF non reçue","non reçue","R.A.S.","samedi"]
[{"$nulls":12},"KO","KO","non attribué","non attribué",null,"PAF non reçue","non reçue","R.A.S.","samedi"]
[{"$nulls":12},"KO","KO","non attribué","non attribué",null,"PAF non reçue","non reçue","R.A.S.","samedi"]
[{"$nulls":12},"KO","KO","non attribué","non attribué",null,"PAF non reçue","non reçue","R.A.S.","samedi"]
[{"$nulls":12},"KO","KO","non attribué","non attribué",null,"PAF non reçue","non reçue","R.A.S.","samedi"]
[{"$nulls":12},"KO","KO","non attribué","non attribué",null,"PAF non reçue","non reçue","R.A.S.","samedi"]
[{"$nulls":12},"KO","KO","non attribué","non attribué",null,"PAF non reçue","non reçue","R.A.S.","samedi"]
[{"$nulls":12},"KO","KO","non attribué","non attribué",null,"PAF non reçue","non reçue","R.A.S.","samedi"]
[{"$nulls":12},"KO","KO","non attribué","non attribué",null,"PAF non reçue","non reçue","R.A.S.","samedi"]
[{"$nulls":12},"KO","KO","non attribué","non attribué",null,"PAF non reçue","non reçue","R.A.S.","samedi"]
[{"$nulls":12},"KO","KO","non attribué","non attribué",null,"PAF non reçue","non reçue","R.A.S.","samedi"]
[{"$nulls":12},"KO","KO","non attribué","non attribué",null,"PAF non reçue","non reçue","R.A.S.","samedi"]
[{"$nulls":12},"KO","KO","non attribué","non attribué",null,"PAF non reçue","non reçue","R.A.S.","samedi"]
[{"$nulls":12},"KO","KO","non attribué","non attribué",null,"PAF non reçue","non reçue","R.A.S.","samedi"]
[{"$nulls":12},"KO","KO","non attribué","non attribué",null,"PAF non reçue","non reçue","R.A.S.","samedi"]
[{"$nulls":12},"KO","KO","non attribué","non attribué",null,"PAF non reçue","non reçue","R.A.S.","samedi"]
[{"$nulls":12},"KO","KO","non attribué","non attribué",null,"PAF non reçue","non reçue","R.A.S.","samedi"]
[{"$nulls":12},"KO","KO","non attribué","non attribué",null,"PAF non reçue","non reçue","R.A.S.","samedi"]
[{"$nulls":12},"KO","KO","non attribué","non attribué",null,"PAF non reçue","non reçue","R.A.S.","samedi"]
[{"$nulls":12},"KO","KO","non attribué","non attribué",null,"PAF non reçue","non reçue","R.A.S.","samedi"]
[{"$nulls":12},"KO","KO","non attribué","non attribué",null,"PAF non reçue","non reçue","R.A.S.","samedi"]
[{"$nulls":12},"KO","KO","non attribué","non attribué",null,"PAF non reçue","non reçue","R.A.S.","samedi"]
[{"$nulls":12},"KO","KO","non attribué","non attribué",null,"PAF non reçue","non reçue","R.A.S.","samedi"]
[{"$nulls":12},"KO","KO","non attribué","non attribué",null,"PAF non reçue","non reçue","R.A.S.","samedi"]
[{"$nulls":12},"KO","KO","non attribué","non attribué",null,"PAF non reçue","non reçue","R.A.S.","samedi"]
[{"$nulls":12},"KO","KO","non attribué","non attribué",null,"PAF non reçue","non reçue","R.A.S.","samedi"]
[{"$nulls":12},"KO","KO","non attribué","non attribué",null,"PAF non reçue","non reçue","R.A.S.","samedi"]
[{"$nulls":12},"KO","KO","non attribué","non attribué",null,"PAF non reçue","non reçue","R.A.S.","samedi"]
[{"$nulls":12},"KO","KO","non attribué","non attribué",null,"PAF non reçue","non reçue","R.A.S.","samedi"]
[null,null,"hommes:",{"$f":"COUNTIF(D14:D216, \"H\")","v":92},null,"nb validés DISCORD :",{"$f":"COUNT_BY_COLOR(\"G14:G219\", \"G1\")","v":90},"souhait pur PJ",{"$f":"COUNTIF(I14:I216, \"pur PJ\")","v":75},"uniq, juin",{"$f":"COUNTIF(K14:K216, \"juin\")","v":51},null,"==> juin :",null,{"$f":"COUNTIF(O14:O216, \"juin\")","v":79},null,"PAF finalisée",{"$f":"COUNTIF(R14:R216, \"PAF finalisée\")","v":72},null,null,"Ne reste pas",{"$f":"COUNTIF(V14:V216, \"NON\")","v":13}]
[null,null,"femmes :",{"$f":"COUNTIF(D14:D216, \"F\")","v":57},null,null,null,"souhait PJ+PNJ",{"$f":"COUNTIF(I14:I216, \"PJ+PNJ\")","v":71},"uniq, septembre",{"$f":"COUNTIF(K14:K216, \"septembre\")","v":34},null,"==> septembre :",null,{"$f":"COUNTIF(O14:O216, \"septembre\")","v":67},null,"PAF partielle",{"$f":"COUNTIF(R15:R217, \"PAF partielle\")","v":32},null,null,"Reste",{"$f":"B1-V217","v":140}]
[{"$nulls":7},"souhait PNJ",{"$f":"COUNTIF(I14:I216, \"PNJ\")","v":3},"les deux",{"$f":"B1-K220-K218-K217","v":49},null,"non attribué :",null,{"$f":"B1-O218-O217","v":7},null,"PAF offerte",{"$f":"COUNTIF(R15:R217, \"gratuit\")","v":3}]
[{"$nulls":9},"sans avis",{"$f":"COUNTIF(K14:K216, \"Non précisé\")","v":19},null,"nb OK :",null,{"$f":"COUNTIF(M14:M216, \"ok\")","v":147},null,"PAF non versée",{"$f":"B1-R218-R219-R217","v":46}]
[{"$nulls":10},"Navire & Fort :",{"$f":"COUNTIF(L14:L216, \"Navire et Fort\")","v":95},null,null,"==> Navire & Fort :",{"$f":"COUNTIF(P14:P216, \"Navire & Fort\")","v":108}]
[{"$nulls":10},"Fort seulement :",{"$f":"COUNTIF(L14:L216, \"Seulement au Fort\")","v":23},null,null,"==> Fort seulement :",{"$f":"COUNTIF(P14:P216, \"Fort seulement\")","v":37}]
[{"$nulls":10},"Peu importe",{"$f":"COUNTIF(L14:L216, \"peu importe\")","v":31},null,null,"Non attribué",{"$f":"B1-P222-P221","v":8}]
[]
[]
[]
["Remboursements",{"$nulls":7},"Montant dû","remboursé ?"]
["2024-04-23","Bessière","Johanna","F",40.0,"johanna.bessiere@gmail.com","Johanna Be","0682042682",400.0,"OUI"]
["2024-04-25","Rozier-Peltier","Morgan","H",36.0,"morgane.rozier@gmail.com","Morgan Rozier","0652838378",400.5,"OUI"]
["2024-04-30T16:20:03.780","ROZIER-PELTIER","Jean-Philippe",null,"H","jean.philippe.peltier@gmail.com",null,null,400.5,"OUI"]
["2024-01-12","Bourdette","Julien","H",43.0,"clodoweg@gmail.com","ju.bourdette","0641780852",400.0,"Non"]

{"sheet":"dispos orgas","index":4,"n_rows":233,"n_cols":13,"rows_kept":233,"cut":false,"hidden":false,"merged":[[0,3,0,5],[0,6,0,8],[20,2,22,2]]}
["vac.scol.","ferié","bloqué pas dispo","pas dispo prévisionnel",null,null,"dispo",{"$nulls":4}," dispo à anticiper","e = garde d'enfants => bloqué chez moi mais dispo pour les réunions téléphoniques"]
["jour","date","event","Shindra","Laurent","Ely","Victor","Gilles","Jack","Gwen","Sly"]
["lundi","2025-01-27","réunion confcall",{"$nulls":5},"e"]
["mardi",{"$f":"B3+1","v":"2025-01-28"},{"$nulls":6},"e"]
["mercredi","2025-01-29",{"$nulls":6},"e"]
["jeudi","2025-01-30",{"$nulls":6},"e"]
["vendredi","2025-01-31"]
["samedi","2025-02-01"]
["dimanche","2025-02-02"]
["lundi","2025-02-03"]
["mardi","2025-02-04"]
["mercredi","2025-02-05","réunion confcall"]
["jeudi","2025-02-06"]
["vendredi","2025-02-07",{"$nulls":6},"e"]
["samedi","2025-02-08",{"$nulls":6},"e"]
["dimanche","2025-02-09",{"$nulls":6},"e"]
["lundi","2025-02-10",{"$nulls":6},"e"]
["mardi","2025-02-11",{"$nulls":6},"e"]
["mercredi","2025-02-12",{"$nulls":6},"e"]
["jeudi","2025-02-13",{"$nulls":6},"e"]
["vendredi","2025-02-14","Réunion à La Rochelle"]
["samedi","2025-02-15"]
["dimanche","2025-02-16"]
["lundi","2025-02-17"]
["mardi","2025-02-18"]
["mercredi","2025-02-19"]
["jeudi","2025-02-20"]
["vendredi","2025-02-21",{"$nulls":6},"e"]
["samedi","2025-02-22",{"$nulls":6},"e"]
["dimanche","2025-02-23",{"$nulls":6},"e"]
["lundi","2025-02-24",{"$nulls":6},"e"]
["mardi","2025-02-25",{"$nulls":6},"e"]
["mercredi","2025-02-26",{"$nulls":6},"e"]
["jeudi","2025-02-27","réunion confcall",{"$nulls":5},"e"]
["vendredi","2025-02-28"]
["samedi","2025-03-01"]
["dimanche","2025-03-02"]
["lundi","2025-03-03"]
["mardi","2025-03-04"]
["mercredi","2025-03-05"]
["jeudi","2025-03-06"]
["vendredi","2025-03-07",{"$nulls":6},"e"]
["samedi","2025-03-08",{"$nulls":6},"e"]
["dimanche","2025-03-09",{"$nulls":6},"e"]
["lundi","2025-03-10",{"$nulls":6},"e"]
["mardi","2025-03-11",{"$nulls":6},"e"]
["mercredi","2025-03-12",{"$nulls":6},"e"]
["jeudi","2025-03-13","réunion confcall",{"$nulls":5},"e"]
["vendredi","2025-03-14"]
["samedi","2025-03-15"]
["dimanche","2025-03-16"]
["lundi","2025-03-17"]
["mardi","2025-03-18"]
["mercredi","2025-03-19"]
["jeudi","2025-03-20"]
["vendredi","2025-03-21",{"$nulls":6},"e"]
["samedi","2025-03-22",{"$nulls":6},"e"]
["dimanche","2025-03-23",{"$nulls":6},"e"]
["lundi","2025-03-24",{"$nulls":6},"e"]
["mardi","2025-03-25",{"$nulls":6},"e"]
["mercredi","2025-03-26",{"$nulls":6},"e"]
["jeudi","2025-03-27","réunion confcall",{"$nulls":5},"e"]
["vendredi","2025-03-28"]
["samedi","2025-03-29"]
["dimanche","2025-03-30"]
["lundi","2025-03-31"]
["mardi","2025-04-01"]
["mercredi","2025-04-02"]
["jeudi","2025-04-03"]
["vendredi","2025-04-04",{"$nulls":6},"e"]
["samedi","2025-04-05",{"$nulls":6},"e"]
["dimanche","2025-04-06",{"$nulls":6},"e"]
["lundi","2025-04-07",{"$nulls":6},"e"]
["mardi","2025-04-08",{"$nulls":6},"e"]
["mercredi","2025-04-09",{"$nulls":6},"e"]
["jeudi","2025-04-10",{"$nulls":6},"e"]
["vendredi","2025-04-11"]
["samedi","2025-04-12"]
["dimanche","2025-04-13"]
["lundi","2025-04-14"]
["mardi","2025-04-15"]
["mercredi","2025-04-16"]
["jeudi","2025-04-17"]
["vendredi","2025-04-18",{"$nulls":6},"e"]
["samedi","2025-04-19",{"$nulls":6},"e"]
["dimanche","2025-04-20",{"$nulls":6},"e"]
["lundi","2025-04-21",{"$nulls":6},"e"]
["mardi","2025-04-22",{"$nulls":6},"e"]
["mercredi","2025-04-23",{"$nulls":6},"e"]
["jeudi","2025-04-24",{"$nulls":6},"e"]
["vendredi","2025-04-25"]
["samedi","2025-04-26"]
["dimanche","2025-04-27"]
["lundi","2025-04-28"]
["mardi","2025-04-29"]
["mercredi","2025-04-30"]
["jeudi","2025-05-01"]
["vendredi","2025-05-02",{"$nulls":6},"e"]
["samedi","2025-05-03",{"$nulls":6},"e"]
["dimanche","2025-05-04",{"$nulls":6},"e"]
["lundi","2025-05-05",{"$nulls":6},"e"]
["mardi","2025-05-06",{"$nulls":6},"e"]
["mercredi","2025-05-07",{"$nulls":6},"e"]
["jeudi","2025-05-08",{"$nulls":6},"e"]
["vendredi","2025-05-09"]
["samedi","2025-05-10"]
["dimanche","2025-05-11"]
["lundi","2025-05-12"]
["mardi","2025-05-13"]
["mercredi","2025-05-14"]
["jeudi","2025-05-15"]
["vendredi","2025-05-16",{"$nulls":6},"e"]
["samedi","2025-05-17",{"$nulls":6},"e"]
["dimanche","2025-05-18",{"$nulls":6},"e"]
["lundi","2025-05-19",{"$nulls":6},"e"]
["mardi","2025-05-20",{"$nulls":6},"e"]
["mercredi","2025-05-21",{"$nulls":6},"e"]
["jeudi","2025-05-22",{"$nulls":6},"e"]
["vendredi","2025-05-23"]
["samedi","2025-05-24"]
["dimanche","2025-05-25"]
["lundi","2025-05-26"]
["mardi","2025-05-27"]
["mercredi","2025-05-28"]
["jeudi","2025-05-29"]
["vendredi","2025-05-30",{"$nulls":6},"e"]
["samedi","2025-05-31",{"$nulls":6},"e"]
["dimanche","2025-06-01",{"$nulls":6},"e"]
["lundi","2025-06-02",{"$nulls":6},"e"]
["mardi","2025-06-03",{"$nulls":6},"e"]
["mercredi","2025-06-04",{"$nulls":6},"e"]
["jeudi","2025-06-05",{"$nulls":6},"e"]
["vendredi","2025-06-06","GN BR2 S1"]
["samedi","2025-06-07","GN BR2 S1"]
["dimanche","2025-06-08","GN BR2 S1"]
["lundi","2025-06-09"]
["mardi","2025-06-10"]
["mercredi","2025-06-11"]
["jeudi","2025-06-12"]
["vendredi","2025-06-13",{"$nulls":6},"e"]
["samedi","2025-06-14",{"$nulls":6},"e"]
["dimanche","2025-06-15",{"$nulls":6},"e"]
["lundi","2025-06-16",{"$nulls":6},"e"]
["mardi","2025-06-17",{"$nulls":6},"e"]
["mercredi","2025-06-18",{"$nulls":6},"e"]
["jeudi","2025-06-19",{"$nulls":6},"e"]
["vendredi","2025-06-20"]
["samedi","2025-06-21"]
["dimanche","2025-06-22"]
["lundi","2025-06-23"]
["mardi","2025-06-24"]
["mercredi","2025-06-25"]
["jeudi","2025-06-26"]
["vendredi","2025-06-27",{"$nulls":6},"e"]
["samedi","2025-06-28",{"$nulls":6},"e"]
["dimanche","2025-06-29",{"$nulls":6},"e"]
["lundi","2025-06-30",{"$nulls":6},"e"]
["mardi","2025-07-01",{"$nulls":6},"e"]
["mercredi","2025-07-02",{"$nulls":6},"e"]
["jeudi","2025-07-03",{"$nulls":6},"e"]
["vendredi","2025-07-04"]
["samedi","2025-07-05"]
["dimanche","2025-07-06"]
["lundi","2025-07-07"]
["mardi","2025-07-08"]
["mercredi","2025-07-09"]
["jeudi","2025-07-10"]
["vendredi","2025-07-11"]
["samedi","2025-07-12"]
["dimanche","2025-07-13"]
["lundi","2025-07-14"]
["mardi","2025-07-15"]
["mercredi","2025-07-16"]
["jeudi","2025-07-17"]
["vendredi","2025-07-18",{"$nulls":6},"e"]
["samedi","2025-07-19",{"$nulls":6},"e"]
["dimanche","2025-07-20",{"$nulls":6},"e"]
["lundi","2025-07-21",{"$nulls":6},"e"]
["mardi","2025-07-22",{"$nulls":6},"e"]
["mercredi","2025-07-23",{"$nulls":6},"e"]
["jeudi","2025-07-24",{"$nulls":6},"e"]
["vendredi","2025-07-25",{"$nulls":6},"e"]
["samedi","2025-07-26",{"$nulls":6},"e"]
["dimanche","2025-07-27",{"$nulls":6},"e"]
["lundi","2025-07-28",{"$nulls":6},"e"]
["mardi","2025-07-29",{"$nulls":6},"e"]
["mercredi","2025-07-30",{"$nulls":6},"e"]
["jeudi","2025-07-31",{"$nulls":6},"e"]
["vendredi","2025-08-01"]
["samedi","2025-08-02"]
["dimanche","2025-08-03"]
["lundi","2025-08-04"]
["mardi","2025-08-05"]
["mercredi","2025-08-06"]
["jeudi","2025-08-07"]
["vendredi","2025-08-08"]
["samedi","2025-08-09"]
["dimanche","2025-08-10"]
["lundi","2025-08-11"]
["mardi","2025-08-12"]
["mercredi","2025-08-13"]
["jeudi","2025-08-14"]
["vendredi","2025-08-15",{"$nulls":6},"e"]
["samedi","2025-08-16",{"$nulls":6},"e"]
["dimanche","2025-08-17",{"$nulls":6},"e"]
["lundi","2025-08-18",{"$nulls":6},"e"]
["mardi","2025-08-19",{"$nulls":6},"e"]
["mercredi","2025-08-20",{"$nulls":6},"e"]
["jeudi","2025-08-21",{"$nulls":6},"e"]
["vendredi","2025-08-22",{"$nulls":6},"e"]
["samedi","2025-08-23",{"$nulls":6},"e"]
["dimanche","2025-08-24",{"$nulls":6},"e"]
["lundi","2025-08-25",{"$nulls":6},"e"]
["mardi","2025-08-26",{"$nulls":6},"e"]
["mercredi","2025-08-27",{"$nulls":6},"e"]
["jeudi","2025-08-28",{"$nulls":6},"e"]
["vendredi","2025-08-29"]
["samedi","2025-08-30"]
["dimanche","2025-08-31"]
["lundi","2025-09-01"]
["mardi","2025-09-02"]
["mercredi","2025-09-03"]
["jeudi","2025-09-04"]
["vendredi","2025-09-05",{"$nulls":6},"e"]
["samedi","2025-09-06",{"$nulls":6},"e"]
["dimanche","2025-09-07",{"$nulls":6},"e"]
["lundi","2025-09-08",{"$nulls":6},"e"]
["mardi","2025-09-09",{"$nulls":6},"e"]
["mercredi","2025-09-10",{"$nulls":6},"e"]
["jeudi","2025-09-11",{"$nulls":6},"e"]
["vendredi","2025-09-12","GN BR2 S2"]
["samedi","2025-09-13","GN BR2 S2"]
["dimanche","2025-09-14","GN BR2 S2"]

{"sheet":"validés","index":5,"n_rows":228,"n_cols":23,"rows_kept":228,"cut":false,"hidden":false,"merged":[]}
[null,{"$f":"COUNTA(B3:B221)","v":147},{"$nulls":5},{"$f":"COUNTA(B3:B221)","v":147}]
["date\npré-inscription","NOM","Prénom","Genre","age","E-MAIL","FB","Tél","souhait type\nparticipation","Personnage\nattribué","souhait\nsession","souhait : fort  OU\nfort &é navire","relances \n+ acceptation","session\nattribuée","Lieu","somme\nversée","état PAF","photo ?","compétence medicale","arrivée"]
[{"$f":"IFERROR(__xludf.DUMMYFUNCTION(\"QUERY('remplissage du jeu'!A14:AA218, \"\"select * where M='OK'\"\")\"),45303.0)","v":"2024-01-12"},{"$f":"IFERROR(__xludf.DUMMYFUNCTION(\"\"\"COMPUTED_VALUE\"\"\"),\"ARVIN-BEROD \")","v":"ARVIN-BEROD "},{"$f":"IFERROR(__xludf.DUMMYFUNCTION(\"\"\"COMPUTED_VALUE\"\"\"),\"Florence\")","v":"Florence"},{"$f":"IFERROR(__xludf.DUMMYFUNCTION(\"\"\"COMPUTED_VALUE\"\"\"),\"F\")","v":"F"},{"$f":"IFERROR(__xludf.DUMMYFUNCTION(\"\"\"COMPUTED_VALUE\"\"\"),33.0)","v":33},{"$f":"IFERROR(__xludf.DUMMYFUNCTION(\"\"\"COMPUTED_VALUE\"\"\"),\"flofloab@yahoo.fr\")","v":"flofloab@yahoo.fr"},{"$f":"IFERROR(__xludf.DUMMYFUNCTION(\"\"\"COMPUTED_VALUE\"\"\"),\"Florence ARVIN-BEROD \")","v":"Florence ARVIN-BEROD "},{"$f":"IFERROR(__xludf.DUMMYFUNCTION(\"\"\"COMPUTED_VALUE\"\"\"),\"0617161474\")","v":"0617161474"},{"$f":"IFERROR(__xludf.DUMMYFUNCTION(\"\"\"COMPUTED_VALUE\"\"\"),\"Pur PJ\")","v":"Pur PJ"},{"$f":"IFERROR(__xludf.DUMMYFUNCTION(\"\"\"COMPUTED_VALUE\"\"\"),\"-\")","v":"-"},{"$f":"IFERROR(__xludf.DUMMYFUNCTION(\"\"\"COMPUTED_VALUE\"\"\"),\"juin\")","v":"juin"},{"$f":"IFERROR(__xludf.DUMMYFUNCTION(\"\"\"COMPUTED_VALUE\"\"\"),\"Navire et fort\")","v":"Navire et fort"},{"$f":"IFERROR(__xludf.DUMMYFUNCTION(\"\"\"COMPUTED_VALUE\"\"\"),\"OK\")","v":"OK"},{"$f":"IFERROR(__xludf.DUMMYFUNCTION(\"\"\"COMPUTED_VALUE\"\"\"),\"OK\")","v":"OK"},{"$f":"IFERROR(__xludf.DUMMYFUNCTION(\"\"\"COMPUTED_VALUE\"\"\"),\"juin\")","v":"juin"},{"$f":"IFERROR(__xludf.DUMMYFUNCTION(\"\"\"COMPUTED_VALUE\"\"\"),\"Navire & Fort\")","v":"Navire & Fort"},{"$f":"IFERROR(__xludf.DUMMYFUNCTION(\"\"\"COMPUTED_VALUE\"\"\"),400.0)","v":400},{"$f":"IFERROR(__xludf.DUMMYFUNCTION(\"\"\"COMPUTED_VALUE\"\"\"),\"PAF finalisée\")","v":"PAF finalisée"},{"$f":"IFERROR(__xludf.DUMMYFUNCTION(\"\"\"COMPUTED_VALUE\"\"\"),\"non reçue\")","v":"non reçue"},{"$f":"IFERROR(__xludf.DUMMYFUNCTION(\"\"\"COMPUTED_VALUE\"\"\"),\"R.A.S.\")","v":"R.A.S."},{"$f":"IFERROR(__xludf.DUMMYFUNCTION(\"\"\"COMPUTED_VALUE\"\"\"),\"samedi\")","v":"samedi"},{"$f":"IFERROR(__xludf.DUMMYFUNCTION(\"\"\"COMPUTED_VALUE\"\"\"),\"Reste\")","v":"Reste"}]
[{"$f":"IFERROR(__xludf.DUMMYFUNCTION(\"\"\"COMPUTED_VALUE\"\"\"),45303.0)","v":"2024-01-12"},{"$f":"IFERROR(__xludf.DUMMYFUNCTION(\"\"\"COMPUTED_VALUE\"\"\"),\"Bergeret \")","v":"Bergeret "},{"$f":"IFERROR(__xludf.DUMMYFUNCTION(\"\"\"COMPUTED_VALUE\"\"\"),\"Mathieu / Leo Gueguen ,dit la teigne\")","v":"Mathieu / Leo Gueguen ,dit la teigne"},{"$f":"IFERROR(__xludf.DUMMYFUNCTION(\"\"\"COMPUTED_VALUE\"\"\"),\"H\")","v":"H"},{"$f":"IFERROR(__xludf.DUMMYFUNCTION(\"\"\"COMPUTED_VALUE\"\"\"),38.0)","v":38},{"$f":"IFERROR(__xludf.DUMMYFUNCTION(\"\"\"COMPUTED_VALUE\"\"\"),\"bergeretmathieu.pro@gmail.com\")","v":"bergeretmathieu.pro@gmail.com"},{"$f":"IFERROR(__xludf.DUMMYFUNCTION(\"\"\"COMPUTED_VALUE\"\"\"),\"Spoiler TheThird \")","v":"Spoiler TheThird "},{"$f":"IFERROR(__xludf.DUMMYFUNCTION(\"\"\"COMPUTED_VALUE\"\"\"),\"0684346225\")","v":"0684346225"},{"$f":"IFERROR(__xludf.DUMMYFUNCTION(\"\"\"COMPUTED_VALUE\"\"\"),\"Pur PJ\")","v":"Pur PJ"},{"$f":"IFERROR(__xludf.DUMMYFUNCTION(\"\"\"COMPUTED_VALUE\"\"\"),\"-\")","v":"-"},{"$f":"IFERROR(__xludf.DUMMYFUNCTION(\"\"\"COMPUTED_VALUE\"\"\"),\"Non précisé\")","v":"Non précisé"},{"$f":"IFERROR(__xludf.DUMMYFUNCTION(\"\"\"COMPUTED_VALUE\"\"\"),\"Navire et fort\")","v":"Navire et fort"},{"$f":"IFERROR(__xludf.DUMMYFUNCTION(\"\"\"COMPUTED_VALUE\"\"\"),\"OK\")","v":"OK"},{"$f":"IFERROR(__xludf.DUMMYFUNCTION(\"\"\"COMPUTED_VALUE\"\"\"),\"OK\")","v":"OK"},{"$f":"IFERROR(__xludf.DUMMYFUNCTION(\"\"\"COMPUTED_VALUE\"\"\"),\"juin\")","v":"juin"},{"$f":"IFERROR(__xludf.DUMMYFUNCTION(\"\"\"COMPUTED_VALUE\"\"\"),\"Navire & Fort\")","v":"Navire & Fort"},{"$f":"IFERROR(__xludf.DUMMYFUNCTION(\"\"\"COMPUTED_VALUE\"\"\"),400.5)","v":400.5},{"$f":"IFERROR(__xludf.DUMMYFUNCTION(\"\"\"COMPUTED_VALUE\"\"\"),\"PAF finalisée\")","v":"PAF finalisée"},{"$f":"IFERROR(__xludf.DUMMYFUNCTION(\"\"\"COMPUTED_VALUE\"\"\"),\"non reçue\")","v":"non reçue"},{"$f":"IFERROR(__xludf.DUMMYFUNCTION(\"\"\"COMPUTED_VALUE\"\"\"),\"R.A.S.\")","v":"R.A.S."},{"$f":"IFERROR(__xludf.DUMMYFUNCTION(\"\"\"COMPUTED_VALUE\"\"\"),\"samedi\")","v":"samedi"},{"$f":"IFERROR(__xludf.DUMMYFUNCTION(\"\"\"COMPUTED_VALUE\"\"\"),\"Reste\")","v":"Reste"}]
[{"$f":"IFERROR(__xludf.DUMMYFUNCTION(\"\"\"COMPUTED_VALUE\"\"\"),45303.0)","v":"2024-01-12"},{"$f":"IFERROR(__xludf.DUMMYFUNCTION(\"\"\"COMPUTED_VALUE\"\"\"),\"BUCAS\")","v":"BUCAS"},{"$f":"IFERROR(__xludf.DUMMYFUNCTION(\"\"\"COMPUTED_VALUE\"\"\"),\"Ced\")","v":"Ced"},{"$f":"IFERROR(__xludf.DUMMYFUNCTION(\"\"\"COMPUTED_VALUE\"\"\"),\"H\")","v":"H"},{"$f":"IFERROR(__xludf.DUMMYFUNCTION(\"\"\"COMPUTED_VALUE\"\"\"),50.0)","v":50},{"$f":"IFERROR(__xludf.DUMMYFUNCTION(\"\"\"COMPUTED_VALUE\"\"\"),\"sacub@sfr.fr\")","v":"sacub@sfr.fr"},{"$f":"IFERROR(__xludf.DUMMYFUNCTION(\"\"\"COMPUTED_VALUE\"\"\"),\"Cire de Sacub\")","v":"Cire de Sacub"},{"$f":"IFERROR(__xludf.DUMMYFUNCTION(\"\"\"COMPUTED_VALUE\"\"\"),\"0675585665\")","v":"0675585665"},{"$f":"IFERROR(__xludf.DUMMYFUNCTION(\"\"\"COMPUTED_VALUE\"\"\"),\"Pur PJ\")","v":"Pur PJ"},{"$f":"IFERROR(__xludf.DUMMYFUNCTION(\"\"\"COMPUTED_VALUE\"\"\"),\"-\")","v":"-"},{"$f":"IFERROR(__xludf.DUMMYFUNCTION(\"\"\"COMPUTED_VALUE\"\"\"),\"Non précisé\")","v":"Non précisé"},{"$f":"IFERROR(__xludf.DUMMYFUNCTION(\"\"\"COMPUTED_VALUE\"\"\"),\"Navire et fort\")","v":"Navire et fort"},{"$f":"IFERROR(__xludf.DUMMYFUNCTION(\"\"\"COMPUTED_VALUE\"\"\"),\"OK\")","v":"OK"},{"$f":"IFERROR(__xludf.DUMMYFUNCTION(\"\"\"COMPUTED_VALUE\"\"\"),\"OK\")","v":"OK"},{"$f":"IFERROR(__xludf.DUMMYFUNCTION(\"\"\"COMPUTED_VALUE\"\"\"),\"juin\")","v":"juin"},{"$f":"IFERROR(__xludf.DUMMYFUNCTION(\"\"\"COMPUTED_VALUE\"\"\"),\"Navire & Fort\")","v":"Navire & Fort"},{"$f":"IFERROR(__xludf.DUMMYFUNCTION(\"\"\"COMPUTED_VALUE\"\"\"),400.0)","v":400},{"$f":"IFERROR(__xludf.DUMMYFUNCTION(\"\"\"COMPUTED_VALUE\"\"\"),\"PAF finalisée\")","v":"PAF finalisée"},{"$f":"IFERROR(__xludf.DUMMYFUNCTION(\"\"\"COMPUTED_VALUE\"\"\"),\"non reçue\")","v":"non reçue"},{"$f":"IFERROR(__xludf.DUMMYFUNCTION(\"\"\"COMPUTED_VALUE\"\"\"),\"R.A.S.\")","v":"R.A.S."},{"$f":"IFERROR(__xludf.DUMMYFUNCTION(\"\"\"COMPUTED_VALUE\"\"\"),\"samedi\")","v":"samedi"},{"$f":"IFERROR(__xludf.DUMMYFUNCTION(\"\"\"COMPUTED_VALUE\"\"\"),\"Reste\")","v":"Reste"}]
[{"$f":"IFERROR(__xludf.DUMMYFUNCTION(\"\"\"COMPUTED_VALUE\"\"\"),45303.0)","v":"2024-01-12"},{"$f":"IFERROR(__xludf.DUMMYFUNCTION(\"\"\"COMPUTED_VALUE\"\"\"),\"CERUTTI\")","v":"CERUTTI"},{"$f":"IFERROR(__xludf.DUMMYFUNCTION(\"\"\"COMPUTED_VALUE\"\"\"),\"Laëtitia\")","v":"Laëtitia"},{"$f":"IFERROR(__xludf.DUMMYFUNCTION(\"\"\"COMPUTED_VALUE\"\"\"),\"F\")","v":"F"},{"$f":"IFERROR(__xludf.DUMMYFUNCTION(\"\"\"COMPUTED_VALUE\"\"\"),35.0)","v":35},{"$f":"IFERROR(__xludf.DUMMYFUNCTION(\"\"\"COMPUTED_VALUE\"\"\"),\"laetitia.cerutti@gozmail.bzh\")","v":"laetitia.cerutti@gozmail.bzh"},{"$f":"IFERROR(__xludf.DUMMYFUNCTION(\"\"\"COMPUTED_VALUE\"\"\"),\"Laëtitia Elune\")","v":"Laëtitia Elune"},{"$f":"IFERROR(__xludf.DUMMYFUNCTION(\"\"\"COMPUTED_VALUE\"\"\"),\"689400155\")","v":"689400155"},{"$f":"IFERROR(__xludf.DUMMYFUNCTION(\"\"\"COMPUTED_VALUE\"\"\"),\"PJ+PNJ\")","v":"PJ+PNJ"},{"$f":"IFERROR(__xludf.DUMMYFUNCTION(\"\"\"COMPUTED_VALUE\"\"\"),\"-\")","v":"-"},{"$f":"IFERROR(__xludf.DUMMYFUNCTION(\"\"\"COMPUTED_VALUE\"\"\"),\"Non précisé\")","v":"Non précisé"},{"$f":"IFERROR(__xludf.DUMMYFUNCTION(\"\"\"COMPUTED_VALUE\"\"\"),\"Navire et fort\")","v":"Navire et fort"},{"$f":"IFERROR(__xludf.DUMMYFUNCTION(\"\"\"COMPUTED_VALUE\"\"\"),\"OK\")","v":"OK"},{"$f":"IFERROR(__xludf.DUMMYFUNCTION(\"\"\"COMPUTED_VALUE\"\"\"),\"OK\")","v":"OK"},{"$f":"IFERROR(__xludf.DUMMYFUNCTION(\"\"\"COMPUTED_VALUE\"\"\"),\"juin\")","v":"juin"},{"$f":"IFERROR(__xludf.DUMMYFUNCTION(\"\"\"COMPUTED_VALUE\"\"\"),\"Navire & Fort\")","v":"Navire & Fort"},{"$f":"IFERROR(__xludf.DUMMYFUNCTION(\"\"\"COMPUTED_VALUE\"\"\"),400.0)","v":400},{"$f":"IFERROR(__xludf.DUMMYFUNCTION(\"\"\"COMPUTED_VALUE\"\"\"),\"PAF finalisée\")","v":"PAF finalisée"},{"$f":"IFERROR(__xludf.DUMMYFUNCTION(\"\"\"COMPUTED_VALUE\"\"\"),\"non reçue\")","v":"non reçue"},{"$f":"IFERROR(__xludf.DUMMYFUNCTION(\"\"\"COMPUTED_VALUE\"\"\"),\"R.A.S.\")","v":"R.A.S."},{"$f":"IFERROR(__xludf.DUMMYFUNCTION(\"\"\"COMPUTED_VALUE\"\"\"),\"samedi\")","v":"samedi"},{"$f":"IFERROR(__xludf.DUMMYFUNCTION(\"\"\"COMPUTED_VALUE\"\"\"),\"Reste\")","v":"Reste"}]
[{"$f":"IFERROR(__xludf.DUMMYFUNCTION(\"\"\"COMPUTED_VALUE\"\"\"),45326.0)","v":"2024-02-04"},{"$f":"IFERROR(__xludf.DUMMYFUNCTION(\"\"\"COMPUTED_VALUE\"\"\"),\"Culot \")","v":"Culot "},{"$f":"IFERROR(__xludf.DUMMYFUNCTION(\"\"\"COMPUTED_VALUE\"\"\"),\"Grégoire\")","v":"Grégoire"},{"$f":"IFERROR(__xludf.DUMMYFUNCTION(\"\"\"COMPUTED_VALUE\"\"\"),\"H\")","v":"H"},{"$f":"IFERROR(__xludf.DUMMYFUNCTION(\"\"\"COMPUTED_VALUE\"\"\"),40.0)","v":40},{"$f":"IFERROR(__xludf.DUMMYFUNCTION(\"\"\"COMPUTED_VALUE\"\"\"),\"gregoire.culot@gmail.com\")","v":"gregoire.culot@gmail.com"},{"$f":"IFERROR(__xludf.DUMMYFUNCTION(\"\"\"COMPUTED_VALUE\"\"\"),\"Grégoire Culot\")","v":"Grégoire Culot"},{"$f":"IFERROR(__xludf.DUMMYFUNCTION(\"\"\"COMPUTED_VALUE\"\"\"),\"0672817191\")","v":"0672817191"},{"$f":"IFERROR(__xludf.DUMMYFUNCTION(\"\"\"COMPUTED_VALUE\"\"\"),\"Pur PJ\")","v":"Pur PJ"},{"$f":"IFERROR(__xludf.DUMMYFUNCTION(\"\"\"COMPUTED_VALUE\"\"\"),\"-\")","v":"-"},{"$f":"IFERROR(__xludf.DUMMYFUNCTION(\"\"\"COMPUTED_VALUE\"\"\"),\"juin\")","v":"juin"},{"$f":"IFERROR(__xludf.DUMMYFUNCTION(\"\"\"COMPUTED_VALUE\"\"\"),\"Navire et fort\")","v":"Navire et fort"},{"$f":"IFERROR(__xludf.DUMMYFUNCTION(\"\"\"COMPUTED_VALUE\"\"\"),\"OK\")","v":"OK"},{"$f":"IFERROR(__xludf.DUMMYFUNCTION(\"\"\"COMPUTED_VALUE\"\"\"),\"OK\")","v":"OK"},{"$f":"IFERROR(__xludf.DUMMYFUNCTION(\"\"\"COMPUTED_VALUE\"\"\"),\"non attribué\")","v":"non attribué"},{"$f":"IFERROR(__xludf.DUMMYFUNCTION(\"\"\"COMPUTED_VALUE\"\"\"),\"non attribué\")","v":"non attribué"},null,{"$f":"IFERROR(__xludf.DUMMYFUNCTION(\"\"\"COMPUTED_VALUE\"\"\"),\"PAF non reçue\")","v":"PAF non reçue"},{"$f":"IFERROR(__xludf.DUMMYFUNCTION(\"\"\"COMPUTED_VALUE\"\"\"),\"non reçue\")","v":"non reçue"},{"$f":"IFERROR(__xludf.DUMMYFUNCTION(\"\"\"COMPUTED_VALUE\"\"\"),\"R.A.S.\")","v":"R.A.S."},{"$f":"IFERROR(__xludf.DUMMYFUNCTION(\"\"\"COMPUTED_VALUE\"\"\"),\"samedi\")","v":"samedi"},{"$f":"IFERROR(__xludf.DUMMYFUNCTION(\"\"\"COMPUTED_VALUE\"\"\"),\"Reste\")","v":"Reste"}]
[{"$f":"IFERROR(__xludf.DUMMYFUNCTION(\"\"\"COMPUTED_VALUE\"\"\"),45390.0)","v":"2024-04-08"},{"$f":"IFERROR(__xludf.DUMMYFUNCTION(\"\"\"COMPUTED_VALUE\"\"\"),\"David\")","v":"David"},{"$f":"IFERROR(__xludf.DUMMYFUNCTION(\"\"\"COMPUTED_VALUE\"\"\"),\"Cédric\")","v":"Cédric"},{"$f":"IFERROR(__xludf.DUMMYFUNCTION(\"\"\"COMPUTED_VALUE\"\"\"),\"H\")","v":"H"},{"$f":"IFERROR(__xludf.DUMMYFUNCTION(\"\"\"COMPUTED_VALUE\"\"\"),44.0)","v":44},{"$f":"IFERROR(__xludf.DUMMYFUNCTION(\"\"\"COMPUTED_VALUE\"\"\"),\"tremblechene@gmail.com\")","v":"tremblechene@gmail.com"},{"$f":"IFERROR(__xludf.DUMMYFUNCTION(\"\"\"COMPUTED_VALUE\"\"\"),\"cédric abitbol\")","v":"cédric abitbol"},{"$f":"IFERROR(__xludf.DUMMYFUNCTION(\"\"\"COMPUTED_VALUE\"\"\"),\"0695107890\")","v":"0695107890"},{"$f":"IFERROR(__xludf.DUMMYFUNCTION(\"\"\"COMPUTED_VALUE\"\"\"),\"PJ+PNJ\")","v":"PJ+PNJ"},{"$f":"IFERROR(__xludf.DUMMYFUNCTION(\"\"\"COMPUTED_VALUE\"\"\"),\"-\")","v":"-"},{"$f":"IFERROR(__xludf.DUMMYFUNCTION(\"\"\"COMPUTED_VALUE\"\"\"),\"septembre\")","v":"septembre"},{"$f":"IFERROR(__xludf.DUMMYFUNCTION(\"\"\"COMPUTED_VALUE\"\"\"),\"Peu importe\")","v":"Peu importe"},{"$f":"IFERROR(__xludf.DUMMYFUNCTION(\"\"\"COMPUTED_VALUE\"\"\"),\"OK\")","v":"OK"},{"$f":"IFERROR(__xludf.DUMMYFUNCTION(\"\"\"COMPUTED_VALUE\"\"\"),\"OK\")","v":"OK"},{"$f":"IFERROR(__xludf.DUMMYFUNCTION(\"\"\"COMPUTED_VALUE\"\"\"),\"septembre\")","v":"septembre"},{"$f":"IFERROR(__xludf.DUMMYFUNCTION(\"\"\"COMPUTED_VALUE\"\"\"),\"Navire & Fort\")","v":"Navire & Fort"},{"$f":"IFERROR(__xludf.DUMMYFUNCTION(\"\"\"COMPUTED_VALUE\"\"\"),405.5)","v":405.5},{"$f":"IFERROR(__xludf.DUMMYFUNCTION(\"\"\"COMPUTED_VALUE\"\"\"),\"PAF finalisée\")","v":"PAF finalisée"},{"$f":"IFERROR(__xludf.DUMMYFUNCTION(\"\"\"COMPUTED_VALUE\"\"\"),\"non reçue\")","v":"non reçue"},{"$f":"IFERROR(__xludf.DUMMYFUNCTION(\"\"\"COMPUTED_VALUE\"\"\"),\"R.A.S.\")","v":"R.A.S."},{"$f":"IFERROR(__xludf.DUMMYFUNCTION(\"\"\"COMPUTED_VALUE\"\"\"),\"samedi\")","v":"samedi"},{"$f":"IFERROR(__xludf.DUMMYFUNCTION(\"\"\"COMPUTED_VALUE\"\"\"),\"Reste\")","v":"Reste"}]
[{"$f":"IFERROR(__xludf.DUMMYFUNCTION(\"\"\"COMPUTED_VALUE\"\"\"),45446.0)","v":"2024-06-03"},{"$f":"IFERROR(__xludf.DUMMYFUNCTION(\"\"\"COMPUTED_VALUE\"\"\"),\"De Maupertuis\")","v":"De Maupertuis"},{"$f":"IFERROR(__xludf.DUMMYFUNCTION(\"\"\"COMPUTED_VALUE\"\"\"),\"Renart\")","v":"Renart"},{"$f":"IFERROR(__xludf.DUMMYFUNCTION(\"\"\"COMPUTED_VALUE\"\"\"),\"H\")","v":"H"},{"$f":"IFERROR(__xludf.DUMMYFUNCTION(\"\"\"COMPUTED_VALUE\"\"\"),44.0)","v":44},{"$f":"IFERROR(__xludf.DUMMYFUNCTION(\"\"\"COMPUTED_VALUE\"\"\"),\"mithridate.vi@gmail.com\")","v":"mithridate.vi@gmail.com"},{"$f":"IFERROR(__xludf.DUMMYFUNCTION(\"\"\"COMPUTED_VALUE\"\"\"),\"Renart de Maupertuis\")","v":"Renart de Maupertuis"},{"$f":"IFERROR(__xludf.DUMMYFUNCTION(\"\"\"COMPUTED_VALUE\"\"\"),\"0617175397\")","v":"0617175397"},{"$f":"IFERROR(__xludf.DUMMYFUNCTION(\"\"\"COMPUTED_VALUE\"\"\"),\"Pur PJ\")","v":"Pur PJ"},{"$f":"IFERROR(__xludf.DUMMYFUNCTION(\"\"\"COMPUTED_VALUE\"\"\"),\"-\")","v":"-"},{"$f":"IFERROR(__xludf.DUMMYFUNCTION(\"\"\"COMPUTED_VALUE\"\"\"),\"Les deux\")","v":"Les deux"},{"$f":"IFERROR(__xludf.DUMMYFUNCTION(\"\"\"COMPUTED_VALUE\"\"\"),\"Navire et fort\")","v":"Navire et fort"},{"$f":"IFERROR(__xludf.DUMMYFUNCTION(\"\"\"COMPUTED_VALUE\"\"\"),\"OK\")","v":"OK"},{"$f":"IFERROR(__xludf.DUMMYFUNCTION(\"\"\"COMPUTED_VALUE\"\"\"),\"OK\")","v":"OK"},{"$f":"IFERROR(__xludf.DUMMYFUNCTION(\"\"\"COMPUTED_VALUE\"\"\"),\"septembre\")","v":"septembre"},{"$f":"IFERROR(__xludf.DUMMYFUNCTION(\"\"\"COMPUTED_VALUE\"\"\"),\"Navire & Fort\")","v":"Navire & Fort"},{"$f":"IFERROR(__xludf.DUMMYFUNCTION(\"\"\"COMPUTED_VALUE\"\"\"),400.0)","v":400},{"$f":"IFERROR(__xludf.DUMMYFUNCTION(\"\"\"COMPUTED_VALUE\"\"\"),\"PAF finalisée\")","v":"PAF finalisée"},{"$f":"IFERROR(__xludf.DUMMYFUNCTION(\"\"\"COMPUTED_VALUE\"\"\"),\"non reçue\")","v":"non reçue"},{"$f":"IFERROR(__xludf.DUMMYFUNCTION(\"\"\"COMPUTED_VALUE\"\"\"),\"R.A.S.\")","v":"R.A.S."},{"$f":"IFERROR(__xludf.DUMMYFUNCTION(\"\"\"COMPUTED_VALUE\"\"\"),\"samedi\")","v":"samedi"},{"$f":"IFERROR(__xludf.DUMMYFUNCTION(\"\"\"COMPUTED_VALUE\"\"\"),\"Reste\")","v":"Reste"}]
[{"$f":"IFERROR(__xludf.DUMMYFUNCTION(\"\"\"COMPUTED_VALUE\"\"\"),45465.0)","v":"2024-06-22"},{"$f":"IFERROR(__xludf.DUMMYFUNCTION(\"\"\"COMPUTED_VALUE\"\"\"),\"DELAPORTE\")","v":"DELAPORTE"},{"$f":"IFERROR(__xludf.DUMMYFUNCTION(\"\"\"COMPUTED_VALUE\"\"\"),\"Arnaud\")","v":"Arnaud"},{"$f":"IFERROR(__xludf.DUMMYFUNCTION(\"\"\"COMPUTED_VALUE\"\"\"),\"H\")","v":"H"},{"$f":"IFERROR(__xludf.DUMMYFUNCTION(\"\"\"COMPUTED_VALUE\"\"\"),48.0)","v":48},{"$f":"IFERROR(__xludf.DUMMYFUNCTION(\"\"\"COMPUTED_VALUE\"\"\"),\"lordfiendel@wanadoo.fr\")","v":"lordfiendel@wanadoo.fr"},{"$f":"IFERROR(__xludf.DUMMYFUNCTION(\"\"\"COMPUTED_VALUE\"\"\"),\"Arnaud Delaporte\")","v":"Arnaud Delaporte"},{"$f":"IFERROR(__xludf.DUMMYFUNCTION(\"\"\"COMPUTED_VALUE\"\"\"),\"0660682995\")","v":"0660682995"},{"$f":"IFERROR(__xludf.DUMMYFUNCTION(\"\"\"COMPUTED_VALUE\"\"\"),\"PJ+PNJ\")","v":"PJ+PNJ"},{"$f":"IFERROR(__xludf.DUMMYFUNCTION(\"\"\"COMPUTED_VALUE\"\"\"),\"-\")","v":"-"},{"$f":"IFERROR(__xludf.DUMMYFUNCTION(\"\"\"COMPUTED_VALUE\"\"\"),\"Les deux\")","v":"Les deux"},{"$f":"IFERROR(__xludf.DUMMYFUNCTION(\"\"\"COMPUTED_VALUE\"\"\"),\"Peu importe\")","v":"Peu importe"},{"$f":"IFERROR(__xludf.DUMMYFUNCTION(\"\"\"COMPUTED_VALUE\"\"\"),\"OK\")","v":"OK"},{"$f":"IFERROR(__xludf.DUMMYFUNCTION(\"\"\"COMPUTED_VALUE\"\"\"),\"OK\")","v":"OK"},{"$f":"IFERROR(__xludf.DUMMYFUNCTION(\"\"\"COMPUTED_VALUE\"\"\"),\"juin\")","v":"juin"},{"$f":"IFERROR(__xludf.DUMMYFUNCTION(\"\"\"COMPUTED_VALUE\"\"\"),\"Navire & Fort\")","v":"Navire & Fort"},{"$f":"IFERROR(__xludf.DUMMYFUNCTION(\"\"\"COMPUTED_VALUE\"\"\"),400.0)","v":400},{"$f":"IFERROR(__xludf.DUMMYFUNCTION(\"\"\"COMPUTED_VALUE\"\"\"),\"PAF finalisée\")","v":"PAF finalisée"},{"$f":"IFERROR(__xludf.DUMMYFUNCTION(\"\"\"COMPUTED_VALUE\"\"\"),\"non reçue\")","v":"non reçue"},{"$f":"IFERROR(__xludf.DUMMYFUNCTION(\"\"\"COMPUTED_VALUE\"\"\"),\"R.A.S.\")","v":"R.A.S."},{"$f":"IFERROR(__xludf.DUMMYFUNCTION(\"\"\"COMPUTED_VALUE\"\"\"),\"samedi\")","v":"samedi"},{"$f":"IFERROR(__xludf.DUMMYFUNCTION(\"\"\"COMPUTED_VALUE\"\"\"),\"Reste\")","v":"Reste"}]
[{"$f":"IFERROR(__xludf.DUMMYFUNCTION(\"\"\"COMPUTED_VALUE\"\"\"),45310.0)","v":"2024-01-19"},{"$f":"IFERROR(__xludf.DUMMYFUNCTION(\"\"\"COMPUTED_VALUE\"\"\"),\"Dumas\")","v":"Dumas"},{"$f":"IFERROR(__xludf.DUMMYFUNCTION(\"\"\"COMPUTED_VALUE\"\"\"),\"Marc\")","v":"Marc"},{"$f":"IFERROR(__xludf.DUMMYFUNCTION(\"\"\"COMPUTED_VALUE\"\"\"),\"H\")","v":"H"},{"$f":"IFERROR(__xludf.DUMMYFUNCTION(\"\"\"COMPUTED_VALUE\"\"\"),54.0)","v":54},{"$f":"IFERROR(__xludf.DUMMYFUNCTION(\"\"\"COMPUTED_VALUE\"\"\"),\"markal.dumas@gmail.com\")","v":"markal.dumas@gmail.com"},{"$f":"IFERROR(__xludf.DUMMYFUNCTION(\"\"\"COMPUTED_VALUE\"\"\"),\"Marc-Alain Dumas\")","v":"Marc-Alain Dumas"},{"$f":"IFERROR(__xludf.DUMMYFUNCTION(\"\"\"COMPUTED_VALUE\"\"\"),\"0603192840\")","v":"0603192840"},{"$f":"IFERROR(__xludf.DUMMYFUNCTION(\"\"\"COMPUTED_VALUE\"\"\"),\"PJ+PNJ\")","v":"PJ+PNJ"},{"$f":"IFERROR(__xludf.DUMMYFUNCTION(\"\"\"COMPUTED_VALUE\"\"\"),\"-\")","v":"-"},{"$f":"IFERROR(__xludf.DUMMYFUNCTION(\"\"\"COMPUTED_VALUE\"\"\"),\"juin\")","v":"juin"},{"$f":"IFERROR(__xludf.DUMMYFUNCTION(\"\"\"COMPUTED_VALUE\"\"\"),\"Seulement au fort\")","v":"Seulement au fort"},{"$f":"IFERROR(__xludf.DUMMYFUNCTION(\"\"\"COMPUTED_VALUE\"\"\"),\"OK\")","v":"OK"},{"$f":"IFERROR(__xludf.DUMMYFUNCTION(\"\"\"COMPUTED_VALUE\"\"\"),\"OK\")","v":"OK"},{"$f":"IFERROR(__xludf.DUMMYFUNCTION(\"\"\"COMPUTED_VALUE\"\"\"),\"septembre\")","v":"septembre"},{"$f":"IFERROR(__xludf.DUMMYFUNCTION(\"\"\"COMPUTED_VALUE\"\"\"),\"Fort seulement\")","v":"Fort seulement"},{"$f":"IFERROR(__xludf.DUMMYFUNCTION(\"\"\"COMPUTED_VALUE\"\"\"),200.0)","v":200},{"$f":"IFERROR(__xludf.DUMMYFUNCTION(\"\"\"COMPUTED_VALUE\"\"\"),\"PAF finalisée\")","v":"PAF finalisée"},{"$f":"IFERROR(__xludf.DUMMYFUNCTION(\"\"\"COMPUTED_VALUE\"\"\"),\"non reçue\")","v":"non reçue"},{"$f":"IFERROR(__xludf.DUMMYFUNCTION(\"\"\"COMPUTED_VALUE\"\"\"),\"R.A.S.\")","v":"R.A.S."},{"$f":"IFERROR(__xludf.DUMMYFUNCTION(\"\"\"COMPUTED_VALUE\"\"\"),\"samedi\")","v":"samedi"},{"$f":"IFERROR(__xludf.DUMMYFUNCTION(\"\"\"COMPUTED_VALUE\"\"\"),\"Reste\")","v":"Reste"},{"$f":"IFERROR(__xludf.DUMMYFUNCTION(\"\"\"COMPUTED_VALUE\"\"\"),\"à payé pour session juin\")","v":"à payé pour session juin"}]
[{"$f":"IFERROR(__xludf.DUMMYFUNCTION(\"\"\"COMPUTED_VALUE\"\"\"),45332.0)","v":"2024-02-10"},{"$f":"IFERROR(__xludf.DUMMYFUNCTION(\"\"\"COMPUTED_VALUE\"\"\"),\"Duvert\")","v":"Duvert"},{"$f":"IFERROR(__xludf.DUMMYFUNCTION(\"\"\"COMPUTED_VALUE\"\"\"),\"Guy-Roger\")","v":"Guy-Roger"},{"$f":"IFERROR(__xludf.DUMMYFUNCTION(\"\"\"COMPUTED_VALUE\"\"\"),\"H\")","v":"H"},{"$f":"IFERROR(__xludf.DUMMYFUNCTION(\"\"\"COMPUTED_VALUE\"\"\"),49.0)","v":49},{"$f":"IFERROR(__xludf.DUMMYFUNCTION(\"\"\"COMPUTED_VALUE\"\"\"),\"grmuse@yahoo.fr\")","v":"grmuse@yahoo.fr"},{"$f":"IFERROR(__xludf.DUMMYFUNCTION(\"\"\"COMPUTED_VALUE\"\"\"),\"Guy-Roger Duvert\")","v":"Guy-Roger Duvert"},{"$f":"IFERROR(__xludf.DUMMYFUNCTION(\"\"\"COMPUTED_VALUE\"\"\"),\"0616133285\")","v":"0616133285"},{"$f":"IFERROR(__xludf.DUMMYFUNCTION(\"\"\"COMPUTED_VALUE\"\"\"),\"Pur PJ\")","v":"Pur PJ"},{"$f":"IFERROR(__xludf.DUMMYFUNCTION(\"\"\"COMPUTED_VALUE\"\"\"),\"-\")","v":"-"},{"$f":"IFERROR(__xludf.DUMMYFUNCTION(\"\"\"COMPUTED_VALUE\"\"\"),\"septembre\")","v":"septembre"},{"$f":"IFERROR(__xludf.DUMMYFUNCTION(\"\"\"COMPUTED_VALUE\"\"\"),\"Peu importe\")","v":"Peu importe"},{"$f":"IFERROR(__xludf.DUMMYFUNCTION(\"\"\"COMPUTED_VALUE\"\"\"),\"OK\")","v":"OK"},{"$f":"IFERROR(__xludf.DUMMYFUNCTION(\"\"\"COMPUTED_VALUE\"\"\"),\"OK\")","v":"OK"},{"$f":"IFERROR(__xludf.DUMMYFUNCTION(\"\"\"COMPUTED_VALUE\"\"\"),\"septembre\")","v":"septembre"},{"$f":"IFERROR(__xludf.DUMMYFUNCTION(\"\"\"COMPUTED_VALUE\"\"\"),\"Navire & Fort\")","v":"Navire & Fort"},{"$f":"IFERROR(__xludf.DUMMYFUNCTION(\"\"\"COMPUTED_VALUE\"\"\"),405.0)","v":405},{"$f":"IFERROR(__xludf.DUMMYFUNCTION(\"\"\"COMPUTED_VALUE\"\"\"),\"PAF finalisée\")","v":"PAF finalisée"},{"$f":"IFERROR(__xludf.DUMMYFUNCTION(\"\"\"COMPUTED_VALUE\"\"\"),\"non reçue\")","v":"non reçue"},{"$f":"IFERROR(__xludf.DUMMYFUNCTION(\"\"\"COMPUTED_VALUE\"\"\"),\"R.A.S.\")","v":"R.A.S."},{"$f":"IFERROR(__xludf.DUMMYFUNCTION(\"\"\"COMPUTED_VALUE\"\"\"),\"samedi\")","v":"samedi"},{"$f":"IFERROR(__xludf.DUMMYFUNCTION(\"\"\"COMPUTED_VALUE\"\"\"),\"Reste\")","v":"Reste"}]
[{"$f":"IFERROR(__xludf.DUMMYFUNCTION(\"\"\"COMPUTED_VALUE\"\"\"),45461.0)","v":"2024-06-18"},{"$f":"IFERROR(__xludf.DUMMYFUNCTION(\"\"\"COMPUTED_VALUE\"\"\"),\"Fabre\")","v":"Fabre"},{"$f":"IFERROR(__xludf.DUMMYFUNCTION(\"\"\"COMPUTED_VALUE\"\"\"),\"Alexandre\")","v":"Alexandre"},{"$f":"IFERROR(__xludf.DUMMYFUNCTION(\"\"\"COMPUTED_VALUE\"\"\"),\"H\")","v":"H"},{"$f":"IFERROR(__xludf.DUMMYFUNCTION(\"\"\"COMPUTED_VALUE\"\"\"),39.0)","v":39},{"$f":"IFERROR(__xludf.DUMMYFUNCTION(\"\"\"COMPUTED_VALUE\"\"\"),\"alexandre.fabre@free.fr\")","v":"alexandre.fabre@free.fr"},{"$f":"IFERROR(__xludf.DUMMYFUNCTION(\"\"\"COMPUTED_VALUE\"\"\"),\"Alexandre Fabre\")","v":"Alexandre Fabre"},{"$f":"IFERROR(__xludf.DUMMYFUNCTION(\"\"\"COMPUTED_VALUE\"\"\"),\"0607341244\")","v":"0607341244"},{"$f":"IFERROR(__xludf.DUMMYFUNCTION(\"\"\"COMPUTED_VALUE\"\"\"),\"Pur PJ\")","v":"Pur PJ"},{"$f":"IFERROR(__xludf.DUMMYFUNCTION(\"\"\"COMPUTED_VALUE\"\"\"),\"-\")","v":"-"},{"$f":"IFERROR(__xludf.DUMMYFUNCTION(\"\"\"COMPUTED_VALUE\"\"\"),\"Les deux\")","v":"Les deux"},{"$f":"IFERROR(__xludf.DUMMYFUNCTION(\"\"\"COMPUTED_VALUE\"\"\"),\"Navire et fort\")","v":"Navire et fort"},{"$f":"IFERROR(__xludf.DUMMYFUNCTION(\"\"\"COMPUTED_VALUE\"\"\"),\"OK\")","v":"OK"},{"$f":"IFERROR(__xludf.DUMMYFUNCTION(\"\"\"COMPUTED_VALUE\"\"\"),\"OK\")","v":"OK"},{"$f":"IFERROR(__xludf.DUMMYFUNCTION(\"\"\"COMPUTED_VALUE\"\"\"),\"septembre\")","v":"septembre"},{"$f":"IFERROR(__xludf.DUMMYFUNCTION(\"\"\"COMPUTED_VALUE\"\"\"),\"Navire & Fort\")","v":"Navire & Fort"},{"$f":"IFERROR(__xludf.DUMMYFUNCTION(\"\"\"COMPUTED_VALUE\"\"\"),133.5)","v":133.5},{"$f":"IFERROR(__xludf.DUMMYFUNCTION(\"\"\"COMPUTED_VALUE\"\"\"),\"PAF partielle + erreur\")","v":"PAF partielle + erreur"},{"$f":"IFERROR(__xludf.DUMMYFUNCTION(\"\"\"COMPUTED_VALUE\"\"\"),\"non reçue\")","v":"non reçue"},{"$f":"IFERROR(__xludf.DUMMYFUNCTION(\"\"\"COMPUTED_VALUE\"\"\"),\"R.A.S.\")","v":"R.A.S."},{"$f":"IFERROR(__xludf.DUMMYFUNCTION(\"\"\"COMPUTED_VALUE\"\"\"),\"samedi\")","v":"samedi"},{"$f":"IFERROR(__xludf.DUMMYFUNCTION(\"\"\"COMPUTED_VALUE\"\"\"),\"Reste\")","v":"Reste"}]
[{"$f":"IFERROR(__xludf.DUMMYFUNCTION(\"\"\"COMPUTED_VALUE\"\"\"),45303.0)","v":"2024-01-12"},{"$f":"IFERROR(__xludf.DUMMYFUNCTION(\"\"\"COMPUTED_VALUE\"\"\"),\"Faure \")","v":"Faure "},{"$f":"IFERROR(__xludf.DUMMYFUNCTION(\"\"\"COMPUTED_VALUE\"\"\"),\"Guillaume\")","v":"Guillaume"},{"$f":"IFERROR(__xludf.DUMMYFUNCTION(\"\"\"COMPUTED_VALUE\"\"\"),\"H\")","v":"H"},{"$f":"IFERROR(__xludf.DUMMYFUNCTION(\"\"\"COMPUTED_VALUE\"\"\"),36.0)","v":36},{"$f":"IFERROR(__xludf.DUMMYFUNCTION(\"\"\"COMPUTED_VALUE\"\"\"),\"Versangre@gmail.com\")","v":"Versangre@gmail.com"},{"$f":"IFERROR(__xludf.DUMMYFUNCTION(\"\"\"COMPUTED_VALUE\"\"\"),\"Yôm Guillaume Faure \")","v":"Yôm Guillaume Faure "},{"$f":"IFERROR(__xludf.DUMMYFUNCTION(\"\"\"COMPUTED_VALUE\"\"\"),\"0681454981\")","v":"0681454981"},{"$f":"IFERROR(__xludf.DUMMYFUNCTION(\"\"\"COMPUTED_VALUE\"\"\"),\"PJ+PNJ\")","v":"PJ+PNJ"},{"$f":"IFERROR(__xludf.DUMMYFUNCTION(\"\"\"COMPUTED_VALUE\"\"\"),\"-\")","v":"-"},{"$f":"IFERROR(__xludf.DUMMYFUNCTION(\"\"\"COMPUTED_VALUE\"\"\"),\"Non précisé\")","v":"Non précisé"},{"$f":"IFERROR(__xludf.DUMMYFUNCTION(\"\"\"COMPUTED_VALUE\"\"\"),\"Peu importe\")","v":"Peu importe"},{"$f":"IFERROR(__xludf.DUMMYFUNCTION(\"\"\"COMPUTED_VALUE\"\"\"),\"OK\")","v":"OK"},{"$f":"IFERROR(__xludf.DUMMYFUNCTION(\"\"\"COMPUTED_VALUE\"\"\"),\"KO\")","v":"KO"},{"$f":"IFERROR(__xludf.DUMMYFUNCTION(\"\"\"COMPUTED_VALUE\"\"\"),\"juin\")","v":"juin"},{"$f":"IFERROR(__xludf.DUMMYFUNCTION(\"\"\"COMPUTED_VALUE\"\"\"),\"Navire & Fort\")","v":"Navire & Fort"},null,{"$f":"IFERROR(__xludf.DUMMYFUNCTION(\"\"\"COMPUTED_VALUE\"\"\"),\"PAF non reçue\")","v":"PAF non reçue"},{"$f":"IFERROR(__xludf.DUMMYFUNCTION(\"\"\"COMPUTED_VALUE\"\"\"),\"non reçue\")","v":"non reçue"},{"$f":"IFERROR(__xludf.DUMMYFUNCTION(\"\"\"COMPUTED_VALUE\"\"\"),\"R.A.S.\")","v":"R.A.S."},{"$f":"IFERROR(__xludf.DUMMYFUNCTION(\"\"\"COMPUTED_VALUE\"\"\"),\"samedi\")","v":"samedi"},{"$f":"IFERROR(__xludf.DUMMYFUNCTION(\"\"\"COMPUTED_VALUE\"\"\"),\"Reste\")","v":"Reste"}]
[{"$f":"IFERROR(__xludf.DUMMYFUNCTION(\"\"\"COMPUTED_VALUE\"\"\"),45313.0)","v":"2024-01-22"},{"$f":"IFERROR(__xludf.DUMMYFUNCTION(\"\"\"COMPUTED_VALUE\"\"\"),\"GANTET\")","v":"GANTET"},{"$f":"IFERROR(__xludf.DUMMYFUNCTION(\"\"\"COMPUTED_VALUE\"\"\"),\"Guillaume\")","v":"Guillaume"},{"$f":"IFERROR(__xludf.DUMMYFUNCTION(\"\"\"COMPUTED_VALUE\"\"\"),\"H\")","v":"H"},{"$f":"IFERROR(__xludf.DUMMYFUNCTION(\"\"\"COMPUTED_VALUE\"\"\"),40.0)","v":40},{"$f":"IFERROR(__xludf.DUMMYFUNCTION(\"\"\"COMPUTED_VALUE\"\"\"),\"guilland@gmail.com\")","v":"guilland@gmail.com"},{"$f":"IFERROR(__xludf.DUMMYFUNCTION(\"\"\"COMPUTED_VALUE\"\"\"),\"Guillaume GANTET\")","v":"Guillaume GANTET"},{"$f":"IFERROR(__xludf.DUMMYFUNCTION(\"\"\"COMPUTED_VALUE\"\"\"),\"649193710\")","v":"649193710"},{"$f":"IFERROR(__xludf.DUMMYFUNCTION(\"\"\"COMPUTED_VALUE\"\"\"),\"Pur PJ\")","v":"Pur PJ"},{"$f":"IFERROR(__xludf.DUMMYFUNCTION(\"\"\"COMPUTED_VALUE\"\"\"),\"-\")","v":"-"},{"$f":"IFERROR(__xludf.DUMMYFUNCTION(\"\"\"COMPUTED_VALUE\"\"\"),\"Les deux\")","v":"Les deux"},{"$f":"IFERROR(__xludf.DUMMYFUNCTION(\"\"\"COMPUTED_VALUE\"\"\"),\"Navire et fort\")","v":"Navire et fort"},{"$f":"IFERROR(__xludf.DUMMYFUNCTION(\"\"\"COMPUTED_VALUE\"\"\"),\"OK\")","v":"OK"},{"$f":"IFERROR(__xludf.DUMMYFUNCTION(\"\"\"COMPUTED_VALUE\"\"\"),\"OK\")","v":"OK"},{"$f":"IFERROR(__xludf.DUMMYFUNCTION(\"\"\"COMPUTED_VALUE\"\"\"),\"septembre\")","v":"septembre"},{"$f":"IFERROR(__xludf.DUMMYFUNCTION(\"\"\"COMPUTED_VALUE\"\"\"),\"Navire & Fort\")","v":"Navire & Fort"},{"$f":"IFERROR(__xludf.DUMMYFUNCTION(\"\"\"COMPUTED_VALUE\"\"\"),133.5)","v":133.5},{"$f":"IFERROR(__xludf.DUMMYFUNCTION(\"\"\"COMPUTED_VALUE\"\"\"),\"PAF partielle\")","v":"PAF partielle"},{"$f":"IFERROR(__xludf.DUMMYFUNCTION(\"\"\"COMPUTED_VALUE\"\"\"),\"non reçue\")","v":"non reçue"},{"$f":"IFERROR(__xludf.DUMMYFUNCTION(\"\"\"COMPUTED_VALUE\"\"\"),\"R.A.S.\")","v":"R.A.S."},{"$f":"IFERROR(__xludf.DUMMYFUNCTION(\"\"\"COMPUTED_VALUE\"\"\"),\"samedi\")","v":"samedi"},{"$f":"IFERROR(__xludf.DUMMYFUNCTION(\"\"\"COMPUTED_VALUE\"\"\"),\"NON\")","v":"NON"}]
[{"$f":"IFERROR(__xludf.DUMMYFUNCTION(\"\"\"COMPUTED_VALUE\"\"\"),45495.0)","v":"2024-07-22"},{"$f":"IFERROR(__xludf.DUMMYFUNCTION(\"\"\"COMPUTED_VALUE\"\"\"),\"gerberon \")","v":"gerberon "},{"$f":"IFERROR(__xludf.DUMMYFUNCTION(\"\"\"COMPUTED_VALUE\"\"\"),\"Elodie\")","v":"Elodie"},{"$f":"IFERROR(__xludf.DUMMYFUNCTION(\"\"\"COMPUTED_VALUE\"\"\"),\"F\")","v":"F"},{"$f":"IFERROR(__xludf.DUMMYFUNCTION(\"\"\"COMPUTED_VALUE\"\"\"),43.0)","v":43},{"$f":"IFERROR(__xludf.DUMMYFUNCTION(\"\"\"COMPUTED_VALUE\"\"\"),\"dodimails@gmail.com\")","v":"dodimails@gmail.com"},{"$f":"IFERROR(__xludf.DUMMYFUNCTION(\"\"\"COMPUTED_VALUE\"\"\"),\"Élodie Circlepuke \")","v":"Élodie Circlepuke "},{"$f":"IFERROR(__xludf.DUMMYFUNCTION(\"\"\"COMPUTED_VALUE\"\"\"),\"0666617248\")","v":"0666617248"},{"$f":"IFERROR(__xludf.DUMMYFUNCTION(\"\"\"COMPUTED_VALUE\"\"\"),\"Pur PJ\")","v":"Pur PJ"},{"$f":"IFERROR(__xludf.DUMMYFUNCTION(\"\"\"COMPUTED_VALUE\"\"\"),\"-\")","v":"-"},{"$f":"IFERROR(__xludf.DUMMYFUNCTION(\"\"\"COMPUTED_VALUE\"\"\"),\"juin\")","v":"juin"},{"$f":"IFERROR(__xludf.DUMMYFUNCTION(\"\"\"COMPUTED_VALUE\"\"\"),\"Navire et fort\")","v":"Navire et fort"},{"$f":"IFERROR(__xludf.DUMMYFUNCTION(\"\"\"COMPUTED_VALUE\"\"\"),\"OK\")","v":"OK"},{"$f":"IFERROR(__xludf.DUMMYFUNCTION(\"\"\"COMPUTED_VALUE\"\"\"),\"OK\")","v":"OK"},{"$f":"IFERROR(__xludf.DUMMYFUNCTION(\"\"\"COMPUTED_VALUE\"\"\"),\"juin\")","v":"juin"},{"$f":"IFERROR(__xludf.DUMMYFUNCTION(\"\"\"COMPUTED_VALUE\"\"\"),\"Navire & Fort\")","v":"Navire & Fort"},{"$f":"IFERROR(__xludf.DUMMYFUNCTION(\"\"\"COMPUTED_VALUE\"\"\"),400.5)","v":400.5},{"$f":"IFERROR(__xludf.DUMMYFUNCTION(\"\"\"COMPUTED_VALUE\"\"\"),\"PAF finalisée\")","v":"PAF finalisée"},{"$f":"IFERROR(__xludf.DUMMYFUNCTION(\"\"\"COMPUTED_VALUE\"\"\"),\"non reçue\")","v":"non reçue"},{"$f":"IFERROR(__xludf.DUMMYFUNCTION(\"\"\"COMPUTED_VALUE\"\"\"),\"R.A.S.\")","v":"R.A.S."},{"$f":"IFERROR(__xludf.DUMMYFUNCTION(\"\"\"COMPUTED_VALUE\"\"\"),\"samedi\")","v":"samedi"},{"$f":"IFERROR(__xludf.DUMMYFUNCTION(\"\"\"COMPUTED_VALUE\"\"\"),\"Reste\")","v":"Reste"}]
[{"$f":"IFERROR(__xludf.DUMMYFUNCTION(\"\"\"COMPUTED_VALUE\"\"\"),45305.0)","v":"2024-01-14"},{"$f":"IFERROR(__xludf.DUMMYFUNCTION(\"\"\"COMPUTED_VALUE\"\"\"),\"Harrand \")","v":"Harrand "},{"$f":"IFERROR(__xludf.DUMMYFUNCTION(\"\"\"COMPUTED_VALUE\"\"\"),\"Chloé\")","v":"Chloé"},{"$f":"IFERROR(__xludf.DUMMYFUNCTION(\"\"\"COMPUTED_VALUE\"\"\"),\"F\")","v":"F"},{"$f":"IFERROR(__xludf.DUMMYFUNCTION(\"\"\"COMPUTED_VALUE\"\"\"),29.0)","v":29},{"$f":"IFERROR(__xludf.DUMMYFUNCTION(\"\"\"COMPUTED_VALUE\"\"\"),\"chloeharrand@gmail.com\")","v":"chloeharrand@gmail.com"},{"$f":"IFERROR(__xludf.DUMMYFUNCTION(\"\"\"COMPUTED_VALUE\"\"\"),\"Chloé Sardine\")","v":"Chloé Sardine"},{"$f":"IFERROR(__xludf.DUMMYFUNCTION(\"\"\"COMPUTED_VALUE\"\"\"),\"611290595\")","v":"611290595"},{"$f":"IFERROR(__xludf.DUMMYFUNCTION(\"\"\"COMPUTED_VALUE\"\"\"),\"PJ+PNJ\")","v":"PJ+PNJ"},{"$f":"IFERROR(__xludf.DUMMYFUNCTION(\"\"\"COMPUTED_VALUE\"\"\"),\"-\")","v":"-"},{"$f":"IFERROR(__xludf.DUMMYFUNCTION(\"\"\"COMPUTED_VALUE\"\"\"),\"juin\")","v":"juin"},{"$f":"IFERROR(__xludf.DUMMYFUNCTION(\"\"\"COMPUTED_VALUE\"\"\"),\"Navire et fort\")","v":"Navire et fort"},{"$f":"IFERROR(__xludf.DUMMYFUNCTION(\"\"\"COMPUTED_VALUE\"\"\"),\"OK\")","v":"OK"},{"$f":"IFERROR(__xludf.DUMMYFUNCTION(\"\"\"COMPUTED_VALUE\"\"\"),\"OK\")","v":"OK"},{"$f":"IFERROR(__xludf.DUMMYFUNCTION(\"\"\"COMPUTED_VALUE\"\"\"),\"septembre\")","v":"septembre"},{"$f":"IFERROR(__xludf.DUMMYFUNCTION(\"\"\"COMPUTED_VALUE\"\"\"),\"Fort seulement\")","v":"Fort seulement"},{"$f":"IFERROR(__xludf.DUMMYFUNCTION(\"\"\"COMPUTED_VALUE\"\"\"),200.0)","v":200},{"$f":"IFERROR(__xludf.DUMMYFUNCTION(\"\"\"COMPUTED_VALUE\"\"\"),\"PAF finalisée\")","v":"PAF finalisée"},{"$f":"IFERROR(__xludf.DUMMYFUNCTION(\"\"\"COMPUTED_VALUE\"\"\"),\"non reçue\")","v":"non reçue"},{"$f":"IFERROR(__xludf.DUMMYFUNCTION(\"\"\"COMPUTED_VALUE\"\"\"),\"R.A.S.\")","v":"R.A.S."},{"$f":"IFERROR(__xludf.DUMMYFUNCTION(\"\"\"COMPUTED_VALUE\"\"\"),\"samedi\")","v":"samedi"},{"$f":"IFERROR(__xludf.DUMMYFUNCTION(\"\"\"COMPUTED_VALUE\"\"\"),\"Reste\")","v":"Reste"}]
[{"$f":"IFERROR(__xludf.DUMMYFUNCTION(\"\"\"COMPUTED_VALUE\"\"\"),45303.0)","v":"2024-01-12"},{"$f":"IFERROR(__xludf.DUMMYFUNCTION(\"\"\"COMPUTED_VALUE\"\"\"),\"Hawkins \")","v":"Hawkins "},{"$f":"IFERROR(__xludf.DUMMYFUNCTION(\"\"\"COMPUTED_VALUE\"\"\"),\"James\")","v":"James"},{"$f":"IFERROR(__xludf.DUMMYFUNCTION(\"\"\"COMPUTED_VALUE\"\"\"),\"H\")","v":"H"},{"$f":"IFERROR(__xludf.DUMMYFUNCTION(\"\"\"COMPUTED_VALUE\"\"\"),33.0)","v":33},{"$f":"IFERROR(__xludf.DUMMYFUNCTION(\"\"\"COMPUTED_VALUE\"\"\"),\"stevenlecointre0@gmail.com\")","v":"stevenlecointre0@gmail.com"},{"$f":"IFERROR(__xludf.DUMMYFUNCTION(\"\"\"COMPUTED_VALUE\"\"\"),\"James Hawkins \")","v":"James Hawkins "},{"$f":"IFERROR(__xludf.DUMMYFUNCTION(\"\"\"COMPUTED_VALUE\"\"\"),\"0631587139\")","v":"0631587139"},{"$f":"IFERROR(__xludf.DUMMYFUNCTION(\"\"\"COMPUTED_VALUE\"\"\"),\"PJ+PNJ\")","v":"PJ+PNJ"},{"$f":"IFERROR(__xludf.DUMMYFUNCTION(\"\"\"COMPUTED_VALUE\"\"\"),\"-\")","v":"-"},{"$f":"IFERROR(__xludf.DUMMYFUNCTION(\"\"\"COMPUTED_VALUE\"\"\"),\"Non précisé\")","v":"Non précisé"},{"$f":"IFERROR(__xludf.DUMMYFUNCTION(\"\"\"COMPUTED_VALUE\"\"\"),\"Seulement au fort\")","v":"Seulement au fort"},{"$f":"IFERROR(__xludf.DUMMYFUNCTION(\"\"\"COMPUTED_VALUE\"\"\"),\"OK\")","v":"OK"},{"$f":"IFERROR(__xludf.DUMMYFUNCTION(\"\"\"COMPUTED_VALUE\"\"\"),\"OK\")","v":"OK"},{"$f":"IFERROR(__xludf.DUMMYFUNCTION(\"\"\"COMPUTED_VALUE\"\"\"),\"juin\")","v":"juin"},{"$f":"IFERROR(__xludf.DUMMYFUNCTION(\"\"\"COMPUTED_VALUE\"\"\"),\"Fort seulement\")","v":"Fort seulement"},{"$f":"IFERROR(__xludf.DUMMYFUNCTION(\"\"\"COMPUTED_VALUE\"\"\"),0.0)","v":0},{"$f":"IFERROR(__xludf.DUMMYFUNCTION(\"\"\"COMPUTED_VALUE\"\"\"),\"gratuit\")","v":"gratuit"},{"$f":"IFERROR(__xludf.DUMMYFUNCTION(\"\"\"COMPUTED_VALUE\"\"\"),\"non reçue\")","v":"non reçue"},{"$f":"IFERROR(__xludf.DUMMYFUNCTION(\"\"\"COMPUTED_VALUE\"\"\"),\"R.A.S.\")","v":"R.A.S."},{"$f":"IFERROR(__xludf.DUMMYFUNCTION(\"\"\"COMPUTED_VALUE\"\"\"),\"samedi\")","v":"samedi"},{"$f":"IFERROR(__xludf.DUMMYFUNCTION(\"\"\"COMPUTED_VALUE\"\"\"),\"Reste\")","v":"Reste"}]
[{"$f":"IFERROR(__xludf.DUMMYFUNCTION(\"\"\"COMPUTED_VALUE\"\"\"),45303.0)","v":"2024-01-12"},{"$f":"IFERROR(__xludf.DUMMYFUNCTION(\"\"\"COMPUTED_VALUE\"\"\"),\"Jacq\")","v":"Jacq"},{"$f":"IFERROR(__xludf.DUMMYFUNCTION(\"\"\"COMPUTED_VALUE\"\"\"),\"Gaëlle\")","v":"Gaëlle"},{"$f":"IFERROR(__xludf.DUMMYFUNCTION(\"\"\"COMPUTED_VALUE\"\"\"),\"F\")","v":"F"},{"$f":"IFERROR(__xludf.DUMMYFUNCTION(\"\"\"COMPUTED_VALUE\"\"\"),47.0)","v":47},{"$f":"IFERROR(__xludf.DUMMYFUNCTION(\"\"\"COMPUTED_VALUE\"\"\"),\"gaellejacq@yahoo.com\")","v":"gaellejacq@yahoo.com"},{"$f":"IFERROR(__xludf.DUMMYFUNCTION(\"\"\"COMPUTED_VALUE\"\"\"),\"Adira GJ\")","v":"Adira GJ"},{"$f":"IFERROR(__xludf.DUMMYFUNCTION(\"\"\"COMPUTED_VALUE\"\"\"),\"630975006\")","v":"630975006"},{"$f":"IFERROR(__xludf.DUMMYFUNCTION(\"\"\"COMPUTED_VALUE\"\"\"),\"Pur PJ\")","v":"Pur PJ"},{"$f":"IFERROR(__xludf.DUMMYFUNCTION(\"\"\"COMPUTED_VALUE\"\"\"),\"-\")","v":"-"},{"$f":"IFERROR(__xludf.DUMMYFUNCTION(\"\"\"COMPUTED_VALUE\"\"\"),\"juin\")","v":"juin"},{"$f":"IFERROR(__xludf.DUMMYFUNCTION(\"\"\"COMPUTED_VALUE\"\"\"),\"Navire et fort\")","v":"Navire et fort"},{"$f":"IFERROR(__xludf.DUMMYFUNCTION(\"\"\"COMPUTED_VALUE\"\"\"),\"OK\")","v":"OK"},{"$f":"IFERROR(__xludf.DUMMYFUNCTION(\"\"\"COMPUTED_VALUE\"\"\"),\"OK\")","v":"OK"},{"$f":"IFERROR(__xludf.DUMMYFUNCTION(\"\"\"COMPUTED_VALUE\"\"\"),\"juin\")","v":"juin"},{"$f":"IFERROR(__xludf.DUMMYFUNCTION(\"\"\"COMPUTED_VALUE\"\"\"),\"Navire & Fort\")","v":"Navire & Fort"},{"$f":"IFERROR(__xludf.DUMMYFUNCTION(\"\"\"COMPUTED_VALUE\"\"\"),400.0)","v":400},{"$f":"IFERROR(__xludf.DUMMYFUNCTION(\"\"\"COMPUTED_VALUE\"\"\"),\"PAF finalisée\")","v":"PAF finalisée"},{"$f":"IFERROR(__xludf.DUMMYFUNCTION(\"\"\"COMPUTED_VALUE\"\"\"),\"non reçue\")","v":"non reçue"},{"$f":"IFERROR(__xludf.DUMMYFUNCTION(\"\"\"COMPUTED_VALUE\"\"\"),\"R.A.S.\")","v":"R.A.S."},{"$f":"IFERROR(__xludf.DUMMYFUNCTION(\"\"\"COMPUTED_VALUE\"\"\"),\"samedi\")","v":"samedi"},{"$f":"IFERROR(__xludf.DUMMYFUNCTION(\"\"\"COMPUTED_VALUE\"\"\"),\"Reste\")","v":"Reste"}]
[{"$f":"IFERROR(__xludf.DUMMYFUNCTION(\"\"\"COMPUTED_VALUE\"\"\"),45303.0)","v":"2024-01-12"},{"$f":"IFERROR(__xludf.DUMMYFUNCTION(\"\"\"COMPUTED_VALUE\"\"\"),\"Letteron \")","v":"Letteron "},{"$f":"IFERROR(__xludf.DUMMYFUNCTION(\"\"\"COMPUTED_VALUE\"\"\"),\"Seb\")","v":"Seb"},{"$f":"IFERROR(__xludf.DUMMYFUNCTION(\"\"\"COMPUTED_VALUE\"\"\"),\"H\")","v":"H"},{"$f":"IFERROR(__xludf.DUMMYFUNCTION(\"\"\"COMPUTED_VALUE\"\"\"),56.0)","v":56},{"$f":"IFERROR(__xludf.DUMMYFUNCTION(\"\"\"COMPUTED_VALUE\"\"\"),\"rencata@aliceadsl.fr\")","v":"rencata@aliceadsl.fr"},{"$f":"IFERROR(__xludf.DUMMYFUNCTION(\"\"\"COMPUTED_VALUE\"\"\"),\"Seb Lett\")","v":"Seb Lett"},{"$f":"IFERROR(__xludf.DUMMYFUNCTION(\"\"\"COMPUTED_VALUE\"\"\"),\"0622546336\")","v":"0622546336"},{"$f":"IFERROR(__xludf.DUMMYFUNCTION(\"\"\"COMPUTED_VALUE\"\"\"),\"PJ+PNJ\")","v":"PJ+PNJ"},{"$f":"IFERROR(__xludf.DUMMYFUNCTION(\"\"\"COMPUTED_VALUE\"\"\"),\"-\")","v":"-"},{"$f":"IFERROR(__xludf.DUMMYFUNCTION(\"\"\"COMPUTED_VALUE\"\"\"),\"Non précisé\")","v":"Non précisé"},{"$f":"IFERROR(__xludf.DUMMYFUNCTION(\"\"\"COMPUTED_VALUE\"\"\"),\"Seulement au fort\")","v":"Seulement au fort"},{"$f":"IFERROR(__xludf.DUMMYFUNCTION(\"\"\"COMPUTED_VALUE\"\"\"),\"OK\")","v":"OK"},{"$f":"IFERROR(__xludf.DUMMYFUNCTION(\"\"\"COMPUTED_VALUE\"\"\"),\"OK\")","v":"OK"},{"$f":"IFERROR(__xludf.DUMMYFUNCTION(\"\"\"COMPUTED_VALUE\"\"\"),\"juin\")","v":"juin"},{"$f":"IFERROR(__xludf.DUMMYFUNCTION(\"\"\"COMPUTED_VALUE\"\"\"),\"Fort seulement\")","v":"Fort seulement"},{"$f":"IFERROR(__xludf.DUMMYFUNCTION(\"\"\"COMPUTED_VALUE\"\"\"),205.0)","v":205},{"$f":"IFERROR(__xludf.DUMMYFUNCTION(\"\"\"COMPUTED_VALUE\"\"\"),\"PAF finalisée\")","v":"PAF finalisée"},{"$f":"IFERROR(__xludf.DUMMYFUNCTION(\"\"\"COMPUTED_VALUE\"\"\"),\"non reçue\")","v":"non reçue"},{"$f":"IFERROR(__xludf.DUMMYFUNCTION(\"\"\"COMPUTED_VALUE\"\"\"),\"R.A.S.\")","v":"R.A.S."},{"$f":"IFERROR(__xludf.DUMMYFUNCTION(\"\"\"COMPUTED_VALUE\"\"\"),\"samedi\")","v":"samedi"},{"$f":"IFERROR(__xludf.DUMMYFUNCTION(\"\"\"COMPUTED_VALUE\"\"\"),\"Reste\")","v":"Reste"}]
[{"$f":"IFERROR(__xludf.DUMMYFUNCTION(\"\"\"COMPUTED_VALUE\"\"\"),45303.0)","v":"2024-01-12"},{"$f":"IFERROR(__xludf.DUMMYFUNCTION(\"\"\"COMPUTED_VALUE\"\"\"),\"Lorente\")","v":"Lorente"},{"$f":"IFERROR(__xludf.DUMMYFUNCTION(\"\"\"COMPUTED_VALUE\"\"\"),\"Matthieu\")","v":"Matthieu"},{"$f":"IFERROR(__xludf.DUMMYFUNCTION(\"\"\"COMPUTED_VALUE\"\"\"),\"H\")","v":"H"},{"$f":"IFERROR(__xludf.DUMMYFUNCTION(\"\"\"COMPUTED_VALUE\"\"\"),41.0)","v":41},{"$f":"IFERROR(__xludf.DUMMYFUNCTION(\"\"\"COMPUTED_VALUE\"\"\"),\"lorentemathieu@gmail.com\")","v":"lorentemathieu@gmail.com"},{"$f":"IFERROR(__xludf.DUMMYFUNCTION(\"\"\"COMPUTED_VALUE\"\"\"),\"Mathieu LORENTE\")","v":"Mathieu LORENTE"},{"$f":"IFERROR(__xludf.DUMMYFUNCTION(\"\"\"COMPUTED_VALUE\"\"\"),\"0647832624\")","v":"0647832624"},{"$f":"IFERROR(__xludf.DUMMYFUNCTION(\"\"\"COMPUTED_VALUE\"\"\"),\"Pur PJ\")","v":"Pur PJ"},{"$f":"IFERROR(__xludf.DUMMYFUNCTION(\"\"\"COMPUTED_VALUE\"\"\"),\"-\")","v":"-"},{"$f":"IFERROR(__xludf.DUMMYFUNCTION(\"\"\"COMPUTED_VALUE\"\"\"),\"septembre\")","v":"septembre"},{"$f":"IFERROR(__xludf.DUMMYFUNCTION(\"\"\"COMPUTED_VALUE\"\"\"),\"Seulement au fort\")","v":"Seulement au fort"},{"$f":"IFERROR(__xludf.DUMMYFUNCTION(\"\"\"COMPUTED_VALUE\"\"\"),\"OK\")","v":"OK"},{"$f":"IFERROR(__xludf.DUMMYFUNCTION(\"\"\"COMPUTED_VALUE\"\"\"),\"OK\")","v":"OK"},{"$f":"IFERROR(__xludf.DUMMYFUNCTION(\"\"\"COMPUTED_VALUE\"\"\"),\"septembre\")","v":"septembre"},{"$f":"IFERROR(__xludf.DUMMYFUNCTION(\"\"\"COMPUTED_VALUE\"\"\"),\"Fort seulement\")","v":"Fort seulement"},null,{"$f":"IFERROR(__xludf.DUMMYFUNCTION(\"\"\"COMPUTED_VALUE\"\"\"),\"PAF non reçue\")","v":"PAF non reçue"},{"$f":"IFERROR(__xludf.DUMMYFUNCTION(\"\"\"COMPUTED_VALUE\"\"\"),\"non reçue\")","v":"non reçue"},{"$f":"IFERROR(__xludf.DUMMYFUNCTION(\"\"\"COMPUTED_VALUE\"\"\"),\"R.A.S.\")","v":"R.A.S."},{"$f":"IFERROR(__xludf.DUMMYFUNCTION(\"\"\"COMPUTED_VALUE\"\"\"),\"samedi\")","v":"samedi"},{"$f":"IFERROR(__xludf.DUMMYFUNCTION(\"\"\"COMPUTED_VALUE\"\"\"),\"Reste\")","v":"Reste"}]
[{"$f":"IFERROR(__xludf.DUMMYFUNCTION(\"\"\"COMPUTED_VALUE\"\"\"),45303.0)","v":"2024-01-12"},{"$f":"IFERROR(__xludf.DUMMYFUNCTION(\"\"\"COMPUTED_VALUE\"\"\"),\"Lorente\")","v":"Lorente"},{"$f":"IFERROR(__xludf.DUMMYFUNCTION(\"\"\"COMPUTED_VALUE\"\"\"),\"Yann\")","v":"Yann"},{"$f":"IFERROR(__xludf.DUMMYFUNCTION(\"\"\"COMPUTED_VALUE\"\"\"),\"H\")","v":"H"},{"$f":"IFERROR(__xludf.DUMMYFUNCTION(\"\"\"COMPUTED_VALUE\"\"\"),42.0)","v":42},{"$f":"IFERROR(__xludf.DUMMYFUNCTION(\"\"\"COMPUTED_VALUE\"\"\"),\"yann.lorente@gmail.com\")","v":"yann.lorente@gmail.com"},{"$f":"IFERROR(__xludf.DUMMYFUNCTION(\"\"\"COMPUTED_VALUE\"\"\"),\"Yann lo\")","v":"Yann lo"},{"$f":"IFERROR(__xludf.DUMMYFUNCTION(\"\"\"COMPUTED_VALUE\"\"\"),\"+33630208984\")","v":"+33630208984"},{"$f":"IFERROR(__xludf.DUMMYFUNCTION(\"\"\"COMPUTED_VALUE\"\"\"),\"PJ+PNJ\")","v":"PJ+PNJ"},{"$f":"IFERROR(__xludf.DUMMYFUNCTION(\"\"\"COMPUTED_VALUE\"\"\"),\"-\")","v":"-"},{"$f":"IFERROR(__xludf.DUMMYFUNCTION(\"\"\"COMPUTED_VALUE\"\"\"),\"Non précisé\")","v":"Non précisé"},{"$f":"IFERROR(__xludf.DUMMYFUNCTION(\"\"\"COMPUTED_VALUE\"\"\"),\"Navire et fort\")","v":"Navire et fort"},{"$f":"IFERROR(__xludf.DUMMYFUNCTION(\"\"\"COMPUTED_VALUE\"\"\"),\"OK\")","v":"OK"},{"$f":"IFERROR(__xludf.DUMMYFUNCTION(\"\"\"COMPUTED_VALUE\"\"\"),\"OK\")","v":"OK"},{"$f":"IFERROR(__xludf.DUMMYFUNCTION(\"\"\"COMPUTED_VALUE\"\"\"),\"septembre\")","v":"septembre"},{"$f":"IFERROR(__xludf.DUMMYFUNCTION(\"\"\"COMPUTED_VALUE\"\"\"),\"Navire & Fort\")","v":"Navire & Fort"},{"$f":"IFERROR(__xludf.DUMMYFUNCTION(\"\"\"COMPUTED_VALUE\"\"\"),200.1)","v":200.1},{"$f":"IFERROR(__xludf.DUMMYFUNCTION(\"\"\"COMPUTED_VALUE\"\"\"),\"PAF partielle\")","v":"PAF partielle"},{"$f":"IFERROR(__xludf.DUMMYFUNCTION(\"\"\"COMPUTED_VALUE\"\"\"),\"non reçue\")","v":"non reçue"},{"$f":"IFERROR(__xludf.DUMMYFUNCTION(\"\"\"COMPUTED_VALUE\"\"\"),\"R.A.S.\")","v":"R.A.S."},{"$f":"IFERROR(__xludf.DUMMYFUNCTION(\"\"\"COMPUTED_VALUE\"\"\"),\"samedi\")","v":"samedi"},{"$f":"IFERROR(__xludf.DUMMYFUNCTION(\"\"\"COMPUTED_VALUE\"\"\"),\"Reste\")","v":"Reste"}]
[{"$f":"IFERROR(__xludf.DUMMYFUNCTION(\"\"\"COMPUTED_VALUE\"\"\"),45305.0)","v":"2024-01-14"},{"$f":"IFERROR(__xludf.DUMMYFUNCTION(\"\"\"COMPUTED_VALUE\"\"\"),\"MAGNANT\")","v":"MAGNANT"},{"$f":"IFERROR(__xludf.DUMMYFUNCTION(\"\"\"COMPUTED_VALUE\"\"\"),\"Catherine\")","v":"Catherine"},{"$f":"IFERROR(__xludf.DUMMYFUNCTION(\"\"\"COMPUTED_VALUE\"\"\"),\"F\")","v":"F"},{"$f":"IFERROR(__xludf.DUMMYFUNCTION(\"\"\"COMPUTED_VALUE\"\"\"),49.0)","v":49},{"$f":"IFERROR(__xludf.DUMMYFUNCTION(\"\"\"COMPUTED_VALUE\"\"\"),\"catherine.magnant@orange.fr\")","v":"catherine.magnant@orange.fr"},{"$f":"IFERROR(__xludf.DUMMYFUNCTION(\"\"\"COMPUTED_VALUE\"\"\"),\"Catherine Magnant\")","v":"Catherine Magnant"},null,{"$f":"IFERROR(__xludf.DUMMYFUNCTION(\"\"\"COMPUTED_VALUE\"\"\"),\"PJ+PNJ\")","v":"PJ+PNJ"},{"$f":"IFERROR(__xludf.DUMMYFUNCTION(\"\"\"COMPUTED_VALUE\"\"\"),\"-\")","v":"-"},{"$f":"IFERROR(__xludf.DUMMYFUNCTION(\"\"\"COMPUTED_VALUE\"\"\"),\"Non précisé\")","v":"Non précisé"},{"$f":"IFERROR(__xludf.DUMMYFUNCTION(\"\"\"COMPUTED_VALUE\"\"\"),\"Peu importe\")","v":"Peu importe"},{"$f":"IFERROR(__xludf.DUMMYFUNCTION(\"\"\"COMPUTED_VALUE\"\"\"),\"OK\")","v":"OK"},{"$f":"IFERROR(__xludf.DUMMYFUNCTION(\"\"\"COMPUTED_VALUE\"\"\"),\"OK\")","v":"OK"},{"$f":"IFERROR(__xludf.DUMMYFUNCTION(\"\"\"COMPUTED_VALUE\"\"\"),\"juin\")","v":"juin"},{"$f":"IFERROR(__xludf.DUMMYFUNCTION(\"\"\"COMPUTED_VALUE\"\"\"),\"Navire & Fort\")","v":"Navire & Fort"},{"$f":"IFERROR(__xludf.DUMMYFUNCTION(\"\"\"COMPUTED_VALUE\"\"\"),400.5)","v":400.5},{"$f":"IFERROR(__xludf.DUMMYFUNCTION(\"\"\"COMPUTED_VALUE\"\"\"),\"PAF finalisée\")","v":"PAF finalisée"},{"$f":"IFERROR(__xludf.DUMMYFUNCTION(\"\"\"COMPUTED_VALUE\"\"\"),\"non reçue\")","v":"non reçue"},{"$f":"IFERROR(__xludf.DUMMYFUNCTION(\"\"\"COMPUTED_VALUE\"\"\"),\"R.A.S.\")","v":"R.A.S."},{"$f":"IFERROR(__xludf.DUMMYFUNCTION(\"\"\"COMPUTED_VALUE\"\"\"),\"samedi\")","v":"samedi"},{"$f":"IFERROR(__xludf.DUMMYFUNCTION(\"\"\"COMPUTED_VALUE\"\"\"),\"Reste\")","v":"Reste"}]
[{"$f":"IFERROR(__xludf.DUMMYFUNCTION(\"\"\"COMPUTED_VALUE\"\"\"),45303.0)","v":"2024-01-12"},{"$f":"IFERROR(__xludf.DUMMYFUNCTION(\"\"\"COMPUTED_VALUE\"\"\"),\"MAILLOT\")","v":"MAILLOT"},{"$f":"IFERROR(__xludf.DUMMYFUNCTION(\"\"\"COMPUTED_VALUE\"\"\"),\"Roland\")","v":"Roland"},{"$f":"IFERROR(__xludf.DUMMYFUNCTION(\"\"\"COMPUTED_VALUE\"\"\"),\"H\")","v":"H"},{"$f":"IFERROR(__xludf.DUMMYFUNCTION(\"\"\"COMPUTED_VALUE\"\"\"),65.0)","v":65},{"$f":"IFERROR(__xludf.DUMMYFUNCTION(\"\"\"COMPUTED_VALUE\"\"\"),\"combatmedievalroland@hotmail.fr\")","v":"combatmedievalroland@hotmail.fr"},{"$f":"IFERROR(__xludf.DUMMYFUNCTION(\"\"\"COMPUTED_VALUE\"\"\"),\"Roland Maillot\")","v":"Roland Maillot"},{"$f":"IFERROR(__xludf.DUMMYFUNCTION(\"\"\"COMPUTED_VALUE\"\"\"),\"0660768099\")","v":"0660768099"},{"$f":"IFERROR(__xludf.DUMMYFUNCTION(\"\"\"COMPUTED_VALUE\"\"\"),\"PJ+PNJ\")","v":"PJ+PNJ"},{"$f":"IFERROR(__xludf.DUMMYFUNCTION(\"\"\"COMPUTED_VALUE\"\"\"),\"-\")","v":"-"},{"$f":"IFERROR(__xludf.DUMMYFUNCTION(\"\"\"COMPUTED_VALUE\"\"\"),\"Non précisé\")","v":"Non précisé"},{"$f":"IFERROR(__xludf.DUMMYFUNCTION(\"\"\"COMPUTED_VALUE\"\"\"),\"Navire et fort\")","v":"Navire et fort"},{"$f":"IFERROR(__xludf.DUMMYFUNCTION(\"\"\"COMPUTED_VALUE\"\"\"),\"OK\")","v":"OK"},{"$f":"IFERROR(__xludf.DUMMYFUNCTION(\"\"\"COMPUTED_VALUE\"\"\"),\"OK\")","v":"OK"},{"$f":"IFERROR(__xludf.DUMMYFUNCTION(\"\"\"COMPUTED_VALUE\"\"\"),\"juin\")","v":"juin"},{"$f":"IFERROR(__xludf.DUMMYFUNCTION(\"\"\"COMPUTED_VALUE\"\"\"),\"Fort seulement\")","v":"Fort seulement"},{"$f":"IFERROR(__xludf.DUMMYFUNCTION(\"\"\"COMPUTED_VALUE\"\"\"),138.4)","v":138.4},{"$f":"IFERROR(__xludf.DUMMYFUNCTION(\"\"\"COMPUTED_VALUE\"\"\"),\"PAF partielle\")","v":"PAF partielle"},{"$f":"IFERROR(__xludf.DUMMYFUNCTION(\"\"\"COMPUTED_VALUE\"\"\"),\"non reçue\")","v":"non reçue"},{"$f":"IFERROR(__xludf.DUMMYFUNCTION(\"\"\"COMPUTED_VALUE\"\"\"),\"R.A.S.\")","v":"R.A.S."},{"$f":"IFERROR(__xludf.DUMMYFUNCTION(\"\"\"COMPUTED_VALUE\"\"\"),\"samedi\")","v":"samedi"},{"$f":"IFERROR(__xludf.DUMMYFUNCTION(\"\"\"COMPUTED_VALUE\"\"\"),\"Reste\")","v":"Reste"}]
[{"$f":"IFERROR(__xludf.DUMMYFUNCTION(\"\"\"COMPUTED_VALUE\"\"\"),45303.0)","v":"2024-01-12"},{"$f":"IFERROR(__xludf.DUMMYFUNCTION(\"\"\"COMPUTED_VALUE\"\"\"),\"PHILBERT\")","v":"PHILBERT"},{"$f":"IFERROR(__xludf.DUMMYFUNCTION(\"\"\"COMPUTED_VALUE\"\"\"),\"Charles\")","v":"Charles"},{"$f":"IFERROR(__xludf.DUMMYFUNCTION(\"\"\"COMPUTED_VALUE\"\"\"),\"H\")","v":"H"},{"$f":"IFERROR(__xludf.DUMMYFUNCTION(\"\"\"COMPUTED_VALUE\"\"\"),42.0)","v":42},{"$f":"IFERROR(__xludf.DUMMYFUNCTION(\"\"\"COMPUTED_VALUE\"\"\"),\"Philbert.charles@neuf.fr\")","v":"Philbert.charles@neuf.fr"},{"$f":"IFERROR(__xludf.DUMMYFUNCTION(\"\"\"COMPUTED_VALUE\"\"\"),\"charles PHILBERT\")","v":"charles PHILBERT"},{"$f":"IFERROR(__xludf.DUMMYFUNCTION(\"\"\"COMPUTED_VALUE\"\"\"),\"0688981791\")","v":"0688981791"},{"$f":"IFERROR(__xludf.DUMMYFUNCTION(\"\"\"COMPUTED_VALUE\"\"\"),\"PJ+PNJ\")","v":"PJ+PNJ"},{"$f":"IFERROR(__xludf.DUMMYFUNCTION(\"\"\"COMPUTED_VALUE\"\"\"),\"-\")","v":"-"},{"$f":"IFERROR(__xludf.DUMMYFUNCTION(\"\"\"COMPUTED_VALUE\"\"\"),\"Non précisé\")","v":"Non précisé"},{"$f":"IFERROR(__xludf.DUMMYFUNCTION(\"\"\"COMPUTED_VALUE\"\"\"),\"Navire et fort\")","v":"Navire et fort"},{"$f":"IFERROR(__xludf.DUMMYFUNCTION(\"\"\"COMPUTED_VALUE\"\"\"),\"OK\")","v":"OK"},{"$f":"IFERROR(__xludf.DUMMYFUNCTION(\"\"\"COMPUTED_VALUE\"\"\"),\"OK\")","v":"OK"},{"$f":"IFERROR(__xludf.DUMMYFUNCTION(\"\"\"COMPUTED_VALUE\"\"\"),\"juin\")","v":"juin"},{"$f":"IFERROR(__xludf.DUMMYFUNCTION(\"\"\"COMPUTED_VALUE\"\"\"),\"Navire & Fort\")","v":"Navire & Fort"},{"$f":"IFERROR(__xludf.DUMMYFUNCTION(\"\"\"COMPUTED_VALUE\"\"\"),400.5)","v":400.5},{"$f":"IFERROR(__xludf.DUMMYFUNCTION(\"\"\"COMPUTED_VALUE\"\"\"),\"PAF finalisée\")","v":"PAF finalisée"},{"$f":"IFERROR(__xludf.DUMMYFUNCTION(\"\"\"COMPUTED_VALUE\"\"\"),\"non reçue\")","v":"non reçue"},{"$f":"IFERROR(__xludf.DUMMYFUNCTION(\"\"\"COMPUTED_VALUE\"\"\"),\"R.A.S.\")","v":"R.A.S."},{"$f":"IFERROR(__xludf.DUMMYFUNCTION(\"\"\"COMPUTED_VALUE\"\"\"),\"samedi\")","v":"samedi"},{"$f":"IFERROR(__xludf.DUMMYFUNCTION(\"\"\"COMPUTED_VALUE\"\"\"),\"Reste\")","v":"Reste"}]
[{"$f":"IFERROR(__xludf.DUMMYFUNCTION(\"\"\"COMPUTED_VALUE\"\"\"),45310.0)","v":"2024-01-19"},{"$f":"IFERROR(__xludf.DUMMYFUNCTION(\"\"\"COMPUTED_VALUE\"\"\"),\"Pitel\")","v":"Pitel"},{"$f":"IFERROR(__xludf.DUMMYFUNCTION(\"\"\"COMPUTED_VALUE\"\"\"),\"Marion\")","v":"Marion"},{"$f":"IFERROR(__xludf.DUMMYFUNCTION(\"\"\"COMPUTED_VALUE\"\"\"),\"F\")","v":"F"},{"$f":"IFERROR(__xludf.DUMMYFUNCTION(\"\"\"COMPUTED_VALUE\"\"\"),29.0)","v":29},{"$f":"IFERROR(__xludf.DUMMYFUNCTION(\"\"\"COMPUTED_VALUE\"\"\"),\"marionpitel.scott@gmail.com\")","v":"marionpitel.scott@gmail.com"},{"$f":"IFERROR(__xludf.DUMMYFUNCTION(\"\"\"COMPUTED_VALUE\"\"\"),\"Mads Croc\")","v":"Mads Croc"},{"$f":"IFERROR(__xludf.DUMMYFUNCTION(\"\"\"COMPUTED_VALUE\"\"\"),\"0673467578\")","v":"0673467578"},{"$f":"IFERROR(__xludf.DUMMYFUNCTION(\"\"\"COMPUTED_VALUE\"\"\"),\"PJ+PNJ\")","v":"PJ+PNJ"},{"$f":"IFERROR(__xludf.DUMMYFUNCTION(\"\"\"COMPUTED_VALUE\"\"\"),\"-\")","v":"-"},{"$f":"IFERROR(__xludf.DUMMYFUNCTION(\"\"\"COMPUTED_VALUE\"\"\"),\"juin\")","v":"juin"},{"$f":"IFERROR(__xludf.DUMMYFUNCTION(\"\"\"COMPUTED_VALUE\"\"\"),\"Seulement au fort\")","v":"Seulement au fort"},{"$f":"IFERROR(__xludf.DUMMYFUNCTION(\"\"\"COMPUTED_VALUE\"\"\"),\"OK\")","v":"OK"},{"$f":"IFERROR(__xludf.DUMMYFUNCTION(\"\"\"COMPUTED_VALUE\"\"\"),\"OK\")","v":"OK"},{"$f":"IFERROR(__xludf.DUMMYFUNCTION(\"\"\"COMPUTED_VALUE\"\"\"),\"septembre\")","v":"septembre"},{"$f":"IFERROR(__xludf.DUMMYFUNCTION(\"\"\"COMPUTED_VALUE\"\"\"),\"Fort seulement\")","v":"Fort seulement"},{"$f":"IFERROR(__xludf.DUMMYFUNCTION(\"\"\"COMPUTED_VALUE\"\"\"),200.0)","v":200},{"$f":"IFERROR(__xludf.DUMMYFUNCTION(\"\"\"COMPUTED_VALUE\"\"\"),\"PAF finalisée\")","v":"PAF finalisée"},{"$f":"IFERROR(__xludf.DUMMYFUNCTION(\"\"\"COMPUTED_VALUE\"\"\"),\"non reçue\")","v":"non reçue"},{"$f":"IFERROR(__xludf.DUMMYFUNCTION(\"\"\"COMPUTED_VALUE\"\"\"),\"R.A.S.\")","v":"R.A.S."},{"$f":"IFERROR(__xludf.DUMMYFUNCTION(\"\"\"COMPUTED_VALUE\"\"\"),\"samedi\")","v":"samedi"},{"$f":"IFERROR(__xludf.DUMMYFUNCTION(\"\"\"COMPUTED_VALUE\"\"\"),\"Reste\")","v":"Reste"},{"$f":"IFERROR(__xludf.DUMMYFUNCTION(\"\"\"COMPUTED_VALUE\"\"\"),\"à payé pour session juin\")","v":"à payé pour session juin"}]
[{"$f":"IFERROR(__xludf.DUMMYFUNCTION(\"\"\"COMPUTED_VALUE\"\"\"),45303.0)","v":"2024-01-12"},{"$f":"IFERROR(__xludf.DUMMYFUNCTION(\"\"\"COMPUTED_VALUE\"\"\"),\"Richard\")","v":"Richard"},{"$f":"IFERROR(__xludf.DUMMYFUNCTION(\"\"\"COMPUTED_VALUE\"\"\"),\"Marion\")","v":"Marion"},{"$f":"IFERROR(__xludf.DUMMYFUNCTION(\"\"\"COMPUTED_VALUE\"\"\"),\"F\")","v":"F"},{"$f":"IFERROR(__xludf.DUMMYFUNCTION(\"\"\"COMPUTED_VALUE\"\"\"),36.0)","v":36},{"$f":"IFERROR(__xludf.DUMMYFUNCTION(\"\"\"COMPUTED_VALUE\"\"\"),\"marionjsphand@yahoo.fr\")","v":"marionjsphand@yahoo.fr"},{"$f":"IFERROR(__xludf.DUMMYFUNCTION(\"\"\"COMPUTED_VALUE\"\"\"),\"Handmar\")","v":"Handmar"},{"$f":"IFERROR(__xludf.DUMMYFUNCTION(\"\"\"COMPUTED_VALUE\"\"\"),\"781107844\")","v":"781107844"},{"$f":"IFERROR(__xludf.DUMMYFUNCTION(\"\"\"COMPUTED_VALUE\"\"\"),\"Pur PJ\")","v":"Pur PJ"},{"$f":"IFERROR(__xludf.DUMMYFUNCTION(\"\"\"COMPUTED_VALUE\"\"\"),\"-\")","v":"-"},{"$f":"IFERROR(__xludf.DUMMYFUNCTION(\"\"\"COMPUTED_VALUE\"\"\"),\"juin\")","v":"juin"},{"$f":"IFERROR(__xludf.DUMMYFUNCTION(\"\"\"COMPUTED_VALUE\"\"\"),\"Navire et fort\")","v":"Navire et fort"},{"$f":"IFERROR(__xludf.DUMMYFUNCTION(\"\"\"COMPUTED_VALUE\"\"\"),\"OK\")","v":"OK"},{"$f":"IFERROR(__xludf.DUMMYFUNCTION(\"\"\"COMPUTED_VALUE\"\"\"),\"OK\")","v":"OK"},{"$f":"IFERROR(__xludf.DUMMYFUNCTION(\"\"\"COMPUTED_VALUE\"\"\"),\"juin\")","v":"juin"},{"$f":"IFERROR(__xludf.DUMMYFUNCTION(\"\"\"COMPUTED_VALUE\"\"\"),\"Navire & Fort\")","v":"Navire & Fort"},{"$f":"IFERROR(__xludf.DUMMYFUNCTION(\"\"\"COMPUTED_VALUE\"\"\"),800.0)","v":800},{"$f":"IFERROR(__xludf.DUMMYFUNCTION(\"\"\"COMPUTED_VALUE\"\"\"),\"PAF finalisée\")","v":"PAF finalisée"},{"$f":"IFERROR(__xludf.DUMMYFUNCTION(\"\"\"COMPUTED_VALUE\"\"\"),\"non reçue\")","v":"non reçue"},{"$f":"IFERROR(__xludf.DUMMYFUNCTION(\"\"\"COMPUTED_VALUE\"\"\"),\"R.A.S.\")","v":"R.A.S."},{"$f":"IFERROR(__xludf.DUMMYFUNCTION(\"\"\"COMPUTED_VALUE\"\"\"),\"samedi\")","v":"samedi"},{"$f":"IFERROR(__xludf.DUMMYFUNCTION(\"\"\"COMPUTED_VALUE\"\"\"),\"Reste\")","v":"Reste"}]
[{"$f":"IFERROR(__xludf.DUMMYFUNCTION(\"\"\"COMPUTED_VALUE\"\"\"),45460.0)","v":"2024-06-17"},{"$f":"IFERROR(__xludf.DUMMYFUNCTION(\"\"\"COMPUTED_VALUE\"\"\"),\"Vacari\")","v":"Vacari"},{"$f":"IFERROR(__xludf.DUMMYFUNCTION(\"\"\"COMPUTED_VALUE\"\"\"),\"Lydia\")","v":"Lydia"},{"$f":"IFERROR(__xludf.DUMMYFUNCTION(\"\"\"COMPUTED_VALUE\"\"\"),\"F\")","v":"F"},{"$f":"IFERROR(__xludf.DUMMYFUNCTION(\"\"\"COMPUTED_VALUE\"\"\"),35.0)","v":35},{"$f":"IFERROR(__xludf.DUMMYFUNCTION(\"\"\"COMPUTED_VALUE\"\"\"),\"vacarilydia@hotmail.fr\")","v":"vacarilydia@hotmail.fr"},{"$f":"IFERROR(__xludf.DUMMYFUNCTION(\"\"\"COMPUTED_VALUE\"\"\"),\"Lydia Vacari\")","v":"Lydia Vacari"},{"$f":"IFERROR(__xludf.DUMMYFUNCTION(\"\"\"COMPUTED_VALUE\"\"\"),\"0607341244\")","v":"0607341244"},{"$f":"IFERROR(__xludf.DUMMYFUNCTION(\"\"\"COMPUTED_VALUE\"\"\"),\"PJ+PNJ\")","v":"PJ+PNJ"},{"$f":"IFERROR(__xludf.DUMMYFUNCTION(\"\"\"COMPUTED_VALUE\"\"\"),\"-\")","v":"-"},{"$f":"IFERROR(__xludf.DUMMYFUNCTION(\"\"\"COMPUTED_VALUE\"\"\"),\"septembre\")","v":"septembre"},{"$f":"IFERROR(__xludf.DUMMYFUNCTION(\"\"\"COMPUTED_VALUE\"\"\"),\"Seulement au fort\")","v":"Seulement au fort"},{"$f":"IFERROR(__xludf.DUMMYFUNCTION(\"\"\"COMPUTED_VALUE\"\"\"),\"OK\")","v":"OK"},{"$f":"IFERROR(__xludf.DUMMYFUNCTION(\"\"\"COMPUTED_VALUE\"\"\"),\"OK\")","v":"OK"},{"$f":"IFERROR(__xludf.DUMMYFUNCTION(\"\"\"COMPUTED_VALUE\"\"\"),\"septembre\")","v":"septembre"},{"$f":"IFERROR(__xludf.DUMMYFUNCTION(\"\"\"COMPUTED_VALUE\"\"\"),\"Fort seulement\")","v":"Fort seulement"},{"$f":"IFERROR(__xludf.DUMMYFUNCTION(\"\"\"COMPUTED_VALUE\"\"\"),133.4)","v":133.4},{"$f":"IFERROR(__xludf.DUMMYFUNCTION(\"\"\"COMPUTED_VALUE\"\"\"),\"PAF partielle\")","v":"PAF partielle"},{"$f":"IFERROR(__xludf.DUMMYFUNCTION(\"\"\"COMPUTED_VALUE\"\"\"),\"non reçue\")","v":"non reçue"},{"$f":"IFERROR(__xludf.DUMMYFUNCTION(\"\"\"COMPUTED_VALUE\"\"\"),\"R.A.S.\")","v":"R.A.S."},{"$f":"IFERROR(__xludf.DUMMYFUNCTION(\"\"\"COMPUTED_VALUE\"\"\"),\"samedi\")","v":"samedi"},{"$f":"IFERROR(__xludf.DUMMYFUNCTION(\"\"\"COMPUTED_VALUE\"\"\"),\"Reste\")","v":"Reste"}]
[{"$f":"IFERROR(__xludf.DUMMYFUNCTION(\"\"\"COMPUTED_VALUE\"\"\"),45303.0)","v":"2024-01-12"},{"$f":"IFERROR(__xludf.DUMMYFUNCTION(\"\"\"COMPUTED_VALUE\"\"\"),\"Warszawski \")","v":"Warszawski "},{"$f":"IFERROR(__xludf.DUMMYFUNCTION(\"\"\"COMPUTED_VALUE\"\"\"),\"Jessica\")","v":"Jessica"},{"$f":"IFERROR(__xludf.DUMMYFUNCTION(\"\"\"COMPUTED_VALUE\"\"\"),\"F\")","v":"F"},{"$f":"IFERROR(__xludf.DUMMYFUNCTION(\"\"\"COMPUTED_VALUE\"\"\"),35.0)","v":35},{"$f":"IFERROR(__xludf.DUMMYFUNCTION(\"\"\"COMPUTED_VALUE\"\"\"),\"jessica.warszawski@gmail.com\")","v":"jessica.warszawski@gmail.com"},{"$f":"IFERROR(__xludf.DUMMYFUNCTION(\"\"\"COMPUTED_VALUE\"\"\"),\"Jessica warszawski\")","v":"Jessica warszawski"},{"$f":"IFERROR(__xludf.DUMMYFUNCTION(\"\"\"COMPUTED_VALUE\"\"\"),\"0689440259\")","v":"0689440259"},{"$f":"IFERROR(__xludf.DUMMYFUNCTION(\"\"\"COMPUTED_VALUE\"\"\"),\"PJ+PNJ\")","v":"PJ+PNJ"},{"$f":"IFERROR(__xludf.DUMMYFUNCTION(\"\"\"COMPUTED_VALUE\"\"\"),\"-\")","v":"-"},{"$f":"IFERROR(__xludf.DUMMYFUNCTION(\"\"\"COMPUTED_VALUE\"\"\"),\"septembre\")","v":"septembre"},{"$f":"IFERROR(__xludf.DUMMYFUNCTION(\"\"\"COMPUTED_VALUE\"\"\"),\"Navire et fort\")","v":"Navire et fort"},{"$f":"IFERROR(__xludf.DUMMYFUNCTION(\"\"\"COMPUTED_VALUE\"\"\"),\"OK\")","v":"OK"},{"$f":"IFERROR(__xludf.DUMMYFUNCTION(\"\"\"COMPUTED_VALUE\"\"\"),\"OK\")","v":"OK"},{"$f":"IFERROR(__xludf.DUMMYFUNCTION(\"\"\"COMPUTED_VALUE\"\"\"),\"septembre\")","v":"septembre"},{"$f":"IFERROR(__xludf.DUMMYFUNCTION(\"\"\"COMPUTED_VALUE\"\"\"),\"Navire & Fort\")","v":"Navire & Fort"},{"$f":"IFERROR(__xludf.DUMMYFUNCTION(\"\"\"COMPUTED_VALUE\"\"\"),400.5)","v":400.5},{"$f":"IFERROR(__xludf.DUMMYFUNCTION(\"\"\"COMPUTED_VALUE\"\"\"),\"PAF finalisée\")","v":"PAF finalisée"},{"$f":"IFERROR(__xludf.DUMMYFUNCTION(\"\"\"COMPUTED_VALUE\"\"\"),\"non reçue\")","v":"non reçue"},{"$f":"IFERROR(__xludf.DUMMYFUNCTION(\"\"\"COMPUTED_VALUE\"\"\"),\"R.A.S.\")","v":"R.A.S."},{"$f":"IFERROR(__xludf.DUMMYFUNCTION(\"\"\"COMPUTED_VALUE\"\"\"),\"samedi\")","v":"samedi"},{"$f":"IFERROR(__xludf.DUMMYFUNCTION(\"\"\"COMPUTED_VALUE\"\"\"),\"Reste\")","v":"Reste"}]
[{"$f":"IFERROR(__xludf.DUMMYFUNCTION(\"\"\"COMPUTED_VALUE\"\"\"),45332.0)","v":"2024-02-10"},{"$f":"IFERROR(__xludf.DUMMYFUNCTION(\"\"\"COMPUTED_VALUE\"\"\"),\"Hurel\")","v":"Hurel"},{"$f":"IFERROR(__xludf.DUMMYFUNCTION(\"\"\"COMPUTED_VALUE\"\"\"),\"Marcouf\")","v":"Marcouf"},{"$f":"IFERROR(__xludf.DUMMYFUNCTION(\"\"\"COMPUTED_VALUE\"\"\"),\"H\")","v":"H"},{"$f":"IFERROR(__xludf.DUMMYFUNCTION(\"\"\"COMPUTED_VALUE\"\"\"),37.0)","v":37},{"$f":"IFERROR(__xludf.DUMMYFUNCTION(\"\"\"COMPUTED_VALUE\"\"\"),\"marcouf.hurel@gmail.com\")","v":"marcouf.hurel@gmail.com"},{"$f":"IFERROR(__xludf.DUMMYFUNCTION(\"\"\"COMPUTED_VALUE\"\"\"),\"Dagoth Pat\")","v":"Dagoth Pat"},{"$f":"IFERROR(__xludf.DUMMYFUNCTION(\"\"\"COMPUTED_VALUE\"\"\"),\"+33619763483\")","v":"+33619763483"},{"$f":"IFERROR(__xludf.DUMMYFUNCTION(\"\"\"COMPUTED_VALUE\"\"\"),\"Pur PJ\")","v":"Pur PJ"},{"$f":"IFERROR(__xludf.DUMMYFUNCTION(\"\"\"COMPUTED_VALUE\"\"\"),\"-\")","v":"-"},{"$f":"IFERROR(__xludf.DUMMYFUNCTION(\"\"\"COMPUTED_VALUE\"\"\"),\"juin\")","v":"juin"},{"$f":"IFERROR(__xludf.DUMMYFUNCTION(\"\"\"COMPUTED_VALUE\"\"\"),\"Navire et fort\")","v":"Navire et fort"},{"$f":"IFERROR(__xludf.DUMMYFUNCTION(\"\"\"COMPUTED_VALUE\"\"\"),\"OK\")","v":"OK"},{"$f":"IFERROR(__xludf.DUMMYFUNCTION(\"\"\"COMPUTED_VALUE\"\"\"),\"OK\")","v":"OK"},{"$f":"IFERROR(__xludf.DUMMYFUNCTION(\"\"\"COMPUTED_VALUE\"\"\"),\"juin\")","v":"juin"},{"$f":"IFERROR(__xludf.DUMMYFUNCTION(\"\"\"COMPUTED_VALUE\"\"\"),\"Navire & Fort\")","v":"Navire & Fort"},{"$f":"IFERROR(__xludf.DUMMYFUNCTION(\"\"\"COMPUTED_VALUE\"\"\"),400.5)","v":400.5},{"$f":"IFERROR(__xludf.DUMMYFUNCTION(\"\"\"COMPUTED_VALUE\"\"\"),\"PAF finalisée\")","v":"PAF finalisée"},{"$f":"IFERROR(__xludf.DUMMYFUNCTION(\"\"\"COMPUTED_VALUE\"\"\"),\"non reçue\")","v":"non reçue"},{"$f":"IFERROR(__xludf.DUMMYFUNCTION(\"\"\"COMPUTED_VALUE\"\"\"),\"R.A.S.\")","v":"R.A.S."},{"$f":"IFERROR(__xludf.DUMMYFUNCTION(\"\"\"COMPUTED_VALUE\"\"\"),\"samedi\")","v":"samedi"},{"$f":"IFERROR(__xludf.DUMMYFUNCTION(\"\"\"COMPUTED_VALUE\"\"\"),\"Reste\")","v":"Reste"}]
[{"$f":"IFERROR(__xludf.DUMMYFUNCTION(\"\"\"COMPUTED_VALUE\"\"\"),45312.0)","v":"2024-01-21"},{"$f":"IFERROR(__xludf.DUMMYFUNCTION(\"\"\"COMPUTED_VALUE\"\"\"),\"Doche De Laquintane \")","v":"Doche De Laquintane "},{"$f":"IFERROR(__xludf.DUMMYFUNCTION(\"\"\"COMPUTED_VALUE\"\"\"),\"Nicolas \")","v":"Nicolas "},{"$f":"IFERROR(__xludf.DUMMYFUNCTION(\"\"\"COMPUTED_VALUE\"\"\"),\"H\")","v":"H"},{"$f":"IFERROR(__xludf.DUMMYFUNCTION(\"\"\"COMPUTED_VALUE\"\"\"),44.0)","v":44},{"$f":"IFERROR(__xludf.DUMMYFUNCTION(\"\"\"COMPUTED_VALUE\"\"\"),\"jeanflur@gmail.com\")","v":"jeanflur@gmail.com"},{"$f":"IFERROR(__xludf.DUMMYFUNCTION(\"\"\"COMPUTED_VALUE\"\"\"),\"Jean Flur\")","v":"Jean Flur"},{"$f":"IFERROR(__xludf.DUMMYFUNCTION(\"\"\"COMPUTED_VALUE\"\"\"),\"0672711392\")","v":"0672711392"},{"$f":"IFERROR(__xludf.DUMMYFUNCTION(\"\"\"COMPUTED_VALUE\"\"\"),\"PJ+PNJ\")","v":"PJ+PNJ"},{"$f":"IFERROR(__xludf.DUMMYFUNCTION(\"\"\"COMPUTED_VALUE\"\"\"),\"-\")","v":"-"},{"$f":"IFERROR(__xludf.DUMMYFUNCTION(\"\"\"COMPUTED_VALUE\"\"\"),\"Les deux\")","v":"Les deux"},{"$f":"IFERROR(__xludf.DUMMYFUNCTION(\"\"\"COMPUTED_VALUE\"\"\"),\"Peu importe\")","v":"Peu importe"},{"$f":"IFERROR(__xludf.DUMMYFUNCTION(\"\"\"COMPUTED_VALUE\"\"\"),\"OK\")","v":"OK"},{"$f":"IFERROR(__xludf.DUMMYFUNCTION(\"\"\"COMPUTED_VALUE\"\"\"),\"OK\")","v":"OK"},{"$f":"IFERROR(__xludf.DUMMYFUNCTION(\"\"\"COMPUTED_VALUE\"\"\"),\"septembre\")","v":"septembre"},{"$f":"IFERROR(__xludf.DUMMYFUNCTION(\"\"\"COMPUTED_VALUE\"\"\"),\"non attribué\")","v":"non attribué"},null,{"$f":"IFERROR(__xludf.DUMMYFUNCTION(\"\"\"COMPUTED_VALUE\"\"\"),\"PAF non reçue\")","v":"PAF non reçue"},{"$f":"IFERROR(__xludf.DUMMYFUNCTION(\"\"\"COMPUTED_VALUE\"\"\"),\"non reçue\")","v":"non reçue"},{"$f":"IFERROR(__xludf.DUMMYFUNCTION(\"\"\"COMPUTED_VALUE\"\"\"),\"R.A.S.\")","v":"R.A.S."},{"$f":"IFERROR(__xludf.DUMMYFUNCTION(\"\"\"COMPUTED_VALUE\"\"\"),\"samedi\")","v":"samedi"},{"$f":"IFERROR(__xludf.DUMMYFUNCTION(\"\"\"COMPUTED_VALUE\"\"\"),\"Reste\")","v":"Reste"}]
[{"$f":"IFERROR(__xludf.DUMMYFUNCTION(\"\"\"COMPUTED_VALUE\"\"\"),45342.0)","v":"2024-02-20"},{"$f":"IFERROR(__xludf.DUMMYFUNCTION(\"\"\"COMPUTED_VALUE\"\"\"),\"Giraud\")","v":"Giraud"},{"$f":"IFERROR(__xludf.DUMMYFUNCTION(\"\"\"COMPUTED_VALUE\"\"\"),\"Caroline\")","v":"Caroline"},{"$f":"IFERROR(__xludf.DUMMYFUNCTION(\"\"\"COMPUTED_VALUE\"\"\"),\"F\")","v":"F"},{"$f":"IFERROR(__xludf.DUMMYFUNCTION(\"\"\"COMPUTED_VALUE\"\"\"),43.0)","v":43},{"$f":"IFERROR(__xludf.DUMMYFUNCTION(\"\"\"COMPUTED_VALUE\"\"\"),\"blue.hirondelle@gmail.com\")","v":"blue.hirondelle@gmail.com"},{"$f":"IFERROR(__xludf.DUMMYFUNCTION(\"\"\"COMPUTED_VALUE\"\"\"),\"Caroline Giraud \")","v":"Caroline Giraud "},{"$f":"IFERROR(__xludf.DUMMYFUNCTION(\"\"\"COMPUTED_VALUE\"\"\"),\"0754053891\")","v":"0754053891"},{"$f":"IFERROR(__xludf.DUMMYFUNCTION(\"\"\"COMPUTED_VALUE\"\"\"),\"Pur PJ\")","v":"Pur PJ"},{"$f":"IFERROR(__xludf.DUMMYFUNCTION(\"\"\"COMPUTED_VALUE\"\"\"),\"-\")","v":"-"},{"$f":"IFERROR(__xludf.DUMMYFUNCTION(\"\"\"COMPUTED_VALUE\"\"\"),\"septembre\")","v":"septembre"},{"$f":"IFERROR(__xludf.DUMMYFUNCTION(\"\"\"COMPUTED_VALUE\"\"\"),\"Peu importe\")","v":"Peu importe"},{"$f":"IFERROR(__xludf.DUMMYFUNCTION(\"\"\"COMPUTED_VALUE\"\"\"),\"OK\")","v":"OK"},{"$f":"IFERROR(__xludf.DUMMYFUNCTION(\"\"\"COMPUTED_VALUE\"\"\"),\"OK\")","v":"OK"},{"$f":"IFERROR(__xludf.DUMMYFUNCTION(\"\"\"COMPUTED_VALUE\"\"\"),\"septembre\")","v":"septembre"},{"$f":"IFERROR(__xludf.DUMMYFUNCTION(\"\"\"COMPUTED_VALUE\"\"\"),\"Navire & Fort\")","v":"Navire & Fort"},{"$f":"IFERROR(__xludf.DUMMYFUNCTION(\"\"\"COMPUTED_VALUE\"\"\"),400.0)","v":400},{"$f":"IFERROR(__xludf.DUMMYFUNCTION(\"\"\"COMPUTED_VALUE\"\"\"),\"PAF finalisée\")","v":"PAF finalisée"},{"$f":"IFERROR(__xludf.DUMMYFUNCTION(\"\"\"COMPUTED_VALUE\"\"\"),\"non reçue\")","v":"non reçue"},{"$f":"IFERROR(__xludf.DUMMYFUNCTION(\"\"\"COMPUTED_VALUE\"\"\"),\"R.A.S.\")","v":"R.A.S."},{"$f":"IFERROR(__xludf.DUMMYFUNCTION(\"\"\"COMPUTED_VALUE\"\"\"),\"samedi\")","v":"samedi"},{"$f":"IFERROR(__xludf.DUMMYFUNCTION(\"\"\"COMPUTED_VALUE\"\"\"),\"Reste\")","v":"Reste"}]
[{"$f":"IFERROR(__xludf.DUMMYFUNCTION(\"\"\"COMPUTED_VALUE\"\"\"),45310.0)","v":"2024-01-19"},{"$f":"IFERROR(__xludf.DUMMYFUNCTION(\"\"\"COMPUTED_VALUE\"\"\"),\"Jallet\")","v":"Jallet"},{"$f":"IFERROR(__xludf.DUMMYFUNCTION(\"\"\"COMPUTED_VALUE\"\"\"),\"Benoit\")","v":"Benoit"},{"$f":"IFERROR(__xludf.DUMMYFUNCTION(\"\"\"COMPUTED_VALUE\"\"\"),\"H\")","v":"H"},{"$f":"IFERROR(__xludf.DUMMYFUNCTION(\"\"\"COMPUTED_VALUE\"\"\"),39.0)","v":39},{"$f":"IFERROR(__xludf.DUMMYFUNCTION(\"\"\"COMPUTED_VALUE\"\"\"),\"bjallet@gmail.com\")","v":"bjallet@gmail.com"},{"$f":"IFERROR(__xludf.DUMMYFUNCTION(\"\"\"COMPUTED_VALUE\"\"\"),\"Benoit Jallet\")","v":"Benoit Jallet"},{"$f":"IFERROR(__xludf.DUMMYFUNCTION(\"\"\"COMPUTED_VALUE\"\"\"),\"0674223846\")","v":"0674223846"},{"$f":"IFERROR(__xludf.DUMMYFUNCTION(\"\"\"COMPUTED_VALUE\"\"\"),\"Pur PJ\")","v":"Pur PJ"},{"$f":"IFERROR(__xludf.DUMMYFUNCTION(\"\"\"COMPUTED_VALUE\"\"\"),\"-\")","v":"-"},{"$f":"IFERROR(__xludf.DUMMYFUNCTION(\"\"\"COMPUTED_VALUE\"\"\"),\"juin\")","v":"juin"},{"$f":"IFERROR(__xludf.DUMMYFUNCTION(\"\"\"COMPUTED_VALUE\"\"\"),\"Peu importe\")","v":"Peu importe"},{"$f":"IFERROR(__xludf.DUMMYFUNCTION(\"\"\"COMPUTED_VALUE\"\"\"),\"OK\")","v":"OK"},{"$f":"IFERROR(__xludf.DUMMYFUNCTION(\"\"\"COMPUTED_VALUE\"\"\"),\"OK\")","v":"OK"},{"$f":"IFERROR(__xludf.DUMMYFUNCTION(\"\"\"COMPUTED_VALUE\"\"\"),\"juin\")","v":"juin"},{"$f":"IFERROR(__xludf.DUMMYFUNCTION(\"\"\"COMPUTED_VALUE\"\"\"),\"Navire & Fort\")","v":"Navire & Fort"},{"$f":"IFERROR(__xludf.DUMMYFUNCTION(\"\"\"COMPUTED_VALUE\"\"\"),400.0)","v":400},{"$f":"IFERROR(__xludf.DUMMYFUNCTION(\"\"\"COMPUTED_VALUE\"\"\"),\"PAF finalisée\")","v":"PAF finalisée"},{"$f":"IFERROR(__xludf.DUMMYFUNCTION(\"\"\"COMPUTED_VALUE\"\"\"),\"non reçue\")","v":"non reçue"},{"$f":"IFERROR(__xludf.DUMMYFUNCTION(\"\"\"COMPUTED_VALUE\"\"\"),\"R.A.S.\")","v":"R.A.S."},{"$f":"IFERROR(__xludf.DUMMYFUNCTION(\"\"\"COMPUTED_VALUE\"\"\"),\"samedi\")","v":"samedi"},{"$f":"IFERROR(__xludf.DUMMYFUNCTION(\"\"\"COMPUTED_VALUE\"\"\"),\"Reste\")","v":"Reste"}]
[{"$f":"IFERROR(__xludf.DUMMYFUNCTION(\"\"\"COMPUTED_VALUE\"\"\"),45326.0)","v":"2024-02-04"},{"$f":"IFERROR(__xludf.DUMMYFUNCTION(\"\"\"COMPUTED_VALUE\"\"\"),\"Lair\")","v":"Lair"},{"$f":"IFERROR(__xludf.DUMMYFUNCTION(\"\"\"COMPUTED_VALUE\"\"\"),\"François\")","v":"François"},{"$f":"IFERROR(__xludf.DUMMYFUNCTION(\"\"\"COMPUTED_VALUE\"\"\"),\"H\")","v":"H"},{"$f":"IFERROR(__xludf.DUMMYFUNCTION(\"\"\"COMPUTED_VALUE\"\"\"),38.0)","v":38},{"$f":"IFERROR(__xludf.DUMMYFUNCTION(\"\"\"COMPUTED_VALUE\"\"\"),\"lair.francois@gmail.com\")","v":"lair.francois@gmail.com"},{"$f":"IFERROR(__xludf.DUMMYFUNCTION(\"\"\"COMPUTED_VALUE\"\"\"),\"Francois Lair\")","v":"Francois Lair"},{"$f":"IFERROR(__xludf.DUMMYFUNCTION(\"\"\"COMPUTED_VALUE\"\"\"),\"0630479704\")","v":"0630479704"},{"$f":"IFERROR(__xludf.DUMMYFUNCTION(\"\"\"COMPUTED_VALUE\"\"\"),\"Pur PJ\")","v":"Pur PJ"},{"$f":"IFERROR(__xludf.DUMMYFUNCTION(\"\"\"COMPUTED_VALUE\"\"\"),\"-\")","v":"-"},{"$f":"IFERROR(__xludf.DUMMYFUNCTION(\"\"\"COMPUTED_VALUE\"\"\"),\"Les deux\")","v":"Les deux"},{"$f":"IFERROR(__xludf.DUMMYFUNCTION(\"\"\"COMPUTED_VALUE\"\"\"),\"Peu importe\")","v":"Peu importe"},{"$f":"IFERROR(__xludf.DUMMYFUNCTION(\"\"\"COMPUTED_VALUE\"\"\"),\"OK\")","v":"OK"},{"$f":"IFERROR(__xludf.DUMMYFUNCTION(\"\"\"COMPUTED_VALUE\"\"\"),\"OK\")","v":"OK"},{"$f":"IFERROR(__xludf.DUMMYFUNCTION(\"\"\"COMPUTED_VALUE\"\"\"),\"septembre\")","v":"septembre"},{"$f":"IFERROR(__xludf.DUMMYFUNCTION(\"\"\"COMPUTED_VALUE\"\"\"),\"Navire & Fort\")","v":"Navire & Fort"},{"$f":"IFERROR(__xludf.DUMMYFUNCTION(\"\"\"COMPUTED_VALUE\"\"\"),410.0)","v":410},{"$f":"IFERROR(__xludf.DUMMYFUNCTION(\"\"\"COMPUTED_VALUE\"\"\"),\"PAF finalisée\")","v":"PAF finalisée"},{"$f":"IFERROR(__xludf.DUMMYFUNCTION(\"\"\"COMPUTED_VALUE\"\"\"),\"non reçue\")","v":"non reçue"},{"$f":"IFERROR(__xludf.DUMMYFUNCTION(\"\"\"COMPUTED_VALUE\"\"\"),\"R.A.S.\")","v":"R.A.S."},{"$f":"IFERROR(__xludf.DUMMYFUNCTION(\"\"\"COMPUTED_VALUE\"\"\"),\"samedi\")","v":"samedi"},{"$f":"IFERROR(__xludf.DUMMYFUNCTION(\"\"\"COMPUTED_VALUE\"\"\"),\"Reste\")","v":"Reste"}]
[{"$f":"IFERROR(__xludf.DUMMYFUNCTION(\"\"\"COMPUTED_VALUE\"\"\"),45304.0)","v":"2024-01-13"},{"$f":"IFERROR(__xludf.DUMMYFUNCTION(\"\"\"COMPUTED_VALUE\"\"\"),\"Maitreheu\")","v":"Maitreheu"},{"$f":"IFERROR(__xludf.DUMMYFUNCTION(\"\"\"COMPUTED_VALUE\"\"\"),\"Mélodie\")","v":"Mélodie"},{"$f":"IFERROR(__xludf.DUMMYFUNCTION(\"\"\"COMPUTED_VALUE\"\"\"),\"F\")","v":"F"},{"$f":"IFERROR(__xludf.DUMMYFUNCTION(\"\"\"COMPUTED_VALUE\"\"\"),35.0)","v":35},{"$f":"IFERROR(__xludf.DUMMYFUNCTION(\"\"\"COMPUTED_VALUE\"\"\"),\"melodie.maitreheu@gmail.com\")","v":"melodie.maitreheu@gmail.com"},{"$f":"IFERROR(__xludf.DUMMYFUNCTION(\"\"\"COMPUTED_VALUE\"\"\"),\"Mélodie Maitreheu\")","v":"Mélodie Maitreheu"},{"$f":"IFERROR(__xludf.DUMMYFUNCTION(\"\"\"COMPUTED_VALUE\"\"\"),\"0623465958\")","v":"0623465958"},{"$f":"IFERROR(__xludf.DUMMYFUNCTION(\"\"\"COMPUTED_VALUE\"\"\"),\"Pur PJ\")","v":"Pur PJ"},{"$f":"IFERROR(__xludf.DUMMYFUNCTION(\"\"\"COMPUTED_VALUE\"\"\"),\"-\")","v":"-"},{"$f":"IFERROR(__xludf.DUMMYFUNCTION(\"\"\"COMPUTED_VALUE\"\"\"),\"Non précisé\")","v":"Non précisé"},{"$f":"IFERROR(__xludf.DUMMYFUNCTION(\"\"\"COMPUTED_VALUE\"\"\"),\"Navire et fort\")","v":"Navire et fort"},{"$f":"IFERROR(__xludf.DUMMYFUNCTION(\"\"\"COMPUTED_VALUE\"\"\"),\"OK\")","v":"OK"},{"$f":"IFERROR(__xludf.DUMMYFUNCTION(\"\"\"COMPUTED_VALUE\"\"\"),\"OK\")","v":"OK"},{"$f":"IFERROR(__xludf.DUMMYFUNCTION(\"\"\"COMPUTED_VALUE\"\"\"),\"septembre\")","v":"septembre"},{"$f":"IFERROR(__xludf.DUMMYFUNCTION(\"\"\"COMPUTED_VALUE\"\"\"),\"Navire & Fort\")","v":"Navire & Fort"},null,{"$f":"IFERROR(__xludf.DUMMYFUNCTION(\"\"\"COMPUTED_VALUE\"\"\"),\"PAF non reçue\")","v":"PAF non reçue"},{"$f":"IFERROR(__xludf.DUMMYFUNCTION(\"\"\"COMPUTED_VALUE\"\"\"),\"non reçue\")","v":"non reçue"},{"$f":"IFERROR(__xludf.DUMMYFUNCTION(\"\"\"COMPUTED_VALUE\"\"\"),\"R.A.S.\")","v":"R.A.S."},{"$f":"IFERROR(__xludf.DUMMYFUNCTION(\"\"\"COMPUTED_VALUE\"\"\"),\"samedi\")","v":"samedi"},{"$f":"IFERROR(__xludf.DUMMYFUNCTION(\"\"\"COMPUTED_VALUE\"\"\"),\"Reste\")","v":"Reste"}]
[{"$f":"IFERROR(__xludf.DUMMYFUNCTION(\"\"\"COMPUTED_VALUE\"\"\"),45366.0)","v":"2024-03-15"},{"$f":"IFERROR(__xludf.DUMMYFUNCTION(\"\"\"COMPUTED_VALUE\"\"\"),\"Poimboeuf \")","v":"Poimboeuf "},{"$f":"IFERROR(__xludf.DUMMYFUNCTION(\"\"\"COMPUTED_VALUE\"\"\"),\"Thibault \")","v":"Thibault "},{"$f":"IFERROR(__xludf.DUMMYFUNCTION(\"\"\"COMPUTED_VALUE\"\"\"),\"H\")","v":"H"},{"$f":"IFERROR(__xludf.DUMMYFUNCTION(\"\"\"COMPUTED_VALUE\"\"\"),31.0)","v":31},{"$f":"IFERROR(__xludf.DUMMYFUNCTION(\"\"\"COMPUTED_VALUE\"\"\"),\"georin@live.fr\")","v":"georin@live.fr"},{"$f":"IFERROR(__xludf.DUMMYFUNCTION(\"\"\"COMPUTED_VALUE\"\"\"),\"Kalma San \")","v":"Kalma San "},{"$f":"IFERROR(__xludf.DUMMYFUNCTION(\"\"\"COMPUTED_VALUE\"\"\"),\"0679585124\")","v":"0679585124"},{"$f":"IFERROR(__xludf.DUMMYFUNCTION(\"\"\"COMPUTED_VALUE\"\"\"),\"PJ+PNJ\")","v":"PJ+PNJ"},{"$f":"IFERROR(__xludf.DUMMYFUNCTION(\"\"\"COMPUTED_VALUE\"\"\"),\"-\")","v":"-"},{"$f":"IFERROR(__xludf.DUMMYFUNCTION(\"\"\"COMPUTED_VALUE\"\"\"),\"Les deux\")","v":"Les deux"},{"$f":"IFERROR(__xludf.DUMMYFUNCTION(\"\"\"COMPUTED_VALUE\"\"\"),\"Navire et fort\")","v":"Navire et fort"},{"$f":"IFERROR(__xludf.DUMMYFUNCTION(\"\"\"COMPUTED_VALUE\"\"\"),\"OK\")","v":"OK"},{"$f":"IFERROR(__xludf.DUMMYFUNCTION(\"\"\"COMPUTED_VALUE\"\"\"),\"OK\")","v":"OK"},{"$f":"IFERROR(__xludf.DUMMYFUNCTION(\"\"\"COMPUTED_VALUE\"\"\"),\"septembre\")","v":"septembre"},{"$f":"IFERROR(__xludf.DUMMYFUNCTION(\"\"\"COMPUTED_VALUE\"\"\"),\"Navire & Fort\")","v":"Navire & Fort"},{"$f":"IFERROR(__xludf.DUMMYFUNCTION(\"\"\"COMPUTED_VALUE\"\"\"),400.0)","v":400},{"$f":"IFERROR(__xludf.DUMMYFUNCTION(\"\"\"COMPUTED_VALUE\"\"\"),\"PAF finalisée\")","v":"PAF finalisée"},{"$f":"IFERROR(__xludf.DUMMYFUNCTION(\"\"\"COMPUTED_VALUE\"\"\"),\"non reçue\")","v":"non reçue"},{"$f":"IFERROR(__xludf.DUMMYFUNCTION(\"\"\"COMPUTED_VALUE\"\"\"),\"R.A.S.\")","v":"R.A.S."},{"$f":"IFERROR(__xludf.DUMMYFUNCTION(\"\"\"COMPUTED_VALUE\"\"\"),\"samedi\")","v":"samedi"},{"$f":"IFERROR(__xludf.DUMMYFUNCTION(\"\"\"COMPUTED_VALUE\"\"\"),\"Reste\")","v":"Reste"}]
[{"$f":"IFERROR(__xludf.DUMMYFUNCTION(\"\"\"COMPUTED_VALUE\"\"\"),45304.0)","v":"2024-01-13"},{"$f":"IFERROR(__xludf.DUMMYFUNCTION(\"\"\"COMPUTED_VALUE\"\"\"),\"Raimbault \")","v":"Raimbault "},{"$f":"IFERROR(__xludf.DUMMYFUNCTION(\"\"\"COMPUTED_VALUE\"\"\"),\"Cécile\")","v":"Cécile"},{"$f":"IFERROR(__xludf.DUMMYFUNCTION(\"\"\"COMPUTED_VALUE\"\"\"),\"F\")","v":"F"},{"$f":"IFERROR(__xludf.DUMMYFUNCTION(\"\"\"COMPUTED_VALUE\"\"\"),44.0)","v":44},{"$f":"IFERROR(__xludf.DUMMYFUNCTION(\"\"\"COMPUTED_VALUE\"\"\"),\"llialn@gmail.com\")","v":"llialn@gmail.com"},{"$f":"IFERROR(__xludf.DUMMYFUNCTION(\"\"\"COMPUTED_VALUE\"\"\"),\"Llialn di Maluisien\")","v":"Llialn di Maluisien"},{"$f":"IFERROR(__xludf.DUMMYFUNCTION(\"\"\"COMPUTED_VALUE\"\"\"),\"0620226425\")","v":"0620226425"},{"$f":"IFERROR(__xludf.DUMMYFUNCTION(\"\"\"COMPUTED_VALUE\"\"\"),\"Pur PJ\")","v":"Pur PJ"},{"$f":"IFERROR(__xludf.DUMMYFUNCTION(\"\"\"COMPUTED_VALUE\"\"\"),\"-\")","v":"-"},{"$f":"IFERROR(__xludf.DUMMYFUNCTION(\"\"\"COMPUTED_VALUE\"\"\"),\"juin\")","v":"juin"},{"$f":"IFERROR(__xludf.DUMMYFUNCTION(\"\"\"COMPUTED_VALUE\"\"\"),\"Navire et fort\")","v":"Navire et fort"},{"$f":"IFERROR(__xludf.DUMMYFUNCTION(\"\"\"COMPUTED_VALUE\"\"\"),\"OK\")","v":"OK"},{"$f":"IFERROR(__xludf.DUMMYFUNCTION(\"\"\"COMPUTED_VALUE\"\"\"),\"OK\")","v":"OK"},{"$f":"IFERROR(__xludf.DUMMYFUNCTION(\"\"\"COMPUTED_VALUE\"\"\"),\"juin\")","v":"juin"},{"$f":"IFERROR(__xludf.DUMMYFUNCTION(\"\"\"COMPUTED_VALUE\"\"\"),\"Navire & Fort\")","v":"Navire & Fort"},{"$f":"IFERROR(__xludf.DUMMYFUNCTION(\"\"\"COMPUTED_VALUE\"\"\"),0.0)","v":0},{"$f":"IFERROR(__xludf.DUMMYFUNCTION(\"\"\"COMPUTED_VALUE\"\"\"),\"PAF finalisée\")","v":"PAF finalisée"},{"$f":"IFERROR(__xludf.DUMMYFUNCTION(\"\"\"COMPUTED_VALUE\"\"\"),\"non reçue\")","v":"non reçue"},{"$f":"IFERROR(__xludf.DUMMYFUNCTION(\"\"\"COMPUTED_VALUE\"\"\"),\"R.A.S.\")","v":"R.A.S."},{"$f":"IFERROR(__xludf.DUMMYFUNCTION(\"\"\"COMPUTED_VALUE\"\"\"),\"samedi\")","v":"samedi"},{"$f":"IFERROR(__xludf.DUMMYFUNCTION(\"\"\"COMPUTED_VALUE\"\"\"),\"Reste\")","v":"Reste"}]
[{"$f":"IFERROR(__xludf.DUMMYFUNCTION(\"\"\"COMPUTED_VALUE\"\"\"),45303.0)","v":"2024-01-12"},{"$f":"IFERROR(__xludf.DUMMYFUNCTION(\"\"\"COMPUTED_VALUE\"\"\"),\"RICHARD\")","v":"RICHARD"},{"$f":"IFERROR(__xludf.DUMMYFUNCTION(\"\"\"COMPUTED_VALUE\"\"\"),\"Patrice\")","v":"Patrice"},{"$f":"IFERROR(__xludf.DUMMYFUNCTION(\"\"\"COMPUTED_VALUE\"\"\"),\"H\")","v":"H"},{"$f":"IFERROR(__xludf.DUMMYFUNCTION(\"\"\"COMPUTED_VALUE\"\"\"),47.0)","v":47},{"$f":"IFERROR(__xludf.DUMMYFUNCTION(\"\"\"COMPUTED_VALUE\"\"\"),\"pastbug@msn.com\")","v":"pastbug@msn.com"},{"$f":"IFERROR(__xludf.DUMMYFUNCTION(\"\"\"COMPUTED_VALUE\"\"\"),\"Patrice rich\")","v":"Patrice rich"},{"$f":"IFERROR(__xludf.DUMMYFUNCTION(\"\"\"COMPUTED_VALUE\"\"\"),\"0781481945\")","v":"0781481945"},{"$f":"IFERROR(__xludf.DUMMYFUNCTION(\"\"\"COMPUTED_VALUE\"\"\"),\"Pur PJ\")","v":"Pur PJ"},{"$f":"IFERROR(__xludf.DUMMYFUNCTION(\"\"\"COMPUTED_VALUE\"\"\"),\"-\")","v":"-"},{"$f":"IFERROR(__xludf.DUMMYFUNCTION(\"\"\"COMPUTED_VALUE\"\"\"),\"juin\")","v":"juin"},{"$f":"IFERROR(__xludf.DUMMYFUNCTION(\"\"\"COMPUTED_VALUE\"\"\"),\"Navire et fort\")","v":"Navire et fort"},{"$f":"IFERROR(__xludf.DUMMYFUNCTION(\"\"\"COMPUTED_VALUE\"\"\"),\"OK\")","v":"OK"},{"$f":"IFERROR(__xludf.DUMMYFUNCTION(\"\"\"COMPUTED_VALUE\"\"\"),\"OK\")","v":"OK"},{"$f":"IFERROR(__xludf.DUMMYFUNCTION(\"\"\"COMPUTED_VALUE\"\"\"),\"juin\")","v":"juin"},{"$f":"IFERROR(__xludf.DUMMYFUNCTION(\"\"\"COMPUTED_VALUE\"\"\"),\"Navire & Fort\")","v":"Navire & Fort"},{"$f":"IFERROR(__xludf.DUMMYFUNCTION(\"\"\"COMPUTED_VALUE\"\"\"),0.0)","v":0},{"$f":"IFERROR(__xludf.DUMMYFUNCTION(\"\"\"COMPUTED_VALUE\"\"\"),\"PAF finalisée\")","v":"PAF finalisée"},{"$f":"IFERROR(__xludf.DUMMYFUNCTION(\"\"\"COMPUTED_VALUE\"\"\"),\"non reçue\")","v":"non reçue"},{"$f":"IFERROR(__xludf.DUMMYFUNCTION(\"\"\"COMPUTED_VALUE\"\"\"),\"R.A.S.\")","v":"R.A.S."},{"$f":"IFERROR(__xludf.DUMMYFUNCTION(\"\"\"COMPUTED_VALUE\"\"\"),\"samedi\")","v":"samedi"},{"$f":"IFERROR(__xludf.DUMMYFUNCTION(\"\"\"COMPUTED_VALUE\"\"\"),\"Reste\")","v":"Reste"}]
[{"$f":"IFERROR(__xludf.DUMMYFUNCTION(\"\"\"COMPUTED_VALUE\"\"\"),45303.0)","v":"2024-01-12"},{"$f":"IFERROR(__xludf.DUMMYFUNCTION(\"\"\"COMPUTED_VALUE\"\"\"),\"RIGAUD\")","v":"RIGAUD"},{"$f":"IFERROR(__xludf.DUMMYFUNCTION(\"\"\"COMPUTED_VALUE\"\"\"),\"Véronique\")","v":"Véronique"},{"$f":"IFERROR(__xludf.DUMMYFUNCTION(\"\"\"COMPUTED_VALUE\"\"\"),\"F\")","v":"F"},{"$f":"IFERROR(__xludf.DUMMYFUNCTION(\"\"\"COMPUTED_VALUE\"\"\"),60.0)","v":60},{"$f":"IFERROR(__xludf.DUMMYFUNCTION(\"\"\"COMPUTED_VALUE\"\"\"),\"rigaudvero@yahoo.fr\")","v":"rigaudvero@yahoo.fr"},{"$f":"IFERROR(__xludf.DUMMYFUNCTION(\"\"\"COMPUTED_VALUE\"\"\"),\"Véronique RiZa\")","v":"Véronique RiZa"},{"$f":"IFERROR(__xludf.DUMMYFUNCTION(\"\"\"COMPUTED_VALUE\"\"\"),\"0613792264\")","v":"0613792264"},{"$f":"IFERROR(__xludf.DUMMYFUNCTION(\"\"\"COMPUTED_VALUE\"\"\"),\"Pur PJ\")","v":"Pur PJ"},{"$f":"IFERROR(__xludf.DUMMYFUNCTION(\"\"\"COMPUTED_VALUE\"\"\"),\"-\")","v":"-"},{"$f":"IFERROR(__xludf.DUMMYFUNCTION(\"\"\"COMPUTED_VALUE\"\"\"),\"juin\")","v":"juin"},{"$f":"IFERROR(__xludf.DUMMYFUNCTION(\"\"\"COMPUTED_VALUE\"\"\"),\"Navire et fort\")","v":"Navire et fort"},{"$f":"IFERROR(__xludf.DUMMYFUNCTION(\"\"\"COMPUTED_VALUE\"\"\"),\"OK\")","v":"OK"},{"$f":"IFERROR(__xludf.DUMMYFUNCTION(\"\"\"COMPUTED_VALUE\"\"\"),\"OK\")","v":"OK"},{"$f":"IFERROR(__xludf.DUMMYFUNCTION(\"\"\"COMPUTED_VALUE\"\"\"),\"juin\")","v":"juin"},{"$f":"IFERROR(__xludf.DUMMYFUNCTION(\"\"\"COMPUTED_VALUE\"\"\"),\"Navire & Fort\")","v":"Navire & Fort"},{"$f":"IFERROR(__xludf.DUMMYFUNCTION(\"\"\"COMPUTED_VALUE\"\"\"),400.5)","v":400.5},{"$f":"IFERROR(__xludf.DUMMYFUNCTION(\"\"\"COMPUTED_VALUE\"\"\"),\"PAF finalisée\")","v":"PAF finalisée"},{"$f":"IFERROR(__xludf.DUMMYFUNCTION(\"\"\"COMPUTED_VALUE\"\"\"),\"non reçue\")","v":"non reçue"},{"$f":"IFERROR(__xludf.DUMMYFUNCTION(\"\"\"COMPUTED_VALUE\"\"\"),\"R.A.S.\")","v":"R.A.S."},{"$f":"IFERROR(__xludf.DUMMYFUNCTION(\"\"\"COMPUTED_VALUE\"\"\"),\"samedi\")","v":"samedi"},{"$f":"IFERROR(__xludf.DUMMYFUNCTION(\"\"\"COMPUTED_VALUE\"\"\"),\"Reste\")","v":"Reste"}]
[{"$f":"IFERROR(__xludf.DUMMYFUNCTION(\"\"\"COMPUTED_VALUE\"\"\"),45304.0)","v":"2024-01-13"},{"$f":"IFERROR(__xludf.DUMMYFUNCTION(\"\"\"COMPUTED_VALUE\"\"\"),\"VIGIER \")","v":"VIGIER "},{"$f":"IFERROR(__xludf.DUMMYFUNCTION(\"\"\"COMPUTED_VALUE\"\"\"),\"Yann\")","v":"Yann"},{"$f":"IFERROR(__xludf.DUMMYFUNCTION(\"\"\"COMPUTED_VALUE\"\"\"),\"H\")","v":"H"},{"$f":"IFERROR(__xludf.DUMMYFUNCTION(\"\"\"COMPUTED_VALUE\"\"\"),48.0)","v":48},{"$f":"IFERROR(__xludf.DUMMYFUNCTION(\"\"\"COMPUTED_VALUE\"\"\"),\"yanvigier63@gmail.com\")","v":"yanvigier63@gmail.com"},{"$f":"IFERROR(__xludf.DUMMYFUNCTION(\"\"\"COMPUTED_VALUE\"\"\"),\"Lialn Di Maluisien\")","v":"Lialn Di Maluisien"},{"$f":"IFERROR(__xludf.DUMMYFUNCTION(\"\"\"COMPUTED_VALUE\"\"\"),\"0634991751\")","v":"0634991751"},{"$f":"IFERROR(__xludf.DUMMYFUNCTION(\"\"\"COMPUTED_VALUE\"\"\"),\"PJ+PNJ\")","v":"PJ+PNJ"},{"$f":"IFERROR(__xludf.DUMMYFUNCTION(\"\"\"COMPUTED_VALUE\"\"\"),\"-\")","v":"-"},{"$f":"IFERROR(__xludf.DUMMYFUNCTION(\"\"\"COMPUTED_VALUE\"\"\"),\"juin\")","v":"juin"},{"$f":"IFERROR(__xludf.DUMMYFUNCTION(\"\"\"COMPUTED_VALUE\"\"\"),\"Navire et fort\")","v":"Navire et fort"},{"$f":"IFERROR(__xludf.DUMMYFUNCTION(\"\"\"COMPUTED_VALUE\"\"\"),\"OK\")","v":"OK"},{"$f":"IFERROR(__xludf.DUMMYFUNCTION(\"\"\"COMPUTED_VALUE\"\"\"),\"OK\")","v":"OK"},{"$f":"IFERROR(__xludf.DUMMYFUNCTION(\"\"\"COMPUTED_VALUE\"\"\"),\"juin\")","v":"juin"},{"$f":"IFERROR(__xludf.DUMMYFUNCTION(\"\"\"COMPUTED_VALUE\"\"\"),\"Navire & Fort\")","v":"Navire & Fort"},{"$f":"IFERROR(__xludf.DUMMYFUNCTION(\"\"\"COMPUTED_VALUE\"\"\"),801.0)","v":801},{"$f":"IFERROR(__xludf.DUMMYFUNCTION(\"\"\"COMPUTED_VALUE\"\"\"),\"PAF finalisée\")","v":"PAF finalisée"},{"$f":"IFERROR(__xludf.DUMMYFUNCTION(\"\"\"COMPUTED_VALUE\"\"\"),\"non reçue\")","v":"non reçue"},{"$f":"IFERROR(__xludf.DUMMYFUNCTION(\"\"\"COMPUTED_VALUE\"\"\"),\"R.A.S.\")","v":"R.A.S."},{"$f":"IFERROR(__xludf.DUMMYFUNCTION(\"\"\"COMPUTED_VALUE\"\"\"),\"samedi\")","v":"samedi"},{"$f":"IFERROR(__xludf.DUMMYFUNCTION(\"\"\"COMPUTED_VALUE\"\"\"),\"Reste\")","v":"Reste"}]
[{"$f":"IFERROR(__xludf.DUMMYFUNCTION(\"\"\"COMPUTED_VALUE\"\"\"),45306.0)","v":"2024-01-15"},{"$f":"IFERROR(__xludf.DUMMYFUNCTION(\"\"\"COMPUTED_VALUE\"\"\"),\"Vignier\")","v":"Vignier"},{"$f":"IFERROR(__xludf.DUMMYFUNCTION(\"\"\"COMPUTED_VALUE\"\"\"),\"Fanny\")","v":"Fanny"},{"$f":"IFERROR(__xludf.DUMMYFUNCTION(\"\"\"COMPUTED_VALUE\"\"\"),\"F\")","v":"F"},null,{"$f":"IFERROR(__xludf.DUMMYFUNCTION(\"\"\"COMPUTED_VALUE\"\"\"),\"fannyvignier@hotmail.fr\")","v":"fannyvignier@hotmail.fr"},{"$f":"IFERROR(__xludf.DUMMYFUNCTION(\"\"\"COMPUTED_VALUE\"\"\"),\"Fanny Vgn\")","v":"Fanny Vgn"},null,{"$f":"IFERROR(__xludf.DUMMYFUNCTION(\"\"\"COMPUTED_VALUE\"\"\"),\"Pur PJ\")","v":"Pur PJ"},{"$f":"IFERROR(__xludf.DUMMYFUNCTION(\"\"\"COMPUTED_VALUE\"\"\"),\"-\")","v":"-"},{"$f":"IFERROR(__xludf.DUMMYFUNCTION(\"\"\"COMPUTED_VALUE\"\"\"),\"Les deux\")","v":"Les deux"},{"$f":"IFERROR(__xludf.DUMMYFUNCTION(\"\"\"COMPUTED_VALUE\"\"\"),\"Navire et fort\")","v":"Navire et fort"},{"$f":"IFERROR(__xludf.DUMMYFUNCTION(\"\"\"COMPUTED_VALUE\"\"\"),\"OK\")","v":"OK"},{"$f":"IFERROR(__xludf.DUMMYFUNCTION(\"\"\"COMPUTED_VALUE\"\"\"),\"OK\")","v":"OK"},{"$f":"IFERROR(__xludf.DUMMYFUNCTION(\"\"\"COMPUTED_VALUE\"\"\"),\"juin\")","v":"juin"},{"$f":"IFERROR(__xludf.DUMMYFUNCTION(\"\"\"COMPUTED_VALUE\"\"\"),\"Navire & Fort\")","v":"Navire & Fort"},{"$f":"IFERROR(__xludf.DUMMYFUNCTION(\"\"\"COMPUTED_VALUE\"\"\"),400.5)","v":400.5},{"$f":"IFERROR(__xludf.DUMMYFUNCTION(\"\"\"COMPUTED_VALUE\"\"\"),\"PAF finalisée\")","v":"PAF finalisée"},{"$f":"IFERROR(__xludf.DUMMYFUNCTION(\"\"\"COMPUTED_VALUE\"\"\"),\"non reçue\")","v":"non reçue"},{"$f":"IFERROR(__xludf.DUMMYFUNCTION(\"\"\"COMPUTED_VALUE\"\"\"),\"R.A.S.\")","v":"R.A.S."},{"$f":"IFERROR(__xludf.DUMMYFUNCTION(\"\"\"COMPUTED_VALUE\"\"\"),\"samedi\")","v":"samedi"},{"$f":"IFERROR(__xludf.DUMMYFUNCTION(\"\"\"COMPUTED_VALUE\"\"\"),\"Reste\")","v":"Reste"}]
[{"$f":"IFERROR(__xludf.DUMMYFUNCTION(\"\"\"COMPUTED_VALUE\"\"\"),45341.0)","v":"2024-02-19"},{"$f":"IFERROR(__xludf.DUMMYFUNCTION(\"\"\"COMPUTED_VALUE\"\"\"),\"Vaes\")","v":"Vaes"},{"$f":"IFERROR(__xludf.DUMMYFUNCTION(\"\"\"COMPUTED_VALUE\"\"\"),\"Thomas\")","v":"Thomas"},{"$f":"IFERROR(__xludf.DUMMYFUNCTION(\"\"\"COMPUTED_VALUE\"\"\"),\"H\")","v":"H"},{"$f":"IFERROR(__xludf.DUMMYFUNCTION(\"\"\"COMPUTED_VALUE\"\"\"),31.0)","v":31},{"$f":"IFERROR(__xludf.DUMMYFUNCTION(\"\"\"COMPUTED_VALUE\"\"\"),\"thomas.vaes@hotmail.com\")","v":"thomas.vaes@hotmail.com"},{"$f":"IFERROR(__xludf.DUMMYFUNCTION(\"\"\"COMPUTED_VALUE\"\"\"),\"Vaes Thomas\")","v":"Vaes Thomas"},{"$f":"IFERROR(__xludf.DUMMYFUNCTION(\"\"\"COMPUTED_VALUE\"\"\"),\"0471502173\")","v":"0471502173"},{"$f":"IFERROR(__xludf.DUMMYFUNCTION(\"\"\"COMPUTED_VALUE\"\"\"),\"PJ+PNJ\")","v":"PJ+PNJ"},{"$f":"IFERROR(__xludf.DUMMYFUNCTION(\"\"\"COMPUTED_VALUE\"\"\"),\"-\")","v":"-"},{"$f":"IFERROR(__xludf.DUMMYFUNCTION(\"\"\"COMPUTED_VALUE\"\"\"),\"Les deux\")","v":"Les deux"},{"$f":"IFERROR(__xludf.DUMMYFUNCTION(\"\"\"COMPUTED_VALUE\"\"\"),\"Navire et fort\")","v":"Navire et fort"},{"$f":"IFERROR(__xludf.DUMMYFUNCTION(\"\"\"COMPUTED_VALUE\"\"\"),\"OK\")","v":"OK"},{"$f":"IFERROR(__xludf.DUMMYFUNCTION(\"\"\"COMPUTED_VALUE\"\"\"),\"OK\")","v":"OK"},{"$f":"IFERROR(__xludf.DUMMYFUNCTION(\"\"\"COMPUTED_VALUE\"\"\"),\"juin\")","v":"juin"},{"$f":"IFERROR(__xludf.DUMMYFUNCTION(\"\"\"COMPUTED_VALUE\"\"\"),\"Navire & Fort\")","v":"Navire & Fort"},{"$f":"IFERROR(__xludf.DUMMYFUNCTION(\"\"\"COMPUTED_VALUE\"\"\"),400.5)","v":400.5},{"$f":"IFERROR(__xludf.DUMMYFUNCTION(\"\"\"COMPUTED_VALUE\"\"\"),\"PAF finalisée\")","v":"PAF finalisée"},{"$f":"IFERROR(__xludf.DUMMYFUNCTION(\"\"\"COMPUTED_VALUE\"\"\"),\"non reçue\")","v":"non reçue"},{"$f":"IFERROR(__xludf.DUMMYFUNCTION(\"\"\"COMPUTED_VALUE\"\"\"),\"R.A.S.\")","v":"R.A.S."},{"$f":"IFERROR(__xludf.DUMMYFUNCTION(\"\"\"COMPUTED_VALUE\"\"\"),\"samedi\")","v":"samedi"},{"$f":"IFERROR(__xludf.DUMMYFUNCTION(\"\"\"COMPUTED_VALUE\"\"\"),\"NON\")","v":"NON"}]
[{"$f":"IFERROR(__xludf.DUMMYFUNCTION(\"\"\"COMPUTED_VALUE\"\"\"),45342.0)","v":"2024-02-20"},{"$f":"IFERROR(__xludf.DUMMYFUNCTION(\"\"\"COMPUTED_VALUE\"\"\"),\"Bonnecarrère \")","v":"Bonnecarrère "},{"$f":"IFERROR(__xludf.DUMMYFUNCTION(\"\"\"COMPUTED_VALUE\"\"\"),\"Julie\")","v":"Julie"},{"$f":"IFERROR(__xludf.DUMMYFUNCTION(\"\"\"COMPUTED_VALUE\"\"\"),\"F\")","v":"F"},{"$f":"IFERROR(__xludf.DUMMYFUNCTION(\"\"\"COMPUTED_VALUE\"\"\"),29.0)","v":29},{"$f":"IFERROR(__xludf.DUMMYFUNCTION(\"\"\"COMPUTED_VALUE\"\"\"),\"julie@nebulae.world\")","v":"julie@nebulae.world"},{"$f":"IFERROR(__xludf.DUMMYFUNCTION(\"\"\"COMPUTED_VALUE\"\"\"),\"Julie Baboudak\")","v":"Julie Baboudak"},{"$f":"IFERROR(__xludf.DUMMYFUNCTION(\"\"\"COMPUTED_VALUE\"\"\"),\"0640666077\")","v":"0640666077"},{"$f":"IFERROR(__xludf.DUMMYFUNCTION(\"\"\"COMPUTED_VALUE\"\"\"),\"Pur PJ\")","v":"Pur PJ"},{"$f":"IFERROR(__xludf.DUMMYFUNCTION(\"\"\"COMPUTED_VALUE\"\"\"),\"-\")","v":"-"},{"$f":"IFERROR(__xludf.DUMMYFUNCTION(\"\"\"COMPUTED_VALUE\"\"\"),\"septembre\")","v":"septembre"},{"$f":"IFERROR(__xludf.DUMMYFUNCTION(\"\"\"COMPUTED_VALUE\"\"\"),\"Navire et fort\")","v":"Navire et fort"},{"$f":"IFERROR(__xludf.DUMMYFUNCTION(\"\"\"COMPUTED_VALUE\"\"\"),\"OK\")","v":"OK"},{"$f":"IFERROR(__xludf.DUMMYFUNCTION(\"\"\"COMPUTED_VALUE\"\"\"),\"OK\")","v":"OK"},{"$f":"IFERROR(__xludf.DUMMYFUNCTION(\"\"\"COMPUTED_VALUE\"\"\"),\"septembre\")","v":"septembre"},{"$f":"IFERROR(__xludf.DUMMYFUNCTION(\"\"\"COMPUTED_VALUE\"\"\"),\"Navire & Fort\")","v":"Navire & Fort"},{"$f":"IFERROR(__xludf.DUMMYFUNCTION(\"\"\"COMPUTED_VALUE\"\"\"),400.0)","v":400},{"$f":"IFERROR(__xludf.DUMMYFUNCTION(\"\"\"COMPUTED_VALUE\"\"\"),\"PAF finalisée\")","v":"PAF finalisée"},{"$f":"IFERROR(__xludf.DUMMYFUNCTION(\"\"\"COMPUTED_VALUE\"\"\"),\"non reçue\")","v":"non reçue"},{"$f":"IFERROR(__xludf.DUMMYFUNCTION(\"\"\"COMPUTED_VALUE\"\"\"),\"R.A.S.\")","v":"R.A.S."},{"$f":"IFERROR(__xludf.DUMMYFUNCTION(\"\"\"COMPUTED_VALUE\"\"\"),\"samedi\")","v":"samedi"},{"$f":"IFERROR(__xludf.DUMMYFUNCTION(\"\"\"COMPUTED_VALUE\"\"\"),\"Reste\")","v":"Reste"}]
[{"$f":"IFERROR(__xludf.DUMMYFUNCTION(\"\"\"COMPUTED_VALUE\"\"\"),45305.0)","v":"2024-01-14"},{"$f":"IFERROR(__xludf.DUMMYFUNCTION(\"\"\"COMPUTED_VALUE\"\"\"),\"Bouroumeau\")","v":"Bouroumeau"},{"$f":"IFERROR(__xludf.DUMMYFUNCTION(\"\"\"COMPUTED_VALUE\"\"\"),\"Kevin\")","v":"Kevin"},{"$f":"IFERROR(__xludf.DUMMYFUNCTION(\"\"\"COMPUTED_VALUE\"\"\"),\"H\")","v":"H"},{"$f":"IFERROR(__xludf.DUMMYFUNCTION(\"\"\"COMPUTED_VALUE\"\"\"),39.0)","v":39},{"$f":"IFERROR(__xludf.DUMMYFUNCTION(\"\"\"COMPUTED_VALUE\"\"\"),\"kevinbouroumeau@gmail.com\")","v":"kevinbouroumeau@gmail.com"},{"$f":"IFERROR(__xludf.DUMMYFUNCTION(\"\"\"COMPUTED_VALUE\"\"\"),\"Kevin Caoimhin\")","v":"Kevin Caoimhin"},{"$f":"IFERROR(__xludf.DUMMYFUNCTION(\"\"\"COMPUTED_VALUE\"\"\"),\"0688492254\")","v":"0688492254"},{"$f":"IFERROR(__xludf.DUMMYFUNCTION(\"\"\"COMPUTED_VALUE\"\"\"),\"PJ+PNJ\")","v":"PJ+PNJ"},{"$f":"IFERROR(__xludf.DUMMYFUNCTION(\"\"\"COMPUTED_VALUE\"\"\"),\"-\")","v":"-"},{"$f":"IFERROR(__xludf.DUMMYFUNCTION(\"\"\"COMPUTED_VALUE\"\"\"),\"juin\")","v":"juin"},{"$f":"IFERROR(__xludf.DUMMYFUNCTION(\"\"\"COMPUTED_VALUE\"\"\"),\"Navire et fort\")","v":"Navire et fort"},{"$f":"IFERROR(__xludf.DUMMYFUNCTION(\"\"\"COMPUTED_VALUE\"\"\"),\"OK\")","v":"OK"},{"$f":"IFERROR(__xludf.DUMMYFUNCTION(\"\"\"COMPUTED_VALUE\"\"\"),\"OK\")","v":"OK"},{"$f":"IFERROR(__xludf.DUMMYFUNCTION(\"\"\"COMPUTED_VALUE\"\"\"),\"juin\")","v":"juin"},{"$f":"IFERROR(__xludf.DUMMYFUNCTION(\"\"\"COMPUTED_VALUE\"\"\"),\"Navire & Fort\")","v":"Navire & Fort"},{"$f":"IFERROR(__xludf.DUMMYFUNCTION(\"\"\"COMPUTED_VALUE\"\"\"),267.0)","v":267},{"$f":"IFERROR(__xludf.DUMMYFUNCTION(\"\"\"COMPUTED_VALUE\"\"\"),\"PAF partielle\")","v":"PAF partielle"},{"$f":"IFERROR(__xludf.DUMMYFUNCTION(\"\"\"COMPUTED_VALUE\"\"\"),\"non reçue\")","v":"non reçue"},{"$f":"IFERROR(__xludf.DUMMYFUNCTION(\"\"\"COMPUTED_VALUE\"\"\"),\"R.A.S.\")","v":"R.A.S."},{"$f":"IFERROR(__xludf.DUMMYFUNCTION(\"\"\"COMPUTED_VALUE\"\"\"),\"samedi\")","v":"samedi"},{"$f":"IFERROR(__xludf.DUMMYFUNCTION(\"\"\"COMPUTED_VALUE\"\"\"),\"Reste\")","v":"Reste"}]
[{"$f":"IFERROR(__xludf.DUMMYFUNCTION(\"\"\"COMPUTED_VALUE\"\"\"),45303.0)","v":"2024-01-12"},{"$f":"IFERROR(__xludf.DUMMYFUNCTION(\"\"\"COMPUTED_VALUE\"\"\"),\"Chasserat\")","v":"Chasserat"},{"$f":"IFERROR(__xludf.DUMMYFUNCTION(\"\"\"COMPUTED_VALUE\"\"\"),\"Emmanuel\")","v":"Emmanuel"},{"$f":"IFERROR(__xludf.DUMMYFUNCTION(\"\"\"COMPUTED_VALUE\"\"\"),\"H\")","v":"H"},{"$f":"IFERROR(__xludf.DUMMYFUNCTION(\"\"\"COMPUTED_VALUE\"\"\"),39.0)","v":39},{"$f":"IFERROR(__xludf.DUMMYFUNCTION(\"\"\"COMPUTED_VALUE\"\"\"),\"chasserat@yahoo.fr\")","v":"chasserat@yahoo.fr"},{"$f":"IFERROR(__xludf.DUMMYFUNCTION(\"\"\"COMPUTED_VALUE\"\"\"),\"Manu Rathunter\")","v":"Manu Rathunter"},{"$f":"IFERROR(__xludf.DUMMYFUNCTION(\"\"\"COMPUTED_VALUE\"\"\"),\"0613517679\")","v":"0613517679"},{"$f":"IFERROR(__xludf.DUMMYFUNCTION(\"\"\"COMPUTED_VALUE\"\"\"),\"Pur PJ\")","v":"Pur PJ"},{"$f":"IFERROR(__xludf.DUMMYFUNCTION(\"\"\"COMPUTED_VALUE\"\"\"),\"-\")","v":"-"},{"$f":"IFERROR(__xludf.DUMMYFUNCTION(\"\"\"COMPUTED_VALUE\"\"\"),\"juin\")","v":"juin"},{"$f":"IFERROR(__xludf.DUMMYFUNCTION(\"\"\"COMPUTED_VALUE\"\"\"),\"Navire et fort\")","v":"Navire et fort"},{"$f":"IFERROR(__xludf.DUMMYFUNCTION(\"\"\"COMPUTED_VALUE\"\"\"),\"OK\")","v":"OK"},{"$f":"IFERROR(__xludf.DUMMYFUNCTION(\"\"\"COMPUTED_VALUE\"\"\"),\"OK\")","v":"OK"},{"$f":"IFERROR(__xludf.DUMMYFUNCTION(\"\"\"COMPUTED_VALUE\"\"\"),\"juin\")","v":"juin"},{"$f":"IFERROR(__xludf.DUMMYFUNCTION(\"\"\"COMPUTED_VALUE\"\"\"),\"Navire & Fort\")","v":"Navire & Fort"},{"$f":"IFERROR(__xludf.DUMMYFUNCTION(\"\"\"COMPUTED_VALUE\"\"\"),267.0)","v":267},{"$f":"IFERROR(__xludf.DUMMYFUNCTION(\"\"\"COMPUTED_VALUE\"\"\"),\"PAF partielle\")","v":"PAF partielle"},{"$f":"IFERROR(__xludf.DUMMYFUNCTION(\"\"\"COMPUTED_VALUE\"\"\"),\"non reçue\")","v":"non reçue"},{"$f":"IFERROR(__xludf.DUMMYFUNCTION(\"\"\"COMPUTED_VALUE\"\"\"),\"R.A.S.\")","v":"R.A.S."},{"$f":"IFERROR(__xludf.DUMMYFUNCTION(\"\"\"COMPUTED_VALUE\"\"\"),\"samedi\")","v":"samedi"},{"$f":"IFERROR(__xludf.DUMMYFUNCTION(\"\"\"COMPUTED_VALUE\"\"\"),\"Reste\")","v":"Reste"}]
[{"$f":"IFERROR(__xludf.DUMMYFUNCTION(\"\"\"COMPUTED_VALUE\"\"\"),45342.0)","v":"2024-02-20"},{"$f":"IFERROR(__xludf.DUMMYFUNCTION(\"\"\"COMPUTED_VALUE\"\"\"),\"COSTERG\")","v":"COSTERG"},{"$f":"IFERROR(__xludf.DUMMYFUNCTION(\"\"\"COMPUTED_VALUE\"\"\"),\"Gaël\")","v":"Gaël"},{"$f":"IFERROR(__xludf.DUMMYFUNCTION(\"\"\"COMPUTED_VALUE\"\"\"),\"H\")","v":"H"},{"$f":"IFERROR(__xludf.DUMMYFUNCTION(\"\"\"COMPUTED_VALUE\"\"\"),27.0)","v":27},{"$f":"IFERROR(__xludf.DUMMYFUNCTION(\"\"\"COMPUTED_VALUE\"\"\"),\"g.costerg@gmail.com\")","v":"g.costerg@gmail.com"},{"$f":"IFERROR(__xludf.DUMMYFUNCTION(\"\"\"COMPUTED_VALUE\"\"\"),\"Gaël costerg\")","v":"Gaël costerg"},{"$f":"IFERROR(__xludf.DUMMYFUNCTION(\"\"\"COMPUTED_VALUE\"\"\"),\"0638057198\")","v":"0638057198"},{"$f":"IFERROR(__xludf.DUMMYFUNCTION(\"\"\"COMPUTED_VALUE\"\"\"),\"PJ+PNJ\")","v":"PJ+PNJ"},{"$f":"IFERROR(__xludf.DUMMYFUNCTION(\"\"\"COMPUTED_VALUE\"\"\"),\"-\")","v":"-"},{"$f":"IFERROR(__xludf.DUMMYFUNCTION(\"\"\"COMPUTED_VALUE\"\"\"),\"septembre\")","v":"septembre"},{"$f":"IFERROR(__xludf.DUMMYFUNCTION(\"\"\"COMPUTED_VALUE\"\"\"),\"Navire et fort\")","v":"Navire et fort"},{"$f":"IFERROR(__xludf.DUMMYFUNCTION(\"\"\"COMPUTED_VALUE\"\"\"),\"OK\")","v":"OK"},{"$f":"IFERROR(__xludf.DUMMYFUNCTION(\"\"\"COMPUTED_VALUE\"\"\"),\"OK\")","v":"OK"},{"$f":"IFERROR(__xludf.DUMMYFUNCTION(\"\"\"COMPUTED_VALUE\"\"\"),\"septembre\")","v":"septembre"},{"$f":"IFERROR(__xludf.DUMMYFUNCTION(\"\"\"COMPUTED_VALUE\"\"\"),\"Navire & Fort\")","v":"Navire & Fort"},{"$f":"IFERROR(__xludf.DUMMYFUNCTION(\"\"\"COMPUTED_VALUE\"\"\"),400.0)","v":400},{"$f":"IFERROR(__xludf.DUMMYFUNCTION(\"\"\"COMPUTED_VALUE\"\"\"),\"PAF finalisée\")","v":"PAF finalisée"},{"$f":"IFERROR(__xludf.DUMMYFUNCTION(\"\"\"COMPUTED_VALUE\"\"\"),\"non reçue\")","v":"non reçue"},{"$f":"IFERROR(__xludf.DUMMYFUNCTION(\"\"\"COMPUTED_VALUE\"\"\"),\"R.A.S.\")","v":"R.A.S."},{"$f":"IFERROR(__xludf.DUMMYFUNCTION(\"\"\"COMPUTED_VALUE\"\"\"),\"samedi\")","v":"samedi"},{"$f":"IFERROR(__xludf.DUMMYFUNCTION(\"\"\"COMPUTED_VALUE\"\"\"),\"Reste\")","v":"Reste"}]
[{"$f":"IFERROR(__xludf.DUMMYFUNCTION(\"\"\"COMPUTED_VALUE\"\"\"),45363.0)","v":"2024-03-12"},{"$f":"IFERROR(__xludf.DUMMYFUNCTION(\"\"\"COMPUTED_VALUE\"\"\"),\"Dagrain\")","v":"Dagrain"},{"$f":"IFERROR(__xludf.DUMMYFUNCTION(\"\"\"COMPUTED_VALUE\"\"\"),\"Valerie\")","v":"Valerie"},{"$f":"IFERROR(__xludf.DUMMYFUNCTION(\"\"\"COMPUTED_VALUE\"\"\"),\"F\")","v":"F"},{"$f":"IFERROR(__xludf.DUMMYFUNCTION(\"\"\"COMPUTED_VALUE\"\"\"),51.0)","v":51},{"$f":"IFERROR(__xludf.DUMMYFUNCTION(\"\"\"COMPUTED_VALUE\"\"\"),\"valerie.dagrain@protonmail.com\")","v":"valerie.dagrain@protonmail.com"},{"$f":"IFERROR(__xludf.DUMMYFUNCTION(\"\"\"COMPUTED_VALUE\"\"\"),\"Valérie Dagrain \")","v":"Valérie Dagrain "},{"$f":"IFERROR(__xludf.DUMMYFUNCTION(\"\"\"COMPUTED_VALUE\"\"\"),\"0663614215\")","v":"0663614215"},{"$f":"IFERROR(__xludf.DUMMYFUNCTION(\"\"\"COMPUTED_VALUE\"\"\"),\"PJ+PNJ\")","v":"PJ+PNJ"},{"$f":"IFERROR(__xludf.DUMMYFUNCTION(\"\"\"COMPUTED_VALUE\"\"\"),\"-\")","v":"-"},{"$f":"IFERROR(__xludf.DUMMYFUNCTION(\"\"\"COMPUTED_VALUE\"\"\"),\"Les deux\")","v":"Les deux"},{"$f":"IFERROR(__xludf.DUMMYFUNCTION(\"\"\"COMPUTED_VALUE\"\"\"),\"Navire et fort\")","v":"Navire et fort"},{"$f":"IFERROR(__xludf.DUMMYFUNCTION(\"\"\"COMPUTED_VALUE\"\"\"),\"OK\")","v":"OK"},{"$f":"IFERROR(__xludf.DUMMYFUNCTION(\"\"\"COMPUTED_VALUE\"\"\"),\"OK\")","v":"OK"},{"$f":"IFERROR(__xludf.DUMMYFUNCTION(\"\"\"COMPUTED_VALUE\"\"\"),\"septembre\")","v":"septembre"},{"$f":"IFERROR(__xludf.DUMMYFUNCTION(\"\"\"COMPUTED_VALUE\"\"\"),\"Navire & Fort\")","v":"Navire & Fort"},null,{"$f":"IFERROR(__xludf.DUMMYFUNCTION(\"\"\"COMPUTED_VALUE\"\"\"),\"PAF non reçue\")","v":"PAF non reçue"},{"$f":"IFERROR(__xludf.DUMMYFUNCTION(\"\"\"COMPUTED_VALUE\"\"\"),\"non reçue\")","v":"non reçue"},{"$f":"IFERROR(__xludf.DUMMYFUNCTION(\"\"\"COMPUTED_VALUE\"\"\"),\"R.A.S.\")","v":"R.A.S."},{"$f":"IFERROR(__xludf.DUMMYFUNCTION(\"\"\"COMPUTED_VALUE\"\"\"),\"samedi\")","v":"samedi"},{"$f":"IFERROR(__xludf.DUMMYFUNCTION(\"\"\"COMPUTED_VALUE\"\"\"),\"NON\")","v":"NON"}]
[{"$f":"IFERROR(__xludf.DUMMYFUNCTION(\"\"\"COMPUTED_VALUE\"\"\"),45315.0)","v":"2024-01-24"},{"$f":"IFERROR(__xludf.DUMMYFUNCTION(\"\"\"COMPUTED_VALUE\"\"\"),\"EUVE\")","v":"EUVE"},{"$f":"IFERROR(__xludf.DUMMYFUNCTION(\"\"\"COMPUTED_VALUE\"\"\"),\"MAXIME\")","v":"MAXIME"},{"$f":"IFERROR(__xludf.DUMMYFUNCTION(\"\"\"COMPUTED_VALUE\"\"\"),\"H\")","v":"H"},{"$f":"IFERROR(__xludf.DUMMYFUNCTION(\"\"\"COMPUTED_VALUE\"\"\"),42.0)","v":42},{"$f":"IFERROR(__xludf.DUMMYFUNCTION(\"\"\"COMPUTED_VALUE\"\"\"),\"maxime.euve@gmail.com\")","v":"maxime.euve@gmail.com"},{"$f":"IFERROR(__xludf.DUMMYFUNCTION(\"\"\"COMPUTED_VALUE\"\"\"),\"max_ev\")","v":"max_ev"},{"$f":"IFERROR(__xludf.DUMMYFUNCTION(\"\"\"COMPUTED_VALUE\"\"\"),\"671542820\")","v":"671542820"},{"$f":"IFERROR(__xludf.DUMMYFUNCTION(\"\"\"COMPUTED_VALUE\"\"\"),\"PJ+PNJ\")","v":"PJ+PNJ"},{"$f":"IFERROR(__xludf.DUMMYFUNCTION(\"\"\"COMPUTED_VALUE\"\"\"),\"-\")","v":"-"},{"$f":"IFERROR(__xludf.DUMMYFUNCTION(\"\"\"COMPUTED_VALUE\"\"\"),\"juin\")","v":"juin"},{"$f":"IFERROR(__xludf.DUMMYFUNCTION(\"\"\"COMPUTED_VALUE\"\"\"),\"Navire et fort\")","v":"Navire et fort"},{"$f":"IFERROR(__xludf.DUMMYFUNCTION(\"\"\"COMPUTED_VALUE\"\"\"),\"OK\")","v":"OK"},{"$f":"IFERROR(__xludf.DUMMYFUNCTION(\"\"\"COMPUTED_VALUE\"\"\"),\"OK\")","v":"OK"},{"$f":"IFERROR(__xludf.DUMMYFUNCTION(\"\"\"COMPUTED_VALUE\"\"\"),\"juin\")","v":"juin"},{"$f":"IFERROR(__xludf.DUMMYFUNCTION(\"\"\"COMPUTED_VALUE\"\"\"),\"Navire & Fort\")","v":"Navire & Fort"},{"$f":"IFERROR(__xludf.DUMMYFUNCTION(\"\"\"COMPUTED_VALUE\"\"\"),400.0)","v":400},{"$f":"IFERROR(__xludf.DUMMYFUNCTION(\"\"\"COMPUTED_VALUE\"\"\"),\"PAF finalisée\")","v":"PAF finalisée"},{"$f":"IFERROR(__xludf.DUMMYFUNCTION(\"\"\"COMPUTED_VALUE\"\"\"),\"non reçue\")","v":"non reçue"},{"$f":"IFERROR(__xludf.DUMMYFUNCTION(\"\"\"COMPUTED_VALUE\"\"\"),\"R.A.S.\")","v":"R.A.S."},{"$f":"IFERROR(__xludf.DUMMYFUNCTION(\"\"\"COMPUTED_VALUE\"\"\"),\"samedi\")","v":"samedi"},{"$f":"IFERROR(__xludf.DUMMYFUNCTION(\"\"\"COMPUTED_VALUE\"\"\"),\"Reste\")","v":"Reste"}]
[{"$f":"IFERROR(__xludf.DUMMYFUNCTION(\"\"\"COMPUTED_VALUE\"\"\"),45303.0)","v":"2024-01-12"},{"$f":"IFERROR(__xludf.DUMMYFUNCTION(\"\"\"COMPUTED_VALUE\"\"\"),\"Goury\")","v":"Goury"},{"$f":"IFERROR(__xludf.DUMMYFUNCTION(\"\"\"COMPUTED_VALUE\"\"\"),\"Fabien\")","v":"Fabien"},{"$f":"IFERROR(__xludf.DUMMYFUNCTION(\"\"\"COMPUTED_VALUE\"\"\"),\"H\")","v":"H"},{"$f":"IFERROR(__xludf.DUMMYFUNCTION(\"\"\"COMPUTED_VALUE\"\"\"),33.0)","v":33},{"$f":"IFERROR(__xludf.DUMMYFUNCTION(\"\"\"COMPUTED_VALUE\"\"\"),\"gouryfabien@gmail.com\")","v":"gouryfabien@gmail.com"},{"$f":"IFERROR(__xludf.DUMMYFUNCTION(\"\"\"COMPUTED_VALUE\"\"\"),\"Fabien Laerin\")","v":"Fabien Laerin"},{"$f":"IFERROR(__xludf.DUMMYFUNCTION(\"\"\"COMPUTED_VALUE\"\"\"),\"0623498552\")","v":"0623498552"},{"$f":"IFERROR(__xludf.DUMMYFUNCTION(\"\"\"COMPUTED_VALUE\"\"\"),\"Pur PJ\")","v":"Pur PJ"},{"$f":"IFERROR(__xludf.DUMMYFUNCTION(\"\"\"COMPUTED_VALUE\"\"\"),\"-\")","v":"-"},{"$f":"IFERROR(__xludf.DUMMYFUNCTION(\"\"\"COMPUTED_VALUE\"\"\"),\"Non précisé\")","v":"Non précisé"},{"$f":"IFERROR(__xludf.DUMMYFUNCTION(\"\"\"COMPUTED_VALUE\"\"\"),\"Navire et fort\")","v":"Navire et fort"},{"$f":"IFERROR(__xludf.DUMMYFUNCTION(\"\"\"COMPUTED_VALUE\"\"\"),\"OK\")","v":"OK"},{"$f":"IFERROR(__xludf.DUMMYFUNCTION(\"\"\"COMPUTED_VALUE\"\"\"),\"OK\")","v":"OK"},{"$f":"IFERROR(__xludf.DUMMYFUNCTION(\"\"\"COMPUTED_VALUE\"\"\"),\"juin\")","v":"juin"},{"$f":"IFERROR(__xludf.DUMMYFUNCTION(\"\"\"COMPUTED_VALUE\"\"\"),\"Navire & Fort\")","v":"Navire & Fort"},{"$f":"IFERROR(__xludf.DUMMYFUNCTION(\"\"\"COMPUTED_VALUE\"\"\"),133.5)","v":133.5},{"$f":"IFERROR(__xludf.DUMMYFUNCTION(\"\"\"COMPUTED_VALUE\"\"\"),\"PAF partielle\")","v":"PAF partielle"},{"$f":"IFERROR(__xludf.DUMMYFUNCTION(\"\"\"COMPUTED_VALUE\"\"\"),\"non reçue\")","v":"non reçue"},{"$f":"IFERROR(__xludf.DUMMYFUNCTION(\"\"\"COMPUTED_VALUE\"\"\"),\"R.A.S.\")","v":"R.A.S."},{"$f":"IFERROR(__xludf.DUMMYFUNCTION(\"\"\"COMPUTED_VALUE\"\"\"),\"samedi\")","v":"samedi"},{"$f":"IFERROR(__xludf.DUMMYFUNCTION(\"\"\"COMPUTED_VALUE\"\"\"),\"Reste\")","v":"Reste"}]
[{"$f":"IFERROR(__xludf.DUMMYFUNCTION(\"\"\"COMPUTED_VALUE\"\"\"),45303.0)","v":"2024-01-12"},{"$f":"IFERROR(__xludf.DUMMYFUNCTION(\"\"\"COMPUTED_VALUE\"\"\"),\"Lucarelli\")","v":"Lucarelli"},{"$f":"IFERROR(__xludf.DUMMYFUNCTION(\"\"\"COMPUTED_VALUE\"\"\"),\"Jean-Yves\")","v":"Jean-Yves"},{"$f":"IFERROR(__xludf.DUMMYFUNCTION(\"\"\"COMPUTED_VALUE\"\"\"),\"H\")","v":"H"},{"$f":"IFERROR(__xludf.DUMMYFUNCTION(\"\"\"COMPUTED_VALUE\"\"\"),39.0)","v":39},{"$f":"IFERROR(__xludf.DUMMYFUNCTION(\"\"\"COMPUTED_VALUE\"\"\"),\"lucarelli.jy@gmail.com\")","v":"lucarelli.jy@gmail.com"},{"$f":"IFERROR(__xludf.DUMMYFUNCTION(\"\"\"COMPUTED_VALUE\"\"\"),\"Jean-Yves LC\")","v":"Jean-Yves LC"},{"$f":"IFERROR(__xludf.DUMMYFUNCTION(\"\"\"COMPUTED_VALUE\"\"\"),\"0667748530\")","v":"0667748530"},{"$f":"IFERROR(__xludf.DUMMYFUNCTION(\"\"\"COMPUTED_VALUE\"\"\"),\"Pur PJ\")","v":"Pur PJ"},{"$f":"IFERROR(__xludf.DUMMYFUNCTION(\"\"\"COMPUTED_VALUE\"\"\"),\"-\")","v":"-"},{"$f":"IFERROR(__xludf.DUMMYFUNCTION(\"\"\"COMPUTED_VALUE\"\"\"),\"juin\")","v":"juin"},{"$f":"IFERROR(__xludf.DUMMYFUNCTION(\"\"\"COMPUTED_VALUE\"\"\"),\"Navire et fort\")","v":"Navire et fort"},{"$f":"IFERROR(__xludf.DUMMYFUNCTION(\"\"\"COMPUTED_VALUE\"\"\"),\"OK\")","v":"OK"},{"$f":"IFERROR(__xludf.DUMMYFUNCTION(\"\"\"COMPUTED_VALUE\"\"\"),\"OK\")","v":"OK"},{"$f":"IFERROR(__xludf.DUMMYFUNCTION(\"\"\"COMPUTED_VALUE\"\"\"),\"juin\")","v":"juin"},{"$f":"IFERROR(__xludf.DUMMYFUNCTION(\"\"\"COMPUTED_VALUE\"\"\"),\"Navire & Fort\")","v":"Navire & Fort"},{"$f":"IFERROR(__xludf.DUMMYFUNCTION(\"\"\"COMPUTED_VALUE\"\"\"),400.0)","v":400},{"$f":"IFERROR(__xludf.DUMMYFUNCTION(\"\"\"COMPUTED_VALUE\"\"\"),\"PAF finalisée\")","v":"PAF finalisée"},{"$f":"IFERROR(__xludf.DUMMYFUNCTION(\"\"\"COMPUTED_VALUE\"\"\"),\"non reçue\")","v":"non reçue"},{"$f":"IFERROR(__xludf.DUMMYFUNCTION(\"\"\"COMPUTED_VALUE\"\"\"),\"R.A.S.\")","v":"R.A.S."},{"$f":"IFERROR(__xludf.DUMMYFUNCTION(\"\"\"COMPUTED_VALUE\"\"\"),\"samedi\")","v":"samedi"},{"$f":"IFERROR(__xludf.DUMMYFUNCTION(\"\"\"COMPUTED_VALUE\"\"\"),\"Reste\")","v":"Reste"}]
[{"$f":"IFERROR(__xludf.DUMMYFUNCTION(\"\"\"COMPUTED_VALUE\"\"\"),45332.0)","v":"2024-02-10"},{"$f":"IFERROR(__xludf.DUMMYFUNCTION(\"\"\"COMPUTED_VALUE\"\"\"),\"Moynier\")","v":"Moynier"},{"$f":"IFERROR(__xludf.DUMMYFUNCTION(\"\"\"COMPUTED_VALUE\"\"\"),\"Bérénice\")","v":"Bérénice"},{"$f":"IFERROR(__xludf.DUMMYFUNCTION(\"\"\"COMPUTED_VALUE\"\"\"),\"F\")","v":"F"},{"$f":"IFERROR(__xludf.DUMMYFUNCTION(\"\"\"COMPUTED_VALUE\"\"\"),30.0)","v":30},{"$f":"IFERROR(__xludf.DUMMYFUNCTION(\"\"\"COMPUTED_VALUE\"\"\"),\"berenicemoynier@gmail.com\")","v":"berenicemoynier@gmail.com"},{"$f":"IFERROR(__xludf.DUMMYFUNCTION(\"\"\"COMPUTED_VALUE\"\"\"),\"Baby Suisse \")","v":"Baby Suisse "},{"$f":"IFERROR(__xludf.DUMMYFUNCTION(\"\"\"COMPUTED_VALUE\"\"\"),\"00.41.77.449.23.78\")","v":"00.41.77.449.23.78"},{"$f":"IFERROR(__xludf.DUMMYFUNCTION(\"\"\"COMPUTED_VALUE\"\"\"),\"Pur PJ\")","v":"Pur PJ"},{"$f":"IFERROR(__xludf.DUMMYFUNCTION(\"\"\"COMPUTED_VALUE\"\"\"),\"-\")","v":"-"},{"$f":"IFERROR(__xludf.DUMMYFUNCTION(\"\"\"COMPUTED_VALUE\"\"\"),\"Les deux\")","v":"Les deux"},{"$f":"IFERROR(__xludf.DUMMYFUNCTION(\"\"\"COMPUTED_VALUE\"\"\"),\"Navire et fort\")","v":"Navire et fort"},{"$f":"IFERROR(__xludf.DUMMYFUNCTION(\"\"\"COMPUTED_VALUE\"\"\"),\"OK\")","v":"OK"},{"$f":"IFERROR(__xludf.DUMMYFUNCTION(\"\"\"COMPUTED_VALUE\"\"\"),\"OK\")","v":"OK"},{"$f":"IFERROR(__xludf.DUMMYFUNCTION(\"\"\"COMPUTED_VALUE\"\"\"),\"septembre\")","v":"septembre"},{"$f":"IFERROR(__xludf.DUMMYFUNCTION(\"\"\"COMPUTED_VALUE\"\"\"),\"Navire & Fort\")","v":"Navire & Fort"},null,{"$f":"IFERROR(__xludf.DUMMYFUNCTION(\"\"\"COMPUTED_VALUE\"\"\"),\"PAF non reçue\")","v":"PAF non reçue"},{"$f":"IFERROR(__xludf.DUMMYFUNCTION(\"\"\"COMPUTED_VALUE\"\"\"),\"non reçue\")","v":"non reçue"},{"$f":"IFERROR(__xludf.DUMMYFUNCTION(\"\"\"COMPUTED_VALUE\"\"\"),\"R.A.S.\")","v":"R.A.S."},{"$f":"IFERROR(__xludf.DUMMYFUNCTION(\"\"\"COMPUTED_VALUE\"\"\"),\"samedi\")","v":"samedi"},{"$f":"IFERROR(__xludf.DUMMYFUNCTION(\"\"\"COMPUTED_VALUE\"\"\"),\"Reste\")","v":"Reste"}]
[{"$f":"IFERROR(__xludf.DUMMYFUNCTION(\"\"\"COMPUTED_VALUE\"\"\"),45332.0)","v":"2024-02-10"},{"$f":"IFERROR(__xludf.DUMMYFUNCTION(\"\"\"COMPUTED_VALUE\"\"\"),\"Piodella\")","v":"Piodella"},{"$f":"IFERROR(__xludf.DUMMYFUNCTION(\"\"\"COMPUTED_VALUE\"\"\"),\"Geoffrey\")","v":"Geoffrey"},{"$f":"IFERROR(__xludf.DUMMYFUNCTION(\"\"\"COMPUTED_VALUE\"\"\"),\"H\")","v":"H"},{"$f":"IFERROR(__xludf.DUMMYFUNCTION(\"\"\"COMPUTED_VALUE\"\"\"),34.0)","v":34},{"$f":"IFERROR(__xludf.DUMMYFUNCTION(\"\"\"COMPUTED_VALUE\"\"\"),\"piodella-geoffrey@hotmail.fr\")","v":"piodella-geoffrey@hotmail.fr"},{"$f":"IFERROR(__xludf.DUMMYFUNCTION(\"\"\"COMPUTED_VALUE\"\"\"),\"Geoffrey piodella\")","v":"Geoffrey piodella"},{"$f":"IFERROR(__xludf.DUMMYFUNCTION(\"\"\"COMPUTED_VALUE\"\"\"),\"0670631495\")","v":"0670631495"},{"$f":"IFERROR(__xludf.DUMMYFUNCTION(\"\"\"COMPUTED_VALUE\"\"\"),\"PJ+PNJ\")","v":"PJ+PNJ"},{"$f":"IFERROR(__xludf.DUMMYFUNCTION(\"\"\"COMPUTED_VALUE\"\"\"),\"-\")","v":"-"},{"$f":"IFERROR(__xludf.DUMMYFUNCTION(\"\"\"COMPUTED_VALUE\"\"\"),\"Non précisé\")","v":"Non précisé"},{"$f":"IFERROR(__xludf.DUMMYFUNCTION(\"\"\"COMPUTED_VALUE\"\"\"),\"Navire et fort\")","v":"Navire et fort"},{"$f":"IFERROR(__xludf.DUMMYFUNCTION(\"\"\"COMPUTED_VALUE\"\"\"),\"OK\")","v":"OK"},{"$f":"IFERROR(__xludf.DUMMYFUNCTION(\"\"\"COMPUTED_VALUE\"\"\"),\"OK\")","v":"OK"},{"$f":"IFERROR(__xludf.DUMMYFUNCTION(\"\"\"COMPUTED_VALUE\"\"\"),\"juin\")","v":"juin"},{"$f":"IFERROR(__xludf.DUMMYFUNCTION(\"\"\"COMPUTED_VALUE\"\"\"),\"Navire & Fort\")","v":"Navire & Fort"},{"$f":"IFERROR(__xludf.DUMMYFUNCTION(\"\"\"COMPUTED_VALUE\"\"\"),0.0)","v":0},{"$f":"IFERROR(__xludf.DUMMYFUNCTION(\"\"\"COMPUTED_VALUE\"\"\"),\"gratuit\")","v":"gratuit"},{"$f":"IFERROR(__xludf.DUMMYFUNCTION(\"\"\"COMPUTED_VALUE\"\"\"),\"non reçue\")","v":"non reçue"},{"$f":"IFERROR(__xludf.DUMMYFUNCTION(\"\"\"COMPUTED_VALUE\"\"\"),\"R.A.S.\")","v":"R.A.S."},{"$f":"IFERROR(__xludf.DUMMYFUNCTION(\"\"\"COMPUTED_VALUE\"\"\"),\"samedi\")","v":"samedi"},{"$f":"IFERROR(__xludf.DUMMYFUNCTION(\"\"\"COMPUTED_VALUE\"\"\"),\"Reste\")","v":"Reste"}]
[{"$f":"IFERROR(__xludf.DUMMYFUNCTION(\"\"\"COMPUTED_VALUE\"\"\"),45303.0)","v":"2024-01-12"},{"$f":"IFERROR(__xludf.DUMMYFUNCTION(\"\"\"COMPUTED_VALUE\"\"\"),\"Servel\")","v":"Servel"},{"$f":"IFERROR(__xludf.DUMMYFUNCTION(\"\"\"COMPUTED_VALUE\"\"\"),\"Manon\")","v":"Manon"},{"$f":"IFERROR(__xludf.DUMMYFUNCTION(\"\"\"COMPUTED_VALUE\"\"\"),\"F\")","v":"F"},{"$f":"IFERROR(__xludf.DUMMYFUNCTION(\"\"\"COMPUTED_VALUE\"\"\"),32.0)","v":32},{"$f":"IFERROR(__xludf.DUMMYFUNCTION(\"\"\"COMPUTED_VALUE\"\"\"),\"servel.manon@orange.fr\")","v":"servel.manon@orange.fr"},{"$f":"IFERROR(__xludf.DUMMYFUNCTION(\"\"\"COMPUTED_VALUE\"\"\"),\"Manon la Dioux\")","v":"Manon la Dioux"},{"$f":"IFERROR(__xludf.DUMMYFUNCTION(\"\"\"COMPUTED_VALUE\"\"\"),\"0668554965\")","v":"0668554965"},{"$f":"IFERROR(__xludf.DUMMYFUNCTION(\"\"\"COMPUTED_VALUE\"\"\"),\"PJ+PNJ\")","v":"PJ+PNJ"},{"$f":"IFERROR(__xludf.DUMMYFUNCTION(\"\"\"COMPUTED_VALUE\"\"\"),\"-\")","v":"-"},{"$f":"IFERROR(__xludf.DUMMYFUNCTION(\"\"\"COMPUTED_VALUE\"\"\"),\"Non précisé\")","v":"Non précisé"},{"$f":"IFERROR(__xludf.DUMMYFUNCTION(\"\"\"COMPUTED_VALUE\"\"\"),\"Navire et fort\")","v":"Navire et fort"},{"$f":"IFERROR(__xludf.DUMMYFUNCTION(\"\"\"COMPUTED_VALUE\"\"\"),\"OK\")","v":"OK"},{"$f":"IFERROR(__xludf.DUMMYFUNCTION(\"\"\"COMPUTED_VALUE\"\"\"),\"OK\")","v":"OK"},{"$f":"IFERROR(__xludf.DUMMYFUNCTION(\"\"\"COMPUTED_VALUE\"\"\"),\"septembre\")","v":"septembre"},{"$f":"IFERROR(__xludf.DUMMYFUNCTION(\"\"\"COMPUTED_VALUE\"\"\"),\"Navire & Fort\")","v":"Navire & Fort"},{"$f":"IFERROR(__xludf.DUMMYFUNCTION(\"\"\"COMPUTED_VALUE\"\"\"),133.5)","v":133.5},{"$f":"IFERROR(__xludf.DUMMYFUNCTION(\"\"\"COMPUTED_VALUE\"\"\"),\"PAF partielle\")","v":"PAF partielle"},{"$f":"IFERROR(__xludf.DUMMYFUNCTION(\"\"\"COMPUTED_VALUE\"\"\"),\"non reçue\")","v":"non reçue"},{"$f":"IFERROR(__xludf.DUMMYFUNCTION(\"\"\"COMPUTED_VALUE\"\"\"),\"R.A.S.\")","v":"R.A.S."},{"$f":"IFERROR(__xludf.DUMMYFUNCTION(\"\"\"COMPUTED_VALUE\"\"\"),\"samedi\")","v":"samedi"},{"$f":"IFERROR(__xludf.DUMMYFUNCTION(\"\"\"COMPUTED_VALUE\"\"\"),\"Reste\")","v":"Reste"}]
[{"$f":"IFERROR(__xludf.DUMMYFUNCTION(\"\"\"COMPUTED_VALUE\"\"\"),45332.0)","v":"2024-02-10"},{"$f":"IFERROR(__xludf.DUMMYFUNCTION(\"\"\"COMPUTED_VALUE\"\"\"),\"Trocquet\")","v":"Trocquet"},{"$f":"IFERROR(__xludf.DUMMYFUNCTION(\"\"\"COMPUTED_VALUE\"\"\"),\"Daniel\")","v":"Daniel"},{"$f":"IFERROR(__xludf.DUMMYFUNCTION(\"\"\"COMPUTED_VALUE\"\"\"),\"H\")","v":"H"},{"$f":"IFERROR(__xludf.DUMMYFUNCTION(\"\"\"COMPUTED_VALUE\"\"\"),74.0)","v":74},{"$f":"IFERROR(__xludf.DUMMYFUNCTION(\"\"\"COMPUTED_VALUE\"\"\"),\"trocquetdaniel@gmail.com\")","v":"trocquetdaniel@gmail.com"},{"$f":"IFERROR(__xludf.DUMMYFUNCTION(\"\"\"COMPUTED_VALUE\"\"\"),\"Cui-cui\")","v":"Cui-cui"},{"$f":"IFERROR(__xludf.DUMMYFUNCTION(\"\"\"COMPUTED_VALUE\"\"\"),\"0762920768\")","v":"0762920768"},{"$f":"IFERROR(__xludf.DUMMYFUNCTION(\"\"\"COMPUTED_VALUE\"\"\"),\"PJ+PNJ\")","v":"PJ+PNJ"},{"$f":"IFERROR(__xludf.DUMMYFUNCTION(\"\"\"COMPUTED_VALUE\"\"\"),\"-\")","v":"-"},{"$f":"IFERROR(__xludf.DUMMYFUNCTION(\"\"\"COMPUTED_VALUE\"\"\"),\"juin\")","v":"juin"},{"$f":"IFERROR(__xludf.DUMMYFUNCTION(\"\"\"COMPUTED_VALUE\"\"\"),\"Navire et fort\")","v":"Navire et fort"},{"$f":"IFERROR(__xludf.DUMMYFUNCTION(\"\"\"COMPUTED_VALUE\"\"\"),\"OK\")","v":"OK"},{"$f":"IFERROR(__xludf.DUMMYFUNCTION(\"\"\"COMPUTED_VALUE\"\"\"),\"OK\")","v":"OK"},{"$f":"IFERROR(__xludf.DUMMYFUNCTION(\"\"\"COMPUTED_VALUE\"\"\"),\"juin\")","v":"juin"},{"$f":"IFERROR(__xludf.DUMMYFUNCTION(\"\"\"COMPUTED_VALUE\"\"\"),\"Navire & Fort\")","v":"Navire & Fort"},{"$f":"IFERROR(__xludf.DUMMYFUNCTION(\"\"\"COMPUTED_VALUE\"\"\"),400.0)","v":400},{"$f":"IFERROR(__xludf.DUMMYFUNCTION(\"\"\"COMPUTED_VALUE\"\"\"),\"PAF finalisée\")","v":"PAF finalisée"},{"$f":"IFERROR(__xludf.DUMMYFUNCTION(\"\"\"COMPUTED_VALUE\"\"\"),\"non reçue\")","v":"non reçue"},{"$f":"IFERROR(__xludf.DUMMYFUNCTION(\"\"\"COMPUTED_VALUE\"\"\"),\"R.A.S.\")","v":"R.A.S."},{"$f":"IFERROR(__xludf.DUMMYFUNCTION(\"\"\"COMPUTED_VALUE\"\"\"),\"samedi\")","v":"samedi"},{"$f":"IFERROR(__xludf.DUMMYFUNCTION(\"\"\"COMPUTED_VALUE\"\"\"),\"Reste\")","v":"Reste"}]
[{"$f":"IFERROR(__xludf.DUMMYFUNCTION(\"\"\"COMPUTED_VALUE\"\"\"),45494.0)","v":"2024-07-21"},{"$f":"IFERROR(__xludf.DUMMYFUNCTION(\"\"\"COMPUTED_VALUE\"\"\"),\"Lallier \")","v":"Lallier "},{"$f":"IFERROR(__xludf.DUMMYFUNCTION(\"\"\"COMPUTED_VALUE\"\"\"),\"Frédéric \")","v":"Frédéric "},{"$f":"IFERROR(__xludf.DUMMYFUNCTION(\"\"\"COMPUTED_VALUE\"\"\"),\"H\")","v":"H"},{"$f":"IFERROR(__xludf.DUMMYFUNCTION(\"\"\"COMPUTED_VALUE\"\"\"),54.0)","v":54},{"$f":"IFERROR(__xludf.DUMMYFUNCTION(\"\"\"COMPUTED_VALUE\"\"\"),\"lallierf@gmail.com\")","v":"lallierf@gmail.com"},{"$f":"IFERROR(__xludf.DUMMYFUNCTION(\"\"\"COMPUTED_VALUE\"\"\"),\"Fred lorelyn loretoile\")","v":"Fred lorelyn loretoile"},{"$f":"IFERROR(__xludf.DUMMYFUNCTION(\"\"\"COMPUTED_VALUE\"\"\"),\"0611029361\")","v":"0611029361"},{"$f":"IFERROR(__xludf.DUMMYFUNCTION(\"\"\"COMPUTED_VALUE\"\"\"),\"Pur PJ\")","v":"Pur PJ"},{"$f":"IFERROR(__xludf.DUMMYFUNCTION(\"\"\"COMPUTED_VALUE\"\"\"),\"-\")","v":"-"},{"$f":"IFERROR(__xludf.DUMMYFUNCTION(\"\"\"COMPUTED_VALUE\"\"\"),\"juin\")","v":"juin"},{"$f":"IFERROR(__xludf.DUMMYFUNCTION(\"\"\"COMPUTED_VALUE\"\"\"),\"Navire et fort\")","v":"Navire et fort"},{"$f":"IFERROR(__xludf.DUMMYFUNCTION(\"\"\"COMPUTED_VALUE\"\"\"),\"OK\")","v":"OK"},{"$f":"IFERROR(__xludf.DUMMYFUNCTION(\"\"\"COMPUTED_VALUE\"\"\"),\"OK\")","v":"OK"},{"$f":"IFERROR(__xludf.DUMMYFUNCTION(\"\"\"COMPUTED_VALUE\"\"\"),\"juin\")","v":"juin"},{"$f":"IFERROR(__xludf.DUMMYFUNCTION(\"\"\"COMPUTED_VALUE\"\"\"),\"Navire & Fort\")","v":"Navire & Fort"},{"$f":"IFERROR(__xludf.DUMMYFUNCTION(\"\"\"COMPUTED_VALUE\"\"\"),400.0)","v":400},{"$f":"IFERROR(__xludf.DUMMYFUNCTION(\"\"\"COMPUTED_VALUE\"\"\"),\"PAF finalisée\")","v":"PAF finalisée"},{"$f":"IFERROR(__xludf.DUMMYFUNCTION(\"\"\"COMPUTED_VALUE\"\"\"),\"non reçue\")","v":"non reçue"},{"$f":"IFERROR(__xludf.DUMMYFUNCTION(\"\"\"COMPUTED_VALUE\"\"\"),\"R.A.S.\")","v":"R.A.S."},{"$f":"IFERROR(__xludf.DUMMYFUNCTION(\"\"\"COMPUTED_VALUE\"\"\"),\"samedi\")","v":"samedi"},{"$f":"IFERROR(__xludf.DUMMYFUNCTION(\"\"\"COMPUTED_VALUE\"\"\"),\"Reste\")","v":"Reste"}]
[{"$f":"IFERROR(__xludf.DUMMYFUNCTION(\"\"\"COMPUTED_VALUE\"\"\"),45494.0)","v":"2024-07-21"},{"$f":"IFERROR(__xludf.DUMMYFUNCTION(\"\"\"COMPUTED_VALUE\"\"\"),\"Bullier \")","v":"Bullier "},{"$f":"IFERROR(__xludf.DUMMYFUNCTION(\"\"\"COMPUTED_VALUE\"\"\"),\"Maxime \")","v":"Maxime "},{"$f":"IFERROR(__xludf.DUMMYFUNCTION(\"\"\"COMPUTED_VALUE\"\"\"),\"H\")","v":"H"},{"$f":"IFERROR(__xludf.DUMMYFUNCTION(\"\"\"COMPUTED_VALUE\"\"\"),42.0)","v":42},{"$f":"IFERROR(__xludf.DUMMYFUNCTION(\"\"\"COMPUTED_VALUE\"\"\"),\"maxime.bullier@hotmail.fr\")","v":"maxime.bullier@hotmail.fr"},{"$f":"IFERROR(__xludf.DUMMYFUNCTION(\"\"\"COMPUTED_VALUE\"\"\"),\"Max du boulet\")","v":"Max du boulet"},{"$f":"IFERROR(__xludf.DUMMYFUNCTION(\"\"\"COMPUTED_VALUE\"\"\"),\"0669056818\")","v":"0669056818"},{"$f":"IFERROR(__xludf.DUMMYFUNCTION(\"\"\"COMPUTED_VALUE\"\"\"),\"Pur PJ\")","v":"Pur PJ"},{"$f":"IFERROR(__xludf.DUMMYFUNCTION(\"\"\"COMPUTED_VALUE\"\"\"),\"-\")","v":"-"},{"$f":"IFERROR(__xludf.DUMMYFUNCTION(\"\"\"COMPUTED_VALUE\"\"\"),\"septembre\")","v":"septembre"},{"$f":"IFERROR(__xludf.DUMMYFUNCTION(\"\"\"COMPUTED_VALUE\"\"\"),\"Peu importe\")","v":"Peu importe"},{"$f":"IFERROR(__xludf.DUMMYFUNCTION(\"\"\"COMPUTED_VALUE\"\"\"),\"OK\")","v":"OK"},{"$f":"IFERROR(__xludf.DUMMYFUNCTION(\"\"\"COMPUTED_VALUE\"\"\"),\"OK\")","v":"OK"},{"$f":"IFERROR(__xludf.DUMMYFUNCTION(\"\"\"COMPUTED_VALUE\"\"\"),\"septembre\")","v":"septembre"},{"$f":"IFERROR(__xludf.DUMMYFUNCTION(\"\"\"COMPUTED_VALUE\"\"\"),\"Fort seulement\")","v":"Fort seulement"},{"$f":"IFERROR(__xludf.DUMMYFUNCTION(\"\"\"COMPUTED_VALUE\"\"\"),200.0)","v":200},{"$f":"IFERROR(__xludf.DUMMYFUNCTION(\"\"\"COMPUTED_VALUE\"\"\"),\"PAF finalisée\")","v":"PAF finalisée"},{"$f":"IFERROR(__xludf.DUMMYFUNCTION(\"\"\"COMPUTED_VALUE\"\"\"),\"non reçue\")","v":"non reçue"},{"$f":"IFERROR(__xludf.DUMMYFUNCTION(\"\"\"COMPUTED_VALUE\"\"\"),\"R.A.S.\")","v":"R.A.S."},{"$f":"IFERROR(__xludf.DUMMYFUNCTION(\"\"\"COMPUTED_VALUE\"\"\"),\"samedi\")","v":"samedi"},{"$f":"IFERROR(__xludf.DUMMYFUNCTION(\"\"\"COMPUTED_VALUE\"\"\"),\"Reste\")","v":"Reste"}]
[{"$f":"IFERROR(__xludf.DUMMYFUNCTION(\"\"\"COMPUTED_VALUE\"\"\"),45494.0)","v":"2024-07-21"},{"$f":"IFERROR(__xludf.DUMMYFUNCTION(\"\"\"COMPUTED_VALUE\"\"\"),\"Lenouvel \")","v":"Lenouvel "},{"$f":"IFERROR(__xludf.DUMMYFUNCTION(\"\"\"COMPUTED_VALUE\"\"\"),\"Maryline \")","v":"Maryline "},{"$f":"IFERROR(__xludf.DUMMYFUNCTION(\"\"\"COMPUTED_VALUE\"\"\"),\"F\")","v":"F"},null,{"$f":"IFERROR(__xludf.DUMMYFUNCTION(\"\"\"COMPUTED_VALUE\"\"\"),\"lylou_07@hotmail.com\")","v":"lylou_07@hotmail.com"},{"$f":"IFERROR(__xludf.DUMMYFUNCTION(\"\"\"COMPUTED_VALUE\"\"\"),\"Bellis Lylou Ajola\")","v":"Bellis Lylou Ajola"},null,{"$f":"IFERROR(__xludf.DUMMYFUNCTION(\"\"\"COMPUTED_VALUE\"\"\"),\"Pur PJ\")","v":"Pur PJ"},{"$f":"IFERROR(__xludf.DUMMYFUNCTION(\"\"\"COMPUTED_VALUE\"\"\"),\"-\")","v":"-"},{"$f":"IFERROR(__xludf.DUMMYFUNCTION(\"\"\"COMPUTED_VALUE\"\"\"),\"septembre\")","v":"septembre"},{"$f":"IFERROR(__xludf.DUMMYFUNCTION(\"\"\"COMPUTED_VALUE\"\"\"),\"Seulement au fort\")","v":"Seulement au fort"},{"$f":"IFERROR(__xludf.DUMMYFUNCTION(\"\"\"COMPUTED_VALUE\"\"\"),\"OK\")","v":"OK"},{"$f":"IFERROR(__xludf.DUMMYFUNCTION(\"\"\"COMPUTED_VALUE\"\"\"),\"OK\")","v":"OK"},{"$f":"IFERROR(__xludf.DUMMYFUNCTION(\"\"\"COMPUTED_VALUE\"\"\"),\"septembre\")","v":"septembre"},{"$f":"IFERROR(__xludf.DUMMYFUNCTION(\"\"\"COMPUTED_VALUE\"\"\"),\"Fort seulement\")","v":"Fort seulement"},{"$f":"IFERROR(__xludf.DUMMYFUNCTION(\"\"\"COMPUTED_VALUE\"\"\"),200.0)","v":200},{"$f":"IFERROR(__xludf.DUMMYFUNCTION(\"\"\"COMPUTED_VALUE\"\"\"),\"PAF finalisée\")","v":"PAF finalisée"},{"$f":"IFERROR(__xludf.DUMMYFUNCTION(\"\"\"COMPUTED_VALUE\"\"\"),\"non reçue\")","v":"non reçue"},{"$f":"IFERROR(__xludf.DUMMYFUNCTION(\"\"\"COMPUTED_VALUE\"\"\"),\"R.A.S.\")","v":"R.A.S."},{"$f":"IFERROR(__xludf.DUMMYFUNCTION(\"\"\"COMPUTED_VALUE\"\"\"),\"samedi\")","v":"samedi"},{"$f":"IFERROR(__xludf.DUMMYFUNCTION(\"\"\"COMPUTED_VALUE\"\"\"),\"Reste\")","v":"Reste"}]
[{"$f":"IFERROR(__xludf.DUMMYFUNCTION(\"\"\"COMPUTED_VALUE\"\"\"),45494.0)","v":"2024-07-21"},{"$f":"IFERROR(__xludf.DUMMYFUNCTION(\"\"\"COMPUTED_VALUE\"\"\"),\"Brule\")","v":"Brule"},{"$f":"IFERROR(__xludf.DUMMYFUNCTION(\"\"\"COMPUTED_VALUE\"\"\"),\"Mélanie \")","v":"Mélanie "},{"$f":"IFERROR(__xludf.DUMMYFUNCTION(\"\"\"COMPUTED_VALUE\"\"\"),\"F\")","v":"F"},{"$f":"IFERROR(__xludf.DUMMYFUNCTION(\"\"\"COMPUTED_VALUE\"\"\"),23.0)","v":23},{"$f":"IFERROR(__xludf.DUMMYFUNCTION(\"\"\"COMPUTED_VALUE\"\"\"),\"melanie.brule1906@orange.fr\")","v":"melanie.brule1906@orange.fr"},{"$f":"IFERROR(__xludf.DUMMYFUNCTION(\"\"\"COMPUTED_VALUE\"\"\"),\"Mélanie BRULE \")","v":"Mélanie BRULE "},{"$f":"IFERROR(__xludf.DUMMYFUNCTION(\"\"\"COMPUTED_VALUE\"\"\"),\"0762198427\")","v":"0762198427"},{"$f":"IFERROR(__xludf.DUMMYFUNCTION(\"\"\"COMPUTED_VALUE\"\"\"),\"PJ+PNJ\")","v":"PJ+PNJ"},{"$f":"IFERROR(__xludf.DUMMYFUNCTION(\"\"\"COMPUTED_VALUE\"\"\"),\"-\")","v":"-"},{"$f":"IFERROR(__xludf.DUMMYFUNCTION(\"\"\"COMPUTED_VALUE\"\"\"),\"Non précisé\")","v":"Non précisé"},{"$f":"IFERROR(__xludf.DUMMYFUNCTION(\"\"\"COMPUTED_VALUE\"\"\"),\"Navire et fort\")","v":"Navire et fort"},{"$f":"IFERROR(__xludf.DUMMYFUNCTION(\"\"\"COMPUTED_VALUE\"\"\"),\"OK\")","v":"OK"},{"$f":"IFERROR(__xludf.DUMMYFUNCTION(\"\"\"COMPUTED_VALUE\"\"\"),\"OK\")","v":"OK"},{"$f":"IFERROR(__xludf.DUMMYFUNCTION(\"\"\"COMPUTED_VALUE\"\"\"),\"juin\")","v":"juin"},{"$f":"IFERROR(__xludf.DUMMYFUNCTION(\"\"\"COMPUTED_VALUE\"\"\"),\"Navire & Fort\")","v":"Navire & Fort"},{"$f":"IFERROR(__xludf.DUMMYFUNCTION(\"\"\"COMPUTED_VALUE\"\"\"),400.0)","v":400},{"$f":"IFERROR(__xludf.DUMMYFUNCTION(\"\"\"COMPUTED_VALUE\"\"\"),\"PAF finalisée\")","v":"PAF finalisée"},{"$f":"IFERROR(__xludf.DUMMYFUNCTION(\"\"\"COMPUTED_VALUE\"\"\"),\"non reçue\")","v":"non reçue"},{"$f":"IFERROR(__xludf.DUMMYFUNCTION(\"\"\"COMPUTED_VALUE\"\"\"),\"R.A.S.\")","v":"R.A.S."},{"$f":"IFERROR(__xludf.DUMMYFUNCTION(\"\"\"COMPUTED_VALUE\"\"\"),\"samedi\")","v":"samedi"},{"$f":"IFERROR(__xludf.DUMMYFUNCTION(\"\"\"COMPUTED_VALUE\"\"\"),\"Reste\")","v":"Reste"}]
[{"$f":"IFERROR(__xludf.DUMMYFUNCTION(\"\"\"COMPUTED_VALUE\"\"\"),45495.0)","v":"2024-07-22"},{"$f":"IFERROR(__xludf.DUMMYFUNCTION(\"\"\"COMPUTED_VALUE\"\"\"),\"MUNARO\")","v":"MUNARO"},{"$f":"IFERROR(__xludf.DUMMYFUNCTION(\"\"\"COMPUTED_VALUE\"\"\"),\"Perrine\")","v":"Perrine"},{"$f":"IFERROR(__xludf.DUMMYFUNCTION(\"\"\"COMPUTED_VALUE\"\"\"),\"F\")","v":"F"},{"$f":"IFERROR(__xludf.DUMMYFUNCTION(\"\"\"COMPUTED_VALUE\"\"\"),40.0)","v":40},{"$f":"IFERROR(__xludf.DUMMYFUNCTION(\"\"\"COMPUTED_VALUE\"\"\"),\"perrine.munaro@gmail.com\")","v":"perrine.munaro@gmail.com"},{"$f":"IFERROR(__xludf.DUMMYFUNCTION(\"\"\"COMPUTED_VALUE\"\"\"),\"Perrine Duracell\")","v":"Perrine Duracell"},{"$f":"IFERROR(__xludf.DUMMYFUNCTION(\"\"\"COMPUTED_VALUE\"\"\"),\"0673120151\")","v":"0673120151"},{"$f":"IFERROR(__xludf.DUMMYFUNCTION(\"\"\"COMPUTED_VALUE\"\"\"),\"Pur PJ\")","v":"Pur PJ"},{"$f":"IFERROR(__xludf.DUMMYFUNCTION(\"\"\"COMPUTED_VALUE\"\"\"),\"-\")","v":"-"},{"$f":"IFERROR(__xludf.DUMMYFUNCTION(\"\"\"COMPUTED_VALUE\"\"\"),\"Les deux\")","v":"Les deux"},{"$f":"IFERROR(__xludf.DUMMYFUNCTION(\"\"\"COMPUTED_VALUE\"\"\"),\"Navire et fort\")","v":"Navire et fort"},{"$f":"IFERROR(__xludf.DUMMYFUNCTION(\"\"\"COMPUTED_VALUE\"\"\"),\"OK\")","v":"OK"},{"$f":"IFERROR(__xludf.DUMMYFUNCTION(\"\"\"COMPUTED_VALUE\"\"\"),\"OK\")","v":"OK"},{"$f":"IFERROR(__xludf.DUMMYFUNCTION(\"\"\"COMPUTED_VALUE\"\"\"),\"septembre\")","v":"septembre"},{"$f":"IFERROR(__xludf.DUMMYFUNCTION(\"\"\"COMPUTED_VALUE\"\"\"),\"Navire & Fort\")","v":"Navire & Fort"},null,{"$f":"IFERROR(__xludf.DUMMYFUNCTION(\"\"\"COMPUTED_VALUE\"\"\"),\"PAF non reçue\")","v":"PAF non reçue"},{"$f":"IFERROR(__xludf.DUMMYFUNCTION(\"\"\"COMPUTED_VALUE\"\"\"),\"non reçue\")","v":"non reçue"},{"$f":"IFERROR(__xludf.DUMMYFUNCTION(\"\"\"COMPUTED_VALUE\"\"\"),\"R.A.S.\")","v":"R.A.S."},{"$f":"IFERROR(__xludf.DUMMYFUNCTION(\"\"\"COMPUTED_VALUE\"\"\"),\"samedi\")","v":"samedi"},{"$f":"IFERROR(__xludf.DUMMYFUNCTION(\"\"\"COMPUTED_VALUE\"\"\"),\"Reste\")","v":"Reste"}]
[{"$f":"IFERROR(__xludf.DUMMYFUNCTION(\"\"\"COMPUTED_VALUE\"\"\"),45495.0)","v":"2024-07-22"},{"$f":"IFERROR(__xludf.DUMMYFUNCTION(\"\"\"COMPUTED_VALUE\"\"\"),\"Yogananthan \")","v":"Yogananthan "},{"$f":"IFERROR(__xludf.DUMMYFUNCTION(\"\"\"COMPUTED_VALUE\"\"\"),\"Karuna\")","v":"Karuna"},{"$f":"IFERROR(__xludf.DUMMYFUNCTION(\"\"\"COMPUTED_VALUE\"\"\"),\"H\")","v":"H"},{"$f":"IFERROR(__xludf.DUMMYFUNCTION(\"\"\"COMPUTED_VALUE\"\"\"),119.0)","v":119},{"$f":"IFERROR(__xludf.DUMMYFUNCTION(\"\"\"COMPUTED_VALUE\"\"\"),\"karuna.yogananthan@gmail.com\")","v":"karuna.yogananthan@gmail.com"},{"$f":"IFERROR(__xludf.DUMMYFUNCTION(\"\"\"COMPUTED_VALUE\"\"\"),\"Karuna Yogananthan \")","v":"Karuna Yogananthan "},{"$f":"IFERROR(__xludf.DUMMYFUNCTION(\"\"\"COMPUTED_VALUE\"\"\"),\"0610838975\")","v":"0610838975"},{"$f":"IFERROR(__xludf.DUMMYFUNCTION(\"\"\"COMPUTED_VALUE\"\"\"),\"Pur PJ\")","v":"Pur PJ"},{"$f":"IFERROR(__xludf.DUMMYFUNCTION(\"\"\"COMPUTED_VALUE\"\"\"),\"-\")","v":"-"},{"$f":"IFERROR(__xludf.DUMMYFUNCTION(\"\"\"COMPUTED_VALUE\"\"\"),\"Les deux\")","v":"Les deux"},{"$f":"IFERROR(__xludf.DUMMYFUNCTION(\"\"\"COMPUTED_VALUE\"\"\"),\"Navire et fort\")","v":"Navire et fort"},{"$f":"IFERROR(__xludf.DUMMYFUNCTION(\"\"\"COMPUTED_VALUE\"\"\"),\"OK\")","v":"OK"},{"$f":"IFERROR(__xludf.DUMMYFUNCTION(\"\"\"COMPUTED_VALUE\"\"\"),\"OK\")","v":"OK"},{"$f":"IFERROR(__xludf.DUMMYFUNCTION(\"\"\"COMPUTED_VALUE\"\"\"),\"septembre\")","v":"septembre"},{"$f":"IFERROR(__xludf.DUMMYFUNCTION(\"\"\"COMPUTED_VALUE\"\"\"),\"Navire & Fort\")","v":"Navire & Fort"},{"$f":"IFERROR(__xludf.DUMMYFUNCTION(\"\"\"COMPUTED_VALUE\"\"\"),400.0)","v":400},{"$f":"IFERROR(__xludf.DUMMYFUNCTION(\"\"\"COMPUTED_VALUE\"\"\"),\"PAF finalisée\")","v":"PAF finalisée"},{"$f":"IFERROR(__xludf.DUMMYFUNCTION(\"\"\"COMPUTED_VALUE\"\"\"),\"non reçue\")","v":"non reçue"},{"$f":"IFERROR(__xludf.DUMMYFUNCTION(\"\"\"COMPUTED_VALUE\"\"\"),\"R.A.S.\")","v":"R.A.S."},{"$f":"IFERROR(__xludf.DUMMYFUNCTION(\"\"\"COMPUTED_VALUE\"\"\"),\"samedi\")","v":"samedi"},{"$f":"IFERROR(__xludf.DUMMYFUNCTION(\"\"\"COMPUTED_VALUE\"\"\"),\"NON\")","v":"NON"}]
[{"$f":"IFERROR(__xludf.DUMMYFUNCTION(\"\"\"COMPUTED_VALUE\"\"\"),45495.0)","v":"2024-07-22"},{"$f":"IFERROR(__xludf.DUMMYFUNCTION(\"\"\"COMPUTED_VALUE\"\"\"),\"le merdy\")","v":"le merdy"},{"$f":"IFERROR(__xludf.DUMMYFUNCTION(\"\"\"COMPUTED_VALUE\"\"\"),\"claire\")","v":"claire"},{"$f":"IFERROR(__xludf.DUMMYFUNCTION(\"\"\"COMPUTED_VALUE\"\"\"),\"F\")","v":"F"},{"$f":"IFERROR(__xludf.DUMMYFUNCTION(\"\"\"COMPUTED_VALUE\"\"\"),32.0)","v":32},{"$f":"IFERROR(__xludf.DUMMYFUNCTION(\"\"\"COMPUTED_VALUE\"\"\"),\"claire.lem@hotmail.fr\")","v":"claire.lem@hotmail.fr"},{"$f":"IFERROR(__xludf.DUMMYFUNCTION(\"\"\"COMPUTED_VALUE\"\"\"),\"claire LM\")","v":"claire LM"},{"$f":"IFERROR(__xludf.DUMMYFUNCTION(\"\"\"COMPUTED_VALUE\"\"\"),\"674802559\")","v":"674802559"},{"$f":"IFERROR(__xludf.DUMMYFUNCTION(\"\"\"COMPUTED_VALUE\"\"\"),\"PNJ\")","v":"PNJ"},{"$f":"IFERROR(__xludf.DUMMYFUNCTION(\"\"\"COMPUTED_VALUE\"\"\"),\"-\")","v":"-"},{"$f":"IFERROR(__xludf.DUMMYFUNCTION(\"\"\"COMPUTED_VALUE\"\"\"),\"Les deux\")","v":"Les deux"},{"$f":"IFERROR(__xludf.DUMMYFUNCTION(\"\"\"COMPUTED_VALUE\"\"\"),\"Peu importe\")","v":"Peu importe"},{"$f":"IFERROR(__xludf.DUMMYFUNCTION(\"\"\"COMPUTED_VALUE\"\"\"),\"OK\")","v":"OK"},{"$f":"IFERROR(__xludf.DUMMYFUNCTION(\"\"\"COMPUTED_VALUE\"\"\"),\"OK\")","v":"OK"},{"$f":"IFERROR(__xludf.DUMMYFUNCTION(\"\"\"COMPUTED_VALUE\"\"\"),\"juin\")","v":"juin"},{"$f":"IFERROR(__xludf.DUMMYFUNCTION(\"\"\"COMPUTED_VALUE\"\"\"),\"Fort seulement\")","v":"Fort seulement"},null,{"$f":"IFERROR(__xludf.DUMMYFUNCTION(\"\"\"COMPUTED_VALUE\"\"\"),\"PAF non reçue\")","v":"PAF non reçue"},{"$f":"IFERROR(__xludf.DUMMYFUNCTION(\"\"\"COMPUTED_VALUE\"\"\"),\"non reçue\")","v":"non reçue"},{"$f":"IFERROR(__xludf.DUMMYFUNCTION(\"\"\"COMPUTED_VALUE\"\"\"),\"R.A.S.\")","v":"R.A.S."},{"$f":"IFERROR(__xludf.DUMMYFUNCTION(\"\"\"COMPUTED_VALUE\"\"\"),\"samedi\")","v":"samedi"},{"$f":"IFERROR(__xludf.DUMMYFUNCTION(\"\"\"COMPUTED_VALUE\"\"\"),\"Reste\")","v":"Reste"}]
[{"$f":"IFERROR(__xludf.DUMMYFUNCTION(\"\"\"COMPUTED_VALUE\"\"\"),45495.0)","v":"2024-07-22"},{"$f":"IFERROR(__xludf.DUMMYFUNCTION(\"\"\"COMPUTED_VALUE\"\"\"),\"Gayot\")","v":"Gayot"},{"$f":"IFERROR(__xludf.DUMMYFUNCTION(\"\"\"COMPUTED_VALUE\"\"\"),\"Eléna\")","v":"Eléna"},{"$f":"IFERROR(__xludf.DUMMYFUNCTION(\"\"\"COMPUTED_VALUE\"\"\"),\"F\")","v":"F"},{"$f":"IFERROR(__xludf.DUMMYFUNCTION(\"\"\"COMPUTED_VALUE\"\"\"),25.0)","v":25},{"$f":"IFERROR(__xludf.DUMMYFUNCTION(\"\"\"COMPUTED_VALUE\"\"\"),\"elena.gayot@gmail.com\")","v":"elena.gayot@gmail.com"},{"$f":"IFERROR(__xludf.DUMMYFUNCTION(\"\"\"COMPUTED_VALUE\"\"\"),\"Eléna Gayot\")","v":"Eléna Gayot"},{"$f":"IFERROR(__xludf.DUMMYFUNCTION(\"\"\"COMPUTED_VALUE\"\"\"),\"0750498366\")","v":"0750498366"},{"$f":"IFERROR(__xludf.DUMMYFUNCTION(\"\"\"COMPUTED_VALUE\"\"\"),\"Pur PJ\")","v":"Pur PJ"},{"$f":"IFERROR(__xludf.DUMMYFUNCTION(\"\"\"COMPUTED_VALUE\"\"\"),\"-\")","v":"-"},{"$f":"IFERROR(__xludf.DUMMYFUNCTION(\"\"\"COMPUTED_VALUE\"\"\"),\"juin\")","v":"juin"},{"$f":"IFERROR(__xludf.DUMMYFUNCTION(\"\"\"COMPUTED_VALUE\"\"\"),\"Navire et fort\")","v":"Navire et fort"},{"$f":"IFERROR(__xludf.DUMMYFUNCTION(\"\"\"COMPUTED_VALUE\"\"\"),\"OK\")","v":"OK"},{"$f":"IFERROR(__xludf.DUMMYFUNCTION(\"\"\"COMPUTED_VALUE\"\"\"),\"OK\")","v":"OK"},{"$f":"IFERROR(__xludf.DUMMYFUNCTION(\"\"\"COMPUTED_VALUE\"\"\"),\"juin\")","v":"juin"},{"$f":"IFERROR(__xludf.DUMMYFUNCTION(\"\"\"COMPUTED_VALUE\"\"\"),\"Navire & Fort\")","v":"Navire & Fort"},{"$f":"IFERROR(__xludf.DUMMYFUNCTION(\"\"\"COMPUTED_VALUE\"\"\"),267.0)","v":267},{"$f":"IFERROR(__xludf.DUMMYFUNCTION(\"\"\"COMPUTED_VALUE\"\"\"),\"PAF partielle\")","v":"PAF partielle"},{"$f":"IFERROR(__xludf.DUMMYFUNCTION(\"\"\"COMPUTED_VALUE\"\"\"),\"non reçue\")","v":"non reçue"},{"$f":"IFERROR(__xludf.DUMMYFUNCTION(\"\"\"COMPUTED_VALUE\"\"\"),\"R.A.S.\")","v":"R.A.S."},{"$f":"IFERROR(__xludf.DUMMYFUNCTION(\"\"\"COMPUTED_VALUE\"\"\"),\"samedi\")","v":"samedi"},{"$f":"IFERROR(__xludf.DUMMYFUNCTION(\"\"\"COMPUTED_VALUE\"\"\"),\"Reste\")","v":"Reste"}]
[{"$f":"IFERROR(__xludf.DUMMYFUNCTION(\"\"\"COMPUTED_VALUE\"\"\"),45495.0)","v":"2024-07-22"},{"$f":"IFERROR(__xludf.DUMMYFUNCTION(\"\"\"COMPUTED_VALUE\"\"\"),\"cornu\")","v":"cornu"},{"$f":"IFERROR(__xludf.DUMMYFUNCTION(\"\"\"COMPUTED_VALUE\"\"\"),\"FRANCOISE\")","v":"FRANCOISE"},{"$f":"IFERROR(__xludf.DUMMYFUNCTION(\"\"\"COMPUTED_VALUE\"\"\"),\"F\")","v":"F"},{"$f":"IFERROR(__xludf.DUMMYFUNCTION(\"\"\"COMPUTED_VALUE\"\"\"),64.0)","v":64},{"$f":"IFERROR(__xludf.DUMMYFUNCTION(\"\"\"COMPUTED_VALUE\"\"\"),\"wamael@aol.com\")","v":"wamael@aol.com"},{"$f":"IFERROR(__xludf.DUMMYFUNCTION(\"\"\"COMPUTED_VALUE\"\"\"),\"Mamie Soaz\")","v":"Mamie Soaz"},{"$f":"IFERROR(__xludf.DUMMYFUNCTION(\"\"\"COMPUTED_VALUE\"\"\"),\"0681186863\")","v":"0681186863"},{"$f":"IFERROR(__xludf.DUMMYFUNCTION(\"\"\"COMPUTED_VALUE\"\"\"),\"PNJ\")","v":"PNJ"},{"$f":"IFERROR(__xludf.DUMMYFUNCTION(\"\"\"COMPUTED_VALUE\"\"\"),\"-\")","v":"-"},{"$f":"IFERROR(__xludf.DUMMYFUNCTION(\"\"\"COMPUTED_VALUE\"\"\"),\"Les deux\")","v":"Les deux"},{"$f":"IFERROR(__xludf.DUMMYFUNCTION(\"\"\"COMPUTED_VALUE\"\"\"),\"Navire et fort\")","v":"Navire et fort"},{"$f":"IFERROR(__xludf.DUMMYFUNCTION(\"\"\"COMPUTED_VALUE\"\"\"),\"OK\")","v":"OK"},{"$f":"IFERROR(__xludf.DUMMYFUNCTION(\"\"\"COMPUTED_VALUE\"\"\"),\"OK\")","v":"OK"},{"$f":"IFERROR(__xludf.DUMMYFUNCTION(\"\"\"COMPUTED_VALUE\"\"\"),\"juin\")","v":"juin"},{"$f":"IFERROR(__xludf.DUMMYFUNCTION(\"\"\"COMPUTED_VALUE\"\"\"),\"Fort seulement\")","v":"Fort seulement"},{"$f":"IFERROR(__xludf.DUMMYFUNCTION(\"\"\"COMPUTED_VALUE\"\"\"),66.7)","v":66.7},{"$f":"IFERROR(__xludf.DUMMYFUNCTION(\"\"\"COMPUTED_VALUE\"\"\"),\"PAF partielle + erreur\")","v":"PAF partielle + erreur"},{"$f":"IFERROR(__xludf.DUMMYFUNCTION(\"\"\"COMPUTED_VALUE\"\"\"),\"non reçue\")","v":"non reçue"},{"$f":"IFERROR(__xludf.DUMMYFUNCTION(\"\"\"COMPUTED_VALUE\"\"\"),\"R.A.S.\")","v":"R.A.S."},{"$f":"IFERROR(__xludf.DUMMYFUNCTION(\"\"\"COMPUTED_VALUE\"\"\"),\"samedi\")","v":"samedi"},{"$f":"IFERROR(__xludf.DUMMYFUNCTION(\"\"\"COMPUTED_VALUE\"\"\"),\"Reste\")","v":"Reste"}]
[{"$f":"IFERROR(__xludf.DUMMYFUNCTION(\"\"\"COMPUTED_VALUE\"\"\"),45495.0)","v":"2024-07-22"},{"$f":"IFERROR(__xludf.DUMMYFUNCTION(\"\"\"COMPUTED_VALUE\"\"\"),\"Ardalan\")","v":"Ardalan"},{"$f":"IFERROR(__xludf.DUMMYFUNCTION(\"\"\"COMPUTED_VALUE\"\"\"),\"Pouria\")","v":"Pouria"},{"$f":"IFERROR(__xludf.DUMMYFUNCTION(\"\"\"COMPUTED_VALUE\"\"\"),\"H\")","v":"H"},{"$f":"IFERROR(__xludf.DUMMYFUNCTION(\"\"\"COMPUTED_VALUE\"\"\"),42.0)","v":42},{"$f":"IFERROR(__xludf.DUMMYFUNCTION(\"\"\"COMPUTED_VALUE\"\"\"),\"pepebicho@yahoo.com\")","v":"pepebicho@yahoo.com"},{"$f":"IFERROR(__xludf.DUMMYFUNCTION(\"\"\"COMPUTED_VALUE\"\"\"),\"Pepebicho Leroy\")","v":"Pepebicho Leroy"},{"$f":"IFERROR(__xludf.DUMMYFUNCTION(\"\"\"COMPUTED_VALUE\"\"\"),\"0622217382\")","v":"0622217382"},{"$f":"IFERROR(__xludf.DUMMYFUNCTION(\"\"\"COMPUTED_VALUE\"\"\"),\"PJ+PNJ\")","v":"PJ+PNJ"},{"$f":"IFERROR(__xludf.DUMMYFUNCTION(\"\"\"COMPUTED_VALUE\"\"\"),\"-\")","v":"-"},{"$f":"IFERROR(__xludf.DUMMYFUNCTION(\"\"\"COMPUTED_VALUE\"\"\"),\"juin\")","v":"juin"},{"$f":"IFERROR(__xludf.DUMMYFUNCTION(\"\"\"COMPUTED_VALUE\"\"\"),\"Seulement au fort\")","v":"Seulement au fort"},{"$f":"IFERROR(__xludf.DUMMYFUNCTION(\"\"\"COMPUTED_VALUE\"\"\"),\"OK\")","v":"OK"},{"$f":"IFERROR(__xludf.DUMMYFUNCTION(\"\"\"COMPUTED_VALUE\"\"\"),\"OK\")","v":"OK"},{"$f":"IFERROR(__xludf.DUMMYFUNCTION(\"\"\"COMPUTED_VALUE\"\"\"),\"septembre\")","v":"septembre"},{"$f":"IFERROR(__xludf.DUMMYFUNCTION(\"\"\"COMPUTED_VALUE\"\"\"),\"Fort seulement\")","v":"Fort seulement"},{"$f":"IFERROR(__xludf.DUMMYFUNCTION(\"\"\"COMPUTED_VALUE\"\"\"),200.0)","v":200},{"$f":"IFERROR(__xludf.DUMMYFUNCTION(\"\"\"COMPUTED_VALUE\"\"\"),\"PAF finalisée\")","v":"PAF finalisée"},{"$f":"IFERROR(__xludf.DUMMYFUNCTION(\"\"\"COMPUTED_VALUE\"\"\"),\"non reçue\")","v":"non reçue"},{"$f":"IFERROR(__xludf.DUMMYFUNCTION(\"\"\"COMPUTED_VALUE\"\"\"),\"R.A.S.\")","v":"R.A.S."},{"$f":"IFERROR(__xludf.DUMMYFUNCTION(\"\"\"COMPUTED_VALUE\"\"\"),\"samedi\")","v":"samedi"},{"$f":"IFERROR(__xludf.DUMMYFUNCTION(\"\"\"COMPUTED_VALUE\"\"\"),\"Reste\")","v":"Reste"}]
[{"$f":"IFERROR(__xludf.DUMMYFUNCTION(\"\"\"COMPUTED_VALUE\"\"\"),45496.0)","v":"2024-07-23"},{"$f":"IFERROR(__xludf.DUMMYFUNCTION(\"\"\"COMPUTED_VALUE\"\"\"),\"Petit \")","v":"Petit "},{"$f":"IFERROR(__xludf.DUMMYFUNCTION(\"\"\"COMPUTED_VALUE\"\"\"),\"Vincent \")","v":"Vincent "},{"$f":"IFERROR(__xludf.DUMMYFUNCTION(\"\"\"COMPUTED_VALUE\"\"\"),\"H\")","v":"H"},{"$f":"IFERROR(__xludf.DUMMYFUNCTION(\"\"\"COMPUTED_VALUE\"\"\"),48.0)","v":48},{"$f":"IFERROR(__xludf.DUMMYFUNCTION(\"\"\"COMPUTED_VALUE\"\"\"),\"vincentsterne@yahoo.fr\")","v":"vincentsterne@yahoo.fr"},{"$f":"IFERROR(__xludf.DUMMYFUNCTION(\"\"\"COMPUTED_VALUE\"\"\"),\"Vincent Petit\")","v":"Vincent Petit"},{"$f":"IFERROR(__xludf.DUMMYFUNCTION(\"\"\"COMPUTED_VALUE\"\"\"),\"0619600814\")","v":"0619600814"},{"$f":"IFERROR(__xludf.DUMMYFUNCTION(\"\"\"COMPUTED_VALUE\"\"\"),\"PJ+PNJ\")","v":"PJ+PNJ"},{"$f":"IFERROR(__xludf.DUMMYFUNCTION(\"\"\"COMPUTED_VALUE\"\"\"),\"-\")","v":"-"},{"$f":"IFERROR(__xludf.DUMMYFUNCTION(\"\"\"COMPUTED_VALUE\"\"\"),\"septembre\")","v":"septembre"},{"$f":"IFERROR(__xludf.DUMMYFUNCTION(\"\"\"COMPUTED_VALUE\"\"\"),\"Peu importe\")","v":"Peu importe"},{"$f":"IFERROR(__xludf.DUMMYFUNCTION(\"\"\"COMPUTED_VALUE\"\"\"),\"OK\")","v":"OK"},{"$f":"IFERROR(__xludf.DUMMYFUNCTION(\"\"\"COMPUTED_VALUE\"\"\"),\"OK\")","v":"OK"},{"$f":"IFERROR(__xludf.DUMMYFUNCTION(\"\"\"COMPUTED_VALUE\"\"\"),\"septembre\")","v":"septembre"},{"$f":"IFERROR(__xludf.DUMMYFUNCTION(\"\"\"COMPUTED_VALUE\"\"\"),\"Fort seulement\")","v":"Fort seulement"},{"$f":"IFERROR(__xludf.DUMMYFUNCTION(\"\"\"COMPUTED_VALUE\"\"\"),220.0)","v":220},{"$f":"IFERROR(__xludf.DUMMYFUNCTION(\"\"\"COMPUTED_VALUE\"\"\"),\"PAF finalisée\")","v":"PAF finalisée"},{"$f":"IFERROR(__xludf.DUMMYFUNCTION(\"\"\"COMPUTED_VALUE\"\"\"),\"non reçue\")","v":"non reçue"},{"$f":"IFERROR(__xludf.DUMMYFUNCTION(\"\"\"COMPUTED_VALUE\"\"\"),\"R.A.S.\")","v":"R.A.S."},{"$f":"IFERROR(__xludf.DUMMYFUNCTION(\"\"\"COMPUTED_VALUE\"\"\"),\"samedi\")","v":"samedi"},{"$f":"IFERROR(__xludf.DUMMYFUNCTION(\"\"\"COMPUTED_VALUE\"\"\"),\"Reste\")","v":"Reste"}]
[{"$f":"IFERROR(__xludf.DUMMYFUNCTION(\"\"\"COMPUTED_VALUE\"\"\"),45496.0)","v":"2024-07-23"},{"$f":"IFERROR(__xludf.DUMMYFUNCTION(\"\"\"COMPUTED_VALUE\"\"\"),\"battung\")","v":"battung"},{"$f":"IFERROR(__xludf.DUMMYFUNCTION(\"\"\"COMPUTED_VALUE\"\"\"),\"coralie\")","v":"coralie"},{"$f":"IFERROR(__xludf.DUMMYFUNCTION(\"\"\"COMPUTED_VALUE\"\"\"),\"F\")","v":"F"},{"$f":"IFERROR(__xludf.DUMMYFUNCTION(\"\"\"COMPUTED_VALUE\"\"\"),34.0)","v":34},{"$f":"IFERROR(__xludf.DUMMYFUNCTION(\"\"\"COMPUTED_VALUE\"\"\"),\"corabattung@gmail.com\")","v":"corabattung@gmail.com"},{"$f":"IFERROR(__xludf.DUMMYFUNCTION(\"\"\"COMPUTED_VALUE\"\"\"),\"Cora la rousse\")","v":"Cora la rousse"},{"$f":"IFERROR(__xludf.DUMMYFUNCTION(\"\"\"COMPUTED_VALUE\"\"\"),\"0611246957\")","v":"0611246957"},{"$f":"IFERROR(__xludf.DUMMYFUNCTION(\"\"\"COMPUTED_VALUE\"\"\"),\"Pur PJ\")","v":"Pur PJ"},{"$f":"IFERROR(__xludf.DUMMYFUNCTION(\"\"\"COMPUTED_VALUE\"\"\"),\"-\")","v":"-"},{"$f":"IFERROR(__xludf.DUMMYFUNCTION(\"\"\"COMPUTED_VALUE\"\"\"),\"juin\")","v":"juin"},{"$f":"IFERROR(__xludf.DUMMYFUNCTION(\"\"\"COMPUTED_VALUE\"\"\"),\"Navire et fort\")","v":"Navire et fort"},{"$f":"IFERROR(__xludf.DUMMYFUNCTION(\"\"\"COMPUTED_VALUE\"\"\"),\"OK\")","v":"OK"},{"$f":"IFERROR(__xludf.DUMMYFUNCTION(\"\"\"COMPUTED_VALUE\"\"\"),\"OK\")","v":"OK"},{"$f":"IFERROR(__xludf.DUMMYFUNCTION(\"\"\"COMPUTED_VALUE\"\"\"),\"juin\")","v":"juin"},{"$f":"IFERROR(__xludf.DUMMYFUNCTION(\"\"\"COMPUTED_VALUE\"\"\"),\"Navire & Fort\")","v":"Navire & Fort"},{"$f":"IFERROR(__xludf.DUMMYFUNCTION(\"\"\"COMPUTED_VALUE\"\"\"),267.0)","v":267},{"$f":"IFERROR(__xludf.DUMMYFUNCTION(\"\"\"COMPUTED_VALUE\"\"\"),\"PAF partielle\")","v":"PAF partielle"},{"$f":"IFERROR(__xludf.DUMMYFUNCTION(\"\"\"COMPUTED_VALUE\"\"\"),\"non reçue\")","v":"non reçue"},{"$f":"IFERROR(__xludf.DUMMYFUNCTION(\"\"\"COMPUTED_VALUE\"\"\"),\"R.A.S.\")","v":"R.A.S."},{"$f":"IFERROR(__xludf.DUMMYFUNCTION(\"\"\"COMPUTED_VALUE\"\"\"),\"samedi\")","v":"samedi"},{"$f":"IFERROR(__xludf.DUMMYFUNCTION(\"\"\"COMPUTED_VALUE\"\"\"),\"Reste\")","v":"Reste"}]
[{"$f":"IFERROR(__xludf.DUMMYFUNCTION(\"\"\"COMPUTED_VALUE\"\"\"),45496.0)","v":"2024-07-23"},{"$f":"IFERROR(__xludf.DUMMYFUNCTION(\"\"\"COMPUTED_VALUE\"\"\"),\"FRACHON\")","v":"FRACHON"},{"$f":"IFERROR(__xludf.DUMMYFUNCTION(\"\"\"COMPUTED_VALUE\"\"\"),\"Aurélia\")","v":"Aurélia"},{"$f":"IFERROR(__xludf.DUMMYFUNCTION(\"\"\"COMPUTED_VALUE\"\"\"),\"F\")","v":"F"},{"$f":"IFERROR(__xludf.DUMMYFUNCTION(\"\"\"COMPUTED_VALUE\"\"\"),119.0)","v":119},{"$f":"IFERROR(__xludf.DUMMYFUNCTION(\"\"\"COMPUTED_VALUE\"\"\"),\"aureliafrachon@gmail.com\")","v":"aureliafrachon@gmail.com"},{"$f":"IFERROR(__xludf.DUMMYFUNCTION(\"\"\"COMPUTED_VALUE\"\"\"),\"Aurélia Frachon\")","v":"Aurélia Frachon"},{"$f":"IFERROR(__xludf.DUMMYFUNCTION(\"\"\"COMPUTED_VALUE\"\"\"),\"0643592580\")","v":"0643592580"},{"$f":"IFERROR(__xludf.DUMMYFUNCTION(\"\"\"COMPUTED_VALUE\"\"\"),\"PJ+PNJ\")","v":"PJ+PNJ"},{"$f":"IFERROR(__xludf.DUMMYFUNCTION(\"\"\"COMPUTED_VALUE\"\"\"),\"-\")","v":"-"},{"$f":"IFERROR(__xludf.DUMMYFUNCTION(\"\"\"COMPUTED_VALUE\"\"\"),\"juin\")","v":"juin"},{"$f":"IFERROR(__xludf.DUMMYFUNCTION(\"\"\"COMPUTED_VALUE\"\"\"),\"Navire et fort\")","v":"Navire et fort"},{"$f":"IFERROR(__xludf.DUMMYFUNCTION(\"\"\"COMPUTED_VALUE\"\"\"),\"OK\")","v":"OK"},{"$f":"IFERROR(__xludf.DUMMYFUNCTION(\"\"\"COMPUTED_VALUE\"\"\"),\"OK\")","v":"OK"},{"$f":"IFERROR(__xludf.DUMMYFUNCTION(\"\"\"COMPUTED_VALUE\"\"\"),\"juin\")","v":"juin"},{"$f":"IFERROR(__xludf.DUMMYFUNCTION(\"\"\"COMPUTED_VALUE\"\"\"),\"Navire & Fort\")","v":"Navire & Fort"},{"$f":"IFERROR(__xludf.DUMMYFUNCTION(\"\"\"COMPUTED_VALUE\"\"\"),267.0)","v":267},{"$f":"IFERROR(__xludf.DUMMYFUNCTION(\"\"\"COMPUTED_VALUE\"\"\"),\"PAF partielle\")","v":"PAF partielle"},{"$f":"IFERROR(__xludf.DUMMYFUNCTION(\"\"\"COMPUTED_VALUE\"\"\"),\"non reçue\")","v":"non reçue"},{"$f":"IFERROR(__xludf.DUMMYFUNCTION(\"\"\"COMPUTED_VALUE\"\"\"),\"R.A.S.\")","v":"R.A.S."},{"$f":"IFERROR(__xludf.DUMMYFUNCTION(\"\"\"COMPUTED_VALUE\"\"\"),\"samedi\")","v":"samedi"},{"$f":"IFERROR(__xludf.DUMMYFUNCTION(\"\"\"COMPUTED_VALUE\"\"\"),\"NON\")","v":"NON"}]
[{"$f":"IFERROR(__xludf.DUMMYFUNCTION(\"\"\"COMPUTED_VALUE\"\"\"),45496.0)","v":"2024-07-23"},{"$f":"IFERROR(__xludf.DUMMYFUNCTION(\"\"\"COMPUTED_VALUE\"\"\"),\"Cornu \")","v":"Cornu "},{"$f":"IFERROR(__xludf.DUMMYFUNCTION(\"\"\"COMPUTED_VALUE\"\"\"),\"Nathan\")","v":"Nathan"},{"$f":"IFERROR(__xludf.DUMMYFUNCTION(\"\"\"COMPUTED_VALUE\"\"\"),\"H\")","v":"H"},{"$f":"IFERROR(__xludf.DUMMYFUNCTION(\"\"\"COMPUTED_VALUE\"\"\"),30.0)","v":30},{"$f":"IFERROR(__xludf.DUMMYFUNCTION(\"\"\"COMPUTED_VALUE\"\"\"),\"nathancornu@gmail.com\")","v":"nathancornu@gmail.com"},{"$f":"IFERROR(__xludf.DUMMYFUNCTION(\"\"\"COMPUTED_VALUE\"\"\"),\"Nathan cornu\")","v":"Nathan cornu"},{"$f":"IFERROR(__xludf.DUMMYFUNCTION(\"\"\"COMPUTED_VALUE\"\"\"),\"0646031612\")","v":"0646031612"},{"$f":"IFERROR(__xludf.DUMMYFUNCTION(\"\"\"COMPUTED_VALUE\"\"\"),\"PNJ\")","v":"PNJ"},{"$f":"IFERROR(__xludf.DUMMYFUNCTION(\"\"\"COMPUTED_VALUE\"\"\"),\"-\")","v":"-"},{"$f":"IFERROR(__xludf.DUMMYFUNCTION(\"\"\"COMPUTED_VALUE\"\"\"),\"Les deux\")","v":"Les deux"},{"$f":"IFERROR(__xludf.DUMMYFUNCTION(\"\"\"COMPUTED_VALUE\"\"\"),\"Peu importe\")","v":"Peu importe"},{"$f":"IFERROR(__xludf.DUMMYFUNCTION(\"\"\"COMPUTED_VALUE\"\"\"),\"OK\")","v":"OK"},{"$f":"IFERROR(__xludf.DUMMYFUNCTION(\"\"\"COMPUTED_VALUE\"\"\"),\"OK\")","v":"OK"},{"$f":"IFERROR(__xludf.DUMMYFUNCTION(\"\"\"COMPUTED_VALUE\"\"\"),\"juin\")","v":"juin"},{"$f":"IFERROR(__xludf.DUMMYFUNCTION(\"\"\"COMPUTED_VALUE\"\"\"),\"Fort seulement\")","v":"Fort seulement"},null,{"$f":"IFERROR(__xludf.DUMMYFUNCTION(\"\"\"COMPUTED_VALUE\"\"\"),\"PAF non reçue\")","v":"PAF non reçue"},{"$f":"IFERROR(__xludf.DUMMYFUNCTION(\"\"\"COMPUTED_VALUE\"\"\"),\"non reçue\")","v":"non reçue"},{"$f":"IFERROR(__xludf.DUMMYFUNCTION(\"\"\"COMPUTED_VALUE\"\"\"),\"R.A.S.\")","v":"R.A.S."},{"$f":"IFERROR(__xludf.DUMMYFUNCTION(\"\"\"COMPUTED_VALUE\"\"\"),\"samedi\")","v":"samedi"},{"$f":"IFERROR(__xludf.DUMMYFUNCTION(\"\"\"COMPUTED_VALUE\"\"\"),\"Reste\")","v":"Reste"}]
[{"$f":"IFERROR(__xludf.DUMMYFUNCTION(\"\"\"COMPUTED_VALUE\"\"\"),45498.0)","v":"2024-07-25"},{"$f":"IFERROR(__xludf.DUMMYFUNCTION(\"\"\"COMPUTED_VALUE\"\"\"),\"Blanchard Quentin\")","v":"Blanchard Quentin"},{"$f":"IFERROR(__xludf.DUMMYFUNCTION(\"\"\"COMPUTED_VALUE\"\"\"),\"Quentin\")","v":"Quentin"},{"$f":"IFERROR(__xludf.DUMMYFUNCTION(\"\"\"COMPUTED_VALUE\"\"\"),\"H\")","v":"H"},{"$f":"IFERROR(__xludf.DUMMYFUNCTION(\"\"\"COMPUTED_VALUE\"\"\"),32.0)","v":32},{"$f":"IFERROR(__xludf.DUMMYFUNCTION(\"\"\"COMPUTED_VALUE\"\"\"),\"blanchard.quentin1@gmail.com\")","v":"blanchard.quentin1@gmail.com"},{"$f":"IFERROR(__xludf.DUMMYFUNCTION(\"\"\"COMPUTED_VALUE\"\"\"),\"Quentin Kando\")","v":"Quentin Kando"},{"$f":"IFERROR(__xludf.DUMMYFUNCTION(\"\"\"COMPUTED_VALUE\"\"\"),\"0676788950\")","v":"0676788950"},{"$f":"IFERROR(__xludf.DUMMYFUNCTION(\"\"\"COMPUTED_VALUE\"\"\"),\"PJ+PNJ\")","v":"PJ+PNJ"},{"$f":"IFERROR(__xludf.DUMMYFUNCTION(\"\"\"COMPUTED_VALUE\"\"\"),\"-\")","v":"-"},{"$f":"IFERROR(__xludf.DUMMYFUNCTION(\"\"\"COMPUTED_VALUE\"\"\"),\"septembre\")","v":"septembre"},{"$f":"IFERROR(__xludf.DUMMYFUNCTION(\"\"\"COMPUTED_VALUE\"\"\"),\"Navire et fort\")","v":"Navire et fort"},{"$f":"IFERROR(__xludf.DUMMYFUNCTION(\"\"\"COMPUTED_VALUE\"\"\"),\"OK\")","v":"OK"},{"$f":"IFERROR(__xludf.DUMMYFUNCTION(\"\"\"COMPUTED_VALUE\"\"\"),\"OK\")","v":"OK"},{"$f":"IFERROR(__xludf.DUMMYFUNCTION(\"\"\"COMPUTED_VALUE\"\"\"),\"septembre\")","v":"septembre"},{"$f":"IFERROR(__xludf.DUMMYFUNCTION(\"\"\"COMPUTED_VALUE\"\"\"),\"Navire & Fort\")","v":"Navire & Fort"},null,{"$f":"IFERROR(__xludf.DUMMYFUNCTION(\"\"\"COMPUTED_VALUE\"\"\"),\"PAF non reçue\")","v":"PAF non reçue"},{"$f":"IFERROR(__xludf.DUMMYFUNCTION(\"\"\"COMPUTED_VALUE\"\"\"),\"non reçue\")","v":"non reçue"},{"$f":"IFERROR(__xludf.DUMMYFUNCTION(\"\"\"COMPUTED_VALUE\"\"\"),\"R.A.S.\")","v":"R.A.S."},{"$f":"IFERROR(__xludf.DUMMYFUNCTION(\"\"\"COMPUTED_VALUE\"\"\"),\"samedi\")","v":"samedi"},{"$f":"IFERROR(__xludf.DUMMYFUNCTION(\"\"\"COMPUTED_VALUE\"\"\"),\"NON\")","v":"NON"}]
[{"$f":"IFERROR(__xludf.DUMMYFUNCTION(\"\"\"COMPUTED_VALUE\"\"\"),45498.0)","v":"2024-07-25"},{"$f":"IFERROR(__xludf.DUMMYFUNCTION(\"\"\"COMPUTED_VALUE\"\"\"),\"BRANDELY\")","v":"BRANDELY"},{"$f":"IFERROR(__xludf.DUMMYFUNCTION(\"\"\"COMPUTED_VALUE\"\"\"),\"Guillaume\")","v":"Guillaume"},{"$f":"IFERROR(__xludf.DUMMYFUNCTION(\"\"\"COMPUTED_VALUE\"\"\"),\"H\")","v":"H"},{"$f":"IFERROR(__xludf.DUMMYFUNCTION(\"\"\"COMPUTED_VALUE\"\"\"),51.0)","v":51},{"$f":"IFERROR(__xludf.DUMMYFUNCTION(\"\"\"COMPUTED_VALUE\"\"\"),\"yom@mythoz.org\")","v":"yom@mythoz.org"},{"$f":"IFERROR(__xludf.DUMMYFUNCTION(\"\"\"COMPUTED_VALUE\"\"\"),\"Guillaume BRANDELY\")","v":"Guillaume BRANDELY"},{"$f":"IFERROR(__xludf.DUMMYFUNCTION(\"\"\"COMPUTED_VALUE\"\"\"),\"+33661799673\")","v":"+33661799673"},{"$f":"IFERROR(__xludf.DUMMYFUNCTION(\"\"\"COMPUTED_VALUE\"\"\"),\"Pur PJ\")","v":"Pur PJ"},{"$f":"IFERROR(__xludf.DUMMYFUNCTION(\"\"\"COMPUTED_VALUE\"\"\"),\"-\")","v":"-"},{"$f":"IFERROR(__xludf.DUMMYFUNCTION(\"\"\"COMPUTED_VALUE\"\"\"),\"Non précisé\")","v":"Non précisé"},{"$f":"IFERROR(__xludf.DUMMYFUNCTION(\"\"\"COMPUTED_VALUE\"\"\"),\"Navire et fort\")","v":"Navire et fort"},{"$f":"IFERROR(__xludf.DUMMYFUNCTION(\"\"\"COMPUTED_VALUE\"\"\"),\"OK\")","v":"OK"},{"$f":"IFERROR(__xludf.DUMMYFUNCTION(\"\"\"COMPUTED_VALUE\"\"\"),\"OK\")","v":"OK"},{"$f":"IFERROR(__xludf.DUMMYFUNCTION(\"\"\"COMPUTED_VALUE\"\"\"),\"juin\")","v":"juin"},{"$f":"IFERROR(__xludf.DUMMYFUNCTION(\"\"\"COMPUTED_VALUE\"\"\"),\"Navire & Fort\")","v":"Navire & Fort"},{"$f":"IFERROR(__xludf.DUMMYFUNCTION(\"\"\"COMPUTED_VALUE\"\"\"),272.0)","v":272},{"$f":"IFERROR(__xludf.DUMMYFUNCTION(\"\"\"COMPUTED_VALUE\"\"\"),\"PAF partielle\")","v":"PAF partielle"},{"$f":"IFERROR(__xludf.DUMMYFUNCTION(\"\"\"COMPUTED_VALUE\"\"\"),\"non reçue\")","v":"non reçue"},{"$f":"IFERROR(__xludf.DUMMYFUNCTION(\"\"\"COMPUTED_VALUE\"\"\"),\"R.A.S.\")","v":"R.A.S."},{"$f":"IFERROR(__xludf.DUMMYFUNCTION(\"\"\"COMPUTED_VALUE\"\"\"),\"samedi\")","v":"samedi"},{"$f":"IFERROR(__xludf.DUMMYFUNCTION(\"\"\"COMPUTED_VALUE\"\"\"),\"NON\")","v":"NON"}]
[{"$f":"IFERROR(__xludf.DUMMYFUNCTION(\"\"\"COMPUTED_VALUE\"\"\"),45499.0)","v":"2024-07-26"},{"$f":"IFERROR(__xludf.DUMMYFUNCTION(\"\"\"COMPUTED_VALUE\"\"\"),\"Birat \")","v":"Birat "},{"$f":"IFERROR(__xludf.DUMMYFUNCTION(\"\"\"COMPUTED_VALUE\"\"\"),\"Stéphanie \")","v":"Stéphanie "},{"$f":"IFERROR(__xludf.DUMMYFUNCTION(\"\"\"COMPUTED_VALUE\"\"\"),\"F\")","v":"F"},{"$f":"IFERROR(__xludf.DUMMYFUNCTION(\"\"\"COMPUTED_VALUE\"\"\"),35.0)","v":35},{"$f":"IFERROR(__xludf.DUMMYFUNCTION(\"\"\"COMPUTED_VALUE\"\"\"),\"birat.stephanie@gmail.com\")","v":"birat.stephanie@gmail.com"},{"$f":"IFERROR(__xludf.DUMMYFUNCTION(\"\"\"COMPUTED_VALUE\"\"\"),\"Steph birat\")","v":"Steph birat"},{"$f":"IFERROR(__xludf.DUMMYFUNCTION(\"\"\"COMPUTED_VALUE\"\"\"),\"695850677\")","v":"695850677"},{"$f":"IFERROR(__xludf.DUMMYFUNCTION(\"\"\"COMPUTED_VALUE\"\"\"),\"PJ+PNJ\")","v":"PJ+PNJ"},{"$f":"IFERROR(__xludf.DUMMYFUNCTION(\"\"\"COMPUTED_VALUE\"\"\"),\"-\")","v":"-"},{"$f":"IFERROR(__xludf.DUMMYFUNCTION(\"\"\"COMPUTED_VALUE\"\"\"),\"septembre\")","v":"septembre"},{"$f":"IFERROR(__xludf.DUMMYFUNCTION(\"\"\"COMPUTED_VALUE\"\"\"),\"Navire et fort\")","v":"Navire et fort"},{"$f":"IFERROR(__xludf.DUMMYFUNCTION(\"\"\"COMPUTED_VALUE\"\"\"),\"OK\")","v":"OK"},{"$f":"IFERROR(__xludf.DUMMYFUNCTION(\"\"\"COMPUTED_VALUE\"\"\"),\"OK\")","v":"OK"},{"$f":"IFERROR(__xludf.DUMMYFUNCTION(\"\"\"COMPUTED_VALUE\"\"\"),\"juin\")","v":"juin"},{"$f":"IFERROR(__xludf.DUMMYFUNCTION(\"\"\"COMPUTED_VALUE\"\"\"),\"Navire & Fort\")","v":"Navire & Fort"},{"$f":"IFERROR(__xludf.DUMMYFUNCTION(\"\"\"COMPUTED_VALUE\"\"\"),400.0)","v":400},{"$f":"IFERROR(__xludf.DUMMYFUNCTION(\"\"\"COMPUTED_VALUE\"\"\"),\"PAF finalisée\")","v":"PAF finalisée"},{"$f":"IFERROR(__xludf.DUMMYFUNCTION(\"\"\"COMPUTED_VALUE\"\"\"),\"non reçue\")","v":"non reçue"},{"$f":"IFERROR(__xludf.DUMMYFUNCTION(\"\"\"COMPUTED_VALUE\"\"\"),\"R.A.S.\")","v":"R.A.S."},{"$f":"IFERROR(__xludf.DUMMYFUNCTION(\"\"\"COMPUTED_VALUE\"\"\"),\"samedi\")","v":"samedi"},{"$f":"IFERROR(__xludf.DUMMYFUNCTION(\"\"\"COMPUTED_VALUE\"\"\"),\"Reste\")","v":"Reste"}]
[{"$f":"IFERROR(__xludf.DUMMYFUNCTION(\"\"\"COMPUTED_VALUE\"\"\"),45508.0)","v":"2024-08-04"},{"$f":"IFERROR(__xludf.DUMMYFUNCTION(\"\"\"COMPUTED_VALUE\"\"\"),\"Lafosse\")","v":"Lafosse"},{"$f":"IFERROR(__xludf.DUMMYFUNCTION(\"\"\"COMPUTED_VALUE\"\"\"),\"Candice\")","v":"Candice"},{"$f":"IFERROR(__xludf.DUMMYFUNCTION(\"\"\"COMPUTED_VALUE\"\"\"),\"F\")","v":"F"},{"$f":"IFERROR(__xludf.DUMMYFUNCTION(\"\"\"COMPUTED_VALUE\"\"\"),51.0)","v":51},{"$f":"IFERROR(__xludf.DUMMYFUNCTION(\"\"\"COMPUTED_VALUE\"\"\"),\"candice.lafosse@gmail.com\")","v":"candice.lafosse@gmail.com"},{"$f":"IFERROR(__xludf.DUMMYFUNCTION(\"\"\"COMPUTED_VALUE\"\"\"),\"Candice Impératrice\")","v":"Candice Impératrice"},{"$f":"IFERROR(__xludf.DUMMYFUNCTION(\"\"\"COMPUTED_VALUE\"\"\"),\"0613046704\")","v":"0613046704"},{"$f":"IFERROR(__xludf.DUMMYFUNCTION(\"\"\"COMPUTED_VALUE\"\"\"),\"Pur PJ\")","v":"Pur PJ"},{"$f":"IFERROR(__xludf.DUMMYFUNCTION(\"\"\"COMPUTED_VALUE\"\"\"),\"-\")","v":"-"},{"$f":"IFERROR(__xludf.DUMMYFUNCTION(\"\"\"COMPUTED_VALUE\"\"\"),\"juin\")","v":"juin"},{"$f":"IFERROR(__xludf.DUMMYFUNCTION(\"\"\"COMPUTED_VALUE\"\"\"),\"Navire et fort\")","v":"Navire et fort"},{"$f":"IFERROR(__xludf.DUMMYFUNCTION(\"\"\"COMPUTED_VALUE\"\"\"),\"OK\")","v":"OK"},{"$f":"IFERROR(__xludf.DUMMYFUNCTION(\"\"\"COMPUTED_VALUE\"\"\"),\"OK\")","v":"OK"},{"$f":"IFERROR(__xludf.DUMMYFUNCTION(\"\"\"COMPUTED_VALUE\"\"\"),\"septembre\")","v":"septembre"},{"$f":"IFERROR(__xludf.DUMMYFUNCTION(\"\"\"COMPUTED_VALUE\"\"\"),\"Navire & Fort\")","v":"Navire & Fort"},{"$f":"IFERROR(__xludf.DUMMYFUNCTION(\"\"\"COMPUTED_VALUE\"\"\"),267.0)","v":267},{"$f":"IFERROR(__xludf.DUMMYFUNCTION(\"\"\"COMPUTED_VALUE\"\"\"),\"PAF partielle\")","v":"PAF partielle"},{"$f":"IFERROR(__xludf.DUMMYFUNCTION(\"\"\"COMPUTED_VALUE\"\"\"),\"non reçue\")","v":"non reçue"},{"$f":"IFERROR(__xludf.DUMMYFUNCTION(\"\"\"COMPUTED_VALUE\"\"\"),\"R.A.S.\")","v":"R.A.S."},{"$f":"IFERROR(__xludf.DUMMYFUNCTION(\"\"\"COMPUTED_VALUE\"\"\"),\"samedi\")","v":"samedi"},{"$f":"IFERROR(__xludf.DUMMYFUNCTION(\"\"\"COMPUTED_VALUE\"\"\"),\"Reste\")","v":"Reste"}]
[{"$f":"IFERROR(__xludf.DUMMYFUNCTION(\"\"\"COMPUTED_VALUE\"\"\"),45540.0)","v":"2024-09-05"},{"$f":"IFERROR(__xludf.DUMMYFUNCTION(\"\"\"COMPUTED_VALUE\"\"\"),\"Lallier\")","v":"Lallier"},{"$f":"IFERROR(__xludf.DUMMYFUNCTION(\"\"\"COMPUTED_VALUE\"\"\"),\"Olivier\")","v":"Olivier"},{"$f":"IFERROR(__xludf.DUMMYFUNCTION(\"\"\"COMPUTED_VALUE\"\"\"),\"H\")","v":"H"},{"$f":"IFERROR(__xludf.DUMMYFUNCTION(\"\"\"COMPUTED_VALUE\"\"\"),51.0)","v":51},{"$f":"IFERROR(__xludf.DUMMYFUNCTION(\"\"\"COMPUTED_VALUE\"\"\"),\"olivier.lallier@gmail.com\")","v":"olivier.lallier@gmail.com"},{"$f":"IFERROR(__xludf.DUMMYFUNCTION(\"\"\"COMPUTED_VALUE\"\"\"),\"Olivier sailoff\")","v":"Olivier sailoff"},{"$f":"IFERROR(__xludf.DUMMYFUNCTION(\"\"\"COMPUTED_VALUE\"\"\"),\"0627213127\")","v":"0627213127"},{"$f":"IFERROR(__xludf.DUMMYFUNCTION(\"\"\"COMPUTED_VALUE\"\"\"),\"PJ+PNJ\")","v":"PJ+PNJ"},{"$f":"IFERROR(__xludf.DUMMYFUNCTION(\"\"\"COMPUTED_VALUE\"\"\"),\"-\")","v":"-"},{"$f":"IFERROR(__xludf.DUMMYFUNCTION(\"\"\"COMPUTED_VALUE\"\"\"),\"juin\")","v":"juin"},{"$f":"IFERROR(__xludf.DUMMYFUNCTION(\"\"\"COMPUTED_VALUE\"\"\"),\"Peu importe\")","v":"Peu importe"},{"$f":"IFERROR(__xludf.DUMMYFUNCTION(\"\"\"COMPUTED_VALUE\"\"\"),\"OK\")","v":"OK"},{"$f":"IFERROR(__xludf.DUMMYFUNCTION(\"\"\"COMPUTED_VALUE\"\"\"),\"OK\")","v":"OK"},{"$f":"IFERROR(__xludf.DUMMYFUNCTION(\"\"\"COMPUTED_VALUE\"\"\"),\"juin\")","v":"juin"},{"$f":"IFERROR(__xludf.DUMMYFUNCTION(\"\"\"COMPUTED_VALUE\"\"\"),\"Navire & Fort\")","v":"Navire & Fort"},{"$f":"IFERROR(__xludf.DUMMYFUNCTION(\"\"\"COMPUTED_VALUE\"\"\"),267.0)","v":267},{"$f":"IFERROR(__xludf.DUMMYFUNCTION(\"\"\"COMPUTED_VALUE\"\"\"),\"PAF partielle\")","v":"PAF partielle"},{"$f":"IFERROR(__xludf.DUMMYFUNCTION(\"\"\"COMPUTED_VALUE\"\"\"),\"non reçue\")","v":"non reçue"},{"$f":"IFERROR(__xludf.DUMMYFUNCTION(\"\"\"COMPUTED_VALUE\"\"\"),\"R.A.S.\")","v":"R.A.S."},{"$f":"IFERROR(__xludf.DUMMYFUNCTION(\"\"\"COMPUTED_VALUE\"\"\"),\"samedi\")","v":"samedi"},{"$f":"IFERROR(__xludf.DUMMYFUNCTION(\"\"\"COMPUTED_VALUE\"\"\"),\"Reste\")","v":"Reste"}]
[{"$f":"IFERROR(__xludf.DUMMYFUNCTION(\"\"\"COMPUTED_VALUE\"\"\"),45540.0)","v":"2024-09-05"},{"$f":"IFERROR(__xludf.DUMMYFUNCTION(\"\"\"COMPUTED_VALUE\"\"\"),\"Lefebvre \")","v":"Lefebvre "},{"$f":"IFERROR(__xludf.DUMMYFUNCTION(\"\"\"COMPUTED_VALUE\"\"\"),\"Gregoire \")","v":"Gregoire "},{"$f":"IFERROR(__xludf.DUMMYFUNCTION(\"\"\"COMPUTED_VALUE\"\"\"),\"H\")","v":"H"},{"$f":"IFERROR(__xludf.DUMMYFUNCTION(\"\"\"COMPUTED_VALUE\"\"\"),51.0)","v":51},{"$f":"IFERROR(__xludf.DUMMYFUNCTION(\"\"\"COMPUTED_VALUE\"\"\"),\"gregoire.lefebvre38@gmail.com\")","v":"gregoire.lefebvre38@gmail.com"},{"$f":"IFERROR(__xludf.DUMMYFUNCTION(\"\"\"COMPUTED_VALUE\"\"\"),\"Grégoire Lefebvre \")","v":"Grégoire Lefebvre "},{"$f":"IFERROR(__xludf.DUMMYFUNCTION(\"\"\"COMPUTED_VALUE\"\"\"),\"0615337655\")","v":"0615337655"},{"$f":"IFERROR(__xludf.DUMMYFUNCTION(\"\"\"COMPUTED_VALUE\"\"\"),\"PJ+PNJ\")","v":"PJ+PNJ"},null,{"$f":"IFERROR(__xludf.DUMMYFUNCTION(\"\"\"COMPUTED_VALUE\"\"\"),\"juin\")","v":"juin"},{"$f":"IFERROR(__xludf.DUMMYFUNCTION(\"\"\"COMPUTED_VALUE\"\"\"),\"Peu importe\")","v":"Peu importe"},{"$f":"IFERROR(__xludf.DUMMYFUNCTION(\"\"\"COMPUTED_VALUE\"\"\"),\"OK\")","v":"OK"},{"$f":"IFERROR(__xludf.DUMMYFUNCTION(\"\"\"COMPUTED_VALUE\"\"\"),\"KO\")","v":"KO"},{"$f":"IFERROR(__xludf.DUMMYFUNCTION(\"\"\"COMPUTED_VALUE\"\"\"),\"juin\")","v":"juin"},{"$f":"IFERROR(__xludf.DUMMYFUNCTION(\"\"\"COMPUTED_VALUE\"\"\"),\"Fort seulement\")","v":"Fort seulement"},null,{"$f":"IFERROR(__xludf.DUMMYFUNCTION(\"\"\"COMPUTED_VALUE\"\"\"),\"PAF non reçue\")","v":"PAF non reçue"},{"$f":"IFERROR(__xludf.DUMMYFUNCTION(\"\"\"COMPUTED_VALUE\"\"\"),\"non reçue\")","v":"non reçue"},{"$f":"IFERROR(__xludf.DUMMYFUNCTION(\"\"\"COMPUTED_VALUE\"\"\"),\"R.A.S.\")","v":"R.A.S."},{"$f":"IFERROR(__xludf.DUMMYFUNCTION(\"\"\"COMPUTED_VALUE\"\"\"),\"samedi\")","v":"samedi"},{"$f":"IFERROR(__xludf.DUMMYFUNCTION(\"\"\"COMPUTED_VALUE\"\"\"),\"Reste\")","v":"Reste"}]
[{"$f":"IFERROR(__xludf.DUMMYFUNCTION(\"\"\"COMPUTED_VALUE\"\"\"),45542.0)","v":"2024-09-07"},{"$f":"IFERROR(__xludf.DUMMYFUNCTION(\"\"\"COMPUTED_VALUE\"\"\"),\"Abbé\")","v":"Abbé"},{"$f":"IFERROR(__xludf.DUMMYFUNCTION(\"\"\"COMPUTED_VALUE\"\"\"),\"Valentin \")","v":"Valentin "},{"$f":"IFERROR(__xludf.DUMMYFUNCTION(\"\"\"COMPUTED_VALUE\"\"\"),\"H\")","v":"H"},{"$f":"IFERROR(__xludf.DUMMYFUNCTION(\"\"\"COMPUTED_VALUE\"\"\"),31.0)","v":31},{"$f":"IFERROR(__xludf.DUMMYFUNCTION(\"\"\"COMPUTED_VALUE\"\"\"),\"abbe.valentin@gmail.com\")","v":"abbe.valentin@gmail.com"},{"$f":"IFERROR(__xludf.DUMMYFUNCTION(\"\"\"COMPUTED_VALUE\"\"\"),\"Abbé Valentin\")","v":"Abbé Valentin"},{"$f":"IFERROR(__xludf.DUMMYFUNCTION(\"\"\"COMPUTED_VALUE\"\"\"),\"0621641087\")","v":"0621641087"},{"$f":"IFERROR(__xludf.DUMMYFUNCTION(\"\"\"COMPUTED_VALUE\"\"\"),\"Pur PJ\")","v":"Pur PJ"},{"$f":"IFERROR(__xludf.DUMMYFUNCTION(\"\"\"COMPUTED_VALUE\"\"\"),\"-\")","v":"-"},{"$f":"IFERROR(__xludf.DUMMYFUNCTION(\"\"\"COMPUTED_VALUE\"\"\"),\"juin\")","v":"juin"},{"$f":"IFERROR(__xludf.DUMMYFUNCTION(\"\"\"COMPUTED_VALUE\"\"\"),\"Seulement au fort\")","v":"Seulement au fort"},{"$f":"IFERROR(__xludf.DUMMYFUNCTION(\"\"\"COMPUTED_VALUE\"\"\"),\"OK\")","v":"OK"},{"$f":"IFERROR(__xludf.DUMMYFUNCTION(\"\"\"COMPUTED_VALUE\"\"\"),\"OK\")","v":"OK"},{"$f":"IFERROR(__xludf.DUMMYFUNCTION(\"\"\"COMPUTED_VALUE\"\"\"),\"juin\")","v":"juin"},{"$f":"IFERROR(__xludf.DUMMYFUNCTION(\"\"\"COMPUTED_VALUE\"\"\"),\"Fort seulement\")","v":"Fort seulement"},{"$f":"IFERROR(__xludf.DUMMYFUNCTION(\"\"\"COMPUTED_VALUE\"\"\"),0.0)","v":0},{"$f":"IFERROR(__xludf.DUMMYFUNCTION(\"\"\"COMPUTED_VALUE\"\"\"),\"gratuit\")","v":"gratuit"},{"$f":"IFERROR(__xludf.DUMMYFUNCTION(\"\"\"COMPUTED_VALUE\"\"\"),\"non reçue\")","v":"non reçue"},{"$f":"IFERROR(__xludf.DUMMYFUNCTION(\"\"\"COMPUTED_VALUE\"\"\"),\"R.A.S.\")","v":"R.A.S."},{"$f":"IFERROR(__xludf.DUMMYFUNCTION(\"\"\"COMPUTED_VALUE\"\"\"),\"samedi\")","v":"samedi"},{"$f":"IFERROR(__xludf.DUMMYFUNCTION(\"\"\"COMPUTED_VALUE\"\"\"),\"Reste\")","v":"Reste"}]
[{"$f":"IFERROR(__xludf.DUMMYFUNCTION(\"\"\"COMPUTED_VALUE\"\"\"),45543.0)","v":"2024-09-08"},{"$f":"IFERROR(__xludf.DUMMYFUNCTION(\"\"\"COMPUTED_VALUE\"\"\"),\"grunemwald\")","v":"grunemwald"},{"$f":"IFERROR(__xludf.DUMMYFUNCTION(\"\"\"COMPUTED_VALUE\"\"\"),\"thomas\")","v":"thomas"},{"$f":"IFERROR(__xludf.DUMMYFUNCTION(\"\"\"COMPUTED_VALUE\"\"\"),\"H\")","v":"H"},{"$f":"IFERROR(__xludf.DUMMYFUNCTION(\"\"\"COMPUTED_VALUE\"\"\"),50.0)","v":50},{"$f":"IFERROR(__xludf.DUMMYFUNCTION(\"\"\"COMPUTED_VALUE\"\"\"),\"virtualthomas@yahoo.fr\")","v":"virtualthomas@yahoo.fr"},{"$f":"IFERROR(__xludf.DUMMYFUNCTION(\"\"\"COMPUTED_VALUE\"\"\"),\"thomas grunemwald\")","v":"thomas grunemwald"},{"$f":"IFERROR(__xludf.DUMMYFUNCTION(\"\"\"COMPUTED_VALUE\"\"\"),\"0630609519\")","v":"0630609519"},{"$f":"IFERROR(__xludf.DUMMYFUNCTION(\"\"\"COMPUTED_VALUE\"\"\"),\"Pur PJ\")","v":"Pur PJ"},{"$f":"IFERROR(__xludf.DUMMYFUNCTION(\"\"\"COMPUTED_VALUE\"\"\"),\"-\")","v":"-"},{"$f":"IFERROR(__xludf.DUMMYFUNCTION(\"\"\"COMPUTED_VALUE\"\"\"),\"juin\")","v":"juin"},{"$f":"IFERROR(__xludf.DUMMYFUNCTION(\"\"\"COMPUTED_VALUE\"\"\"),\"Navire et fort\")","v":"Navire et fort"},{"$f":"IFERROR(__xludf.DUMMYFUNCTION(\"\"\"COMPUTED_VALUE\"\"\"),\"OK\")","v":"OK"},{"$f":"IFERROR(__xludf.DUMMYFUNCTION(\"\"\"COMPUTED_VALUE\"\"\"),\"OK\")","v":"OK"},{"$f":"IFERROR(__xludf.DUMMYFUNCTION(\"\"\"COMPUTED_VALUE\"\"\"),\"septembre\")","v":"septembre"},{"$f":"IFERROR(__xludf.DUMMYFUNCTION(\"\"\"COMPUTED_VALUE\"\"\"),\"Navire & Fort\")","v":"Navire & Fort"},{"$f":"IFERROR(__xludf.DUMMYFUNCTION(\"\"\"COMPUTED_VALUE\"\"\"),400.0)","v":400},{"$f":"IFERROR(__xludf.DUMMYFUNCTION(\"\"\"COMPUTED_VALUE\"\"\"),\"PAF finalisée\")","v":"PAF finalisée"},{"$f":"IFERROR(__xludf.DUMMYFUNCTION(\"\"\"COMPUTED_VALUE\"\"\"),\"non reçue\")","v":"non reçue"},{"$f":"IFERROR(__xludf.DUMMYFUNCTION(\"\"\"COMPUTED_VALUE\"\"\"),\"R.A.S.\")","v":"R.A.S."},{"$f":"IFERROR(__xludf.DUMMYFUNCTION(\"\"\"COMPUTED_VALUE\"\"\"),\"samedi\")","v":"samedi"},{"$f":"IFERROR(__xludf.DUMMYFUNCTION(\"\"\"COMPUTED_VALUE\"\"\"),\"Reste\")","v":"Reste"}]
[{"$f":"IFERROR(__xludf.DUMMYFUNCTION(\"\"\"COMPUTED_VALUE\"\"\"),45544.0)","v":"2024-09-09"},{"$f":"IFERROR(__xludf.DUMMYFUNCTION(\"\"\"COMPUTED_VALUE\"\"\"),\"Nicolet\")","v":"Nicolet"},{"$f":"IFERROR(__xludf.DUMMYFUNCTION(\"\"\"COMPUTED_VALUE\"\"\"),\"Robin\")","v":"Robin"},{"$f":"IFERROR(__xludf.DUMMYFUNCTION(\"\"\"COMPUTED_VALUE\"\"\"),\"H\")","v":"H"},{"$f":"IFERROR(__xludf.DUMMYFUNCTION(\"\"\"COMPUTED_VALUE\"\"\"),34.0)","v":34},{"$f":"IFERROR(__xludf.DUMMYFUNCTION(\"\"\"COMPUTED_VALUE\"\"\"),\"robin.nicolet@gadz.org\")","v":"robin.nicolet@gadz.org"},{"$f":"IFERROR(__xludf.DUMMYFUNCTION(\"\"\"COMPUTED_VALUE\"\"\"),\"Robin NCLT\")","v":"Robin NCLT"},{"$f":"IFERROR(__xludf.DUMMYFUNCTION(\"\"\"COMPUTED_VALUE\"\"\"),\"0615493964\")","v":"0615493964"},{"$f":"IFERROR(__xludf.DUMMYFUNCTION(\"\"\"COMPUTED_VALUE\"\"\"),\"Pur PJ\")","v":"Pur PJ"},{"$f":"IFERROR(__xludf.DUMMYFUNCTION(\"\"\"COMPUTED_VALUE\"\"\"),\"-\")","v":"-"},{"$f":"IFERROR(__xludf.DUMMYFUNCTION(\"\"\"COMPUTED_VALUE\"\"\"),\"juin\")","v":"juin"},{"$f":"IFERROR(__xludf.DUMMYFUNCTION(\"\"\"COMPUTED_VALUE\"\"\"),\"Navire et fort\")","v":"Navire et fort"},{"$f":"IFERROR(__xludf.DUMMYFUNCTION(\"\"\"COMPUTED_VALUE\"\"\"),\"OK\")","v":"OK"},{"$f":"IFERROR(__xludf.DUMMYFUNCTION(\"\"\"COMPUTED_VALUE\"\"\"),\"OK\")","v":"OK"},{"$f":"IFERROR(__xludf.DUMMYFUNCTION(\"\"\"COMPUTED_VALUE\"\"\"),\"juin\")","v":"juin"},{"$f":"IFERROR(__xludf.DUMMYFUNCTION(\"\"\"COMPUTED_VALUE\"\"\"),\"Navire & Fort\")","v":"Navire & Fort"},{"$f":"IFERROR(__xludf.DUMMYFUNCTION(\"\"\"COMPUTED_VALUE\"\"\"),400.0)","v":400},{"$f":"IFERROR(__xludf.DUMMYFUNCTION(\"\"\"COMPUTED_VALUE\"\"\"),\"PAF finalisée\")","v":"PAF finalisée"},{"$f":"IFERROR(__xludf.DUMMYFUNCTION(\"\"\"COMPUTED_VALUE\"\"\"),\"non reçue\")","v":"non reçue"},{"$f":"IFERROR(__xludf.DUMMYFUNCTION(\"\"\"COMPUTED_VALUE\"\"\"),\"R.A.S.\")","v":"R.A.S."},{"$f":"IFERROR(__xludf.DUMMYFUNCTION(\"\"\"COMPUTED_VALUE\"\"\"),\"samedi\")","v":"samedi"},{"$f":"IFERROR(__xludf.DUMMYFUNCTION(\"\"\"COMPUTED_VALUE\"\"\"),\"Reste\")","v":"Reste"}]
[{"$f":"IFERROR(__xludf.DUMMYFUNCTION(\"\"\"COMPUTED_VALUE\"\"\"),45544.0)","v":"2024-09-09"},{"$f":"IFERROR(__xludf.DUMMYFUNCTION(\"\"\"COMPUTED_VALUE\"\"\"),\"Guex\")","v":"Guex"},{"$f":"IFERROR(__xludf.DUMMYFUNCTION(\"\"\"COMPUTED_VALUE\"\"\"),\"Benjamin\")","v":"Benjamin"},{"$f":"IFERROR(__xludf.DUMMYFUNCTION(\"\"\"COMPUTED_VALUE\"\"\"),\"H\")","v":"H"},{"$f":"IFERROR(__xludf.DUMMYFUNCTION(\"\"\"COMPUTED_VALUE\"\"\"),33.0)","v":33},{"$f":"IFERROR(__xludf.DUMMYFUNCTION(\"\"\"COMPUTED_VALUE\"\"\"),\"benji91@netplus.ch\")","v":"benji91@netplus.ch"},{"$f":"IFERROR(__xludf.DUMMYFUNCTION(\"\"\"COMPUTED_VALUE\"\"\"),\"benjamin.guex\")","v":"benjamin.guex"},{"$f":"IFERROR(__xludf.DUMMYFUNCTION(\"\"\"COMPUTED_VALUE\"\"\"),\"+41792687562\")","v":"+41792687562"},{"$f":"IFERROR(__xludf.DUMMYFUNCTION(\"\"\"COMPUTED_VALUE\"\"\"),\"PJ+PNJ\")","v":"PJ+PNJ"},{"$f":"IFERROR(__xludf.DUMMYFUNCTION(\"\"\"COMPUTED_VALUE\"\"\"),\"-\")","v":"-"},{"$f":"IFERROR(__xludf.DUMMYFUNCTION(\"\"\"COMPUTED_VALUE\"\"\"),\"juin\")","v":"juin"},{"$f":"IFERROR(__xludf.DUMMYFUNCTION(\"\"\"COMPUTED_VALUE\"\"\"),\"Navire et fort\")","v":"Navire et fort"},{"$f":"IFERROR(__xludf.DUMMYFUNCTION(\"\"\"COMPUTED_VALUE\"\"\"),\"OK\")","v":"OK"},{"$f":"IFERROR(__xludf.DUMMYFUNCTION(\"\"\"COMPUTED_VALUE\"\"\"),\"OK\")","v":"OK"},{"$f":"IFERROR(__xludf.DUMMYFUNCTION(\"\"\"COMPUTED_VALUE\"\"\"),\"juin\")","v":"juin"},{"$f":"IFERROR(__xludf.DUMMYFUNCTION(\"\"\"COMPUTED_VALUE\"\"\"),\"Navire & Fort\")","v":"Navire & Fort"},{"$f":"IFERROR(__xludf.DUMMYFUNCTION(\"\"\"COMPUTED_VALUE\"\"\"),400.0)","v":400},{"$f":"IFERROR(__xludf.DUMMYFUNCTION(\"\"\"COMPUTED_VALUE\"\"\"),\"PAF finalisée\")","v":"PAF finalisée"},{"$f":"IFERROR(__xludf.DUMMYFUNCTION(\"\"\"COMPUTED_VALUE\"\"\"),\"non reçue\")","v":"non reçue"},{"$f":"IFERROR(__xludf.DUMMYFUNCTION(\"\"\"COMPUTED_VALUE\"\"\"),\"R.A.S.\")","v":"R.A.S."},{"$f":"IFERROR(__xludf.DUMMYFUNCTION(\"\"\"COMPUTED_VALUE\"\"\"),\"samedi\")","v":"samedi"},{"$f":"IFERROR(__xludf.DUMMYFUNCTION(\"\"\"COMPUTED_VALUE\"\"\"),\"NON\")","v":"NON"}]
[{"$f":"IFERROR(__xludf.DUMMYFUNCTION(\"\"\"COMPUTED_VALUE\"\"\"),45548.0)","v":"2024-09-13"},{"$f":"IFERROR(__xludf.DUMMYFUNCTION(\"\"\"COMPUTED_VALUE\"\"\"),\"Bouhedja \")","v":"Bouhedja "},{"$f":"IFERROR(__xludf.DUMMYFUNCTION(\"\"\"COMPUTED_VALUE\"\"\"),\"Nawel\")","v":"Nawel"},{"$f":"IFERROR(__xludf.DUMMYFUNCTION(\"\"\"COMPUTED_VALUE\"\"\"),\"F\")","v":"F"},{"$f":"IFERROR(__xludf.DUMMYFUNCTION(\"\"\"COMPUTED_VALUE\"\"\"),46.0)","v":46},{"$f":"IFERROR(__xludf.DUMMYFUNCTION(\"\"\"COMPUTED_VALUE\"\"\"),\"nawelbouhedja2000@gmail.com\")","v":"nawelbouhedja2000@gmail.com"},{"$f":"IFERROR(__xludf.DUMMYFUNCTION(\"\"\"COMPUTED_VALUE\"\"\"),\"Nawel Land\")","v":"Nawel Land"},{"$f":"IFERROR(__xludf.DUMMYFUNCTION(\"\"\"COMPUTED_VALUE\"\"\"),\"0650643633\")","v":"0650643633"},{"$f":"IFERROR(__xludf.DUMMYFUNCTION(\"\"\"COMPUTED_VALUE\"\"\"),\"Pur PJ\")","v":"Pur PJ"},{"$f":"IFERROR(__xludf.DUMMYFUNCTION(\"\"\"COMPUTED_VALUE\"\"\"),\"-\")","v":"-"},{"$f":"IFERROR(__xludf.DUMMYFUNCTION(\"\"\"COMPUTED_VALUE\"\"\"),\"juin\")","v":"juin"},{"$f":"IFERROR(__xludf.DUMMYFUNCTION(\"\"\"COMPUTED_VALUE\"\"\"),\"Navire et fort\")","v":"Navire et fort"},{"$f":"IFERROR(__xludf.DUMMYFUNCTION(\"\"\"COMPUTED_VALUE\"\"\"),\"OK\")","v":"OK"},{"$f":"IFERROR(__xludf.DUMMYFUNCTION(\"\"\"COMPUTED_VALUE\"\"\"),\"OK\")","v":"OK"},{"$f":"IFERROR(__xludf.DUMMYFUNCTION(\"\"\"COMPUTED_VALUE\"\"\"),\"juin\")","v":"juin"},{"$f":"IFERROR(__xludf.DUMMYFUNCTION(\"\"\"COMPUTED_VALUE\"\"\"),\"Navire & Fort\")","v":"Navire & Fort"},{"$f":"IFERROR(__xludf.DUMMYFUNCTION(\"\"\"COMPUTED_VALUE\"\"\"),267.0)","v":267},{"$f":"IFERROR(__xludf.DUMMYFUNCTION(\"\"\"COMPUTED_VALUE\"\"\"),\"PAF partielle\")","v":"PAF partielle"},{"$f":"IFERROR(__xludf.DUMMYFUNCTION(\"\"\"COMPUTED_VALUE\"\"\"),\"non reçue\")","v":"non reçue"},{"$f":"IFERROR(__xludf.DUMMYFUNCTION(\"\"\"COMPUTED_VALUE\"\"\"),\"R.A.S.\")","v":"R.A.S."},{"$f":"IFERROR(__xludf.DUMMYFUNCTION(\"\"\"COMPUTED_VALUE\"\"\"),\"samedi\")","v":"samedi"},{"$f":"IFERROR(__xludf.DUMMYFUNCTION(\"\"\"COMPUTED_VALUE\"\"\"),\"Reste\")","v":"Reste"}]
[{"$f":"IFERROR(__xludf.DUMMYFUNCTION(\"\"\"COMPUTED_VALUE\"\"\"),45551.0)","v":"2024-09-16"},{"$f":"IFERROR(__xludf.DUMMYFUNCTION(\"\"\"COMPUTED_VALUE\"\"\"),\"Picq\")","v":"Picq"},{"$f":"IFERROR(__xludf.DUMMYFUNCTION(\"\"\"COMPUTED_VALUE\"\"\"),\"Dylan\")","v":"Dylan"},{"$f":"IFERROR(__xludf.DUMMYFUNCTION(\"\"\"COMPUTED_VALUE\"\"\"),\"H\")","v":"H"},{"$f":"IFERROR(__xludf.DUMMYFUNCTION(\"\"\"COMPUTED_VALUE\"\"\"),34.0)","v":34},{"$f":"IFERROR(__xludf.DUMMYFUNCTION(\"\"\"COMPUTED_VALUE\"\"\"),\"dylanp.yg@live.fr\")","v":"dylanp.yg@live.fr"},{"$f":"IFERROR(__xludf.DUMMYFUNCTION(\"\"\"COMPUTED_VALUE\"\"\"),\"Dylan Picq\")","v":"Dylan Picq"},{"$f":"IFERROR(__xludf.DUMMYFUNCTION(\"\"\"COMPUTED_VALUE\"\"\"),\"0680536919\")","v":"0680536919"},{"$f":"IFERROR(__xludf.DUMMYFUNCTION(\"\"\"COMPUTED_VALUE\"\"\"),\"PJ+PNJ\")","v":"PJ+PNJ"},{"$f":"IFERROR(__xludf.DUMMYFUNCTION(\"\"\"COMPUTED_VALUE\"\"\"),\"-\")","v":"-"},{"$f":"IFERROR(__xludf.DUMMYFUNCTION(\"\"\"COMPUTED_VALUE\"\"\"),\"juin\")","v":"juin"},{"$f":"IFERROR(__xludf.DUMMYFUNCTION(\"\"\"COMPUTED_VALUE\"\"\"),\"Seulement au fort\")","v":"Seulement au fort"},{"$f":"IFERROR(__xludf.DUMMYFUNCTION(\"\"\"COMPUTED_VALUE\"\"\"),\"OK\")","v":"OK"},{"$f":"IFERROR(__xludf.DUMMYFUNCTION(\"\"\"COMPUTED_VALUE\"\"\"),\"OK\")","v":"OK"},{"$f":"IFERROR(__xludf.DUMMYFUNCTION(\"\"\"COMPUTED_VALUE\"\"\"),\"juin\")","v":"juin"},{"$f":"IFERROR(__xludf.DUMMYFUNCTION(\"\"\"COMPUTED_VALUE\"\"\"),\"Fort seulement\")","v":"Fort seulement"},{"$f":"IFERROR(__xludf.DUMMYFUNCTION(\"\"\"COMPUTED_VALUE\"\"\"),133.4)","v":133.4},{"$f":"IFERROR(__xludf.DUMMYFUNCTION(\"\"\"COMPUTED_VALUE\"\"\"),\"PAF partielle\")","v":"PAF partielle"},{"$f":"IFERROR(__xludf.DUMMYFUNCTION(\"\"\"COMPUTED_VALUE\"\"\"),\"non reçue\")","v":"non reçue"},{"$f":"IFERROR(__xludf.DUMMYFUNCTION(\"\"\"COMPUTED_VALUE\"\"\"),\"R.A.S.\")","v":"R.A.S."},{"$f":"IFERROR(__xludf.DUMMYFUNCTION(\"\"\"COMPUTED_VALUE\"\"\"),\"samedi\")","v":"samedi"},{"$f":"IFERROR(__xludf.DUMMYFUNCTION(\"\"\"COMPUTED_VALUE\"\"\"),\"Reste\")","v":"Reste"}]
[{"$f":"IFERROR(__xludf.DUMMYFUNCTION(\"\"\"COMPUTED_VALUE\"\"\"),45551.0)","v":"2024-09-16"},{"$f":"IFERROR(__xludf.DUMMYFUNCTION(\"\"\"COMPUTED_VALUE\"\"\"),\"Dejarnac \")","v":"Dejarnac "},{"$f":"IFERROR(__xludf.DUMMYFUNCTION(\"\"\"COMPUTED_VALUE\"\"\"),\"Pierre \")","v":"Pierre "},{"$f":"IFERROR(__xludf.DUMMYFUNCTION(\"\"\"COMPUTED_VALUE\"\"\"),\"H\")","v":"H"},{"$f":"IFERROR(__xludf.DUMMYFUNCTION(\"\"\"COMPUTED_VALUE\"\"\"),37.0)","v":37},{"$f":"IFERROR(__xludf.DUMMYFUNCTION(\"\"\"COMPUTED_VALUE\"\"\"),\"pierre.dejarnac@gmail.com\")","v":"pierre.dejarnac@gmail.com"},{"$f":"IFERROR(__xludf.DUMMYFUNCTION(\"\"\"COMPUTED_VALUE\"\"\"),\"Pierre Dejarnac \")","v":"Pierre Dejarnac "},{"$f":"IFERROR(__xludf.DUMMYFUNCTION(\"\"\"COMPUTED_VALUE\"\"\"),\"0610366894\")","v":"0610366894"},{"$f":"IFERROR(__xludf.DUMMYFUNCTION(\"\"\"COMPUTED_VALUE\"\"\"),\"Pur PJ\")","v":"Pur PJ"},{"$f":"IFERROR(__xludf.DUMMYFUNCTION(\"\"\"COMPUTED_VALUE\"\"\"),\"-\")","v":"-"},{"$f":"IFERROR(__xludf.DUMMYFUNCTION(\"\"\"COMPUTED_VALUE\"\"\"),\"juin\")","v":"juin"},{"$f":"IFERROR(__xludf.DUMMYFUNCTION(\"\"\"COMPUTED_VALUE\"\"\"),\"Peu importe\")","v":"Peu importe"},{"$f":"IFERROR(__xludf.DUMMYFUNCTION(\"\"\"COMPUTED_VALUE\"\"\"),\"OK\")","v":"OK"},{"$f":"IFERROR(__xludf.DUMMYFUNCTION(\"\"\"COMPUTED_VALUE\"\"\"),\"OK\")","v":"OK"},{"$f":"IFERROR(__xludf.DUMMYFUNCTION(\"\"\"COMPUTED_VALUE\"\"\"),\"juin\")","v":"juin"},{"$f":"IFERROR(__xludf.DUMMYFUNCTION(\"\"\"COMPUTED_VALUE\"\"\"),\"Fort seulement\")","v":"Fort seulement"},{"$f":"IFERROR(__xludf.DUMMYFUNCTION(\"\"\"COMPUTED_VALUE\"\"\"),200.0)","v":200},{"$f":"IFERROR(__xludf.DUMMYFUNCTION(\"\"\"COMPUTED_VALUE\"\"\"),\"PAF finalisée\")","v":"PAF finalisée"},{"$f":"IFERROR(__xludf.DUMMYFUNCTION(\"\"\"COMPUTED_VALUE\"\"\"),\"non reçue\")","v":"non reçue"},{"$f":"IFERROR(__xludf.DUMMYFUNCTION(\"\"\"COMPUTED_VALUE\"\"\"),\"R.A.S.\")","v":"R.A.S."},{"$f":"IFERROR(__xludf.DUMMYFUNCTION(\"\"\"COMPUTED_VALUE\"\"\"),\"samedi\")","v":"samedi"},{"$f":"IFERROR(__xludf.DUMMYFUNCTION(\"\"\"COMPUTED_VALUE\"\"\"),\"Reste\")","v":"Reste"}]
[{"$f":"IFERROR(__xludf.DUMMYFUNCTION(\"\"\"COMPUTED_VALUE\"\"\"),45551.0)","v":"2024-09-16"},{"$f":"IFERROR(__xludf.DUMMYFUNCTION(\"\"\"COMPUTED_VALUE\"\"\"),\"Sempéré\")","v":"Sempéré"},{"$f":"IFERROR(__xludf.DUMMYFUNCTION(\"\"\"COMPUTED_VALUE\"\"\"),\"Lionel\")","v":"Lionel"},{"$f":"IFERROR(__xludf.DUMMYFUNCTION(\"\"\"COMPUTED_VALUE\"\"\"),\"H\")","v":"H"},{"$f":"IFERROR(__xludf.DUMMYFUNCTION(\"\"\"COMPUTED_VALUE\"\"\"),36.0)","v":36},{"$f":"IFERROR(__xludf.DUMMYFUNCTION(\"\"\"COMPUTED_VALUE\"\"\"),\"semplio@hotmail.fr\")","v":"semplio@hotmail.fr"},{"$f":"IFERROR(__xludf.DUMMYFUNCTION(\"\"\"COMPUTED_VALUE\"\"\"),\"Lio Nel\")","v":"Lio Nel"},{"$f":"IFERROR(__xludf.DUMMYFUNCTION(\"\"\"COMPUTED_VALUE\"\"\"),\"0687966454\")","v":"0687966454"},{"$f":"IFERROR(__xludf.DUMMYFUNCTION(\"\"\"COMPUTED_VALUE\"\"\"),\"PJ+PNJ\")","v":"PJ+PNJ"},{"$f":"IFERROR(__xludf.DUMMYFUNCTION(\"\"\"COMPUTED_VALUE\"\"\"),\"-\")","v":"-"},{"$f":"IFERROR(__xludf.DUMMYFUNCTION(\"\"\"COMPUTED_VALUE\"\"\"),\"juin\")","v":"juin"},{"$f":"IFERROR(__xludf.DUMMYFUNCTION(\"\"\"COMPUTED_VALUE\"\"\"),\"Seulement au fort\")","v":"Seulement au fort"},{"$f":"IFERROR(__xludf.DUMMYFUNCTION(\"\"\"COMPUTED_VALUE\"\"\"),\"OK\")","v":"OK"},{"$f":"IFERROR(__xludf.DUMMYFUNCTION(\"\"\"COMPUTED_VALUE\"\"\"),\"OK\")","v":"OK"},{"$f":"IFERROR(__xludf.DUMMYFUNCTION(\"\"\"COMPUTED_VALUE\"\"\"),\"juin\")","v":"juin"},{"$f":"IFERROR(__xludf.DUMMYFUNCTION(\"\"\"COMPUTED_VALUE\"\"\"),\"Fort seulement\")","v":"Fort seulement"},{"$f":"IFERROR(__xludf.DUMMYFUNCTION(\"\"\"COMPUTED_VALUE\"\"\"),200.0)","v":200},{"$f":"IFERROR(__xludf.DUMMYFUNCTION(\"\"\"COMPUTED_VALUE\"\"\"),\"PAF finalisée\")","v":"PAF finalisée"},{"$f":"IFERROR(__xludf.DUMMYFUNCTION(\"\"\"COMPUTED_VALUE\"\"\"),\"non reçue\")","v":"non reçue"},{"$f":"IFERROR(__xludf.DUMMYFUNCTION(\"\"\"COMPUTED_VALUE\"\"\"),\"R.A.S.\")","v":"R.A.S."},{"$f":"IFERROR(__xludf.DUMMYFUNCTION(\"\"\"COMPUTED_VALUE\"\"\"),\"samedi\")","v":"samedi"},{"$f":"IFERROR(__xludf.DUMMYFUNCTION(\"\"\"COMPUTED_VALUE\"\"\"),\"Reste\")","v":"Reste"}]
[{"$f":"IFERROR(__xludf.DUMMYFUNCTION(\"\"\"COMPUTED_VALUE\"\"\"),45553.0)","v":"2024-09-18"},{"$f":"IFERROR(__xludf.DUMMYFUNCTION(\"\"\"COMPUTED_VALUE\"\"\"),\"Testard \")","v":"Testard "},{"$f":"IFERROR(__xludf.DUMMYFUNCTION(\"\"\"COMPUTED_VALUE\"\"\"),\"Soline \")","v":"Soline "},{"$f":"IFERROR(__xludf.DUMMYFUNCTION(\"\"\"COMPUTED_VALUE\"\"\"),\"F\")","v":"F"},{"$f":"IFERROR(__xludf.DUMMYFUNCTION(\"\"\"COMPUTED_VALUE\"\"\"),34.0)","v":34},{"$f":"IFERROR(__xludf.DUMMYFUNCTION(\"\"\"COMPUTED_VALUE\"\"\"),\"tsoline30@gmail.com\")","v":"tsoline30@gmail.com"},{"$f":"IFERROR(__xludf.DUMMYFUNCTION(\"\"\"COMPUTED_VALUE\"\"\"),\"Soline Yggdrasil \")","v":"Soline Yggdrasil "},{"$f":"IFERROR(__xludf.DUMMYFUNCTION(\"\"\"COMPUTED_VALUE\"\"\"),\"760113818\")","v":"760113818"},{"$f":"IFERROR(__xludf.DUMMYFUNCTION(\"\"\"COMPUTED_VALUE\"\"\"),\"PJ+PNJ\")","v":"PJ+PNJ"},{"$f":"IFERROR(__xludf.DUMMYFUNCTION(\"\"\"COMPUTED_VALUE\"\"\"),\"-\")","v":"-"},{"$f":"IFERROR(__xludf.DUMMYFUNCTION(\"\"\"COMPUTED_VALUE\"\"\"),\"Les deux\")","v":"Les deux"},{"$f":"IFERROR(__xludf.DUMMYFUNCTION(\"\"\"COMPUTED_VALUE\"\"\"),\"Navire et fort\")","v":"Navire et fort"},{"$f":"IFERROR(__xludf.DUMMYFUNCTION(\"\"\"COMPUTED_VALUE\"\"\"),\"OK\")","v":"OK"},{"$f":"IFERROR(__xludf.DUMMYFUNCTION(\"\"\"COMPUTED_VALUE\"\"\"),\"OK\")","v":"OK"},{"$f":"IFERROR(__xludf.DUMMYFUNCTION(\"\"\"COMPUTED_VALUE\"\"\"),\"juin\")","v":"juin"},{"$f":"IFERROR(__xludf.DUMMYFUNCTION(\"\"\"COMPUTED_VALUE\"\"\"),\"Navire & Fort\")","v":"Navire & Fort"},{"$f":"IFERROR(__xludf.DUMMYFUNCTION(\"\"\"COMPUTED_VALUE\"\"\"),400.0)","v":400},{"$f":"IFERROR(__xludf.DUMMYFUNCTION(\"\"\"COMPUTED_VALUE\"\"\"),\"PAF finalisée\")","v":"PAF finalisée"},{"$f":"IFERROR(__xludf.DUMMYFUNCTION(\"\"\"COMPUTED_VALUE\"\"\"),\"non reçue\")","v":"non reçue"},{"$f":"IFERROR(__xludf.DUMMYFUNCTION(\"\"\"COMPUTED_VALUE\"\"\"),\"R.A.S.\")","v":"R.A.S."},{"$f":"IFERROR(__xludf.DUMMYFUNCTION(\"\"\"COMPUTED_VALUE\"\"\"),\"samedi\")","v":"samedi"},{"$f":"IFERROR(__xludf.DUMMYFUNCTION(\"\"\"COMPUTED_VALUE\"\"\"),\"Reste\")","v":"Reste"}]
[{"$f":"IFERROR(__xludf.DUMMYFUNCTION(\"\"\"COMPUTED_VALUE\"\"\"),45553.0)","v":"2024-09-18"},{"$f":"IFERROR(__xludf.DUMMYFUNCTION(\"\"\"COMPUTED_VALUE\"\"\"),\"Chapelon \")","v":"Chapelon "},{"$f":"IFERROR(__xludf.DUMMYFUNCTION(\"\"\"COMPUTED_VALUE\"\"\"),\"Romain \")","v":"Romain "},{"$f":"IFERROR(__xludf.DUMMYFUNCTION(\"\"\"COMPUTED_VALUE\"\"\"),\"H\")","v":"H"},{"$f":"IFERROR(__xludf.DUMMYFUNCTION(\"\"\"COMPUTED_VALUE\"\"\"),30.0)","v":30},{"$f":"IFERROR(__xludf.DUMMYFUNCTION(\"\"\"COMPUTED_VALUE\"\"\"),\"romain.chapelon@gmail.com\")","v":"romain.chapelon@gmail.com"},{"$f":"IFERROR(__xludf.DUMMYFUNCTION(\"\"\"COMPUTED_VALUE\"\"\"),\"Romain Chapelon \")","v":"Romain Chapelon "},{"$f":"IFERROR(__xludf.DUMMYFUNCTION(\"\"\"COMPUTED_VALUE\"\"\"),\"632456597\")","v":"632456597"},{"$f":"IFERROR(__xludf.DUMMYFUNCTION(\"\"\"COMPUTED_VALUE\"\"\"),\"Pur PJ\")","v":"Pur PJ"},{"$f":"IFERROR(__xludf.DUMMYFUNCTION(\"\"\"COMPUTED_VALUE\"\"\"),\"-\")","v":"-"},{"$f":"IFERROR(__xludf.DUMMYFUNCTION(\"\"\"COMPUTED_VALUE\"\"\"),\"Les deux\")","v":"Les deux"},{"$f":"IFERROR(__xludf.DUMMYFUNCTION(\"\"\"COMPUTED_VALUE\"\"\"),\"Peu importe\")","v":"Peu importe"},{"$f":"IFERROR(__xludf.DUMMYFUNCTION(\"\"\"COMPUTED_VALUE\"\"\"),\"OK\")","v":"OK"},{"$f":"IFERROR(__xludf.DUMMYFUNCTION(\"\"\"COMPUTED_VALUE\"\"\"),\"OK\")","v":"OK"},{"$f":"IFERROR(__xludf.DUMMYFUNCTION(\"\"\"COMPUTED_VALUE\"\"\"),\"juin\")","v":"juin"},{"$f":"IFERROR(__xludf.DUMMYFUNCTION(\"\"\"COMPUTED_VALUE\"\"\"),\"Navire & Fort\")","v":"Navire & Fort"},{"$f":"IFERROR(__xludf.DUMMYFUNCTION(\"\"\"COMPUTED_VALUE\"\"\"),267.0)","v":267},{"$f":"IFERROR(__xludf.DUMMYFUNCTION(\"\"\"COMPUTED_VALUE\"\"\"),\"PAF partielle\")","v":"PAF partielle"},{"$f":"IFERROR(__xludf.DUMMYFUNCTION(\"\"\"COMPUTED_VALUE\"\"\"),\"non reçue\")","v":"non reçue"},{"$f":"IFERROR(__xludf.DUMMYFUNCTION(\"\"\"COMPUTED_VALUE\"\"\"),\"R.A.S.\")","v":"R.A.S."},{"$f":"IFERROR(__xludf.DUMMYFUNCTION(\"\"\"COMPUTED_VALUE\"\"\"),\"samedi\")","v":"samedi"},{"$f":"IFERROR(__xludf.DUMMYFUNCTION(\"\"\"COMPUTED_VALUE\"\"\"),\"Reste\")","v":"Reste"}]
[{"$f":"IFERROR(__xludf.DUMMYFUNCTION(\"\"\"COMPUTED_VALUE\"\"\"),45553.0)","v":"2024-09-18"},{"$f":"IFERROR(__xludf.DUMMYFUNCTION(\"\"\"COMPUTED_VALUE\"\"\"),\"Jegonday \")","v":"Jegonday "},{"$f":"IFERROR(__xludf.DUMMYFUNCTION(\"\"\"COMPUTED_VALUE\"\"\"),\"Xavier\")","v":"Xavier"},{"$f":"IFERROR(__xludf.DUMMYFUNCTION(\"\"\"COMPUTED_VALUE\"\"\"),\"H\")","v":"H"},{"$f":"IFERROR(__xludf.DUMMYFUNCTION(\"\"\"COMPUTED_VALUE\"\"\"),32.0)","v":32},{"$f":"IFERROR(__xludf.DUMMYFUNCTION(\"\"\"COMPUTED_VALUE\"\"\"),\"Xavier.jegonday@hotmail.fr\")","v":"Xavier.jegonday@hotmail.fr"},{"$f":"IFERROR(__xludf.DUMMYFUNCTION(\"\"\"COMPUTED_VALUE\"\"\"),\"Kurai Ketsurui\")","v":"Kurai Ketsurui"},{"$f":"IFERROR(__xludf.DUMMYFUNCTION(\"\"\"COMPUTED_VALUE\"\"\"),\"0786189956\")","v":"0786189956"},{"$f":"IFERROR(__xludf.DUMMYFUNCTION(\"\"\"COMPUTED_VALUE\"\"\"),\"Pur PJ\")","v":"Pur PJ"},{"$f":"IFERROR(__xludf.DUMMYFUNCTION(\"\"\"COMPUTED_VALUE\"\"\"),\"-\")","v":"-"},{"$f":"IFERROR(__xludf.DUMMYFUNCTION(\"\"\"COMPUTED_VALUE\"\"\"),\"Les deux\")","v":"Les deux"},{"$f":"IFERROR(__xludf.DUMMYFUNCTION(\"\"\"COMPUTED_VALUE\"\"\"),\"Navire et fort\")","v":"Navire et fort"},{"$f":"IFERROR(__xludf.DUMMYFUNCTION(\"\"\"COMPUTED_VALUE\"\"\"),\"OK\")","v":"OK"},{"$f":"IFERROR(__xludf.DUMMYFUNCTION(\"\"\"COMPUTED_VALUE\"\"\"),\"OK\")","v":"OK"},{"$f":"IFERROR(__xludf.DUMMYFUNCTION(\"\"\"COMPUTED_VALUE\"\"\"),\"juin\")","v":"juin"},{"$f":"IFERROR(__xludf.DUMMYFUNCTION(\"\"\"COMPUTED_VALUE\"\"\"),\"Navire & Fort\")","v":"Navire & Fort"},{"$f":"IFERROR(__xludf.DUMMYFUNCTION(\"\"\"COMPUTED_VALUE\"\"\"),133.5)","v":133.5},{"$f":"IFERROR(__xludf.DUMMYFUNCTION(\"\"\"COMPUTED_VALUE\"\"\"),\"PAF partielle\")","v":"PAF partielle"},{"$f":"IFERROR(__xludf.DUMMYFUNCTION(\"\"\"COMPUTED_VALUE\"\"\"),\"non reçue\")","v":"non reçue"},{"$f":"IFERROR(__xludf.DUMMYFUNCTION(\"\"\"COMPUTED_VALUE\"\"\"),\"R.A.S.\")","v":"R.A.S."},{"$f":"IFERROR(__xludf.DUMMYFUNCTION(\"\"\"COMPUTED_VALUE\"\"\"),\"samedi\")","v":"samedi"},{"$f":"IFERROR(__xludf.DUMMYFUNCTION(\"\"\"COMPUTED_VALUE\"\"\"),\"Reste\")","v":"Reste"}]
[{"$f":"IFERROR(__xludf.DUMMYFUNCTION(\"\"\"COMPUTED_VALUE\"\"\"),45553.0)","v":"2024-09-18"},{"$f":"IFERROR(__xludf.DUMMYFUNCTION(\"\"\"COMPUTED_VALUE\"\"\"),\"Bonfy\")","v":"Bonfy"},{"$f":"IFERROR(__xludf.DUMMYFUNCTION(\"\"\"COMPUTED_VALUE\"\"\"),\"Amélia \")","v":"Amélia "},{"$f":"IFERROR(__xludf.DUMMYFUNCTION(\"\"\"COMPUTED_VALUE\"\"\"),\"F\")","v":"F"},{"$f":"IFERROR(__xludf.DUMMYFUNCTION(\"\"\"COMPUTED_VALUE\"\"\"),31.0)","v":31},{"$f":"IFERROR(__xludf.DUMMYFUNCTION(\"\"\"COMPUTED_VALUE\"\"\"),\"Amelia.Bonfy@gmail.com\")","v":"Amelia.Bonfy@gmail.com"},{"$f":"IFERROR(__xludf.DUMMYFUNCTION(\"\"\"COMPUTED_VALUE\"\"\"),\"Bonfy Amélia\")","v":"Bonfy Amélia"},{"$f":"IFERROR(__xludf.DUMMYFUNCTION(\"\"\"COMPUTED_VALUE\"\"\"),\"681619704\")","v":"681619704"},{"$f":"IFERROR(__xludf.DUMMYFUNCTION(\"\"\"COMPUTED_VALUE\"\"\"),\"Pur PJ\")","v":"Pur PJ"},{"$f":"IFERROR(__xludf.DUMMYFUNCTION(\"\"\"COMPUTED_VALUE\"\"\"),\"-\")","v":"-"},{"$f":"IFERROR(__xludf.DUMMYFUNCTION(\"\"\"COMPUTED_VALUE\"\"\"),\"Les deux\")","v":"Les deux"},{"$f":"IFERROR(__xludf.DUMMYFUNCTION(\"\"\"COMPUTED_VALUE\"\"\"),\"Navire et fort\")","v":"Navire et fort"},{"$f":"IFERROR(__xludf.DUMMYFUNCTION(\"\"\"COMPUTED_VALUE\"\"\"),\"OK\")","v":"OK"},{"$f":"IFERROR(__xludf.DUMMYFUNCTION(\"\"\"COMPUTED_VALUE\"\"\"),\"OK\")","v":"OK"},{"$f":"IFERROR(__xludf.DUMMYFUNCTION(\"\"\"COMPUTED_VALUE\"\"\"),\"juin\")","v":"juin"},{"$f":"IFERROR(__xludf.DUMMYFUNCTION(\"\"\"COMPUTED_VALUE\"\"\"),\"Navire & Fort\")","v":"Navire & Fort"},{"$f":"IFERROR(__xludf.DUMMYFUNCTION(\"\"\"COMPUTED_VALUE\"\"\"),267.0)","v":267},{"$f":"IFERROR(__xludf.DUMMYFUNCTION(\"\"\"COMPUTED_VALUE\"\"\"),\"PAF partielle\")","v":"PAF partielle"},{"$f":"IFERROR(__xludf.DUMMYFUNCTION(\"\"\"COMPUTED_VALUE\"\"\"),\"non reçue\")","v":"non reçue"},{"$f":"IFERROR(__xludf.DUMMYFUNCTION(\"\"\"COMPUTED_VALUE\"\"\"),\"R.A.S.\")","v":"R.A.S."},{"$f":"IFERROR(__xludf.DUMMYFUNCTION(\"\"\"COMPUTED_VALUE\"\"\"),\"samedi\")","v":"samedi"},{"$f":"IFERROR(__xludf.DUMMYFUNCTION(\"\"\"COMPUTED_VALUE\"\"\"),\"Reste\")","v":"Reste"}]
[{"$f":"IFERROR(__xludf.DUMMYFUNCTION(\"\"\"COMPUTED_VALUE\"\"\"),45553.0)","v":"2024-09-18"},{"$f":"IFERROR(__xludf.DUMMYFUNCTION(\"\"\"COMPUTED_VALUE\"\"\"),\"Chamontin\")","v":"Chamontin"},{"$f":"IFERROR(__xludf.DUMMYFUNCTION(\"\"\"COMPUTED_VALUE\"\"\"),\"Florian\")","v":"Florian"},{"$f":"IFERROR(__xludf.DUMMYFUNCTION(\"\"\"COMPUTED_VALUE\"\"\"),\"H\")","v":"H"},{"$f":"IFERROR(__xludf.DUMMYFUNCTION(\"\"\"COMPUTED_VALUE\"\"\"),29.0)","v":29},{"$f":"IFERROR(__xludf.DUMMYFUNCTION(\"\"\"COMPUTED_VALUE\"\"\"),\"chamontinflorian@hotmail.fr\")","v":"chamontinflorian@hotmail.fr"},{"$f":"IFERROR(__xludf.DUMMYFUNCTION(\"\"\"COMPUTED_VALUE\"\"\"),\"Florian Chamontin\")","v":"Florian Chamontin"},{"$f":"IFERROR(__xludf.DUMMYFUNCTION(\"\"\"COMPUTED_VALUE\"\"\"),\"0604422064\")","v":"0604422064"},{"$f":"IFERROR(__xludf.DUMMYFUNCTION(\"\"\"COMPUTED_VALUE\"\"\"),\"Pur PJ\")","v":"Pur PJ"},{"$f":"IFERROR(__xludf.DUMMYFUNCTION(\"\"\"COMPUTED_VALUE\"\"\"),\"-\")","v":"-"},{"$f":"IFERROR(__xludf.DUMMYFUNCTION(\"\"\"COMPUTED_VALUE\"\"\"),\"Les deux\")","v":"Les deux"},{"$f":"IFERROR(__xludf.DUMMYFUNCTION(\"\"\"COMPUTED_VALUE\"\"\"),\"Navire et fort\")","v":"Navire et fort"},{"$f":"IFERROR(__xludf.DUMMYFUNCTION(\"\"\"COMPUTED_VALUE\"\"\"),\"OK\")","v":"OK"},{"$f":"IFERROR(__xludf.DUMMYFUNCTION(\"\"\"COMPUTED_VALUE\"\"\"),\"OK\")","v":"OK"},{"$f":"IFERROR(__xludf.DUMMYFUNCTION(\"\"\"COMPUTED_VALUE\"\"\"),\"juin\")","v":"juin"},{"$f":"IFERROR(__xludf.DUMMYFUNCTION(\"\"\"COMPUTED_VALUE\"\"\"),\"Navire & Fort\")","v":"Navire & Fort"},{"$f":"IFERROR(__xludf.DUMMYFUNCTION(\"\"\"COMPUTED_VALUE\"\"\"),133.5)","v":133.5},{"$f":"IFERROR(__xludf.DUMMYFUNCTION(\"\"\"COMPUTED_VALUE\"\"\"),\"PAF partielle\")","v":"PAF partielle"},{"$f":"IFERROR(__xludf.DUMMYFUNCTION(\"\"\"COMPUTED_VALUE\"\"\"),\"non reçue\")","v":"non reçue"},{"$f":"IFERROR(__xludf.DUMMYFUNCTION(\"\"\"COMPUTED_VALUE\"\"\"),\"R.A.S.\")","v":"R.A.S."},{"$f":"IFERROR(__xludf.DUMMYFUNCTION(\"\"\"COMPUTED_VALUE\"\"\"),\"samedi\")","v":"samedi"},{"$f":"IFERROR(__xludf.DUMMYFUNCTION(\"\"\"COMPUTED_VALUE\"\"\"),\"Reste\")","v":"Reste"}]
[{"$f":"IFERROR(__xludf.DUMMYFUNCTION(\"\"\"COMPUTED_VALUE\"\"\"),45555.0)","v":"2024-09-20"},{"$f":"IFERROR(__xludf.DUMMYFUNCTION(\"\"\"COMPUTED_VALUE\"\"\"),\"Mayor \")","v":"Mayor "},{"$f":"IFERROR(__xludf.DUMMYFUNCTION(\"\"\"COMPUTED_VALUE\"\"\"),\"Tom Bonaventure \")","v":"Tom Bonaventure "},{"$f":"IFERROR(__xludf.DUMMYFUNCTION(\"\"\"COMPUTED_VALUE\"\"\"),\"H\")","v":"H"},{"$f":"IFERROR(__xludf.DUMMYFUNCTION(\"\"\"COMPUTED_VALUE\"\"\"),27.0)","v":27},{"$f":"IFERROR(__xludf.DUMMYFUNCTION(\"\"\"COMPUTED_VALUE\"\"\"),\"tom.bonaventure.mayor@gmail.com\")","v":"tom.bonaventure.mayor@gmail.com"},{"$f":"IFERROR(__xludf.DUMMYFUNCTION(\"\"\"COMPUTED_VALUE\"\"\"),\"Tom Bonaventure \")","v":"Tom Bonaventure "},{"$f":"IFERROR(__xludf.DUMMYFUNCTION(\"\"\"COMPUTED_VALUE\"\"\"),\"+41 77 268 19 97\")","v":"+41 77 268 19 97"},{"$f":"IFERROR(__xludf.DUMMYFUNCTION(\"\"\"COMPUTED_VALUE\"\"\"),\"Pur PJ\")","v":"Pur PJ"},{"$f":"IFERROR(__xludf.DUMMYFUNCTION(\"\"\"COMPUTED_VALUE\"\"\"),\"-\")","v":"-"},{"$f":"IFERROR(__xludf.DUMMYFUNCTION(\"\"\"COMPUTED_VALUE\"\"\"),\"Les deux\")","v":"Les deux"},{"$f":"IFERROR(__xludf.DUMMYFUNCTION(\"\"\"COMPUTED_VALUE\"\"\"),\"Navire et fort\")","v":"Navire et fort"},{"$f":"IFERROR(__xludf.DUMMYFUNCTION(\"\"\"COMPUTED_VALUE\"\"\"),\"OK\")","v":"OK"},{"$f":"IFERROR(__xludf.DUMMYFUNCTION(\"\"\"COMPUTED_VALUE\"\"\"),\"OK\")","v":"OK"},{"$f":"IFERROR(__xludf.DUMMYFUNCTION(\"\"\"COMPUTED_VALUE\"\"\"),\"juin\")","v":"juin"},{"$f":"IFERROR(__xludf.DUMMYFUNCTION(\"\"\"COMPUTED_VALUE\"\"\"),\"Navire & Fort\")","v":"Navire & Fort"},{"$f":"IFERROR(__xludf.DUMMYFUNCTION(\"\"\"COMPUTED_VALUE\"\"\"),400.0)","v":400},{"$f":"IFERROR(__xludf.DUMMYFUNCTION(\"\"\"COMPUTED_VALUE\"\"\"),\"PAF finalisée\")","v":"PAF finalisée"},{"$f":"IFERROR(__xludf.DUMMYFUNCTION(\"\"\"COMPUTED_VALUE\"\"\"),\"non reçue\")","v":"non reçue"},{"$f":"IFERROR(__xludf.DUMMYFUNCTION(\"\"\"COMPUTED_VALUE\"\"\"),\"R.A.S.\")","v":"R.A.S."},{"$f":"IFERROR(__xludf.DUMMYFUNCTION(\"\"\"COMPUTED_VALUE\"\"\"),\"samedi\")","v":"samedi"},{"$f":"IFERROR(__xludf.DUMMYFUNCTION(\"\"\"COMPUTED_VALUE\"\"\"),\"Reste\")","v":"Reste"}]
[{"$f":"IFERROR(__xludf.DUMMYFUNCTION(\"\"\"COMPUTED_VALUE\"\"\"),45555.0)","v":"2024-09-20"},{"$f":"IFERROR(__xludf.DUMMYFUNCTION(\"\"\"COMPUTED_VALUE\"\"\"),\"Capitaine\")","v":"Capitaine"},{"$f":"IFERROR(__xludf.DUMMYFUNCTION(\"\"\"COMPUTED_VALUE\"\"\"),\"Bobby\")","v":"Bobby"},{"$f":"IFERROR(__xludf.DUMMYFUNCTION(\"\"\"COMPUTED_VALUE\"\"\"),\"H\")","v":"H"},{"$f":"IFERROR(__xludf.DUMMYFUNCTION(\"\"\"COMPUTED_VALUE\"\"\"),339.0)","v":339},{"$f":"IFERROR(__xludf.DUMMYFUNCTION(\"\"\"COMPUTED_VALUE\"\"\"),\"scheuber.joachim@gmail.com\")","v":"scheuber.joachim@gmail.com"},{"$f":"IFERROR(__xludf.DUMMYFUNCTION(\"\"\"COMPUTED_VALUE\"\"\"),\"Capitaine Bobby\")","v":"Capitaine Bobby"},{"$f":"IFERROR(__xludf.DUMMYFUNCTION(\"\"\"COMPUTED_VALUE\"\"\"),\"0619802857\")","v":"0619802857"},{"$f":"IFERROR(__xludf.DUMMYFUNCTION(\"\"\"COMPUTED_VALUE\"\"\"),\"PJ+PNJ\")","v":"PJ+PNJ"},{"$f":"IFERROR(__xludf.DUMMYFUNCTION(\"\"\"COMPUTED_VALUE\"\"\"),\"-\")","v":"-"},{"$f":"IFERROR(__xludf.DUMMYFUNCTION(\"\"\"COMPUTED_VALUE\"\"\"),\"Les deux\")","v":"Les deux"},{"$f":"IFERROR(__xludf.DUMMYFUNCTION(\"\"\"COMPUTED_VALUE\"\"\"),\"Navire et fort\")","v":"Navire et fort"},{"$f":"IFERROR(__xludf.DUMMYFUNCTION(\"\"\"COMPUTED_VALUE\"\"\"),\"OK\")","v":"OK"},{"$f":"IFERROR(__xludf.DUMMYFUNCTION(\"\"\"COMPUTED_VALUE\"\"\"),\"OK\")","v":"OK"},{"$f":"IFERROR(__xludf.DUMMYFUNCTION(\"\"\"COMPUTED_VALUE\"\"\"),\"septembre\")","v":"septembre"},{"$f":"IFERROR(__xludf.DUMMYFUNCTION(\"\"\"COMPUTED_VALUE\"\"\"),\"Navire & Fort\")","v":"Navire & Fort"},{"$f":"IFERROR(__xludf.DUMMYFUNCTION(\"\"\"COMPUTED_VALUE\"\"\"),133.5)","v":133.5},{"$f":"IFERROR(__xludf.DUMMYFUNCTION(\"\"\"COMPUTED_VALUE\"\"\"),\"PAF partielle\")","v":"PAF partielle"},{"$f":"IFERROR(__xludf.DUMMYFUNCTION(\"\"\"COMPUTED_VALUE\"\"\"),\"non reçue\")","v":"non reçue"},{"$f":"IFERROR(__xludf.DUMMYFUNCTION(\"\"\"COMPUTED_VALUE\"\"\"),\"R.A.S.\")","v":"R.A.S."},{"$f":"IFERROR(__xludf.DUMMYFUNCTION(\"\"\"COMPUTED_VALUE\"\"\"),\"samedi\")","v":"samedi"},{"$f":"IFERROR(__xludf.DUMMYFUNCTION(\"\"\"COMPUTED_VALUE\"\"\"),\"Reste\")","v":"Reste"}]
[{"$f":"IFERROR(__xludf.DUMMYFUNCTION(\"\"\"COMPUTED_VALUE\"\"\"),45555.0)","v":"2024-09-20"},{"$f":"IFERROR(__xludf.DUMMYFUNCTION(\"\"\"COMPUTED_VALUE\"\"\"),\"Tudoux\")","v":"Tudoux"},{"$f":"IFERROR(__xludf.DUMMYFUNCTION(\"\"\"COMPUTED_VALUE\"\"\"),\"Charly\")","v":"Charly"},{"$f":"IFERROR(__xludf.DUMMYFUNCTION(\"\"\"COMPUTED_VALUE\"\"\"),\"H\")","v":"H"},{"$f":"IFERROR(__xludf.DUMMYFUNCTION(\"\"\"COMPUTED_VALUE\"\"\"),50.0)","v":50},{"$f":"IFERROR(__xludf.DUMMYFUNCTION(\"\"\"COMPUTED_VALUE\"\"\"),\"cet49@wanadoo.fr\")","v":"cet49@wanadoo.fr"},{"$f":"IFERROR(__xludf.DUMMYFUNCTION(\"\"\"COMPUTED_VALUE\"\"\"),\"charlygn\")","v":"charlygn"},{"$f":"IFERROR(__xludf.DUMMYFUNCTION(\"\"\"COMPUTED_VALUE\"\"\"),\"0683159265\")","v":"0683159265"},{"$f":"IFERROR(__xludf.DUMMYFUNCTION(\"\"\"COMPUTED_VALUE\"\"\"),\"PJ+PNJ\")","v":"PJ+PNJ"},{"$f":"IFERROR(__xludf.DUMMYFUNCTION(\"\"\"COMPUTED_VALUE\"\"\"),\"-\")","v":"-"},{"$f":"IFERROR(__xludf.DUMMYFUNCTION(\"\"\"COMPUTED_VALUE\"\"\"),\"Les deux\")","v":"Les deux"},{"$f":"IFERROR(__xludf.DUMMYFUNCTION(\"\"\"COMPUTED_VALUE\"\"\"),\"Peu importe\")","v":"Peu importe"},{"$f":"IFERROR(__xludf.DUMMYFUNCTION(\"\"\"COMPUTED_VALUE\"\"\"),\"OK\")","v":"OK"},{"$f":"IFERROR(__xludf.DUMMYFUNCTION(\"\"\"COMPUTED_VALUE\"\"\"),\"OK\")","v":"OK"},{"$f":"IFERROR(__xludf.DUMMYFUNCTION(\"\"\"COMPUTED_VALUE\"\"\"),\"juin\")","v":"juin"},{"$f":"IFERROR(__xludf.DUMMYFUNCTION(\"\"\"COMPUTED_VALUE\"\"\"),\"Fort seulement\")","v":"Fort seulement"},null,{"$f":"IFERROR(__xludf.DUMMYFUNCTION(\"\"\"COMPUTED_VALUE\"\"\"),\"PAF non reçue\")","v":"PAF non reçue"},{"$f":"IFERROR(__xludf.DUMMYFUNCTION(\"\"\"COMPUTED_VALUE\"\"\"),\"non reçue\")","v":"non reçue"},{"$f":"IFERROR(__xludf.DUMMYFUNCTION(\"\"\"COMPUTED_VALUE\"\"\"),\"R.A.S.\")","v":"R.A.S."},{"$f":"IFERROR(__xludf.DUMMYFUNCTION(\"\"\"COMPUTED_VALUE\"\"\"),\"samedi\")","v":"samedi"},{"$f":"IFERROR(__xludf.DUMMYFUNCTION(\"\"\"COMPUTED_VALUE\"\"\"),\"Reste\")","v":"Reste"}]
[{"$f":"IFERROR(__xludf.DUMMYFUNCTION(\"\"\"COMPUTED_VALUE\"\"\"),45556.0)","v":"2024-09-21"},{"$f":"IFERROR(__xludf.DUMMYFUNCTION(\"\"\"COMPUTED_VALUE\"\"\"),\"Maréchal\")","v":"Maréchal"},{"$f":"IFERROR(__xludf.DUMMYFUNCTION(\"\"\"COMPUTED_VALUE\"\"\"),\"William\")","v":"William"},{"$f":"IFERROR(__xludf.DUMMYFUNCTION(\"\"\"COMPUTED_VALUE\"\"\"),\"H\")","v":"H"},{"$f":"IFERROR(__xludf.DUMMYFUNCTION(\"\"\"COMPUTED_VALUE\"\"\"),37.0)","v":37},{"$f":"IFERROR(__xludf.DUMMYFUNCTION(\"\"\"COMPUTED_VALUE\"\"\"),\"willmarechal87@gmail.com\")","v":"willmarechal87@gmail.com"},{"$f":"IFERROR(__xludf.DUMMYFUNCTION(\"\"\"COMPUTED_VALUE\"\"\"),\"William Maréchal\")","v":"William Maréchal"},{"$f":"IFERROR(__xludf.DUMMYFUNCTION(\"\"\"COMPUTED_VALUE\"\"\"),\"+33679462220\")","v":"+33679462220"},{"$f":"IFERROR(__xludf.DUMMYFUNCTION(\"\"\"COMPUTED_VALUE\"\"\"),\"PJ+PNJ\")","v":"PJ+PNJ"},{"$f":"IFERROR(__xludf.DUMMYFUNCTION(\"\"\"COMPUTED_VALUE\"\"\"),\"-\")","v":"-"},{"$f":"IFERROR(__xludf.DUMMYFUNCTION(\"\"\"COMPUTED_VALUE\"\"\"),\"Les deux\")","v":"Les deux"},{"$f":"IFERROR(__xludf.DUMMYFUNCTION(\"\"\"COMPUTED_VALUE\"\"\"),\"Navire et fort\")","v":"Navire et fort"},{"$f":"IFERROR(__xludf.DUMMYFUNCTION(\"\"\"COMPUTED_VALUE\"\"\"),\"OK\")","v":"OK"},{"$f":"IFERROR(__xludf.DUMMYFUNCTION(\"\"\"COMPUTED_VALUE\"\"\"),\"OK\")","v":"OK"},{"$f":"IFERROR(__xludf.DUMMYFUNCTION(\"\"\"COMPUTED_VALUE\"\"\"),\"septembre\")","v":"septembre"},{"$f":"IFERROR(__xludf.DUMMYFUNCTION(\"\"\"COMPUTED_VALUE\"\"\"),\"Navire & Fort\")","v":"Navire & Fort"},{"$f":"IFERROR(__xludf.DUMMYFUNCTION(\"\"\"COMPUTED_VALUE\"\"\"),267.0)","v":267},{"$f":"IFERROR(__xludf.DUMMYFUNCTION(\"\"\"COMPUTED_VALUE\"\"\"),\"PAF partielle\")","v":"PAF partielle"},{"$f":"IFERROR(__xludf.DUMMYFUNCTION(\"\"\"COMPUTED_VALUE\"\"\"),\"non reçue\")","v":"non reçue"},{"$f":"IFERROR(__xludf.DUMMYFUNCTION(\"\"\"COMPUTED_VALUE\"\"\"),\"R.A.S.\")","v":"R.A.S."},{"$f":"IFERROR(__xludf.DUMMYFUNCTION(\"\"\"COMPUTED_VALUE\"\"\"),\"samedi\")","v":"samedi"},{"$f":"IFERROR(__xludf.DUMMYFUNCTION(\"\"\"COMPUTED_VALUE\"\"\"),\"Reste\")","v":"Reste"}]
[{"$f":"IFERROR(__xludf.DUMMYFUNCTION(\"\"\"COMPUTED_VALUE\"\"\"),45557.0)","v":"2024-09-22"},{"$f":"IFERROR(__xludf.DUMMYFUNCTION(\"\"\"COMPUTED_VALUE\"\"\"),\"Amoureux\")","v":"Amoureux"},{"$f":"IFERROR(__xludf.DUMMYFUNCTION(\"\"\"COMPUTED_VALUE\"\"\"),\"Erwan\")","v":"Erwan"},{"$f":"IFERROR(__xludf.DUMMYFUNCTION(\"\"\"COMPUTED_VALUE\"\"\"),\"H\")","v":"H"},null,{"$f":"IFERROR(__xludf.DUMMYFUNCTION(\"\"\"COMPUTED_VALUE\"\"\"),\"erwan.amoureux@gmail.com\")","v":"erwan.amoureux@gmail.com"},{"$f":"IFERROR(__xludf.DUMMYFUNCTION(\"\"\"COMPUTED_VALUE\"\"\"),\"Erwan Amoureux\")","v":"Erwan Amoureux"},{"$f":"IFERROR(__xludf.DUMMYFUNCTION(\"\"\"COMPUTED_VALUE\"\"\"),\"0620489095\")","v":"0620489095"},{"$f":"IFERROR(__xludf.DUMMYFUNCTION(\"\"\"COMPUTED_VALUE\"\"\"),\"PJ+PNJ\")","v":"PJ+PNJ"},{"$f":"IFERROR(__xludf.DUMMYFUNCTION(\"\"\"COMPUTED_VALUE\"\"\"),\"-\")","v":"-"},{"$f":"IFERROR(__xludf.DUMMYFUNCTION(\"\"\"COMPUTED_VALUE\"\"\"),\"septembre\")","v":"septembre"},{"$f":"IFERROR(__xludf.DUMMYFUNCTION(\"\"\"COMPUTED_VALUE\"\"\"),\"Peu importe\")","v":"Peu importe"},{"$f":"IFERROR(__xludf.DUMMYFUNCTION(\"\"\"COMPUTED_VALUE\"\"\"),\"OK\")","v":"OK"},{"$f":"IFERROR(__xludf.DUMMYFUNCTION(\"\"\"COMPUTED_VALUE\"\"\"),\"OK\")","v":"OK"},{"$f":"IFERROR(__xludf.DUMMYFUNCTION(\"\"\"COMPUTED_VALUE\"\"\"),\"septembre\")","v":"septembre"},{"$f":"IFERROR(__xludf.DUMMYFUNCTION(\"\"\"COMPUTED_VALUE\"\"\"),\"Navire & Fort\")","v":"Navire & Fort"},{"$f":"IFERROR(__xludf.DUMMYFUNCTION(\"\"\"COMPUTED_VALUE\"\"\"),400.0)","v":400},{"$f":"IFERROR(__xludf.DUMMYFUNCTION(\"\"\"COMPUTED_VALUE\"\"\"),\"PAF finalisée\")","v":"PAF finalisée"},{"$f":"IFERROR(__xludf.DUMMYFUNCTION(\"\"\"COMPUTED_VALUE\"\"\"),\"non reçue\")","v":"non reçue"},{"$f":"IFERROR(__xludf.DUMMYFUNCTION(\"\"\"COMPUTED_VALUE\"\"\"),\"R.A.S.\")","v":"R.A.S."},{"$f":"IFERROR(__xludf.DUMMYFUNCTION(\"\"\"COMPUTED_VALUE\"\"\"),\"samedi\")","v":"samedi"},{"$f":"IFERROR(__xludf.DUMMYFUNCTION(\"\"\"COMPUTED_VALUE\"\"\"),\"Reste\")","v":"Reste"}]
[{"$f":"IFERROR(__xludf.DUMMYFUNCTION(\"\"\"COMPUTED_VALUE\"\"\"),45557.0)","v":"2024-09-22"},{"$f":"IFERROR(__xludf.DUMMYFUNCTION(\"\"\"COMPUTED_VALUE\"\"\"),\"Vandroux \")","v":"Vandroux "},{"$f":"IFERROR(__xludf.DUMMYFUNCTION(\"\"\"COMPUTED_VALUE\"\"\"),\"Karine \")","v":"Karine "},{"$f":"IFERROR(__xludf.DUMMYFUNCTION(\"\"\"COMPUTED_VALUE\"\"\"),\"F\")","v":"F"},{"$f":"IFERROR(__xludf.DUMMYFUNCTION(\"\"\"COMPUTED_VALUE\"\"\"),55.0)","v":55},{"$f":"IFERROR(__xludf.DUMMYFUNCTION(\"\"\"COMPUTED_VALUE\"\"\"),\"kadroux@gmail.com\")","v":"kadroux@gmail.com"},{"$f":"IFERROR(__xludf.DUMMYFUNCTION(\"\"\"COMPUTED_VALUE\"\"\"),\"Karine vandroux\")","v":"Karine vandroux"},{"$f":"IFERROR(__xludf.DUMMYFUNCTION(\"\"\"COMPUTED_VALUE\"\"\"),\"0662101693\")","v":"0662101693"},{"$f":"IFERROR(__xludf.DUMMYFUNCTION(\"\"\"COMPUTED_VALUE\"\"\"),\"PJ+PNJ\")","v":"PJ+PNJ"},{"$f":"IFERROR(__xludf.DUMMYFUNCTION(\"\"\"COMPUTED_VALUE\"\"\"),\"-\")","v":"-"},{"$f":"IFERROR(__xludf.DUMMYFUNCTION(\"\"\"COMPUTED_VALUE\"\"\"),\"Les deux\")","v":"Les deux"},{"$f":"IFERROR(__xludf.DUMMYFUNCTION(\"\"\"COMPUTED_VALUE\"\"\"),\"Navire et fort\")","v":"Navire et fort"},{"$f":"IFERROR(__xludf.DUMMYFUNCTION(\"\"\"COMPUTED_VALUE\"\"\"),\"OK\")","v":"OK"},{"$f":"IFERROR(__xludf.DUMMYFUNCTION(\"\"\"COMPUTED_VALUE\"\"\"),\"OK\")","v":"OK"},{"$f":"IFERROR(__xludf.DUMMYFUNCTION(\"\"\"COMPUTED_VALUE\"\"\"),\"septembre\")","v":"septembre"},{"$f":"IFERROR(__xludf.DUMMYFUNCTION(\"\"\"COMPUTED_VALUE\"\"\"),\"Navire & Fort\")","v":"Navire & Fort"},{"$f":"IFERROR(__xludf.DUMMYFUNCTION(\"\"\"COMPUTED_VALUE\"\"\"),400.0)","v":400},{"$f":"IFERROR(__xludf.DUMMYFUNCTION(\"\"\"COMPUTED_VALUE\"\"\"),\"PAF finalisée\")","v":"PAF finalisée"},{"$f":"IFERROR(__xludf.DUMMYFUNCTION(\"\"\"COMPUTED_VALUE\"\"\"),\"non reçue\")","v":"non reçue"},{"$f":"IFERROR(__xludf.DUMMYFUNCTION(\"\"\"COMPUTED_VALUE\"\"\"),\"R.A.S.\")","v":"R.A.S."},{"$f":"IFERROR(__xludf.DUMMYFUNCTION(\"\"\"COMPUTED_VALUE\"\"\"),\"samedi\")","v":"samedi"},{"$f":"IFERROR(__xludf.DUMMYFUNCTION(\"\"\"COMPUTED_VALUE\"\"\"),\"Reste\")","v":"Reste"}]
[{"$f":"IFERROR(__xludf.DUMMYFUNCTION(\"\"\"COMPUTED_VALUE\"\"\"),45558.0)","v":"2024-09-23"},{"$f":"IFERROR(__xludf.DUMMYFUNCTION(\"\"\"COMPUTED_VALUE\"\"\"),\"Supiot\")","v":"Supiot"},{"$f":"IFERROR(__xludf.DUMMYFUNCTION(\"\"\"COMPUTED_VALUE\"\"\"),\"Lara\")","v":"Lara"},{"$f":"IFERROR(__xludf.DUMMYFUNCTION(\"\"\"COMPUTED_VALUE\"\"\"),\"F\")","v":"F"},{"$f":"IFERROR(__xludf.DUMMYFUNCTION(\"\"\"COMPUTED_VALUE\"\"\"),134.0)","v":134},{"$f":"IFERROR(__xludf.DUMMYFUNCTION(\"\"\"COMPUTED_VALUE\"\"\"),\"larasupiot@gmail.com\")","v":"larasupiot@gmail.com"},{"$f":"IFERROR(__xludf.DUMMYFUNCTION(\"\"\"COMPUTED_VALUE\"\"\"),\"Lara Lambada\")","v":"Lara Lambada"},{"$f":"IFERROR(__xludf.DUMMYFUNCTION(\"\"\"COMPUTED_VALUE\"\"\"),\"670468778\")","v":"670468778"},{"$f":"IFERROR(__xludf.DUMMYFUNCTION(\"\"\"COMPUTED_VALUE\"\"\"),\"PJ+PNJ\")","v":"PJ+PNJ"},{"$f":"IFERROR(__xludf.DUMMYFUNCTION(\"\"\"COMPUTED_VALUE\"\"\"),\"-\")","v":"-"},{"$f":"IFERROR(__xludf.DUMMYFUNCTION(\"\"\"COMPUTED_VALUE\"\"\"),\"Les deux\")","v":"Les deux"},{"$f":"IFERROR(__xludf.DUMMYFUNCTION(\"\"\"COMPUTED_VALUE\"\"\"),\"Navire et fort\")","v":"Navire et fort"},{"$f":"IFERROR(__xludf.DUMMYFUNCTION(\"\"\"COMPUTED_VALUE\"\"\"),\"OK\")","v":"OK"},{"$f":"IFERROR(__xludf.DUMMYFUNCTION(\"\"\"COMPUTED_VALUE\"\"\"),\"OK\")","v":"OK"},{"$f":"IFERROR(__xludf.DUMMYFUNCTION(\"\"\"COMPUTED_VALUE\"\"\"),\"juin\")","v":"juin"},{"$f":"IFERROR(__xludf.DUMMYFUNCTION(\"\"\"COMPUTED_VALUE\"\"\"),\"Fort seulement\")","v":"Fort seulement"},{"$f":"IFERROR(__xludf.DUMMYFUNCTION(\"\"\"COMPUTED_VALUE\"\"\"),133.4)","v":133.4},{"$f":"IFERROR(__xludf.DUMMYFUNCTION(\"\"\"COMPUTED_VALUE\"\"\"),\"PAF partielle\")","v":"PAF partielle"},{"$f":"IFERROR(__xludf.DUMMYFUNCTION(\"\"\"COMPUTED_VALUE\"\"\"),\"non reçue\")","v":"non reçue"},{"$f":"IFERROR(__xludf.DUMMYFUNCTION(\"\"\"COMPUTED_VALUE\"\"\"),\"R.A.S.\")","v":"R.A.S."},{"$f":"IFERROR(__xludf.DUMMYFUNCTION(\"\"\"COMPUTED_VALUE\"\"\"),\"samedi\")","v":"samedi"},{"$f":"IFERROR(__xludf.DUMMYFUNCTION(\"\"\"COMPUTED_VALUE\"\"\"),\"Reste\")","v":"Reste"},{"$f":"IFERROR(__xludf.DUMMYFUNCTION(\"\"\"COMPUTED_VALUE\"\"\"),\"*\")","v":"*"}]
[{"$f":"IFERROR(__xludf.DUMMYFUNCTION(\"\"\"COMPUTED_VALUE\"\"\"),45560.0)","v":"2024-09-25"},{"$f":"IFERROR(__xludf.DUMMYFUNCTION(\"\"\"COMPUTED_VALUE\"\"\"),\"Réveil\")","v":"Réveil"},{"$f":"IFERROR(__xludf.DUMMYFUNCTION(\"\"\"COMPUTED_VALUE\"\"\"),\"Jean Carly\")","v":"Jean Carly"},{"$f":"IFERROR(__xludf.DUMMYFUNCTION(\"\"\"COMPUTED_VALUE\"\"\"),\"H\")","v":"H"},{"$f":"IFERROR(__xludf.DUMMYFUNCTION(\"\"\"COMPUTED_VALUE\"\"\"),28.0)","v":28},{"$f":"IFERROR(__xludf.DUMMYFUNCTION(\"\"\"COMPUTED_VALUE\"\"\"),\"cest.ticaly@gmail.com\")","v":"cest.ticaly@gmail.com"},{"$f":"IFERROR(__xludf.DUMMYFUNCTION(\"\"\"COMPUTED_VALUE\"\"\"),\"Carly Réveil\")","v":"Carly Réveil"},{"$f":"IFERROR(__xludf.DUMMYFUNCTION(\"\"\"COMPUTED_VALUE\"\"\"),\"+41782687980\")","v":"+41782687980"},{"$f":"IFERROR(__xludf.DUMMYFUNCTION(\"\"\"COMPUTED_VALUE\"\"\"),\"Pur PJ\")","v":"Pur PJ"},{"$f":"IFERROR(__xludf.DUMMYFUNCTION(\"\"\"COMPUTED_VALUE\"\"\"),\"-\")","v":"-"},{"$f":"IFERROR(__xludf.DUMMYFUNCTION(\"\"\"COMPUTED_VALUE\"\"\"),\"Les deux\")","v":"Les deux"},{"$f":"IFERROR(__xludf.DUMMYFUNCTION(\"\"\"COMPUTED_VALUE\"\"\"),\"Navire et fort\")","v":"Navire et fort"},{"$f":"IFERROR(__xludf.DUMMYFUNCTION(\"\"\"COMPUTED_VALUE\"\"\"),\"OK\")","v":"OK"},{"$f":"IFERROR(__xludf.DUMMYFUNCTION(\"\"\"COMPUTED_VALUE\"\"\"),\"OK\")","v":"OK"},{"$f":"IFERROR(__xludf.DUMMYFUNCTION(\"\"\"COMPUTED_VALUE\"\"\"),\"juin\")","v":"juin"},{"$f":"IFERROR(__xludf.DUMMYFUNCTION(\"\"\"COMPUTED_VALUE\"\"\"),\"Navire & Fort\")","v":"Navire & Fort"},{"$f":"IFERROR(__xludf.DUMMYFUNCTION(\"\"\"COMPUTED_VALUE\"\"\"),400.0)","v":400},{"$f":"IFERROR(__xludf.DUMMYFUNCTION(\"\"\"COMPUTED_VALUE\"\"\"),\"PAF finalisée\")","v":"PAF finalisée"},{"$f":"IFERROR(__xludf.DUMMYFUNCTION(\"\"\"COMPUTED_VALUE\"\"\"),\"non reçue\")","v":"non reçue"},{"$f":"IFERROR(__xludf.DUMMYFUNCTION(\"\"\"COMPUTED_VALUE\"\"\"),\"R.A.S.\")","v":"R.A.S."},{"$f":"IFERROR(__xludf.DUMMYFUNCTION(\"\"\"COMPUTED_VALUE\"\"\"),\"samedi\")","v":"samedi"},{"$f":"IFERROR(__xludf.DUMMYFUNCTION(\"\"\"COMPUTED_VALUE\"\"\"),\"Reste\")","v":"Reste"}]
[{"$f":"IFERROR(__xludf.DUMMYFUNCTION(\"\"\"COMPUTED_VALUE\"\"\"),45560.0)","v":"2024-09-25"},{"$f":"IFERROR(__xludf.DUMMYFUNCTION(\"\"\"COMPUTED_VALUE\"\"\"),\"PAYEN\")","v":"PAYEN"},{"$f":"IFERROR(__xludf.DUMMYFUNCTION(\"\"\"COMPUTED_VALUE\"\"\"),\"Renaud\")","v":"Renaud"},{"$f":"IFERROR(__xludf.DUMMYFUNCTION(\"\"\"COMPUTED_VALUE\"\"\"),\"H\")","v":"H"},{"$f":"IFERROR(__xludf.DUMMYFUNCTION(\"\"\"COMPUTED_VALUE\"\"\"),46.0)","v":46},{"$f":"IFERROR(__xludf.DUMMYFUNCTION(\"\"\"COMPUTED_VALUE\"\"\"),\"rpayen@outlook.com\")","v":"rpayen@outlook.com"},{"$f":"IFERROR(__xludf.DUMMYFUNCTION(\"\"\"COMPUTED_VALUE\"\"\"),\"Renaud PAYEN ou RenoPayen\")","v":"Renaud PAYEN ou RenoPayen"},null,{"$f":"IFERROR(__xludf.DUMMYFUNCTION(\"\"\"COMPUTED_VALUE\"\"\"),\"Pur PJ\")","v":"Pur PJ"},{"$f":"IFERROR(__xludf.DUMMYFUNCTION(\"\"\"COMPUTED_VALUE\"\"\"),\"-\")","v":"-"},{"$f":"IFERROR(__xludf.DUMMYFUNCTION(\"\"\"COMPUTED_VALUE\"\"\"),\"Les deux\")","v":"Les deux"},{"$f":"IFERROR(__xludf.DUMMYFUNCTION(\"\"\"COMPUTED_VALUE\"\"\"),\"Navire et fort\")","v":"Navire et fort"},{"$f":"IFERROR(__xludf.DUMMYFUNCTION(\"\"\"COMPUTED_VALUE\"\"\"),\"OK\")","v":"OK"},{"$f":"IFERROR(__xludf.DUMMYFUNCTION(\"\"\"COMPUTED_VALUE\"\"\"),\"OK\")","v":"OK"},{"$f":"IFERROR(__xludf.DUMMYFUNCTION(\"\"\"COMPUTED_VALUE\"\"\"),\"septembre\")","v":"septembre"},{"$f":"IFERROR(__xludf.DUMMYFUNCTION(\"\"\"COMPUTED_VALUE\"\"\"),\"Navire & Fort\")","v":"Navire & Fort"},{"$f":"IFERROR(__xludf.DUMMYFUNCTION(\"\"\"COMPUTED_VALUE\"\"\"),205.0)","v":205},{"$f":"IFERROR(__xludf.DUMMYFUNCTION(\"\"\"COMPUTED_VALUE\"\"\"),\"PAF partielle\")","v":"PAF partielle"},{"$f":"IFERROR(__xludf.DUMMYFUNCTION(\"\"\"COMPUTED_VALUE\"\"\"),\"non reçue\")","v":"non reçue"},{"$f":"IFERROR(__xludf.DUMMYFUNCTION(\"\"\"COMPUTED_VALUE\"\"\"),\"R.A.S.\")","v":"R.A.S."},{"$f":"IFERROR(__xludf.DUMMYFUNCTION(\"\"\"COMPUTED_VALUE\"\"\"),\"samedi\")","v":"samedi"},{"$f":"IFERROR(__xludf.DUMMYFUNCTION(\"\"\"COMPUTED_VALUE\"\"\"),\"Reste\")","v":"Reste"}]
[{"$f":"IFERROR(__xludf.DUMMYFUNCTION(\"\"\"COMPUTED_VALUE\"\"\"),45564.0)","v":"2024-09-29"},{"$f":"IFERROR(__xludf.DUMMYFUNCTION(\"\"\"COMPUTED_VALUE\"\"\"),\"Maury\")","v":"Maury"},{"$f":"IFERROR(__xludf.DUMMYFUNCTION(\"\"\"COMPUTED_VALUE\"\"\"),\"Aurélie\")","v":"Aurélie"},{"$f":"IFERROR(__xludf.DUMMYFUNCTION(\"\"\"COMPUTED_VALUE\"\"\"),\"F\")","v":"F"},{"$f":"IFERROR(__xludf.DUMMYFUNCTION(\"\"\"COMPUTED_VALUE\"\"\"),29.0)","v":29},{"$f":"IFERROR(__xludf.DUMMYFUNCTION(\"\"\"COMPUTED_VALUE\"\"\"),\"riedweg.aurelie@gmail.com\")","v":"riedweg.aurelie@gmail.com"},{"$f":"IFERROR(__xludf.DUMMYFUNCTION(\"\"\"COMPUTED_VALUE\"\"\"),\"Aurélie Riedweg\")","v":"Aurélie Riedweg"},{"$f":"IFERROR(__xludf.DUMMYFUNCTION(\"\"\"COMPUTED_VALUE\"\"\"),\"+41797681703\")","v":"+41797681703"},{"$f":"IFERROR(__xludf.DUMMYFUNCTION(\"\"\"COMPUTED_VALUE\"\"\"),\"Pur PJ\")","v":"Pur PJ"},{"$f":"IFERROR(__xludf.DUMMYFUNCTION(\"\"\"COMPUTED_VALUE\"\"\"),\"-\")","v":"-"},{"$f":"IFERROR(__xludf.DUMMYFUNCTION(\"\"\"COMPUTED_VALUE\"\"\"),\"juin\")","v":"juin"},{"$f":"IFERROR(__xludf.DUMMYFUNCTION(\"\"\"COMPUTED_VALUE\"\"\"),\"Navire et fort\")","v":"Navire et fort"},{"$f":"IFERROR(__xludf.DUMMYFUNCTION(\"\"\"COMPUTED_VALUE\"\"\"),\"OK\")","v":"OK"},{"$f":"IFERROR(__xludf.DUMMYFUNCTION(\"\"\"COMPUTED_VALUE\"\"\"),\"OK\")","v":"OK"},{"$f":"IFERROR(__xludf.DUMMYFUNCTION(\"\"\"COMPUTED_VALUE\"\"\"),\"juin\")","v":"juin"},{"$f":"IFERROR(__xludf.DUMMYFUNCTION(\"\"\"COMPUTED_VALUE\"\"\"),\"Navire & Fort\")","v":"Navire & Fort"},{"$f":"IFERROR(__xludf.DUMMYFUNCTION(\"\"\"COMPUTED_VALUE\"\"\"),800.0)","v":800},{"$f":"IFERROR(__xludf.DUMMYFUNCTION(\"\"\"COMPUTED_VALUE\"\"\"),\"PAF finalisée\")","v":"PAF finalisée"},{"$f":"IFERROR(__xludf.DUMMYFUNCTION(\"\"\"COMPUTED_VALUE\"\"\"),\"non reçue\")","v":"non reçue"},{"$f":"IFERROR(__xludf.DUMMYFUNCTION(\"\"\"COMPUTED_VALUE\"\"\"),\"R.A.S.\")","v":"R.A.S."},{"$f":"IFERROR(__xludf.DUMMYFUNCTION(\"\"\"COMPUTED_VALUE\"\"\"),\"samedi\")","v":"samedi"},{"$f":"IFERROR(__xludf.DUMMYFUNCTION(\"\"\"COMPUTED_VALUE\"\"\"),\"Reste\")","v":"Reste"}]
[{"$f":"IFERROR(__xludf.DUMMYFUNCTION(\"\"\"COMPUTED_VALUE\"\"\"),45564.0)","v":"2024-09-29"},{"$f":"IFERROR(__xludf.DUMMYFUNCTION(\"\"\"COMPUTED_VALUE\"\"\"),\"Maury\")","v":"Maury"},{"$f":"IFERROR(__xludf.DUMMYFUNCTION(\"\"\"COMPUTED_VALUE\"\"\"),\"Raphael\")","v":"Raphael"},{"$f":"IFERROR(__xludf.DUMMYFUNCTION(\"\"\"COMPUTED_VALUE\"\"\"),\"H\")","v":"H"},{"$f":"IFERROR(__xludf.DUMMYFUNCTION(\"\"\"COMPUTED_VALUE\"\"\"),33.0)","v":33},{"$f":"IFERROR(__xludf.DUMMYFUNCTION(\"\"\"COMPUTED_VALUE\"\"\"),\"raphael.maury@hotmail.com\")","v":"raphael.maury@hotmail.com"},{"$f":"IFERROR(__xludf.DUMMYFUNCTION(\"\"\"COMPUTED_VALUE\"\"\"),\"Raphu Scargo\")","v":"Raphu Scargo"},{"$f":"IFERROR(__xludf.DUMMYFUNCTION(\"\"\"COMPUTED_VALUE\"\"\"),\"+41 76 496 31 79\")","v":"+41 76 496 31 79"},{"$f":"IFERROR(__xludf.DUMMYFUNCTION(\"\"\"COMPUTED_VALUE\"\"\"),\"Pur PJ\")","v":"Pur PJ"},{"$f":"IFERROR(__xludf.DUMMYFUNCTION(\"\"\"COMPUTED_VALUE\"\"\"),\"-\")","v":"-"},{"$f":"IFERROR(__xludf.DUMMYFUNCTION(\"\"\"COMPUTED_VALUE\"\"\"),\"juin\")","v":"juin"},{"$f":"IFERROR(__xludf.DUMMYFUNCTION(\"\"\"COMPUTED_VALUE\"\"\"),\"Navire et fort\")","v":"Navire et fort"},{"$f":"IFERROR(__xludf.DUMMYFUNCTION(\"\"\"COMPUTED_VALUE\"\"\"),\"OK\")","v":"OK"},{"$f":"IFERROR(__xludf.DUMMYFUNCTION(\"\"\"COMPUTED_VALUE\"\"\"),\"OK\")","v":"OK"},{"$f":"IFERROR(__xludf.DUMMYFUNCTION(\"\"\"COMPUTED_VALUE\"\"\"),\"juin\")","v":"juin"},{"$f":"IFERROR(__xludf.DUMMYFUNCTION(\"\"\"COMPUTED_VALUE\"\"\"),\"Navire & Fort\")","v":"Navire & Fort"},{"$f":"IFERROR(__xludf.DUMMYFUNCTION(\"\"\"COMPUTED_VALUE\"\"\"),0.0)","v":0},{"$f":"IFERROR(__xludf.DUMMYFUNCTION(\"\"\"COMPUTED_VALUE\"\"\"),\"PAF finalisée\")","v":"PAF finalisée"},{"$f":"IFERROR(__xludf.DUMMYFUNCTION(\"\"\"COMPUTED_VALUE\"\"\"),\"non reçue\")","v":"non reçue"},{"$f":"IFERROR(__xludf.DUMMYFUNCTION(\"\"\"COMPUTED_VALUE\"\"\"),\"R.A.S.\")","v":"R.A.S."},{"$f":"IFERROR(__xludf.DUMMYFUNCTION(\"\"\"COMPUTED_VALUE\"\"\"),\"samedi\")","v":"samedi"},{"$f":"IFERROR(__xludf.DUMMYFUNCTION(\"\"\"COMPUTED_VALUE\"\"\"),\"Reste\")","v":"Reste"}]
[{"$f":"IFERROR(__xludf.DUMMYFUNCTION(\"\"\"COMPUTED_VALUE\"\"\"),45564.0)","v":"2024-09-29"},{"$f":"IFERROR(__xludf.DUMMYFUNCTION(\"\"\"COMPUTED_VALUE\"\"\"),\"DANCOT \")","v":"DANCOT "},{"$f":"IFERROR(__xludf.DUMMYFUNCTION(\"\"\"COMPUTED_VALUE\"\"\"),\"Olivier \")","v":"Olivier "},{"$f":"IFERROR(__xludf.DUMMYFUNCTION(\"\"\"COMPUTED_VALUE\"\"\"),\"H\")","v":"H"},{"$f":"IFERROR(__xludf.DUMMYFUNCTION(\"\"\"COMPUTED_VALUE\"\"\"),44.0)","v":44},{"$f":"IFERROR(__xludf.DUMMYFUNCTION(\"\"\"COMPUTED_VALUE\"\"\"),\"olivier.dancot@hotmail.fr\")","v":"olivier.dancot@hotmail.fr"},{"$f":"IFERROR(__xludf.DUMMYFUNCTION(\"\"\"COMPUTED_VALUE\"\"\"),\"Olivier d-t\")","v":"Olivier d-t"},{"$f":"IFERROR(__xludf.DUMMYFUNCTION(\"\"\"COMPUTED_VALUE\"\"\"),\"0625484900\")","v":"0625484900"},{"$f":"IFERROR(__xludf.DUMMYFUNCTION(\"\"\"COMPUTED_VALUE\"\"\"),\"PJ+PNJ\")","v":"PJ+PNJ"},{"$f":"IFERROR(__xludf.DUMMYFUNCTION(\"\"\"COMPUTED_VALUE\"\"\"),\"-\")","v":"-"},{"$f":"IFERROR(__xludf.DUMMYFUNCTION(\"\"\"COMPUTED_VALUE\"\"\"),\"juin\")","v":"juin"},{"$f":"IFERROR(__xludf.DUMMYFUNCTION(\"\"\"COMPUTED_VALUE\"\"\"),\"Navire et fort\")","v":"Navire et fort"},{"$f":"IFERROR(__xludf.DUMMYFUNCTION(\"\"\"COMPUTED_VALUE\"\"\"),\"OK\")","v":"OK"},{"$f":"IFERROR(__xludf.DUMMYFUNCTION(\"\"\"COMPUTED_VALUE\"\"\"),\"OK\")","v":"OK"},{"$f":"IFERROR(__xludf.DUMMYFUNCTION(\"\"\"COMPUTED_VALUE\"\"\"),\"juin\")","v":"juin"},{"$f":"IFERROR(__xludf.DUMMYFUNCTION(\"\"\"COMPUTED_VALUE\"\"\"),\"Navire & Fort\")","v":"Navire & Fort"},{"$f":"IFERROR(__xludf.DUMMYFUNCTION(\"\"\"COMPUTED_VALUE\"\"\"),267.0)","v":267},{"$f":"IFERROR(__xludf.DUMMYFUNCTION(\"\"\"COMPUTED_VALUE\"\"\"),\"PAF partielle\")","v":"PAF partielle"},{"$f":"IFERROR(__xludf.DUMMYFUNCTION(\"\"\"COMPUTED_VALUE\"\"\"),\"non reçue\")","v":"non reçue"},{"$f":"IFERROR(__xludf.DUMMYFUNCTION(\"\"\"COMPUTED_VALUE\"\"\"),\"R.A.S.\")","v":"R.A.S."},{"$f":"IFERROR(__xludf.DUMMYFUNCTION(\"\"\"COMPUTED_VALUE\"\"\"),\"samedi\")","v":"samedi"},{"$f":"IFERROR(__xludf.DUMMYFUNCTION(\"\"\"COMPUTED_VALUE\"\"\"),\"Reste\")","v":"Reste"}]
[{"$f":"IFERROR(__xludf.DUMMYFUNCTION(\"\"\"COMPUTED_VALUE\"\"\"),45564.0)","v":"2024-09-29"},{"$f":"IFERROR(__xludf.DUMMYFUNCTION(\"\"\"COMPUTED_VALUE\"\"\"),\"Schmid \")","v":"Schmid "},{"$f":"IFERROR(__xludf.DUMMYFUNCTION(\"\"\"COMPUTED_VALUE\"\"\"),\"Priscillia \")","v":"Priscillia "},{"$f":"IFERROR(__xludf.DUMMYFUNCTION(\"\"\"COMPUTED_VALUE\"\"\"),\"F\")","v":"F"},{"$f":"IFERROR(__xludf.DUMMYFUNCTION(\"\"\"COMPUTED_VALUE\"\"\"),38.0)","v":38},{"$f":"IFERROR(__xludf.DUMMYFUNCTION(\"\"\"COMPUTED_VALUE\"\"\"),\"richerpriscillia@gmail.com\")","v":"richerpriscillia@gmail.com"},{"$f":"IFERROR(__xludf.DUMMYFUNCTION(\"\"\"COMPUTED_VALUE\"\"\"),\"Priscillia Schmid \")","v":"Priscillia Schmid "},{"$f":"IFERROR(__xludf.DUMMYFUNCTION(\"\"\"COMPUTED_VALUE\"\"\"),\"0663055621\")","v":"0663055621"},{"$f":"IFERROR(__xludf.DUMMYFUNCTION(\"\"\"COMPUTED_VALUE\"\"\"),\"PJ+PNJ\")","v":"PJ+PNJ"},{"$f":"IFERROR(__xludf.DUMMYFUNCTION(\"\"\"COMPUTED_VALUE\"\"\"),\"-\")","v":"-"},{"$f":"IFERROR(__xludf.DUMMYFUNCTION(\"\"\"COMPUTED_VALUE\"\"\"),\"juin\")","v":"juin"},{"$f":"IFERROR(__xludf.DUMMYFUNCTION(\"\"\"COMPUTED_VALUE\"\"\"),\"Navire et fort\")","v":"Navire et fort"},{"$f":"IFERROR(__xludf.DUMMYFUNCTION(\"\"\"COMPUTED_VALUE\"\"\"),\"OK\")","v":"OK"},{"$f":"IFERROR(__xludf.DUMMYFUNCTION(\"\"\"COMPUTED_VALUE\"\"\"),\"OK\")","v":"OK"},{"$f":"IFERROR(__xludf.DUMMYFUNCTION(\"\"\"COMPUTED_VALUE\"\"\"),\"juin\")","v":"juin"},{"$f":"IFERROR(__xludf.DUMMYFUNCTION(\"\"\"COMPUTED_VALUE\"\"\"),\"Navire & Fort\")","v":"Navire & Fort"},{"$f":"IFERROR(__xludf.DUMMYFUNCTION(\"\"\"COMPUTED_VALUE\"\"\"),0.0)","v":0},{"$f":"IFERROR(__xludf.DUMMYFUNCTION(\"\"\"COMPUTED_VALUE\"\"\"),\"PAF partielle\")","v":"PAF partielle"},{"$f":"IFERROR(__xludf.DUMMYFUNCTION(\"\"\"COMPUTED_VALUE\"\"\"),\"non reçue\")","v":"non reçue"},{"$f":"IFERROR(__xludf.DUMMYFUNCTION(\"\"\"COMPUTED_VALUE\"\"\"),\"R.A.S.\")","v":"R.A.S."},{"$f":"IFERROR(__xludf.DUMMYFUNCTION(\"\"\"COMPUTED_VALUE\"\"\"),\"samedi\")","v":"samedi"},{"$f":"IFERROR(__xludf.DUMMYFUNCTION(\"\"\"COMPUTED_VALUE\"\"\"),\"Reste\")","v":"Reste"}]
[{"$f":"IFERROR(__xludf.DUMMYFUNCTION(\"\"\"COMPUTED_VALUE\"\"\"),45574.0)","v":"2024-10-09"},{"$f":"IFERROR(__xludf.DUMMYFUNCTION(\"\"\"COMPUTED_VALUE\"\"\"),\"Mérand\")","v":"Mérand"},{"$f":"IFERROR(__xludf.DUMMYFUNCTION(\"\"\"COMPUTED_VALUE\"\"\"),\"Nicolas\")","v":"Nicolas"},{"$f":"IFERROR(__xludf.DUMMYFUNCTION(\"\"\"COMPUTED_VALUE\"\"\"),\"H\")","v":"H"},{"$f":"IFERROR(__xludf.DUMMYFUNCTION(\"\"\"COMPUTED_VALUE\"\"\"),47.0)","v":47},{"$f":"IFERROR(__xludf.DUMMYFUNCTION(\"\"\"COMPUTED_VALUE\"\"\"),\"hillgrob@hotmail.com\")","v":"hillgrob@hotmail.com"},{"$f":"IFERROR(__xludf.DUMMYFUNCTION(\"\"\"COMPUTED_VALUE\"\"\"),\"Nicolas Mérand\")","v":"Nicolas Mérand"},{"$f":"IFERROR(__xludf.DUMMYFUNCTION(\"\"\"COMPUTED_VALUE\"\"\"),\"0623412629\")","v":"0623412629"},{"$f":"IFERROR(__xludf.DUMMYFUNCTION(\"\"\"COMPUTED_VALUE\"\"\"),\"Pur PJ\")","v":"Pur PJ"},{"$f":"IFERROR(__xludf.DUMMYFUNCTION(\"\"\"COMPUTED_VALUE\"\"\"),\"-\")","v":"-"},{"$f":"IFERROR(__xludf.DUMMYFUNCTION(\"\"\"COMPUTED_VALUE\"\"\"),\"juin\")","v":"juin"},{"$f":"IFERROR(__xludf.DUMMYFUNCTION(\"\"\"COMPUTED_VALUE\"\"\"),\"Navire et fort\")","v":"Navire et fort"},{"$f":"IFERROR(__xludf.DUMMYFUNCTION(\"\"\"COMPUTED_VALUE\"\"\"),\"OK\")","v":"OK"},{"$f":"IFERROR(__xludf.DUMMYFUNCTION(\"\"\"COMPUTED_VALUE\"\"\"),\"OK\")","v":"OK"},{"$f":"IFERROR(__xludf.DUMMYFUNCTION(\"\"\"COMPUTED_VALUE\"\"\"),\"juin\")","v":"juin"},{"$f":"IFERROR(__xludf.DUMMYFUNCTION(\"\"\"COMPUTED_VALUE\"\"\"),\"Navire & Fort\")","v":"Navire & Fort"},{"$f":"IFERROR(__xludf.DUMMYFUNCTION(\"\"\"COMPUTED_VALUE\"\"\"),400.0)","v":400},{"$f":"IFERROR(__xludf.DUMMYFUNCTION(\"\"\"COMPUTED_VALUE\"\"\"),\"PAF finalisée\")","v":"PAF finalisée"},{"$f":"IFERROR(__xludf.DUMMYFUNCTION(\"\"\"COMPUTED_VALUE\"\"\"),\"non reçue\")","v":"non reçue"},{"$f":"IFERROR(__xludf.DUMMYFUNCTION(\"\"\"COMPUTED_VALUE\"\"\"),\"R.A.S.\")","v":"R.A.S."},{"$f":"IFERROR(__xludf.DUMMYFUNCTION(\"\"\"COMPUTED_VALUE\"\"\"),\"samedi\")","v":"samedi"},{"$f":"IFERROR(__xludf.DUMMYFUNCTION(\"\"\"COMPUTED_VALUE\"\"\"),\"Reste\")","v":"Reste"}]
[{"$f":"IFERROR(__xludf.DUMMYFUNCTION(\"\"\"COMPUTED_VALUE\"\"\"),45576.0)","v":"2024-10-11"},{"$f":"IFERROR(__xludf.DUMMYFUNCTION(\"\"\"COMPUTED_VALUE\"\"\"),\"Garcia-Cotte\")","v":"Garcia-Cotte"},{"$f":"IFERROR(__xludf.DUMMYFUNCTION(\"\"\"COMPUTED_VALUE\"\"\"),\"Hugo\")","v":"Hugo"},{"$f":"IFERROR(__xludf.DUMMYFUNCTION(\"\"\"COMPUTED_VALUE\"\"\"),\"H\")","v":"H"},{"$f":"IFERROR(__xludf.DUMMYFUNCTION(\"\"\"COMPUTED_VALUE\"\"\"),37.0)","v":37},{"$f":"IFERROR(__xludf.DUMMYFUNCTION(\"\"\"COMPUTED_VALUE\"\"\"),\"hugo@garcia-cotte.com\")","v":"hugo@garcia-cotte.com"},{"$f":"IFERROR(__xludf.DUMMYFUNCTION(\"\"\"COMPUTED_VALUE\"\"\"),\"Hugo Garcia-Cotte\")","v":"Hugo Garcia-Cotte"},{"$f":"IFERROR(__xludf.DUMMYFUNCTION(\"\"\"COMPUTED_VALUE\"\"\"),\"+33698964090\")","v":"+33698964090"},{"$f":"IFERROR(__xludf.DUMMYFUNCTION(\"\"\"COMPUTED_VALUE\"\"\"),\"PJ+PNJ\")","v":"PJ+PNJ"},{"$f":"IFERROR(__xludf.DUMMYFUNCTION(\"\"\"COMPUTED_VALUE\"\"\"),\"-\")","v":"-"},{"$f":"IFERROR(__xludf.DUMMYFUNCTION(\"\"\"COMPUTED_VALUE\"\"\"),\"Les deux\")","v":"Les deux"},{"$f":"IFERROR(__xludf.DUMMYFUNCTION(\"\"\"COMPUTED_VALUE\"\"\"),\"Navire et fort\")","v":"Navire et fort"},{"$f":"IFERROR(__xludf.DUMMYFUNCTION(\"\"\"COMPUTED_VALUE\"\"\"),\"OK\")","v":"OK"},{"$f":"IFERROR(__xludf.DUMMYFUNCTION(\"\"\"COMPUTED_VALUE\"\"\"),\"OK\")","v":"OK"},{"$f":"IFERROR(__xludf.DUMMYFUNCTION(\"\"\"COMPUTED_VALUE\"\"\"),\"septembre\")","v":"septembre"},{"$f":"IFERROR(__xludf.DUMMYFUNCTION(\"\"\"COMPUTED_VALUE\"\"\"),\"Navire & Fort\")","v":"Navire & Fort"},{"$f":"IFERROR(__xludf.DUMMYFUNCTION(\"\"\"COMPUTED_VALUE\"\"\"),133.5)","v":133.5},{"$f":"IFERROR(__xludf.DUMMYFUNCTION(\"\"\"COMPUTED_VALUE\"\"\"),\"PAF partielle + erreur\")","v":"PAF partielle + erreur"},{"$f":"IFERROR(__xludf.DUMMYFUNCTION(\"\"\"COMPUTED_VALUE\"\"\"),\"non reçue\")","v":"non reçue"},{"$f":"IFERROR(__xludf.DUMMYFUNCTION(\"\"\"COMPUTED_VALUE\"\"\"),\"R.A.S.\")","v":"R.A.S."},{"$f":"IFERROR(__xludf.DUMMYFUNCTION(\"\"\"COMPUTED_VALUE\"\"\"),\"samedi\")","v":"samedi"},{"$f":"IFERROR(__xludf.DUMMYFUNCTION(\"\"\"COMPUTED_VALUE\"\"\"),\"Reste\")","v":"Reste"}]
[{"$f":"IFERROR(__xludf.DUMMYFUNCTION(\"\"\"COMPUTED_VALUE\"\"\"),45576.0)","v":"2024-10-11"},{"$f":"IFERROR(__xludf.DUMMYFUNCTION(\"\"\"COMPUTED_VALUE\"\"\"),\"Secher\")","v":"Secher"},{"$f":"IFERROR(__xludf.DUMMYFUNCTION(\"\"\"COMPUTED_VALUE\"\"\"),\"Gaël\")","v":"Gaël"},{"$f":"IFERROR(__xludf.DUMMYFUNCTION(\"\"\"COMPUTED_VALUE\"\"\"),\"H\")","v":"H"},{"$f":"IFERROR(__xludf.DUMMYFUNCTION(\"\"\"COMPUTED_VALUE\"\"\"),30.0)","v":30},{"$f":"IFERROR(__xludf.DUMMYFUNCTION(\"\"\"COMPUTED_VALUE\"\"\"),\"maitre-chaos@hotmail.fr\")","v":"maitre-chaos@hotmail.fr"},{"$f":"IFERROR(__xludf.DUMMYFUNCTION(\"\"\"COMPUTED_VALUE\"\"\"),\"Sikna Kaosu\")","v":"Sikna Kaosu"},{"$f":"IFERROR(__xludf.DUMMYFUNCTION(\"\"\"COMPUTED_VALUE\"\"\"),\"0637877378\")","v":"0637877378"},{"$f":"IFERROR(__xludf.DUMMYFUNCTION(\"\"\"COMPUTED_VALUE\"\"\"),\"PJ+PNJ\")","v":"PJ+PNJ"},{"$f":"IFERROR(__xludf.DUMMYFUNCTION(\"\"\"COMPUTED_VALUE\"\"\"),\"-\")","v":"-"},{"$f":"IFERROR(__xludf.DUMMYFUNCTION(\"\"\"COMPUTED_VALUE\"\"\"),\"Les deux\")","v":"Les deux"},{"$f":"IFERROR(__xludf.DUMMYFUNCTION(\"\"\"COMPUTED_VALUE\"\"\"),\"Navire et fort\")","v":"Navire et fort"},{"$f":"IFERROR(__xludf.DUMMYFUNCTION(\"\"\"COMPUTED_VALUE\"\"\"),\"OK\")","v":"OK"},{"$f":"IFERROR(__xludf.DUMMYFUNCTION(\"\"\"COMPUTED_VALUE\"\"\"),\"OK\")","v":"OK"},{"$f":"IFERROR(__xludf.DUMMYFUNCTION(\"\"\"COMPUTED_VALUE\"\"\"),\"juin\")","v":"juin"},{"$f":"IFERROR(__xludf.DUMMYFUNCTION(\"\"\"COMPUTED_VALUE\"\"\"),\"Navire & Fort\")","v":"Navire & Fort"},{"$f":"IFERROR(__xludf.DUMMYFUNCTION(\"\"\"COMPUTED_VALUE\"\"\"),400.0)","v":400},{"$f":"IFERROR(__xludf.DUMMYFUNCTION(\"\"\"COMPUTED_VALUE\"\"\"),\"PAF finalisée\")","v":"PAF finalisée"},{"$f":"IFERROR(__xludf.DUMMYFUNCTION(\"\"\"COMPUTED_VALUE\"\"\"),\"non reçue\")","v":"non reçue"},{"$f":"IFERROR(__xludf.DUMMYFUNCTION(\"\"\"COMPUTED_VALUE\"\"\"),\"R.A.S.\")","v":"R.A.S."},{"$f":"IFERROR(__xludf.DUMMYFUNCTION(\"\"\"COMPUTED_VALUE\"\"\"),\"samedi\")","v":"samedi"},{"$f":"IFERROR(__xludf.DUMMYFUNCTION(\"\"\"COMPUTED_VALUE\"\"\"),\"Reste\")","v":"Reste"}]
[{"$f":"IFERROR(__xludf.DUMMYFUNCTION(\"\"\"COMPUTED_VALUE\"\"\"),45577.0)","v":"2024-10-12"},{"$f":"IFERROR(__xludf.DUMMYFUNCTION(\"\"\"COMPUTED_VALUE\"\"\"),\"Chojnicki\")","v":"Chojnicki"},{"$f":"IFERROR(__xludf.DUMMYFUNCTION(\"\"\"COMPUTED_VALUE\"\"\"),\"Solenn\")","v":"Solenn"},{"$f":"IFERROR(__xludf.DUMMYFUNCTION(\"\"\"COMPUTED_VALUE\"\"\"),\"F\")","v":"F"},null,{"$f":"IFERROR(__xludf.DUMMYFUNCTION(\"\"\"COMPUTED_VALUE\"\"\"),\"solenn.chojnicki@gmail.com\")","v":"solenn.chojnicki@gmail.com"},{"$f":"IFERROR(__xludf.DUMMYFUNCTION(\"\"\"COMPUTED_VALUE\"\"\"),\"Solenn Soho\")","v":"Solenn Soho"},{"$f":"IFERROR(__xludf.DUMMYFUNCTION(\"\"\"COMPUTED_VALUE\"\"\"),\"0664300187\")","v":"0664300187"},{"$f":"IFERROR(__xludf.DUMMYFUNCTION(\"\"\"COMPUTED_VALUE\"\"\"),\"PJ+PNJ\")","v":"PJ+PNJ"},{"$f":"IFERROR(__xludf.DUMMYFUNCTION(\"\"\"COMPUTED_VALUE\"\"\"),\"-\")","v":"-"},{"$f":"IFERROR(__xludf.DUMMYFUNCTION(\"\"\"COMPUTED_VALUE\"\"\"),\"juin\")","v":"juin"},{"$f":"IFERROR(__xludf.DUMMYFUNCTION(\"\"\"COMPUTED_VALUE\"\"\"),\"Navire et fort\")","v":"Navire et fort"},{"$f":"IFERROR(__xludf.DUMMYFUNCTION(\"\"\"COMPUTED_VALUE\"\"\"),\"OK\")","v":"OK"},{"$f":"IFERROR(__xludf.DUMMYFUNCTION(\"\"\"COMPUTED_VALUE\"\"\"),\"OK\")","v":"OK"},{"$f":"IFERROR(__xludf.DUMMYFUNCTION(\"\"\"COMPUTED_VALUE\"\"\"),\"juin\")","v":"juin"},{"$f":"IFERROR(__xludf.DUMMYFUNCTION(\"\"\"COMPUTED_VALUE\"\"\"),\"Navire & Fort\")","v":"Navire & Fort"},{"$f":"IFERROR(__xludf.DUMMYFUNCTION(\"\"\"COMPUTED_VALUE\"\"\"),0.0)","v":0},{"$f":"IFERROR(__xludf.DUMMYFUNCTION(\"\"\"COMPUTED_VALUE\"\"\"),\"PAF partielle\")","v":"PAF partielle"},{"$f":"IFERROR(__xludf.DUMMYFUNCTION(\"\"\"COMPUTED_VALUE\"\"\"),\"non reçue\")","v":"non reçue"},{"$f":"IFERROR(__xludf.DUMMYFUNCTION(\"\"\"COMPUTED_VALUE\"\"\"),\"R.A.S.\")","v":"R.A.S."},{"$f":"IFERROR(__xludf.DUMMYFUNCTION(\"\"\"COMPUTED_VALUE\"\"\"),\"samedi\")","v":"samedi"},{"$f":"IFERROR(__xludf.DUMMYFUNCTION(\"\"\"COMPUTED_VALUE\"\"\"),\"NON\")","v":"NON"}]
[{"$f":"IFERROR(__xludf.DUMMYFUNCTION(\"\"\"COMPUTED_VALUE\"\"\"),45577.0)","v":"2024-10-12"},{"$f":"IFERROR(__xludf.DUMMYFUNCTION(\"\"\"COMPUTED_VALUE\"\"\"),\"Carpentier \")","v":"Carpentier "},{"$f":"IFERROR(__xludf.DUMMYFUNCTION(\"\"\"COMPUTED_VALUE\"\"\"),\"Guillaume \")","v":"Guillaume "},{"$f":"IFERROR(__xludf.DUMMYFUNCTION(\"\"\"COMPUTED_VALUE\"\"\"),\"H\")","v":"H"},{"$f":"IFERROR(__xludf.DUMMYFUNCTION(\"\"\"COMPUTED_VALUE\"\"\"),32.0)","v":32},{"$f":"IFERROR(__xludf.DUMMYFUNCTION(\"\"\"COMPUTED_VALUE\"\"\"),\"guillaume.surflife@gmail.com\")","v":"guillaume.surflife@gmail.com"},{"$f":"IFERROR(__xludf.DUMMYFUNCTION(\"\"\"COMPUTED_VALUE\"\"\"),\"Guillaume Carpentier \")","v":"Guillaume Carpentier "},{"$f":"IFERROR(__xludf.DUMMYFUNCTION(\"\"\"COMPUTED_VALUE\"\"\"),\"0670134925\")","v":"0670134925"},{"$f":"IFERROR(__xludf.DUMMYFUNCTION(\"\"\"COMPUTED_VALUE\"\"\"),\"PJ+PNJ\")","v":"PJ+PNJ"},{"$f":"IFERROR(__xludf.DUMMYFUNCTION(\"\"\"COMPUTED_VALUE\"\"\"),\"-\")","v":"-"},{"$f":"IFERROR(__xludf.DUMMYFUNCTION(\"\"\"COMPUTED_VALUE\"\"\"),\"juin\")","v":"juin"},{"$f":"IFERROR(__xludf.DUMMYFUNCTION(\"\"\"COMPUTED_VALUE\"\"\"),\"Navire et fort\")","v":"Navire et fort"},{"$f":"IFERROR(__xludf.DUMMYFUNCTION(\"\"\"COMPUTED_VALUE\"\"\"),\"OK\")","v":"OK"},{"$f":"IFERROR(__xludf.DUMMYFUNCTION(\"\"\"COMPUTED_VALUE\"\"\"),\"OK\")","v":"OK"},{"$f":"IFERROR(__xludf.DUMMYFUNCTION(\"\"\"COMPUTED_VALUE\"\"\"),\"juin\")","v":"juin"},{"$f":"IFERROR(__xludf.DUMMYFUNCTION(\"\"\"COMPUTED_VALUE\"\"\"),\"Navire & Fort\")","v":"Navire & Fort"},{"$f":"IFERROR(__xludf.DUMMYFUNCTION(\"\"\"COMPUTED_VALUE\"\"\"),267.0)","v":267},{"$f":"IFERROR(__xludf.DUMMYFUNCTION(\"\"\"COMPUTED_VALUE\"\"\"),\"PAF partielle\")","v":"PAF partielle"},{"$f":"IFERROR(__xludf.DUMMYFUNCTION(\"\"\"COMPUTED_VALUE\"\"\"),\"non reçue\")","v":"non reçue"},{"$f":"IFERROR(__xludf.DUMMYFUNCTION(\"\"\"COMPUTED_VALUE\"\"\"),\"R.A.S.\")","v":"R.A.S."},{"$f":"IFERROR(__xludf.DUMMYFUNCTION(\"\"\"COMPUTED_VALUE\"\"\"),\"samedi\")","v":"samedi"},{"$f":"IFERROR(__xludf.DUMMYFUNCTION(\"\"\"COMPUTED_VALUE\"\"\"),\"Reste\")","v":"Reste"}]
[{"$f":"IFERROR(__xludf.DUMMYFUNCTION(\"\"\"COMPUTED_VALUE\"\"\"),45581.0)","v":"2024-10-16"},{"$f":"IFERROR(__xludf.DUMMYFUNCTION(\"\"\"COMPUTED_VALUE\"\"\"),\"Whittaker\")","v":"Whittaker"},{"$f":"IFERROR(__xludf.DUMMYFUNCTION(\"\"\"COMPUTED_VALUE\"\"\"),\"Isabelle\")","v":"Isabelle"},{"$f":"IFERROR(__xludf.DUMMYFUNCTION(\"\"\"COMPUTED_VALUE\"\"\"),\"F\")","v":"F"},{"$f":"IFERROR(__xludf.DUMMYFUNCTION(\"\"\"COMPUTED_VALUE\"\"\"),37.0)","v":37},{"$f":"IFERROR(__xludf.DUMMYFUNCTION(\"\"\"COMPUTED_VALUE\"\"\"),\"isabelle.whittaker@gmail.com\")","v":"isabelle.whittaker@gmail.com"},{"$f":"IFERROR(__xludf.DUMMYFUNCTION(\"\"\"COMPUTED_VALUE\"\"\"),\"Isabelle Whittaker\")","v":"Isabelle Whittaker"},{"$f":"IFERROR(__xludf.DUMMYFUNCTION(\"\"\"COMPUTED_VALUE\"\"\"),\"0786144580\")","v":"0786144580"},{"$f":"IFERROR(__xludf.DUMMYFUNCTION(\"\"\"COMPUTED_VALUE\"\"\"),\"Pur PJ\")","v":"Pur PJ"},{"$f":"IFERROR(__xludf.DUMMYFUNCTION(\"\"\"COMPUTED_VALUE\"\"\"),\"-\")","v":"-"},{"$f":"IFERROR(__xludf.DUMMYFUNCTION(\"\"\"COMPUTED_VALUE\"\"\"),\"juin\")","v":"juin"},{"$f":"IFERROR(__xludf.DUMMYFUNCTION(\"\"\"COMPUTED_VALUE\"\"\"),\"Peu importe\")","v":"Peu importe"},{"$f":"IFERROR(__xludf.DUMMYFUNCTION(\"\"\"COMPUTED_VALUE\"\"\"),\"OK\")","v":"OK"},{"$f":"IFERROR(__xludf.DUMMYFUNCTION(\"\"\"COMPUTED_VALUE\"\"\"),\"OK\")","v":"OK"},{"$f":"IFERROR(__xludf.DUMMYFUNCTION(\"\"\"COMPUTED_VALUE\"\"\"),\"septembre\")","v":"septembre"},{"$f":"IFERROR(__xludf.DUMMYFUNCTION(\"\"\"COMPUTED_VALUE\"\"\"),\"Navire & Fort\")","v":"Navire & Fort"},null,{"$f":"IFERROR(__xludf.DUMMYFUNCTION(\"\"\"COMPUTED_VALUE\"\"\"),\"PAF non reçue\")","v":"PAF non reçue"},{"$f":"IFERROR(__xludf.DUMMYFUNCTION(\"\"\"COMPUTED_VALUE\"\"\"),\"non reçue\")","v":"non reçue"},{"$f":"IFERROR(__xludf.DUMMYFUNCTION(\"\"\"COMPUTED_VALUE\"\"\"),\"R.A.S.\")","v":"R.A.S."},{"$f":"IFERROR(__xludf.DUMMYFUNCTION(\"\"\"COMPUTED_VALUE\"\"\"),\"samedi\")","v":"samedi"},{"$f":"IFERROR(__xludf.DUMMYFUNCTION(\"\"\"COMPUTED_VALUE\"\"\"),\"Reste\")","v":"Reste"}]
[{"$f":"IFERROR(__xludf.DUMMYFUNCTION(\"\"\"COMPUTED_VALUE\"\"\"),45585.0)","v":"2024-10-20"},{"$f":"IFERROR(__xludf.DUMMYFUNCTION(\"\"\"COMPUTED_VALUE\"\"\"),\"Petitdemange\")","v":"Petitdemange"},{"$f":"IFERROR(__xludf.DUMMYFUNCTION(\"\"\"COMPUTED_VALUE\"\"\"),\"Floriane\")","v":"Floriane"},{"$f":"IFERROR(__xludf.DUMMYFUNCTION(\"\"\"COMPUTED_VALUE\"\"\"),\"F\")","v":"F"},{"$f":"IFERROR(__xludf.DUMMYFUNCTION(\"\"\"COMPUTED_VALUE\"\"\"),36.0)","v":36},{"$f":"IFERROR(__xludf.DUMMYFUNCTION(\"\"\"COMPUTED_VALUE\"\"\"),\"floriane.petitdemange@gmail.com\")","v":"floriane.petitdemange@gmail.com"},{"$f":"IFERROR(__xludf.DUMMYFUNCTION(\"\"\"COMPUTED_VALUE\"\"\"),\"Floriane Senami\")","v":"Floriane Senami"},{"$f":"IFERROR(__xludf.DUMMYFUNCTION(\"\"\"COMPUTED_VALUE\"\"\"),\"06.02.36.57.68.\")","v":"06.02.36.57.68."},{"$f":"IFERROR(__xludf.DUMMYFUNCTION(\"\"\"COMPUTED_VALUE\"\"\"),\"Pur PJ\")","v":"Pur PJ"},{"$f":"IFERROR(__xludf.DUMMYFUNCTION(\"\"\"COMPUTED_VALUE\"\"\"),\"-\")","v":"-"},{"$f":"IFERROR(__xludf.DUMMYFUNCTION(\"\"\"COMPUTED_VALUE\"\"\"),\"Les deux\")","v":"Les deux"},{"$f":"IFERROR(__xludf.DUMMYFUNCTION(\"\"\"COMPUTED_VALUE\"\"\"),\"Navire et fort\")","v":"Navire et fort"},{"$f":"IFERROR(__xludf.DUMMYFUNCTION(\"\"\"COMPUTED_VALUE\"\"\"),\"OK\")","v":"OK"},{"$f":"IFERROR(__xludf.DUMMYFUNCTION(\"\"\"COMPUTED_VALUE\"\"\"),\"OK\")","v":"OK"},{"$f":"IFERROR(__xludf.DUMMYFUNCTION(\"\"\"COMPUTED_VALUE\"\"\"),\"septembre\")","v":"septembre"},{"$f":"IFERROR(__xludf.DUMMYFUNCTION(\"\"\"COMPUTED_VALUE\"\"\"),\"Navire & Fort\")","v":"Navire & Fort"},null,{"$f":"IFERROR(__xludf.DUMMYFUNCTION(\"\"\"COMPUTED_VALUE\"\"\"),\"PAF non reçue\")","v":"PAF non reçue"},{"$f":"IFERROR(__xludf.DUMMYFUNCTION(\"\"\"COMPUTED_VALUE\"\"\"),\"non reçue\")","v":"non reçue"},{"$f":"IFERROR(__xludf.DUMMYFUNCTION(\"\"\"COMPUTED_VALUE\"\"\"),\"R.A.S.\")","v":"R.A.S."},{"$f":"IFERROR(__xludf.DUMMYFUNCTION(\"\"\"COMPUTED_VALUE\"\"\"),\"samedi\")","v":"samedi"},{"$f":"IFERROR(__xludf.DUMMYFUNCTION(\"\"\"COMPUTED_VALUE\"\"\"),\"Reste\")","v":"Reste"}]
[{"$f":"IFERROR(__xludf.DUMMYFUNCTION(\"\"\"COMPUTED_VALUE\"\"\"),45585.0)","v":"2024-10-20"},{"$f":"IFERROR(__xludf.DUMMYFUNCTION(\"\"\"COMPUTED_VALUE\"\"\"),\"Stoltz \")","v":"Stoltz "},{"$f":"IFERROR(__xludf.DUMMYFUNCTION(\"\"\"COMPUTED_VALUE\"\"\"),\"Charline\")","v":"Charline"},{"$f":"IFERROR(__xludf.DUMMYFUNCTION(\"\"\"COMPUTED_VALUE\"\"\"),\"F\")","v":"F"},{"$f":"IFERROR(__xludf.DUMMYFUNCTION(\"\"\"COMPUTED_VALUE\"\"\"),34.0)","v":34},{"$f":"IFERROR(__xludf.DUMMYFUNCTION(\"\"\"COMPUTED_VALUE\"\"\"),\"charline.stoltz@gmail.com\")","v":"charline.stoltz@gmail.com"},{"$f":"IFERROR(__xludf.DUMMYFUNCTION(\"\"\"COMPUTED_VALUE\"\"\"),\"Charline Sltz\")","v":"Charline Sltz"},{"$f":"IFERROR(__xludf.DUMMYFUNCTION(\"\"\"COMPUTED_VALUE\"\"\"),\"0687014130\")","v":"0687014130"},{"$f":"IFERROR(__xludf.DUMMYFUNCTION(\"\"\"COMPUTED_VALUE\"\"\"),\"Pur PJ\")","v":"Pur PJ"},{"$f":"IFERROR(__xludf.DUMMYFUNCTION(\"\"\"COMPUTED_VALUE\"\"\"),\"-\")","v":"-"},{"$f":"IFERROR(__xludf.DUMMYFUNCTION(\"\"\"COMPUTED_VALUE\"\"\"),\"Les deux\")","v":"Les deux"},{"$f":"IFERROR(__xludf.DUMMYFUNCTION(\"\"\"COMPUTED_VALUE\"\"\"),\"Navire et fort\")","v":"Navire et fort"},{"$f":"IFERROR(__xludf.DUMMYFUNCTION(\"\"\"COMPUTED_VALUE\"\"\"),\"OK\")","v":"OK"},{"$f":"IFERROR(__xludf.DUMMYFUNCTION(\"\"\"COMPUTED_VALUE\"\"\"),\"OK\")","v":"OK"},{"$f":"IFERROR(__xludf.DUMMYFUNCTION(\"\"\"COMPUTED_VALUE\"\"\"),\"septembre\")","v":"septembre"},{"$f":"IFERROR(__xludf.DUMMYFUNCTION(\"\"\"COMPUTED_VALUE\"\"\"),\"Navire & Fort\")","v":"Navire & Fort"},{"$f":"IFERROR(__xludf.DUMMYFUNCTION(\"\"\"COMPUTED_VALUE\"\"\"),400.0)","v":400},{"$f":"IFERROR(__xludf.DUMMYFUNCTION(\"\"\"COMPUTED_VALUE\"\"\"),\"PAF finalisée\")","v":"PAF finalisée"},{"$f":"IFERROR(__xludf.DUMMYFUNCTION(\"\"\"COMPUTED_VALUE\"\"\"),\"non reçue\")","v":"non reçue"},{"$f":"IFERROR(__xludf.DUMMYFUNCTION(\"\"\"COMPUTED_VALUE\"\"\"),\"R.A.S.\")","v":"R.A.S."},{"$f":"IFERROR(__xludf.DUMMYFUNCTION(\"\"\"COMPUTED_VALUE\"\"\"),\"samedi\")","v":"samedi"},{"$f":"IFERROR(__xludf.DUMMYFUNCTION(\"\"\"COMPUTED_VALUE\"\"\"),\"Reste\")","v":"Reste"}]
[{"$f":"IFERROR(__xludf.DUMMYFUNCTION(\"\"\"COMPUTED_VALUE\"\"\"),45586.0)","v":"2024-10-21"},{"$f":"IFERROR(__xludf.DUMMYFUNCTION(\"\"\"COMPUTED_VALUE\"\"\"),\"Gutierrez\")","v":"Gutierrez"},{"$f":"IFERROR(__xludf.DUMMYFUNCTION(\"\"\"COMPUTED_VALUE\"\"\"),\"Jeremy\")","v":"Jeremy"},{"$f":"IFERROR(__xludf.DUMMYFUNCTION(\"\"\"COMPUTED_VALUE\"\"\"),\"H\")","v":"H"},{"$f":"IFERROR(__xludf.DUMMYFUNCTION(\"\"\"COMPUTED_VALUE\"\"\"),30.0)","v":30},{"$f":"IFERROR(__xludf.DUMMYFUNCTION(\"\"\"COMPUTED_VALUE\"\"\"),\"jeremy.gutierrez.pharma@gmail.com\")","v":"jeremy.gutierrez.pharma@gmail.com"},{"$f":"IFERROR(__xludf.DUMMYFUNCTION(\"\"\"COMPUTED_VALUE\"\"\"),\"Jereùy Gutiairré'z\")","v":"Jereùy Gutiairré'z"},{"$f":"IFERROR(__xludf.DUMMYFUNCTION(\"\"\"COMPUTED_VALUE\"\"\"),\"0633788347\")","v":"0633788347"},{"$f":"IFERROR(__xludf.DUMMYFUNCTION(\"\"\"COMPUTED_VALUE\"\"\"),\"Pur PJ\")","v":"Pur PJ"},{"$f":"IFERROR(__xludf.DUMMYFUNCTION(\"\"\"COMPUTED_VALUE\"\"\"),\"-\")","v":"-"},{"$f":"IFERROR(__xludf.DUMMYFUNCTION(\"\"\"COMPUTED_VALUE\"\"\"),\"Les deux\")","v":"Les deux"},{"$f":"IFERROR(__xludf.DUMMYFUNCTION(\"\"\"COMPUTED_VALUE\"\"\"),\"Seulement au fort\")","v":"Seulement au fort"},{"$f":"IFERROR(__xludf.DUMMYFUNCTION(\"\"\"COMPUTED_VALUE\"\"\"),\"OK\")","v":"OK"},{"$f":"IFERROR(__xludf.DUMMYFUNCTION(\"\"\"COMPUTED_VALUE\"\"\"),\"OK\")","v":"OK"},{"$f":"IFERROR(__xludf.DUMMYFUNCTION(\"\"\"COMPUTED_VALUE\"\"\"),\"septembre\")","v":"septembre"},{"$f":"IFERROR(__xludf.DUMMYFUNCTION(\"\"\"COMPUTED_VALUE\"\"\"),\"Navire & Fort\")","v":"Navire & Fort"},{"$f":"IFERROR(__xludf.DUMMYFUNCTION(\"\"\"COMPUTED_VALUE\"\"\"),400.0)","v":400},{"$f":"IFERROR(__xludf.DUMMYFUNCTION(\"\"\"COMPUTED_VALUE\"\"\"),\"PAF finalisée\")","v":"PAF finalisée"},{"$f":"IFERROR(__xludf.DUMMYFUNCTION(\"\"\"COMPUTED_VALUE\"\"\"),\"non reçue\")","v":"non reçue"},{"$f":"IFERROR(__xludf.DUMMYFUNCTION(\"\"\"COMPUTED_VALUE\"\"\"),\"R.A.S.\")","v":"R.A.S."},{"$f":"IFERROR(__xludf.DUMMYFUNCTION(\"\"\"COMPUTED_VALUE\"\"\"),\"samedi\")","v":"samedi"},{"$f":"IFERROR(__xludf.DUMMYFUNCTION(\"\"\"COMPUTED_VALUE\"\"\"),\"Reste\")","v":"Reste"}]
[{"$f":"IFERROR(__xludf.DUMMYFUNCTION(\"\"\"COMPUTED_VALUE\"\"\"),45586.0)","v":"2024-10-21"},{"$f":"IFERROR(__xludf.DUMMYFUNCTION(\"\"\"COMPUTED_VALUE\"\"\"),\"FLAMMANN\")","v":"FLAMMANN"},{"$f":"IFERROR(__xludf.DUMMYFUNCTION(\"\"\"COMPUTED_VALUE\"\"\"),\"Sasha\")","v":"Sasha"},{"$f":"IFERROR(__xludf.DUMMYFUNCTION(\"\"\"COMPUTED_VALUE\"\"\"),\"H\")","v":"H"},{"$f":"IFERROR(__xludf.DUMMYFUNCTION(\"\"\"COMPUTED_VALUE\"\"\"),30.0)","v":30},{"$f":"IFERROR(__xludf.DUMMYFUNCTION(\"\"\"COMPUTED_VALUE\"\"\"),\"sasha.flammann@gmail.com\")","v":"sasha.flammann@gmail.com"},{"$f":"IFERROR(__xludf.DUMMYFUNCTION(\"\"\"COMPUTED_VALUE\"\"\"),\"Sasha WAELES\")","v":"Sasha WAELES"},{"$f":"IFERROR(__xludf.DUMMYFUNCTION(\"\"\"COMPUTED_VALUE\"\"\"),\"0659086247\")","v":"0659086247"},{"$f":"IFERROR(__xludf.DUMMYFUNCTION(\"\"\"COMPUTED_VALUE\"\"\"),\"PJ+PNJ\")","v":"PJ+PNJ"},{"$f":"IFERROR(__xludf.DUMMYFUNCTION(\"\"\"COMPUTED_VALUE\"\"\"),\"-\")","v":"-"},{"$f":"IFERROR(__xludf.DUMMYFUNCTION(\"\"\"COMPUTED_VALUE\"\"\"),\"Les deux\")","v":"Les deux"},{"$f":"IFERROR(__xludf.DUMMYFUNCTION(\"\"\"COMPUTED_VALUE\"\"\"),\"Navire et fort\")","v":"Navire et fort"},{"$f":"IFERROR(__xludf.DUMMYFUNCTION(\"\"\"COMPUTED_VALUE\"\"\"),\"OK\")","v":"OK"},{"$f":"IFERROR(__xludf.DUMMYFUNCTION(\"\"\"COMPUTED_VALUE\"\"\"),\"OK\")","v":"OK"},{"$f":"IFERROR(__xludf.DUMMYFUNCTION(\"\"\"COMPUTED_VALUE\"\"\"),\"septembre\")","v":"septembre"},{"$f":"IFERROR(__xludf.DUMMYFUNCTION(\"\"\"COMPUTED_VALUE\"\"\"),\"Navire & Fort\")","v":"Navire & Fort"},{"$f":"IFERROR(__xludf.DUMMYFUNCTION(\"\"\"COMPUTED_VALUE\"\"\"),400.0)","v":400},{"$f":"IFERROR(__xludf.DUMMYFUNCTION(\"\"\"COMPUTED_VALUE\"\"\"),\"PAF finalisée\")","v":"PAF finalisée"},{"$f":"IFERROR(__xludf.DUMMYFUNCTION(\"\"\"COMPUTED_VALUE\"\"\"),\"non reçue\")","v":"non reçue"},{"$f":"IFERROR(__xludf.DUMMYFUNCTION(\"\"\"COMPUTED_VALUE\"\"\"),\"R.A.S.\")","v":"R.A.S."},{"$f":"IFERROR(__xludf.DUMMYFUNCTION(\"\"\"COMPUTED_VALUE\"\"\"),\"samedi\")","v":"samedi"},{"$f":"IFERROR(__xludf.DUMMYFUNCTION(\"\"\"COMPUTED_VALUE\"\"\"),\"Reste\")","v":"Reste"}]
[{"$f":"IFERROR(__xludf.DUMMYFUNCTION(\"\"\"COMPUTED_VALUE\"\"\"),45588.0)","v":"2024-10-23"},{"$f":"IFERROR(__xludf.DUMMYFUNCTION(\"\"\"COMPUTED_VALUE\"\"\"),\"FAR\")","v":"FAR"},{"$f":"IFERROR(__xludf.DUMMYFUNCTION(\"\"\"COMPUTED_VALUE\"\"\"),\"William\")","v":"William"},{"$f":"IFERROR(__xludf.DUMMYFUNCTION(\"\"\"COMPUTED_VALUE\"\"\"),\"H\")","v":"H"},{"$f":"IFERROR(__xludf.DUMMYFUNCTION(\"\"\"COMPUTED_VALUE\"\"\"),31.0)","v":31},{"$f":"IFERROR(__xludf.DUMMYFUNCTION(\"\"\"COMPUTED_VALUE\"\"\"),\"william.daniel.far@gmail.com\")","v":"william.daniel.far@gmail.com"},{"$f":"IFERROR(__xludf.DUMMYFUNCTION(\"\"\"COMPUTED_VALUE\"\"\"),\"William FAR\")","v":"William FAR"},{"$f":"IFERROR(__xludf.DUMMYFUNCTION(\"\"\"COMPUTED_VALUE\"\"\"),\"0681330259\")","v":"0681330259"},{"$f":"IFERROR(__xludf.DUMMYFUNCTION(\"\"\"COMPUTED_VALUE\"\"\"),\"Pur PJ\")","v":"Pur PJ"},{"$f":"IFERROR(__xludf.DUMMYFUNCTION(\"\"\"COMPUTED_VALUE\"\"\"),\"-\")","v":"-"},{"$f":"IFERROR(__xludf.DUMMYFUNCTION(\"\"\"COMPUTED_VALUE\"\"\"),\"Non précisé\")","v":"Non précisé"},{"$f":"IFERROR(__xludf.DUMMYFUNCTION(\"\"\"COMPUTED_VALUE\"\"\"),\"Navire et fort\")","v":"Navire et fort"},{"$f":"IFERROR(__xludf.DUMMYFUNCTION(\"\"\"COMPUTED_VALUE\"\"\"),\"OK\")","v":"OK"},{"$f":"IFERROR(__xludf.DUMMYFUNCTION(\"\"\"COMPUTED_VALUE\"\"\"),\"OK\")","v":"OK"},{"$f":"IFERROR(__xludf.DUMMYFUNCTION(\"\"\"COMPUTED_VALUE\"\"\"),\"septembre\")","v":"septembre"},{"$f":"IFERROR(__xludf.DUMMYFUNCTION(\"\"\"COMPUTED_VALUE\"\"\"),\"Navire & Fort\")","v":"Navire & Fort"},{"$f":"IFERROR(__xludf.DUMMYFUNCTION(\"\"\"COMPUTED_VALUE\"\"\"),133.5)","v":133.5},{"$f":"IFERROR(__xludf.DUMMYFUNCTION(\"\"\"COMPUTED_VALUE\"\"\"),\"PAF partielle\")","v":"PAF partielle"},{"$f":"IFERROR(__xludf.DUMMYFUNCTION(\"\"\"COMPUTED_VALUE\"\"\"),\"non reçue\")","v":"non reçue"},{"$f":"IFERROR(__xludf.DUMMYFUNCTION(\"\"\"COMPUTED_VALUE\"\"\"),\"R.A.S.\")","v":"R.A.S."},{"$f":"IFERROR(__xludf.DUMMYFUNCTION(\"\"\"COMPUTED_VALUE\"\"\"),\"samedi\")","v":"samedi"},{"$f":"IFERROR(__xludf.DUMMYFUNCTION(\"\"\"COMPUTED_VALUE\"\"\"),\"Reste\")","v":"Reste"}]
[{"$f":"IFERROR(__xludf.DUMMYFUNCTION(\"\"\"COMPUTED_VALUE\"\"\"),45596.0)","v":"2024-10-31"},{"$f":"IFERROR(__xludf.DUMMYFUNCTION(\"\"\"COMPUTED_VALUE\"\"\"),\"Gresset\")","v":"Gresset"},{"$f":"IFERROR(__xludf.DUMMYFUNCTION(\"\"\"COMPUTED_VALUE\"\"\"),\"Véronique \")","v":"Véronique "},{"$f":"IFERROR(__xludf.DUMMYFUNCTION(\"\"\"COMPUTED_VALUE\"\"\"),\"F\")","v":"F"},{"$f":"IFERROR(__xludf.DUMMYFUNCTION(\"\"\"COMPUTED_VALUE\"\"\"),56.0)","v":56},{"$f":"IFERROR(__xludf.DUMMYFUNCTION(\"\"\"COMPUTED_VALUE\"\"\"),\"veronique.gresset@gmail.com\")","v":"veronique.gresset@gmail.com"},{"$f":"IFERROR(__xludf.DUMMYFUNCTION(\"\"\"COMPUTED_VALUE\"\"\"),\"charlottesurlenet\")","v":"charlottesurlenet"},{"$f":"IFERROR(__xludf.DUMMYFUNCTION(\"\"\"COMPUTED_VALUE\"\"\"),\"0783736968\")","v":"0783736968"},{"$f":"IFERROR(__xludf.DUMMYFUNCTION(\"\"\"COMPUTED_VALUE\"\"\"),\"Pur PJ\")","v":"Pur PJ"},{"$f":"IFERROR(__xludf.DUMMYFUNCTION(\"\"\"COMPUTED_VALUE\"\"\"),\"-\")","v":"-"},{"$f":"IFERROR(__xludf.DUMMYFUNCTION(\"\"\"COMPUTED_VALUE\"\"\"),\"septembre\")","v":"septembre"},{"$f":"IFERROR(__xludf.DUMMYFUNCTION(\"\"\"COMPUTED_VALUE\"\"\"),\"Seulement au fort\")","v":"Seulement au fort"},{"$f":"IFERROR(__xludf.DUMMYFUNCTION(\"\"\"COMPUTED_VALUE\"\"\"),\"OK\")","v":"OK"},{"$f":"IFERROR(__xludf.DUMMYFUNCTION(\"\"\"COMPUTED_VALUE\"\"\"),\"OK\")","v":"OK"},{"$f":"IFERROR(__xludf.DUMMYFUNCTION(\"\"\"COMPUTED_VALUE\"\"\"),\"septembre\")","v":"septembre"},{"$f":"IFERROR(__xludf.DUMMYFUNCTION(\"\"\"COMPUTED_VALUE\"\"\"),\"Fort seulement\")","v":"Fort seulement"},null,{"$f":"IFERROR(__xludf.DUMMYFUNCTION(\"\"\"COMPUTED_VALUE\"\"\"),\"PAF non reçue\")","v":"PAF non reçue"},{"$f":"IFERROR(__xludf.DUMMYFUNCTION(\"\"\"COMPUTED_VALUE\"\"\"),\"non reçue\")","v":"non reçue"},{"$f":"IFERROR(__xludf.DUMMYFUNCTION(\"\"\"COMPUTED_VALUE\"\"\"),\"R.A.S.\")","v":"R.A.S."},{"$f":"IFERROR(__xludf.DUMMYFUNCTION(\"\"\"COMPUTED_VALUE\"\"\"),\"samedi\")","v":"samedi"},{"$f":"IFERROR(__xludf.DUMMYFUNCTION(\"\"\"COMPUTED_VALUE\"\"\"),\"Reste\")","v":"Reste"}]
[{"$f":"IFERROR(__xludf.DUMMYFUNCTION(\"\"\"COMPUTED_VALUE\"\"\"),45597.0)","v":"2024-11-01"},{"$f":"IFERROR(__xludf.DUMMYFUNCTION(\"\"\"COMPUTED_VALUE\"\"\"),\"Ortalo\")","v":"Ortalo"},{"$f":"IFERROR(__xludf.DUMMYFUNCTION(\"\"\"COMPUTED_VALUE\"\"\"),\"Pierre\")","v":"Pierre"},{"$f":"IFERROR(__xludf.DUMMYFUNCTION(\"\"\"COMPUTED_VALUE\"\"\"),\"H\")","v":"H"},{"$f":"IFERROR(__xludf.DUMMYFUNCTION(\"\"\"COMPUTED_VALUE\"\"\"),34.0)","v":34},{"$f":"IFERROR(__xludf.DUMMYFUNCTION(\"\"\"COMPUTED_VALUE\"\"\"),\"pierre@yuzupulse.eu\")","v":"pierre@yuzupulse.eu"},{"$f":"IFERROR(__xludf.DUMMYFUNCTION(\"\"\"COMPUTED_VALUE\"\"\"),\"Pierre ortalo\")","v":"Pierre ortalo"},null,{"$f":"IFERROR(__xludf.DUMMYFUNCTION(\"\"\"COMPUTED_VALUE\"\"\"),\"PJ+PNJ\")","v":"PJ+PNJ"},{"$f":"IFERROR(__xludf.DUMMYFUNCTION(\"\"\"COMPUTED_VALUE\"\"\"),\"-\")","v":"-"},{"$f":"IFERROR(__xludf.DUMMYFUNCTION(\"\"\"COMPUTED_VALUE\"\"\"),\"Les deux\")","v":"Les deux"},{"$f":"IFERROR(__xludf.DUMMYFUNCTION(\"\"\"COMPUTED_VALUE\"\"\"),\"Navire et fort\")","v":"Navire et fort"},{"$f":"IFERROR(__xludf.DUMMYFUNCTION(\"\"\"COMPUTED_VALUE\"\"\"),\"OK\")","v":"OK"},{"$f":"IFERROR(__xludf.DUMMYFUNCTION(\"\"\"COMPUTED_VALUE\"\"\"),\"OK\")","v":"OK"},{"$f":"IFERROR(__xludf.DUMMYFUNCTION(\"\"\"COMPUTED_VALUE\"\"\"),\"septembre\")","v":"septembre"},{"$f":"IFERROR(__xludf.DUMMYFUNCTION(\"\"\"COMPUTED_VALUE\"\"\"),\"Navire & Fort\")","v":"Navire & Fort"},{"$f":"IFERROR(__xludf.DUMMYFUNCTION(\"\"\"COMPUTED_VALUE\"\"\"),400.0)","v":400},{"$f":"IFERROR(__xludf.DUMMYFUNCTION(\"\"\"COMPUTED_VALUE\"\"\"),\"PAF finalisée\")","v":"PAF finalisée"},{"$f":"IFERROR(__xludf.DUMMYFUNCTION(\"\"\"COMPUTED_VALUE\"\"\"),\"non reçue\")","v":"non reçue"},{"$f":"IFERROR(__xludf.DUMMYFUNCTION(\"\"\"COMPUTED_VALUE\"\"\"),\"R.A.S.\")","v":"R.A.S."},{"$f":"IFERROR(__xludf.DUMMYFUNCTION(\"\"\"COMPUTED_VALUE\"\"\"),\"samedi\")","v":"samedi"},{"$f":"IFERROR(__xludf.DUMMYFUNCTION(\"\"\"COMPUTED_VALUE\"\"\"),\"Reste\")","v":"Reste"}]
[{"$f":"IFERROR(__xludf.DUMMYFUNCTION(\"\"\"COMPUTED_VALUE\"\"\"),45605.0)","v":"2024-11-09"},{"$f":"IFERROR(__xludf.DUMMYFUNCTION(\"\"\"COMPUTED_VALUE\"\"\"),\"Garros\")","v":"Garros"},{"$f":"IFERROR(__xludf.DUMMYFUNCTION(\"\"\"COMPUTED_VALUE\"\"\"),\"Alban\")","v":"Alban"},{"$f":"IFERROR(__xludf.DUMMYFUNCTION(\"\"\"COMPUTED_VALUE\"\"\"),\"H\")","v":"H"},{"$f":"IFERROR(__xludf.DUMMYFUNCTION(\"\"\"COMPUTED_VALUE\"\"\"),38.0)","v":38},{"$f":"IFERROR(__xludf.DUMMYFUNCTION(\"\"\"COMPUTED_VALUE\"\"\"),\"alban.garros@gmail.com\")","v":"alban.garros@gmail.com"},{"$f":"IFERROR(__xludf.DUMMYFUNCTION(\"\"\"COMPUTED_VALUE\"\"\"),\"Greffier Vicious Soul\")","v":"Greffier Vicious Soul"},{"$f":"IFERROR(__xludf.DUMMYFUNCTION(\"\"\"COMPUTED_VALUE\"\"\"),\"0686285280\")","v":"0686285280"},{"$f":"IFERROR(__xludf.DUMMYFUNCTION(\"\"\"COMPUTED_VALUE\"\"\"),\"PJ+PNJ\")","v":"PJ+PNJ"},{"$f":"IFERROR(__xludf.DUMMYFUNCTION(\"\"\"COMPUTED_VALUE\"\"\"),\"-\")","v":"-"},{"$f":"IFERROR(__xludf.DUMMYFUNCTION(\"\"\"COMPUTED_VALUE\"\"\"),\"septembre\")","v":"septembre"},{"$f":"IFERROR(__xludf.DUMMYFUNCTION(\"\"\"COMPUTED_VALUE\"\"\"),\"Peu importe\")","v":"Peu importe"},{"$f":"IFERROR(__xludf.DUMMYFUNCTION(\"\"\"COMPUTED_VALUE\"\"\"),\"OK\")","v":"OK"},{"$f":"IFERROR(__xludf.DUMMYFUNCTION(\"\"\"COMPUTED_VALUE\"\"\"),\"OK\")","v":"OK"},{"$f":"IFERROR(__xludf.DUMMYFUNCTION(\"\"\"COMPUTED_VALUE\"\"\"),\"septembre\")","v":"septembre"},{"$f":"IFERROR(__xludf.DUMMYFUNCTION(\"\"\"COMPUTED_VALUE\"\"\"),\"Navire & Fort\")","v":"Navire & Fort"},{"$f":"IFERROR(__xludf.DUMMYFUNCTION(\"\"\"COMPUTED_VALUE\"\"\"),400.0)","v":400},{"$f":"IFERROR(__xludf.DUMMYFUNCTION(\"\"\"COMPUTED_VALUE\"\"\"),\"PAF finalisée\")","v":"PAF finalisée"},{"$f":"IFERROR(__xludf.DUMMYFUNCTION(\"\"\"COMPUTED_VALUE\"\"\"),\"non reçue\")","v":"non reçue"},{"$f":"IFERROR(__xludf.DUMMYFUNCTION(\"\"\"COMPUTED_VALUE\"\"\"),\"R.A.S.\")","v":"R.A.S."},{"$f":"IFERROR(__xludf.DUMMYFUNCTION(\"\"\"COMPUTED_VALUE\"\"\"),\"samedi\")","v":"samedi"},{"$f":"IFERROR(__xludf.DUMMYFUNCTION(\"\"\"COMPUTED_VALUE\"\"\"),\"Reste\")","v":"Reste"}]
[{"$f":"IFERROR(__xludf.DUMMYFUNCTION(\"\"\"COMPUTED_VALUE\"\"\"),45613.0)","v":"2024-11-17"},{"$f":"IFERROR(__xludf.DUMMYFUNCTION(\"\"\"COMPUTED_VALUE\"\"\"),\"quintero y perez\")","v":"quintero y perez"},{"$f":"IFERROR(__xludf.DUMMYFUNCTION(\"\"\"COMPUTED_VALUE\"\"\"),\"Flori\")","v":"Flori"},{"$f":"IFERROR(__xludf.DUMMYFUNCTION(\"\"\"COMPUTED_VALUE\"\"\"),\"F\")","v":"F"},{"$f":"IFERROR(__xludf.DUMMYFUNCTION(\"\"\"COMPUTED_VALUE\"\"\"),42.0)","v":42},{"$f":"IFERROR(__xludf.DUMMYFUNCTION(\"\"\"COMPUTED_VALUE\"\"\"),\"florieveillon@hotmail.fr\")","v":"florieveillon@hotmail.fr"},{"$f":"IFERROR(__xludf.DUMMYFUNCTION(\"\"\"COMPUTED_VALUE\"\"\"),\"Florie BackTo TheBeat \")","v":"Florie BackTo TheBeat "},{"$f":"IFERROR(__xludf.DUMMYFUNCTION(\"\"\"COMPUTED_VALUE\"\"\"),\"0642989902\")","v":"0642989902"},{"$f":"IFERROR(__xludf.DUMMYFUNCTION(\"\"\"COMPUTED_VALUE\"\"\"),\"PJ+PNJ\")","v":"PJ+PNJ"},{"$f":"IFERROR(__xludf.DUMMYFUNCTION(\"\"\"COMPUTED_VALUE\"\"\"),\"-\")","v":"-"},{"$f":"IFERROR(__xludf.DUMMYFUNCTION(\"\"\"COMPUTED_VALUE\"\"\"),\"Les deux\")","v":"Les deux"},{"$f":"IFERROR(__xludf.DUMMYFUNCTION(\"\"\"COMPUTED_VALUE\"\"\"),\"Seulement au fort\")","v":"Seulement au fort"},{"$f":"IFERROR(__xludf.DUMMYFUNCTION(\"\"\"COMPUTED_VALUE\"\"\"),\"OK\")","v":"OK"},{"$f":"IFERROR(__xludf.DUMMYFUNCTION(\"\"\"COMPUTED_VALUE\"\"\"),\"OK\")","v":"OK"},{"$f":"IFERROR(__xludf.DUMMYFUNCTION(\"\"\"COMPUTED_VALUE\"\"\"),\"juin\")","v":"juin"},{"$f":"IFERROR(__xludf.DUMMYFUNCTION(\"\"\"COMPUTED_VALUE\"\"\"),\"Fort seulement\")","v":"Fort seulement"},{"$f":"IFERROR(__xludf.DUMMYFUNCTION(\"\"\"COMPUTED_VALUE\"\"\"),200.0)","v":200},{"$f":"IFERROR(__xludf.DUMMYFUNCTION(\"\"\"COMPUTED_VALUE\"\"\"),\"PAF finalisée\")","v":"PAF finalisée"},{"$f":"IFERROR(__xludf.DUMMYFUNCTION(\"\"\"COMPUTED_VALUE\"\"\"),\"reçue\")","v":"reçue"},{"$f":"IFERROR(__xludf.DUMMYFUNCTION(\"\"\"COMPUTED_VALUE\"\"\"),\"R.A.S.\")","v":"R.A.S."},{"$f":"IFERROR(__xludf.DUMMYFUNCTION(\"\"\"COMPUTED_VALUE\"\"\"),\"samedi\")","v":"samedi"},{"$f":"IFERROR(__xludf.DUMMYFUNCTION(\"\"\"COMPUTED_VALUE\"\"\"),\"Reste\")","v":"Reste"}]
[{"$f":"IFERROR(__xludf.DUMMYFUNCTION(\"\"\"COMPUTED_VALUE\"\"\"),45617.0)","v":"2024-11-21"},{"$f":"IFERROR(__xludf.DUMMYFUNCTION(\"\"\"COMPUTED_VALUE\"\"\"),\"Trémoulière\")","v":"Trémoulière"},{"$f":"IFERROR(__xludf.DUMMYFUNCTION(\"\"\"COMPUTED_VALUE\"\"\"),\"Claire\")","v":"Claire"},{"$f":"IFERROR(__xludf.DUMMYFUNCTION(\"\"\"COMPUTED_VALUE\"\"\"),\"F\")","v":"F"},{"$f":"IFERROR(__xludf.DUMMYFUNCTION(\"\"\"COMPUTED_VALUE\"\"\"),30.0)","v":30},{"$f":"IFERROR(__xludf.DUMMYFUNCTION(\"\"\"COMPUTED_VALUE\"\"\"),\"claire.tremouliere@gmail.com\")","v":"claire.tremouliere@gmail.com"},{"$f":"IFERROR(__xludf.DUMMYFUNCTION(\"\"\"COMPUTED_VALUE\"\"\"),\"Claire Trml\")","v":"Claire Trml"},{"$f":"IFERROR(__xludf.DUMMYFUNCTION(\"\"\"COMPUTED_VALUE\"\"\"),\"0647932215\")","v":"0647932215"},{"$f":"IFERROR(__xludf.DUMMYFUNCTION(\"\"\"COMPUTED_VALUE\"\"\"),\"Pur PJ\")","v":"Pur PJ"},{"$f":"IFERROR(__xludf.DUMMYFUNCTION(\"\"\"COMPUTED_VALUE\"\"\"),\"-\")","v":"-"},{"$f":"IFERROR(__xludf.DUMMYFUNCTION(\"\"\"COMPUTED_VALUE\"\"\"),\"septembre\")","v":"septembre"},{"$f":"IFERROR(__xludf.DUMMYFUNCTION(\"\"\"COMPUTED_VALUE\"\"\"),\"Seulement au fort\")","v":"Seulement au fort"},{"$f":"IFERROR(__xludf.DUMMYFUNCTION(\"\"\"COMPUTED_VALUE\"\"\"),\"OK\")","v":"OK"},{"$f":"IFERROR(__xludf.DUMMYFUNCTION(\"\"\"COMPUTED_VALUE\"\"\"),\"OK\")","v":"OK"},{"$f":"IFERROR(__xludf.DUMMYFUNCTION(\"\"\"COMPUTED_VALUE\"\"\"),\"septembre\")","v":"septembre"},{"$f":"IFERROR(__xludf.DUMMYFUNCTION(\"\"\"COMPUTED_VALUE\"\"\"),\"Fort seulement\")","v":"Fort seulement"},null,{"$f":"IFERROR(__xludf.DUMMYFUNCTION(\"\"\"COMPUTED_VALUE\"\"\"),\"PAF non reçue\")","v":"PAF non reçue"},{"$f":"IFERROR(__xludf.DUMMYFUNCTION(\"\"\"COMPUTED_VALUE\"\"\"),\"non reçue\")","v":"non reçue"},{"$f":"IFERROR(__xludf.DUMMYFUNCTION(\"\"\"COMPUTED_VALUE\"\"\"),\"R.A.S.\")","v":"R.A.S."},{"$f":"IFERROR(__xludf.DUMMYFUNCTION(\"\"\"COMPUTED_VALUE\"\"\"),\"samedi\")","v":"samedi"},{"$f":"IFERROR(__xludf.DUMMYFUNCTION(\"\"\"COMPUTED_VALUE\"\"\"),\"Reste\")","v":"Reste"}]
[{"$f":"IFERROR(__xludf.DUMMYFUNCTION(\"\"\"COMPUTED_VALUE\"\"\"),45618.0)","v":"2024-11-22"},{"$f":"IFERROR(__xludf.DUMMYFUNCTION(\"\"\"COMPUTED_VALUE\"\"\"),\"Fustec\")","v":"Fustec"},{"$f":"IFERROR(__xludf.DUMMYFUNCTION(\"\"\"COMPUTED_VALUE\"\"\"),\"Timothée\")","v":"Timothée"},{"$f":"IFERROR(__xludf.DUMMYFUNCTION(\"\"\"COMPUTED_VALUE\"\"\"),\"H\")","v":"H"},{"$f":"IFERROR(__xludf.DUMMYFUNCTION(\"\"\"COMPUTED_VALUE\"\"\"),31.0)","v":31},{"$f":"IFERROR(__xludf.DUMMYFUNCTION(\"\"\"COMPUTED_VALUE\"\"\"),\"timothee.fustec@gmail.com\")","v":"timothee.fustec@gmail.com"},{"$f":"IFERROR(__xludf.DUMMYFUNCTION(\"\"\"COMPUTED_VALUE\"\"\"),\"L'Homme À Tentacules\")","v":"L'Homme À Tentacules"},{"$f":"IFERROR(__xludf.DUMMYFUNCTION(\"\"\"COMPUTED_VALUE\"\"\"),\"0679313968\")","v":"0679313968"},{"$f":"IFERROR(__xludf.DUMMYFUNCTION(\"\"\"COMPUTED_VALUE\"\"\"),\"PJ+PNJ\")","v":"PJ+PNJ"},{"$f":"IFERROR(__xludf.DUMMYFUNCTION(\"\"\"COMPUTED_VALUE\"\"\"),\"-\")","v":"-"},{"$f":"IFERROR(__xludf.DUMMYFUNCTION(\"\"\"COMPUTED_VALUE\"\"\"),\"septembre\")","v":"septembre"},{"$f":"IFERROR(__xludf.DUMMYFUNCTION(\"\"\"COMPUTED_VALUE\"\"\"),\"Peu importe\")","v":"Peu importe"},{"$f":"IFERROR(__xludf.DUMMYFUNCTION(\"\"\"COMPUTED_VALUE\"\"\"),\"OK\")","v":"OK"},{"$f":"IFERROR(__xludf.DUMMYFUNCTION(\"\"\"COMPUTED_VALUE\"\"\"),\"OK\")","v":"OK"},{"$f":"IFERROR(__xludf.DUMMYFUNCTION(\"\"\"COMPUTED_VALUE\"\"\"),\"septembre\")","v":"septembre"},{"$f":"IFERROR(__xludf.DUMMYFUNCTION(\"\"\"COMPUTED_VALUE\"\"\"),\"Fort seulement\")","v":"Fort seulement"},null,{"$f":"IFERROR(__xludf.DUMMYFUNCTION(\"\"\"COMPUTED_VALUE\"\"\"),\"PAF non reçue\")","v":"PAF non reçue"},{"$f":"IFERROR(__xludf.DUMMYFUNCTION(\"\"\"COMPUTED_VALUE\"\"\"),\"non reçue\")","v":"non reçue"},{"$f":"IFERROR(__xludf.DUMMYFUNCTION(\"\"\"COMPUTED_VALUE\"\"\"),\"R.A.S.\")","v":"R.A.S."},{"$f":"IFERROR(__xludf.DUMMYFUNCTION(\"\"\"COMPUTED_VALUE\"\"\"),\"samedi\")","v":"samedi"},{"$f":"IFERROR(__xludf.DUMMYFUNCTION(\"\"\"COMPUTED_VALUE\"\"\"),\"Reste\")","v":"Reste"}]
[{"$f":"IFERROR(__xludf.DUMMYFUNCTION(\"\"\"COMPUTED_VALUE\"\"\"),45642.0)","v":"2024-12-16"},{"$f":"IFERROR(__xludf.DUMMYFUNCTION(\"\"\"COMPUTED_VALUE\"\"\"),\"Tallon\")","v":"Tallon"},{"$f":"IFERROR(__xludf.DUMMYFUNCTION(\"\"\"COMPUTED_VALUE\"\"\"),\"Anais (Anya)\")","v":"Anais (Anya)"},{"$f":"IFERROR(__xludf.DUMMYFUNCTION(\"\"\"COMPUTED_VALUE\"\"\"),\"F\")","v":"F"},{"$f":"IFERROR(__xludf.DUMMYFUNCTION(\"\"\"COMPUTED_VALUE\"\"\"),32.0)","v":32},{"$f":"IFERROR(__xludf.DUMMYFUNCTION(\"\"\"COMPUTED_VALUE\"\"\"),\"anya.tallon@gmail.com\")","v":"anya.tallon@gmail.com"},{"$f":"IFERROR(__xludf.DUMMYFUNCTION(\"\"\"COMPUTED_VALUE\"\"\"),\"Pas de FB\")","v":"Pas de FB"},{"$f":"IFERROR(__xludf.DUMMYFUNCTION(\"\"\"COMPUTED_VALUE\"\"\"),\"0780727728\")","v":"0780727728"},{"$f":"IFERROR(__xludf.DUMMYFUNCTION(\"\"\"COMPUTED_VALUE\"\"\"),\"PJ+PNJ\")","v":"PJ+PNJ"},{"$f":"IFERROR(__xludf.DUMMYFUNCTION(\"\"\"COMPUTED_VALUE\"\"\"),\"-\")","v":"-"},{"$f":"IFERROR(__xludf.DUMMYFUNCTION(\"\"\"COMPUTED_VALUE\"\"\"),\"septembre\")","v":"septembre"},{"$f":"IFERROR(__xludf.DUMMYFUNCTION(\"\"\"COMPUTED_VALUE\"\"\"),\"Seulement au fort\")","v":"Seulement au fort"},{"$f":"IFERROR(__xludf.DUMMYFUNCTION(\"\"\"COMPUTED_VALUE\"\"\"),\"OK\")","v":"OK"},{"$f":"IFERROR(__xludf.DUMMYFUNCTION(\"\"\"COMPUTED_VALUE\"\"\"),\"OK\")","v":"OK"},{"$f":"IFERROR(__xludf.DUMMYFUNCTION(\"\"\"COMPUTED_VALUE\"\"\"),\"septembre\")","v":"septembre"},{"$f":"IFERROR(__xludf.DUMMYFUNCTION(\"\"\"COMPUTED_VALUE\"\"\"),\"Fort seulement\")","v":"Fort seulement"},{"$f":"IFERROR(__xludf.DUMMYFUNCTION(\"\"\"COMPUTED_VALUE\"\"\"),200.0)","v":200},{"$f":"IFERROR(__xludf.DUMMYFUNCTION(\"\"\"COMPUTED_VALUE\"\"\"),\"PAF finalisée\")","v":"PAF finalisée"},{"$f":"IFERROR(__xludf.DUMMYFUNCTION(\"\"\"COMPUTED_VALUE\"\"\"),\"non reçue\")","v":"non reçue"},{"$f":"IFERROR(__xludf.DUMMYFUNCTION(\"\"\"COMPUTED_VALUE\"\"\"),\"R.A.S.\")","v":"R.A.S."},{"$f":"IFERROR(__xludf.DUMMYFUNCTION(\"\"\"COMPUTED_VALUE\"\"\"),\"samedi\")","v":"samedi"},{"$f":"IFERROR(__xludf.DUMMYFUNCTION(\"\"\"COMPUTED_VALUE\"\"\"),\"Reste\")","v":"Reste"}]
[{"$f":"IFERROR(__xludf.DUMMYFUNCTION(\"\"\"COMPUTED_VALUE\"\"\"),45660.0)","v":"2025-01-03"},{"$f":"IFERROR(__xludf.DUMMYFUNCTION(\"\"\"COMPUTED_VALUE\"\"\"),\"Vidal \")","v":"Vidal "},{"$f":"IFERROR(__xludf.DUMMYFUNCTION(\"\"\"COMPUTED_VALUE\"\"\"),\"Jules\")","v":"Jules"},{"$f":"IFERROR(__xludf.DUMMYFUNCTION(\"\"\"COMPUTED_VALUE\"\"\"),\"H\")","v":"H"},{"$f":"IFERROR(__xludf.DUMMYFUNCTION(\"\"\"COMPUTED_VALUE\"\"\"),31.0)","v":31},{"$f":"IFERROR(__xludf.DUMMYFUNCTION(\"\"\"COMPUTED_VALUE\"\"\"),\"jules.vidal@live.fr\")","v":"jules.vidal@live.fr"},{"$f":"IFERROR(__xludf.DUMMYFUNCTION(\"\"\"COMPUTED_VALUE\"\"\"),\"Jules Vidal \")","v":"Jules Vidal "},{"$f":"IFERROR(__xludf.DUMMYFUNCTION(\"\"\"COMPUTED_VALUE\"\"\"),\"645063353\")","v":"645063353"},{"$f":"IFERROR(__xludf.DUMMYFUNCTION(\"\"\"COMPUTED_VALUE\"\"\"),\"PJ+PNJ\")","v":"PJ+PNJ"},{"$f":"IFERROR(__xludf.DUMMYFUNCTION(\"\"\"COMPUTED_VALUE\"\"\"),\"-\")","v":"-"},{"$f":"IFERROR(__xludf.DUMMYFUNCTION(\"\"\"COMPUTED_VALUE\"\"\"),\"Les deux\")","v":"Les deux"},{"$f":"IFERROR(__xludf.DUMMYFUNCTION(\"\"\"COMPUTED_VALUE\"\"\"),\"Navire et fort\")","v":"Navire et fort"},{"$f":"IFERROR(__xludf.DUMMYFUNCTION(\"\"\"COMPUTED_VALUE\"\"\"),\"OK\")","v":"OK"},{"$f":"IFERROR(__xludf.DUMMYFUNCTION(\"\"\"COMPUTED_VALUE\"\"\"),\"OK\")","v":"OK"},{"$f":"IFERROR(__xludf.DUMMYFUNCTION(\"\"\"COMPUTED_VALUE\"\"\"),\"septembre\")","v":"septembre"},{"$f":"IFERROR(__xludf.DUMMYFUNCTION(\"\"\"COMPUTED_VALUE\"\"\"),\"Navire & Fort\")","v":"Navire & Fort"},null,{"$f":"IFERROR(__xludf.DUMMYFUNCTION(\"\"\"COMPUTED_VALUE\"\"\"),\"PAF non reçue\")","v":"PAF non reçue"},{"$f":"IFERROR(__xludf.DUMMYFUNCTION(\"\"\"COMPUTED_VALUE\"\"\"),\"non reçue\")","v":"non reçue"},{"$f":"IFERROR(__xludf.DUMMYFUNCTION(\"\"\"COMPUTED_VALUE\"\"\"),\"R.A.S.\")","v":"R.A.S."},{"$f":"IFERROR(__xludf.DUMMYFUNCTION(\"\"\"COMPUTED_VALUE\"\"\"),\"samedi\")","v":"samedi"},{"$f":"IFERROR(__xludf.DUMMYFUNCTION(\"\"\"COMPUTED_VALUE\"\"\"),\"Reste\")","v":"Reste"}]
[{"$f":"IFERROR(__xludf.DUMMYFUNCTION(\"\"\"COMPUTED_VALUE\"\"\"),45661.0)","v":"2025-01-04"},{"$f":"IFERROR(__xludf.DUMMYFUNCTION(\"\"\"COMPUTED_VALUE\"\"\"),\"marcelin-gabriel\")","v":"marcelin-gabriel"},{"$f":"IFERROR(__xludf.DUMMYFUNCTION(\"\"\"COMPUTED_VALUE\"\"\"),\"magali\")","v":"magali"},{"$f":"IFERROR(__xludf.DUMMYFUNCTION(\"\"\"COMPUTED_VALUE\"\"\"),\"F\")","v":"F"},{"$f":"IFERROR(__xludf.DUMMYFUNCTION(\"\"\"COMPUTED_VALUE\"\"\"),57.0)","v":57},{"$f":"IFERROR(__xludf.DUMMYFUNCTION(\"\"\"COMPUTED_VALUE\"\"\"),\"magalimarcelin@orange.fr\")","v":"magalimarcelin@orange.fr"},{"$f":"IFERROR(__xludf.DUMMYFUNCTION(\"\"\"COMPUTED_VALUE\"\"\"),\"magali marcelin\")","v":"magali marcelin"},{"$f":"IFERROR(__xludf.DUMMYFUNCTION(\"\"\"COMPUTED_VALUE\"\"\"),\"0684115179\")","v":"0684115179"},{"$f":"IFERROR(__xludf.DUMMYFUNCTION(\"\"\"COMPUTED_VALUE\"\"\"),\"PJ+PNJ\")","v":"PJ+PNJ"},{"$f":"IFERROR(__xludf.DUMMYFUNCTION(\"\"\"COMPUTED_VALUE\"\"\"),\"-\")","v":"-"},{"$f":"IFERROR(__xludf.DUMMYFUNCTION(\"\"\"COMPUTED_VALUE\"\"\"),\"Les deux\")","v":"Les deux"},{"$f":"IFERROR(__xludf.DUMMYFUNCTION(\"\"\"COMPUTED_VALUE\"\"\"),\"Peu importe\")","v":"Peu importe"},{"$f":"IFERROR(__xludf.DUMMYFUNCTION(\"\"\"COMPUTED_VALUE\"\"\"),\"OK\")","v":"OK"},{"$f":"IFERROR(__xludf.DUMMYFUNCTION(\"\"\"COMPUTED_VALUE\"\"\"),\"OK\")","v":"OK"},{"$f":"IFERROR(__xludf.DUMMYFUNCTION(\"\"\"COMPUTED_VALUE\"\"\"),\"juin\")","v":"juin"},{"$f":"IFERROR(__xludf.DUMMYFUNCTION(\"\"\"COMPUTED_VALUE\"\"\"),\"Fort seulement\")","v":"Fort seulement"},{"$f":"IFERROR(__xludf.DUMMYFUNCTION(\"\"\"COMPUTED_VALUE\"\"\"),200.0)","v":200},{"$f":"IFERROR(__xludf.DUMMYFUNCTION(\"\"\"COMPUTED_VALUE\"\"\"),\"PAF finalisée\")","v":"PAF finalisée"},{"$f":"IFERROR(__xludf.DUMMYFUNCTION(\"\"\"COMPUTED_VALUE\"\"\"),\"non reçue\")","v":"non reçue"},{"$f":"IFERROR(__xludf.DUMMYFUNCTION(\"\"\"COMPUTED_VALUE\"\"\"),\"R.A.S.\")","v":"R.A.S."},{"$f":"IFERROR(__xludf.DUMMYFUNCTION(\"\"\"COMPUTED_VALUE\"\"\"),\"samedi\")","v":"samedi"},{"$f":"IFERROR(__xludf.DUMMYFUNCTION(\"\"\"COMPUTED_VALUE\"\"\"),\"Reste\")","v":"Reste"}]
[{"$f":"IFERROR(__xludf.DUMMYFUNCTION(\"\"\"COMPUTED_VALUE\"\"\"),45661.0)","v":"2025-01-04"},{"$f":"IFERROR(__xludf.DUMMYFUNCTION(\"\"\"COMPUTED_VALUE\"\"\"),\"Barrere\")","v":"Barrere"},{"$f":"IFERROR(__xludf.DUMMYFUNCTION(\"\"\"COMPUTED_VALUE\"\"\"),\"Ludovic\")","v":"Ludovic"},{"$f":"IFERROR(__xludf.DUMMYFUNCTION(\"\"\"COMPUTED_VALUE\"\"\"),\"H\")","v":"H"},{"$f":"IFERROR(__xludf.DUMMYFUNCTION(\"\"\"COMPUTED_VALUE\"\"\"),-68648.0)","v":-68648},{"$f":"IFERROR(__xludf.DUMMYFUNCTION(\"\"\"COMPUTED_VALUE\"\"\"),\"ludobarrere@hotmail.fr\")","v":"ludobarrere@hotmail.fr"},{"$f":"IFERROR(__xludf.DUMMYFUNCTION(\"\"\"COMPUTED_VALUE\"\"\"),\"Lu Dovic\")","v":"Lu Dovic"},{"$f":"IFERROR(__xludf.DUMMYFUNCTION(\"\"\"COMPUTED_VALUE\"\"\"),\"0617981351\")","v":"0617981351"},{"$f":"IFERROR(__xludf.DUMMYFUNCTION(\"\"\"COMPUTED_VALUE\"\"\"),\"Pur PJ\")","v":"Pur PJ"},{"$f":"IFERROR(__xludf.DUMMYFUNCTION(\"\"\"COMPUTED_VALUE\"\"\"),\"-\")","v":"-"},{"$f":"IFERROR(__xludf.DUMMYFUNCTION(\"\"\"COMPUTED_VALUE\"\"\"),\"septembre\")","v":"septembre"},{"$f":"IFERROR(__xludf.DUMMYFUNCTION(\"\"\"COMPUTED_VALUE\"\"\"),\"Navire et fort\")","v":"Navire et fort"},{"$f":"IFERROR(__xludf.DUMMYFUNCTION(\"\"\"COMPUTED_VALUE\"\"\"),\"OK\")","v":"OK"},{"$f":"IFERROR(__xludf.DUMMYFUNCTION(\"\"\"COMPUTED_VALUE\"\"\"),\"OK\")","v":"OK"},{"$f":"IFERROR(__xludf.DUMMYFUNCTION(\"\"\"COMPUTED_VALUE\"\"\"),\"septembre\")","v":"septembre"},{"$f":"IFERROR(__xludf.DUMMYFUNCTION(\"\"\"COMPUTED_VALUE\"\"\"),\"Navire & Fort\")","v":"Navire & Fort"},null,{"$f":"IFERROR(__xludf.DUMMYFUNCTION(\"\"\"COMPUTED_VALUE\"\"\"),\"PAF non reçue\")","v":"PAF non reçue"},{"$f":"IFERROR(__xludf.DUMMYFUNCTION(\"\"\"COMPUTED_VALUE\"\"\"),\"non reçue\")","v":"non reçue"},{"$f":"IFERROR(__xludf.DUMMYFUNCTION(\"\"\"COMPUTED_VALUE\"\"\"),\"R.A.S.\")","v":"R.A.S."},{"$f":"IFERROR(__xludf.DUMMYFUNCTION(\"\"\"COMPUTED_VALUE\"\"\"),\"samedi\")","v":"samedi"},{"$f":"IFERROR(__xludf.DUMMYFUNCTION(\"\"\"COMPUTED_VALUE\"\"\"),\"Reste\")","v":"Reste"}]
[{"$f":"IFERROR(__xludf.DUMMYFUNCTION(\"\"\"COMPUTED_VALUE\"\"\"),45661.0)","v":"2025-01-04"},{"$f":"IFERROR(__xludf.DUMMYFUNCTION(\"\"\"COMPUTED_VALUE\"\"\"),\"Dubois \")","v":"Dubois "},{"$f":"IFERROR(__xludf.DUMMYFUNCTION(\"\"\"COMPUTED_VALUE\"\"\"),\"Patrick \")","v":"Patrick "},{"$f":"IFERROR(__xludf.DUMMYFUNCTION(\"\"\"COMPUTED_VALUE\"\"\"),\"H\")","v":"H"},{"$f":"IFERROR(__xludf.DUMMYFUNCTION(\"\"\"COMPUTED_VALUE\"\"\"),54.0)","v":54},{"$f":"IFERROR(__xludf.DUMMYFUNCTION(\"\"\"COMPUTED_VALUE\"\"\"),\"caninepointue@yahoo.fr\")","v":"caninepointue@yahoo.fr"},{"$f":"IFERROR(__xludf.DUMMYFUNCTION(\"\"\"COMPUTED_VALUE\"\"\"),\"Patrick Dubois \")","v":"Patrick Dubois "},{"$f":"IFERROR(__xludf.DUMMYFUNCTION(\"\"\"COMPUTED_VALUE\"\"\"),\"0681649536\")","v":"0681649536"},{"$f":"IFERROR(__xludf.DUMMYFUNCTION(\"\"\"COMPUTED_VALUE\"\"\"),\"Pur PJ\")","v":"Pur PJ"},{"$f":"IFERROR(__xludf.DUMMYFUNCTION(\"\"\"COMPUTED_VALUE\"\"\"),\"-\")","v":"-"},{"$f":"IFERROR(__xludf.DUMMYFUNCTION(\"\"\"COMPUTED_VALUE\"\"\"),\"juin\")","v":"juin"},{"$f":"IFERROR(__xludf.DUMMYFUNCTION(\"\"\"COMPUTED_VALUE\"\"\"),\"Peu importe\")","v":"Peu importe"},{"$f":"IFERROR(__xludf.DUMMYFUNCTION(\"\"\"COMPUTED_VALUE\"\"\"),\"OK\")","v":"OK"},{"$f":"IFERROR(__xludf.DUMMYFUNCTION(\"\"\"COMPUTED_VALUE\"\"\"),\"OK\")","v":"OK"},{"$f":"IFERROR(__xludf.DUMMYFUNCTION(\"\"\"COMPUTED_VALUE\"\"\"),\"juin\")","v":"juin"},{"$f":"IFERROR(__xludf.DUMMYFUNCTION(\"\"\"COMPUTED_VALUE\"\"\"),\"Fort seulement\")","v":"Fort seulement"},null,{"$f":"IFERROR(__xludf.DUMMYFUNCTION(\"\"\"COMPUTED_VALUE\"\"\"),\"PAF non reçue\")","v":"PAF non reçue"},{"$f":"IFERROR(__xludf.DUMMYFUNCTION(\"\"\"COMPUTED_VALUE\"\"\"),\"non reçue\")","v":"non reçue"},{"$f":"IFERROR(__xludf.DUMMYFUNCTION(\"\"\"COMPUTED_VALUE\"\"\"),\"R.A.S.\")","v":"R.A.S."},{"$f":"IFERROR(__xludf.DUMMYFUNCTION(\"\"\"COMPUTED_VALUE\"\"\"),\"samedi\")","v":"samedi"},{"$f":"IFERROR(__xludf.DUMMYFUNCTION(\"\"\"COMPUTED_VALUE\"\"\"),\"Reste\")","v":"Reste"}]
[{"$f":"IFERROR(__xludf.DUMMYFUNCTION(\"\"\"COMPUTED_VALUE\"\"\"),45662.0)","v":"2025-01-05"},{"$f":"IFERROR(__xludf.DUMMYFUNCTION(\"\"\"COMPUTED_VALUE\"\"\"),\"Kerfriden \")","v":"Kerfriden "},{"$f":"IFERROR(__xludf.DUMMYFUNCTION(\"\"\"COMPUTED_VALUE\"\"\"),\"Claire \")","v":"Claire "},{"$f":"IFERROR(__xludf.DUMMYFUNCTION(\"\"\"COMPUTED_VALUE\"\"\"),\"F\")","v":"F"},{"$f":"IFERROR(__xludf.DUMMYFUNCTION(\"\"\"COMPUTED_VALUE\"\"\"),22.0)","v":22},{"$f":"IFERROR(__xludf.DUMMYFUNCTION(\"\"\"COMPUTED_VALUE\"\"\"),\"claire.kerfriden@gmail.com\")","v":"claire.kerfriden@gmail.com"},{"$f":"IFERROR(__xludf.DUMMYFUNCTION(\"\"\"COMPUTED_VALUE\"\"\"),\"Claire Kerfriden \")","v":"Claire Kerfriden "},{"$f":"IFERROR(__xludf.DUMMYFUNCTION(\"\"\"COMPUTED_VALUE\"\"\"),\"06-09-73-55-13 \")","v":"06-09-73-55-13 "},{"$f":"IFERROR(__xludf.DUMMYFUNCTION(\"\"\"COMPUTED_VALUE\"\"\"),\"Pur PJ\")","v":"Pur PJ"},{"$f":"IFERROR(__xludf.DUMMYFUNCTION(\"\"\"COMPUTED_VALUE\"\"\"),\"-\")","v":"-"},{"$f":"IFERROR(__xludf.DUMMYFUNCTION(\"\"\"COMPUTED_VALUE\"\"\"),\"juin\")","v":"juin"},{"$f":"IFERROR(__xludf.DUMMYFUNCTION(\"\"\"COMPUTED_VALUE\"\"\"),\"Peu importe\")","v":"Peu importe"},{"$f":"IFERROR(__xludf.DUMMYFUNCTION(\"\"\"COMPUTED_VALUE\"\"\"),\"OK\")","v":"OK"},{"$f":"IFERROR(__xludf.DUMMYFUNCTION(\"\"\"COMPUTED_VALUE\"\"\"),\"OK\")","v":"OK"},{"$f":"IFERROR(__xludf.DUMMYFUNCTION(\"\"\"COMPUTED_VALUE\"\"\"),\"juin\")","v":"juin"},{"$f":"IFERROR(__xludf.DUMMYFUNCTION(\"\"\"COMPUTED_VALUE\"\"\"),\"Fort seulement\")","v":"Fort seulement"},null,{"$f":"IFERROR(__xludf.DUMMYFUNCTION(\"\"\"COMPUTED_VALUE\"\"\"),\"PAF non reçue\")","v":"PAF non reçue"},{"$f":"IFERROR(__xludf.DUMMYFUNCTION(\"\"\"COMPUTED_VALUE\"\"\"),\"non reçue\")","v":"non reçue"},{"$f":"IFERROR(__xludf.DUMMYFUNCTION(\"\"\"COMPUTED_VALUE\"\"\"),\"R.A.S.\")","v":"R.A.S."},{"$f":"IFERROR(__xludf.DUMMYFUNCTION(\"\"\"COMPUTED_VALUE\"\"\"),\"samedi\")","v":"samedi"},{"$f":"IFERROR(__xludf.DUMMYFUNCTION(\"\"\"COMPUTED_VALUE\"\"\"),\"NON\")","v":"NON"}]
[{"$f":"IFERROR(__xludf.DUMMYFUNCTION(\"\"\"COMPUTED_VALUE\"\"\"),45663.0)","v":"2025-01-06"},{"$f":"IFERROR(__xludf.DUMMYFUNCTION(\"\"\"COMPUTED_VALUE\"\"\"),\"JONAS\")","v":"JONAS"},{"$f":"IFERROR(__xludf.DUMMYFUNCTION(\"\"\"COMPUTED_VALUE\"\"\"),\"Thomas\")","v":"Thomas"},{"$f":"IFERROR(__xludf.DUMMYFUNCTION(\"\"\"COMPUTED_VALUE\"\"\"),\"H\")","v":"H"},null,{"$f":"IFERROR(__xludf.DUMMYFUNCTION(\"\"\"COMPUTED_VALUE\"\"\"),\"black_writer@hotmail.fr\")","v":"black_writer@hotmail.fr"},{"$f":"IFERROR(__xludf.DUMMYFUNCTION(\"\"\"COMPUTED_VALUE\"\"\"),\"Baron von Bismarck\")","v":"Baron von Bismarck"},{"$f":"IFERROR(__xludf.DUMMYFUNCTION(\"\"\"COMPUTED_VALUE\"\"\"),\"0651389187\")","v":"0651389187"},{"$f":"IFERROR(__xludf.DUMMYFUNCTION(\"\"\"COMPUTED_VALUE\"\"\"),\"Pur PJ\")","v":"Pur PJ"},{"$f":"IFERROR(__xludf.DUMMYFUNCTION(\"\"\"COMPUTED_VALUE\"\"\"),\"-\")","v":"-"},{"$f":"IFERROR(__xludf.DUMMYFUNCTION(\"\"\"COMPUTED_VALUE\"\"\"),\"septembre\")","v":"septembre"},{"$f":"IFERROR(__xludf.DUMMYFUNCTION(\"\"\"COMPUTED_VALUE\"\"\"),\"Navire et fort\")","v":"Navire et fort"},{"$f":"IFERROR(__xludf.DUMMYFUNCTION(\"\"\"COMPUTED_VALUE\"\"\"),\"OK\")","v":"OK"},{"$f":"IFERROR(__xludf.DUMMYFUNCTION(\"\"\"COMPUTED_VALUE\"\"\"),\"OK\")","v":"OK"},{"$f":"IFERROR(__xludf.DUMMYFUNCTION(\"\"\"COMPUTED_VALUE\"\"\"),\"septembre\")","v":"septembre"},{"$f":"IFERROR(__xludf.DUMMYFUNCTION(\"\"\"COMPUTED_VALUE\"\"\"),\"Navire & Fort\")","v":"Navire & Fort"},{"$f":"IFERROR(__xludf.DUMMYFUNCTION(\"\"\"COMPUTED_VALUE\"\"\"),400.0)","v":400},{"$f":"IFERROR(__xludf.DUMMYFUNCTION(\"\"\"COMPUTED_VALUE\"\"\"),\"PAF finalisée\")","v":"PAF finalisée"},{"$f":"IFERROR(__xludf.DUMMYFUNCTION(\"\"\"COMPUTED_VALUE\"\"\"),\"non reçue\")","v":"non reçue"},{"$f":"IFERROR(__xludf.DUMMYFUNCTION(\"\"\"COMPUTED_VALUE\"\"\"),\"R.A.S.\")","v":"R.A.S."},{"$f":"IFERROR(__xludf.DUMMYFUNCTION(\"\"\"COMPUTED_VALUE\"\"\"),\"samedi\")","v":"samedi"},{"$f":"IFERROR(__xludf.DUMMYFUNCTION(\"\"\"COMPUTED_VALUE\"\"\"),\"Reste\")","v":"Reste"}]
[{"$f":"IFERROR(__xludf.DUMMYFUNCTION(\"\"\"COMPUTED_VALUE\"\"\"),45664.0)","v":"2025-01-07"},{"$f":"IFERROR(__xludf.DUMMYFUNCTION(\"\"\"COMPUTED_VALUE\"\"\"),\"leveque\")","v":"leveque"},{"$f":"IFERROR(__xludf.DUMMYFUNCTION(\"\"\"COMPUTED_VALUE\"\"\"),\"Jonathan\")","v":"Jonathan"},{"$f":"IFERROR(__xludf.DUMMYFUNCTION(\"\"\"COMPUTED_VALUE\"\"\"),\"H\")","v":"H"},{"$f":"IFERROR(__xludf.DUMMYFUNCTION(\"\"\"COMPUTED_VALUE\"\"\"),39.0)","v":39},{"$f":"IFERROR(__xludf.DUMMYFUNCTION(\"\"\"COMPUTED_VALUE\"\"\"),\"j.leveque44@gmail.com\")","v":"j.leveque44@gmail.com"},{"$f":"IFERROR(__xludf.DUMMYFUNCTION(\"\"\"COMPUTED_VALUE\"\"\"),\"John Calias\")","v":"John Calias"},{"$f":"IFERROR(__xludf.DUMMYFUNCTION(\"\"\"COMPUTED_VALUE\"\"\"),\"0474450053\")","v":"0474450053"},{"$f":"IFERROR(__xludf.DUMMYFUNCTION(\"\"\"COMPUTED_VALUE\"\"\"),\"PJ+PNJ\")","v":"PJ+PNJ"},{"$f":"IFERROR(__xludf.DUMMYFUNCTION(\"\"\"COMPUTED_VALUE\"\"\"),\"-\")","v":"-"},{"$f":"IFERROR(__xludf.DUMMYFUNCTION(\"\"\"COMPUTED_VALUE\"\"\"),\"Les deux\")","v":"Les deux"},{"$f":"IFERROR(__xludf.DUMMYFUNCTION(\"\"\"COMPUTED_VALUE\"\"\"),\"Navire et fort\")","v":"Navire et fort"},{"$f":"IFERROR(__xludf.DUMMYFUNCTION(\"\"\"COMPUTED_VALUE\"\"\"),\"OK\")","v":"OK"},{"$f":"IFERROR(__xludf.DUMMYFUNCTION(\"\"\"COMPUTED_VALUE\"\"\"),\"OK\")","v":"OK"},{"$f":"IFERROR(__xludf.DUMMYFUNCTION(\"\"\"COMPUTED_VALUE\"\"\"),\"septembre\")","v":"septembre"},{"$f":"IFERROR(__xludf.DUMMYFUNCTION(\"\"\"COMPUTED_VALUE\"\"\"),\"Navire & Fort\")","v":"Navire & Fort"},null,{"$f":"IFERROR(__xludf.DUMMYFUNCTION(\"\"\"COMPUTED_VALUE\"\"\"),\"PAF non reçue\")","v":"PAF non reçue"},{"$f":"IFERROR(__xludf.DUMMYFUNCTION(\"\"\"COMPUTED_VALUE\"\"\"),\"non reçue\")","v":"non reçue"},{"$f":"IFERROR(__xludf.DUMMYFUNCTION(\"\"\"COMPUTED_VALUE\"\"\"),\"R.A.S.\")","v":"R.A.S."},{"$f":"IFERROR(__xludf.DUMMYFUNCTION(\"\"\"COMPUTED_VALUE\"\"\"),\"samedi\")","v":"samedi"},{"$f":"IFERROR(__xludf.DUMMYFUNCTION(\"\"\"COMPUTED_VALUE\"\"\"),\"Reste\")","v":"Reste"}]
[{"$f":"IFERROR(__xludf.DUMMYFUNCTION(\"\"\"COMPUTED_VALUE\"\"\"),45669.0)","v":"2025-01-12"},{"$f":"IFERROR(__xludf.DUMMYFUNCTION(\"\"\"COMPUTED_VALUE\"\"\"),\"Méron \")","v":"Méron "},{"$f":"IFERROR(__xludf.DUMMYFUNCTION(\"\"\"COMPUTED_VALUE\"\"\"),\"Thomas \")","v":"Thomas "},{"$f":"IFERROR(__xludf.DUMMYFUNCTION(\"\"\"COMPUTED_VALUE\"\"\"),\"H\")","v":"H"},{"$f":"IFERROR(__xludf.DUMMYFUNCTION(\"\"\"COMPUTED_VALUE\"\"\"),37.0)","v":37},{"$f":"IFERROR(__xludf.DUMMYFUNCTION(\"\"\"COMPUTED_VALUE\"\"\"),\"meronthomas6@gmail.com\")","v":"meronthomas6@gmail.com"},{"$f":"IFERROR(__xludf.DUMMYFUNCTION(\"\"\"COMPUTED_VALUE\"\"\"),\"JACK DANIEL \")","v":"JACK DANIEL "},{"$f":"IFERROR(__xludf.DUMMYFUNCTION(\"\"\"COMPUTED_VALUE\"\"\"),\"624838163\")","v":"624838163"},{"$f":"IFERROR(__xludf.DUMMYFUNCTION(\"\"\"COMPUTED_VALUE\"\"\"),\"PJ+PNJ\")","v":"PJ+PNJ"},{"$f":"IFERROR(__xludf.DUMMYFUNCTION(\"\"\"COMPUTED_VALUE\"\"\"),\"-\")","v":"-"},{"$f":"IFERROR(__xludf.DUMMYFUNCTION(\"\"\"COMPUTED_VALUE\"\"\"),\"juin\")","v":"juin"},{"$f":"IFERROR(__xludf.DUMMYFUNCTION(\"\"\"COMPUTED_VALUE\"\"\"),\"Navire et fort\")","v":"Navire et fort"},{"$f":"IFERROR(__xludf.DUMMYFUNCTION(\"\"\"COMPUTED_VALUE\"\"\"),\"OK\")","v":"OK"},{"$f":"IFERROR(__xludf.DUMMYFUNCTION(\"\"\"COMPUTED_VALUE\"\"\"),\"OK\")","v":"OK"},{"$f":"IFERROR(__xludf.DUMMYFUNCTION(\"\"\"COMPUTED_VALUE\"\"\"),\"juin\")","v":"juin"},{"$f":"IFERROR(__xludf.DUMMYFUNCTION(\"\"\"COMPUTED_VALUE\"\"\"),\"Navire & Fort\")","v":"Navire & Fort"},{"$f":"IFERROR(__xludf.DUMMYFUNCTION(\"\"\"COMPUTED_VALUE\"\"\"),400.0)","v":400},{"$f":"IFERROR(__xludf.DUMMYFUNCTION(\"\"\"COMPUTED_VALUE\"\"\"),\"PAF finalisée\")","v":"PAF finalisée"},{"$f":"IFERROR(__xludf.DUMMYFUNCTION(\"\"\"COMPUTED_VALUE\"\"\"),\"reçue\")","v":"reçue"},{"$f":"IFERROR(__xludf.DUMMYFUNCTION(\"\"\"COMPUTED_VALUE\"\"\"),\"R.A.S.\")","v":"R.A.S."},{"$f":"IFERROR(__xludf.DUMMYFUNCTION(\"\"\"COMPUTED_VALUE\"\"\"),\"samedi\")","v":"samedi"},{"$f":"IFERROR(__xludf.DUMMYFUNCTION(\"\"\"COMPUTED_VALUE\"\"\"),\"Reste\")","v":"Reste"}]
[{"$f":"IFERROR(__xludf.DUMMYFUNCTION(\"\"\"COMPUTED_VALUE\"\"\"),45670.0)","v":"2025-01-13"},{"$f":"IFERROR(__xludf.DUMMYFUNCTION(\"\"\"COMPUTED_VALUE\"\"\"),\" Saada\")","v":" Saada"},{"$f":"IFERROR(__xludf.DUMMYFUNCTION(\"\"\"COMPUTED_VALUE\"\"\"),\"laurent\")","v":"laurent"},{"$f":"IFERROR(__xludf.DUMMYFUNCTION(\"\"\"COMPUTED_VALUE\"\"\"),\"H\")","v":"H"},{"$f":"IFERROR(__xludf.DUMMYFUNCTION(\"\"\"COMPUTED_VALUE\"\"\"),48.0)","v":48},{"$f":"IFERROR(__xludf.DUMMYFUNCTION(\"\"\"COMPUTED_VALUE\"\"\"),\"laursaad@gmail.com\")","v":"laursaad@gmail.com"},{"$f":"IFERROR(__xludf.DUMMYFUNCTION(\"\"\"COMPUTED_VALUE\"\"\"),\"Laurent S lolo\")","v":"Laurent S lolo"},{"$f":"IFERROR(__xludf.DUMMYFUNCTION(\"\"\"COMPUTED_VALUE\"\"\"),\"0614462023\")","v":"0614462023"},{"$f":"IFERROR(__xludf.DUMMYFUNCTION(\"\"\"COMPUTED_VALUE\"\"\"),\"Pur PJ\")","v":"Pur PJ"},{"$f":"IFERROR(__xludf.DUMMYFUNCTION(\"\"\"COMPUTED_VALUE\"\"\"),\"-\")","v":"-"},{"$f":"IFERROR(__xludf.DUMMYFUNCTION(\"\"\"COMPUTED_VALUE\"\"\"),\"juin\")","v":"juin"},{"$f":"IFERROR(__xludf.DUMMYFUNCTION(\"\"\"COMPUTED_VALUE\"\"\"),\"Navire et fort\")","v":"Navire et fort"},{"$f":"IFERROR(__xludf.DUMMYFUNCTION(\"\"\"COMPUTED_VALUE\"\"\"),\"OK\")","v":"OK"},{"$f":"IFERROR(__xludf.DUMMYFUNCTION(\"\"\"COMPUTED_VALUE\"\"\"),\"OK\")","v":"OK"},{"$f":"IFERROR(__xludf.DUMMYFUNCTION(\"\"\"COMPUTED_VALUE\"\"\"),\"juin\")","v":"juin"},{"$f":"IFERROR(__xludf.DUMMYFUNCTION(\"\"\"COMPUTED_VALUE\"\"\"),\"Navire & Fort\")","v":"Navire & Fort"},{"$f":"IFERROR(__xludf.DUMMYFUNCTION(\"\"\"COMPUTED_VALUE\"\"\"),133.5)","v":133.5},{"$f":"IFERROR(__xludf.DUMMYFUNCTION(\"\"\"COMPUTED_VALUE\"\"\"),\"PAF partielle\")","v":"PAF partielle"},{"$f":"IFERROR(__xludf.DUMMYFUNCTION(\"\"\"COMPUTED_VALUE\"\"\"),\"non reçue\")","v":"non reçue"},{"$f":"IFERROR(__xludf.DUMMYFUNCTION(\"\"\"COMPUTED_VALUE\"\"\"),\"R.A.S.\")","v":"R.A.S."},{"$f":"IFERROR(__xludf.DUMMYFUNCTION(\"\"\"COMPUTED_VALUE\"\"\"),\"samedi\")","v":"samedi"},{"$f":"IFERROR(__xludf.DUMMYFUNCTION(\"\"\"COMPUTED_VALUE\"\"\"),\"Reste\")","v":"Reste"}]
[{"$f":"IFERROR(__xludf.DUMMYFUNCTION(\"\"\"COMPUTED_VALUE\"\"\"),45671.0)","v":"2025-01-14"},{"$f":"IFERROR(__xludf.DUMMYFUNCTION(\"\"\"COMPUTED_VALUE\"\"\"),\"Guyot\")","v":"Guyot"},{"$f":"IFERROR(__xludf.DUMMYFUNCTION(\"\"\"COMPUTED_VALUE\"\"\"),\"Romain\")","v":"Romain"},{"$f":"IFERROR(__xludf.DUMMYFUNCTION(\"\"\"COMPUTED_VALUE\"\"\"),\"H\")","v":"H"},{"$f":"IFERROR(__xludf.DUMMYFUNCTION(\"\"\"COMPUTED_VALUE\"\"\"),34.0)","v":34},{"$f":"IFERROR(__xludf.DUMMYFUNCTION(\"\"\"COMPUTED_VALUE\"\"\"),\"rogguyot@gmail.com\")","v":"rogguyot@gmail.com"},{"$f":"IFERROR(__xludf.DUMMYFUNCTION(\"\"\"COMPUTED_VALUE\"\"\"),\"romain.guyot.334\")","v":"romain.guyot.334"},{"$f":"IFERROR(__xludf.DUMMYFUNCTION(\"\"\"COMPUTED_VALUE\"\"\"),\"0680168165\")","v":"0680168165"},{"$f":"IFERROR(__xludf.DUMMYFUNCTION(\"\"\"COMPUTED_VALUE\"\"\"),\"Pur PJ\")","v":"Pur PJ"},{"$f":"IFERROR(__xludf.DUMMYFUNCTION(\"\"\"COMPUTED_VALUE\"\"\"),\"-\")","v":"-"},{"$f":"IFERROR(__xludf.DUMMYFUNCTION(\"\"\"COMPUTED_VALUE\"\"\"),\"Les deux\")","v":"Les deux"},{"$f":"IFERROR(__xludf.DUMMYFUNCTION(\"\"\"COMPUTED_VALUE\"\"\"),\"Navire et fort\")","v":"Navire et fort"},{"$f":"IFERROR(__xludf.DUMMYFUNCTION(\"\"\"COMPUTED_VALUE\"\"\"),\"OK\")","v":"OK"},{"$f":"IFERROR(__xludf.DUMMYFUNCTION(\"\"\"COMPUTED_VALUE\"\"\"),\"OK\")","v":"OK"},{"$f":"IFERROR(__xludf.DUMMYFUNCTION(\"\"\"COMPUTED_VALUE\"\"\"),\"septembre\")","v":"septembre"},{"$f":"IFERROR(__xludf.DUMMYFUNCTION(\"\"\"COMPUTED_VALUE\"\"\"),\"Navire & Fort\")","v":"Navire & Fort"},{"$f":"IFERROR(__xludf.DUMMYFUNCTION(\"\"\"COMPUTED_VALUE\"\"\"),133.5)","v":133.5},{"$f":"IFERROR(__xludf.DUMMYFUNCTION(\"\"\"COMPUTED_VALUE\"\"\"),\"PAF partielle\")","v":"PAF partielle"},{"$f":"IFERROR(__xludf.DUMMYFUNCTION(\"\"\"COMPUTED_VALUE\"\"\"),\"non reçue\")","v":"non reçue"},{"$f":"IFERROR(__xludf.DUMMYFUNCTION(\"\"\"COMPUTED_VALUE\"\"\"),\"R.A.S.\")","v":"R.A.S."},{"$f":"IFERROR(__xludf.DUMMYFUNCTION(\"\"\"COMPUTED_VALUE\"\"\"),\"samedi\")","v":"samedi"},{"$f":"IFERROR(__xludf.DUMMYFUNCTION(\"\"\"COMPUTED_VALUE\"\"\"),\"Reste\")","v":"Reste"}]
[{"$f":"IFERROR(__xludf.DUMMYFUNCTION(\"\"\"COMPUTED_VALUE\"\"\"),45672.0)","v":"2025-01-15"},{"$f":"IFERROR(__xludf.DUMMYFUNCTION(\"\"\"COMPUTED_VALUE\"\"\"),\"Flamant\")","v":"Flamant"},{"$f":"IFERROR(__xludf.DUMMYFUNCTION(\"\"\"COMPUTED_VALUE\"\"\"),\"Julien\")","v":"Julien"},{"$f":"IFERROR(__xludf.DUMMYFUNCTION(\"\"\"COMPUTED_VALUE\"\"\"),\"H\")","v":"H"},{"$f":"IFERROR(__xludf.DUMMYFUNCTION(\"\"\"COMPUTED_VALUE\"\"\"),42.0)","v":42},{"$f":"IFERROR(__xludf.DUMMYFUNCTION(\"\"\"COMPUTED_VALUE\"\"\"),\"julien.flamant@gmail.com\")","v":"julien.flamant@gmail.com"},{"$f":"IFERROR(__xludf.DUMMYFUNCTION(\"\"\"COMPUTED_VALUE\"\"\"),\"P'tit Fût l'Apostat\")","v":"P'tit Fût l'Apostat"},{"$f":"IFERROR(__xludf.DUMMYFUNCTION(\"\"\"COMPUTED_VALUE\"\"\"),\"0679705430\")","v":"0679705430"},{"$f":"IFERROR(__xludf.DUMMYFUNCTION(\"\"\"COMPUTED_VALUE\"\"\"),\"Pur PJ\")","v":"Pur PJ"},{"$f":"IFERROR(__xludf.DUMMYFUNCTION(\"\"\"COMPUTED_VALUE\"\"\"),\"-\")","v":"-"},{"$f":"IFERROR(__xludf.DUMMYFUNCTION(\"\"\"COMPUTED_VALUE\"\"\"),\"septembre\")","v":"septembre"},{"$f":"IFERROR(__xludf.DUMMYFUNCTION(\"\"\"COMPUTED_VALUE\"\"\"),\"Seulement au fort\")","v":"Seulement au fort"},{"$f":"IFERROR(__xludf.DUMMYFUNCTION(\"\"\"COMPUTED_VALUE\"\"\"),\"OK\")","v":"OK"},{"$f":"IFERROR(__xludf.DUMMYFUNCTION(\"\"\"COMPUTED_VALUE\"\"\"),\"OK\")","v":"OK"},{"$f":"IFERROR(__xludf.DUMMYFUNCTION(\"\"\"COMPUTED_VALUE\"\"\"),\"septembre\")","v":"septembre"},{"$f":"IFERROR(__xludf.DUMMYFUNCTION(\"\"\"COMPUTED_VALUE\"\"\"),\"Fort seulement\")","v":"Fort seulement"},null,{"$f":"IFERROR(__xludf.DUMMYFUNCTION(\"\"\"COMPUTED_VALUE\"\"\"),\"PAF non reçue\")","v":"PAF non reçue"},{"$f":"IFERROR(__xludf.DUMMYFUNCTION(\"\"\"COMPUTED_VALUE\"\"\"),\"non reçue\")","v":"non reçue"},{"$f":"IFERROR(__xludf.DUMMYFUNCTION(\"\"\"COMPUTED_VALUE\"\"\"),\"R.A.S.\")","v":"R.A.S."},{"$f":"IFERROR(__xludf.DUMMYFUNCTION(\"\"\"COMPUTED_VALUE\"\"\"),\"samedi\")","v":"samedi"},{"$f":"IFERROR(__xludf.DUMMYFUNCTION(\"\"\"COMPUTED_VALUE\"\"\"),\"Reste\")","v":"Reste"}]
[{"$f":"IFERROR(__xludf.DUMMYFUNCTION(\"\"\"COMPUTED_VALUE\"\"\"),45673.0)","v":"2025-01-16"},{"$f":"IFERROR(__xludf.DUMMYFUNCTION(\"\"\"COMPUTED_VALUE\"\"\"),\"Jullien\")","v":"Jullien"},{"$f":"IFERROR(__xludf.DUMMYFUNCTION(\"\"\"COMPUTED_VALUE\"\"\"),\"Agnes\")","v":"Agnes"},{"$f":"IFERROR(__xludf.DUMMYFUNCTION(\"\"\"COMPUTED_VALUE\"\"\"),\"F\")","v":"F"},{"$f":"IFERROR(__xludf.DUMMYFUNCTION(\"\"\"COMPUTED_VALUE\"\"\"),44.0)","v":44},{"$f":"IFERROR(__xludf.DUMMYFUNCTION(\"\"\"COMPUTED_VALUE\"\"\"),\"ag9734@yahoo.com\")","v":"ag9734@yahoo.com"},{"$f":"IFERROR(__xludf.DUMMYFUNCTION(\"\"\"COMPUTED_VALUE\"\"\"),\"Agnès Jullien\")","v":"Agnès Jullien"},{"$f":"IFERROR(__xludf.DUMMYFUNCTION(\"\"\"COMPUTED_VALUE\"\"\"),\"0642584516\")","v":"0642584516"},{"$f":"IFERROR(__xludf.DUMMYFUNCTION(\"\"\"COMPUTED_VALUE\"\"\"),\"Pur PJ\")","v":"Pur PJ"},{"$f":"IFERROR(__xludf.DUMMYFUNCTION(\"\"\"COMPUTED_VALUE\"\"\"),\"-\")","v":"-"},{"$f":"IFERROR(__xludf.DUMMYFUNCTION(\"\"\"COMPUTED_VALUE\"\"\"),\"septembre\")","v":"septembre"},{"$f":"IFERROR(__xludf.DUMMYFUNCTION(\"\"\"COMPUTED_VALUE\"\"\"),\"Peu importe\")","v":"Peu importe"},{"$f":"IFERROR(__xludf.DUMMYFUNCTION(\"\"\"COMPUTED_VALUE\"\"\"),\"OK\")","v":"OK"},{"$f":"IFERROR(__xludf.DUMMYFUNCTION(\"\"\"COMPUTED_VALUE\"\"\"),\"OK\")","v":"OK"},{"$f":"IFERROR(__xludf.DUMMYFUNCTION(\"\"\"COMPUTED_VALUE\"\"\"),\"septembre\")","v":"septembre"},{"$f":"IFERROR(__xludf.DUMMYFUNCTION(\"\"\"COMPUTED_VALUE\"\"\"),\"Navire & Fort\")","v":"Navire & Fort"},{"$f":"IFERROR(__xludf.DUMMYFUNCTION(\"\"\"COMPUTED_VALUE\"\"\"),400.0)","v":400},{"$f":"IFERROR(__xludf.DUMMYFUNCTION(\"\"\"COMPUTED_VALUE\"\"\"),\"PAF finalisée\")","v":"PAF finalisée"},{"$f":"IFERROR(__xludf.DUMMYFUNCTION(\"\"\"COMPUTED_VALUE\"\"\"),\"non reçue\")","v":"non reçue"},{"$f":"IFERROR(__xludf.DUMMYFUNCTION(\"\"\"COMPUTED_VALUE\"\"\"),\"R.A.S.\")","v":"R.A.S."},{"$f":"IFERROR(__xludf.DUMMYFUNCTION(\"\"\"COMPUTED_VALUE\"\"\"),\"samedi\")","v":"samedi"},{"$f":"IFERROR(__xludf.DUMMYFUNCTION(\"\"\"COMPUTED_VALUE\"\"\"),\"Reste\")","v":"Reste"}]
[{"$f":"IFERROR(__xludf.DUMMYFUNCTION(\"\"\"COMPUTED_VALUE\"\"\"),45673.0)","v":"2025-01-16"},{"$f":"IFERROR(__xludf.DUMMYFUNCTION(\"\"\"COMPUTED_VALUE\"\"\"),\"Navarro\")","v":"Navarro"},{"$f":"IFERROR(__xludf.DUMMYFUNCTION(\"\"\"COMPUTED_VALUE\"\"\"),\"Grégory \")","v":"Grégory "},{"$f":"IFERROR(__xludf.DUMMYFUNCTION(\"\"\"COMPUTED_VALUE\"\"\"),\"H\")","v":"H"},{"$f":"IFERROR(__xludf.DUMMYFUNCTION(\"\"\"COMPUTED_VALUE\"\"\"),45.0)","v":45},{"$f":"IFERROR(__xludf.DUMMYFUNCTION(\"\"\"COMPUTED_VALUE\"\"\"),\"gregory.navarro@googlemail.com\")","v":"gregory.navarro@googlemail.com"},{"$f":"IFERROR(__xludf.DUMMYFUNCTION(\"\"\"COMPUTED_VALUE\"\"\"),\"Gregaf Tapdurhörson\")","v":"Gregaf Tapdurhörson"},null,{"$f":"IFERROR(__xludf.DUMMYFUNCTION(\"\"\"COMPUTED_VALUE\"\"\"),\"Pur PJ\")","v":"Pur PJ"},{"$f":"IFERROR(__xludf.DUMMYFUNCTION(\"\"\"COMPUTED_VALUE\"\"\"),\"-\")","v":"-"},{"$f":"IFERROR(__xludf.DUMMYFUNCTION(\"\"\"COMPUTED_VALUE\"\"\"),\"septembre\")","v":"septembre"},{"$f":"IFERROR(__xludf.DUMMYFUNCTION(\"\"\"COMPUTED_VALUE\"\"\"),\"Navire et fort\")","v":"Navire et fort"},{"$f":"IFERROR(__xludf.DUMMYFUNCTION(\"\"\"COMPUTED_VALUE\"\"\"),\"OK\")","v":"OK"},{"$f":"IFERROR(__xludf.DUMMYFUNCTION(\"\"\"COMPUTED_VALUE\"\"\"),\"OK\")","v":"OK"},{"$f":"IFERROR(__xludf.DUMMYFUNCTION(\"\"\"COMPUTED_VALUE\"\"\"),\"septembre\")","v":"septembre"},{"$f":"IFERROR(__xludf.DUMMYFUNCTION(\"\"\"COMPUTED_VALUE\"\"\"),\"Navire & Fort\")","v":"Navire & Fort"},null,{"$f":"IFERROR(__xludf.DUMMYFUNCTION(\"\"\"COMPUTED_VALUE\"\"\"),\"PAF non reçue\")","v":"PAF non reçue"},{"$f":"IFERROR(__xludf.DUMMYFUNCTION(\"\"\"COMPUTED_VALUE\"\"\"),\"non reçue\")","v":"non reçue"},{"$f":"IFERROR(__xludf.DUMMYFUNCTION(\"\"\"COMPUTED_VALUE\"\"\"),\"R.A.S.\")","v":"R.A.S."},{"$f":"IFERROR(__xludf.DUMMYFUNCTION(\"\"\"COMPUTED_VALUE\"\"\"),\"samedi\")","v":"samedi"},{"$f":"IFERROR(__xludf.DUMMYFUNCTION(\"\"\"COMPUTED_VALUE\"\"\"),\"Reste\")","v":"Reste"}]
[{"$f":"IFERROR(__xludf.DUMMYFUNCTION(\"\"\"COMPUTED_VALUE\"\"\"),45673.0)","v":"2025-01-16"},{"$f":"IFERROR(__xludf.DUMMYFUNCTION(\"\"\"COMPUTED_VALUE\"\"\"),\"Pichot\")","v":"Pichot"},{"$f":"IFERROR(__xludf.DUMMYFUNCTION(\"\"\"COMPUTED_VALUE\"\"\"),\"Claire\")","v":"Claire"},{"$f":"IFERROR(__xludf.DUMMYFUNCTION(\"\"\"COMPUTED_VALUE\"\"\"),\"F\")","v":"F"},{"$f":"IFERROR(__xludf.DUMMYFUNCTION(\"\"\"COMPUTED_VALUE\"\"\"),30.0)","v":30},{"$f":"IFERROR(__xludf.DUMMYFUNCTION(\"\"\"COMPUTED_VALUE\"\"\"),\"pichot.cl@gmail.com\")","v":"pichot.cl@gmail.com"},{"$f":"IFERROR(__xludf.DUMMYFUNCTION(\"\"\"COMPUTED_VALUE\"\"\"),\"Claire Ette\")","v":"Claire Ette"},{"$f":"IFERROR(__xludf.DUMMYFUNCTION(\"\"\"COMPUTED_VALUE\"\"\"),\"0684298287\")","v":"0684298287"},{"$f":"IFERROR(__xludf.DUMMYFUNCTION(\"\"\"COMPUTED_VALUE\"\"\"),\"Pur PJ\")","v":"Pur PJ"},{"$f":"IFERROR(__xludf.DUMMYFUNCTION(\"\"\"COMPUTED_VALUE\"\"\"),\"-\")","v":"-"},{"$f":"IFERROR(__xludf.DUMMYFUNCTION(\"\"\"COMPUTED_VALUE\"\"\"),\"septembre\")","v":"septembre"},{"$f":"IFERROR(__xludf.DUMMYFUNCTION(\"\"\"COMPUTED_VALUE\"\"\"),\"Peu importe\")","v":"Peu importe"},{"$f":"IFERROR(__xludf.DUMMYFUNCTION(\"\"\"COMPUTED_VALUE\"\"\"),\"OK\")","v":"OK"},{"$f":"IFERROR(__xludf.DUMMYFUNCTION(\"\"\"COMPUTED_VALUE\"\"\"),\"OK\")","v":"OK"},{"$f":"IFERROR(__xludf.DUMMYFUNCTION(\"\"\"COMPUTED_VALUE\"\"\"),\"septembre\")","v":"septembre"},{"$f":"IFERROR(__xludf.DUMMYFUNCTION(\"\"\"COMPUTED_VALUE\"\"\"),\"Navire & Fort\")","v":"Navire & Fort"},{"$f":"IFERROR(__xludf.DUMMYFUNCTION(\"\"\"COMPUTED_VALUE\"\"\"),133.5)","v":133.5},{"$f":"IFERROR(__xludf.DUMMYFUNCTION(\"\"\"COMPUTED_VALUE\"\"\"),\"PAF partielle\")","v":"PAF partielle"},{"$f":"IFERROR(__xludf.DUMMYFUNCTION(\"\"\"COMPUTED_VALUE\"\"\"),\"non reçue\")","v":"non reçue"},{"$f":"IFERROR(__xludf.DUMMYFUNCTION(\"\"\"COMPUTED_VALUE\"\"\"),\"R.A.S.\")","v":"R.A.S."},{"$f":"IFERROR(__xludf.DUMMYFUNCTION(\"\"\"COMPUTED_VALUE\"\"\"),\"samedi\")","v":"samedi"},{"$f":"IFERROR(__xludf.DUMMYFUNCTION(\"\"\"COMPUTED_VALUE\"\"\"),\"Reste\")","v":"Reste"}]
[{"$f":"IFERROR(__xludf.DUMMYFUNCTION(\"\"\"COMPUTED_VALUE\"\"\"),45674.0)","v":"2025-01-17"},{"$f":"IFERROR(__xludf.DUMMYFUNCTION(\"\"\"COMPUTED_VALUE\"\"\"),\"Mousset \")","v":"Mousset "},{"$f":"IFERROR(__xludf.DUMMYFUNCTION(\"\"\"COMPUTED_VALUE\"\"\"),\"Valérie \")","v":"Valérie "},{"$f":"IFERROR(__xludf.DUMMYFUNCTION(\"\"\"COMPUTED_VALUE\"\"\"),\"F\")","v":"F"},{"$f":"IFERROR(__xludf.DUMMYFUNCTION(\"\"\"COMPUTED_VALUE\"\"\"),46.0)","v":46},{"$f":"IFERROR(__xludf.DUMMYFUNCTION(\"\"\"COMPUTED_VALUE\"\"\"),\"valmousset@gmail.com\")","v":"valmousset@gmail.com"},{"$f":"IFERROR(__xludf.DUMMYFUNCTION(\"\"\"COMPUTED_VALUE\"\"\"),\"Valeriemousset\")","v":"Valeriemousset"},{"$f":"IFERROR(__xludf.DUMMYFUNCTION(\"\"\"COMPUTED_VALUE\"\"\"),\"0620784623\")","v":"0620784623"},{"$f":"IFERROR(__xludf.DUMMYFUNCTION(\"\"\"COMPUTED_VALUE\"\"\"),\"Pur PJ\")","v":"Pur PJ"},{"$f":"IFERROR(__xludf.DUMMYFUNCTION(\"\"\"COMPUTED_VALUE\"\"\"),\"-\")","v":"-"},{"$f":"IFERROR(__xludf.DUMMYFUNCTION(\"\"\"COMPUTED_VALUE\"\"\"),\"septembre\")","v":"septembre"},{"$f":"IFERROR(__xludf.DUMMYFUNCTION(\"\"\"COMPUTED_VALUE\"\"\"),\"Navire et fort\")","v":"Navire et fort"},{"$f":"IFERROR(__xludf.DUMMYFUNCTION(\"\"\"COMPUTED_VALUE\"\"\"),\"OK\")","v":"OK"},{"$f":"IFERROR(__xludf.DUMMYFUNCTION(\"\"\"COMPUTED_VALUE\"\"\"),\"OK\")","v":"OK"},{"$f":"IFERROR(__xludf.DUMMYFUNCTION(\"\"\"COMPUTED_VALUE\"\"\"),\"septembre\")","v":"septembre"},{"$f":"IFERROR(__xludf.DUMMYFUNCTION(\"\"\"COMPUTED_VALUE\"\"\"),\"Navire & Fort\")","v":"Navire & Fort"},null,{"$f":"IFERROR(__xludf.DUMMYFUNCTION(\"\"\"COMPUTED_VALUE\"\"\"),\"PAF non reçue\")","v":"PAF non reçue"},{"$f":"IFERROR(__xludf.DUMMYFUNCTION(\"\"\"COMPUTED_VALUE\"\"\"),\"non reçue\")","v":"non reçue"},{"$f":"IFERROR(__xludf.DUMMYFUNCTION(\"\"\"COMPUTED_VALUE\"\"\"),\"R.A.S.\")","v":"R.A.S."},{"$f":"IFERROR(__xludf.DUMMYFUNCTION(\"\"\"COMPUTED_VALUE\"\"\"),\"samedi\")","v":"samedi"},{"$f":"IFERROR(__xludf.DUMMYFUNCTION(\"\"\"COMPUTED_VALUE\"\"\"),\"Reste\")","v":"Reste"}]
[{"$f":"IFERROR(__xludf.DUMMYFUNCTION(\"\"\"COMPUTED_VALUE\"\"\"),45674.0)","v":"2025-01-17"},{"$f":"IFERROR(__xludf.DUMMYFUNCTION(\"\"\"COMPUTED_VALUE\"\"\"),\"Trébosc\")","v":"Trébosc"},{"$f":"IFERROR(__xludf.DUMMYFUNCTION(\"\"\"COMPUTED_VALUE\"\"\"),\"David\")","v":"David"},{"$f":"IFERROR(__xludf.DUMMYFUNCTION(\"\"\"COMPUTED_VALUE\"\"\"),\"H\")","v":"H"},{"$f":"IFERROR(__xludf.DUMMYFUNCTION(\"\"\"COMPUTED_VALUE\"\"\"),41.0)","v":41},{"$f":"IFERROR(__xludf.DUMMYFUNCTION(\"\"\"COMPUTED_VALUE\"\"\"),\"trebosc.david@gmail.com\")","v":"trebosc.david@gmail.com"},{"$f":"IFERROR(__xludf.DUMMYFUNCTION(\"\"\"COMPUTED_VALUE\"\"\"),\"David Trébosc\")","v":"David Trébosc"},{"$f":"IFERROR(__xludf.DUMMYFUNCTION(\"\"\"COMPUTED_VALUE\"\"\"),\"618811757\")","v":"618811757"},{"$f":"IFERROR(__xludf.DUMMYFUNCTION(\"\"\"COMPUTED_VALUE\"\"\"),\"PJ+PNJ\")","v":"PJ+PNJ"},{"$f":"IFERROR(__xludf.DUMMYFUNCTION(\"\"\"COMPUTED_VALUE\"\"\"),\"-\")","v":"-"},{"$f":"IFERROR(__xludf.DUMMYFUNCTION(\"\"\"COMPUTED_VALUE\"\"\"),\"septembre\")","v":"septembre"},{"$f":"IFERROR(__xludf.DUMMYFUNCTION(\"\"\"COMPUTED_VALUE\"\"\"),\"Seulement au fort\")","v":"Seulement au fort"},{"$f":"IFERROR(__xludf.DUMMYFUNCTION(\"\"\"COMPUTED_VALUE\"\"\"),\"OK\")","v":"OK"},{"$f":"IFERROR(__xludf.DUMMYFUNCTION(\"\"\"COMPUTED_VALUE\"\"\"),\"OK\")","v":"OK"},{"$f":"IFERROR(__xludf.DUMMYFUNCTION(\"\"\"COMPUTED_VALUE\"\"\"),\"septembre\")","v":"septembre"},{"$f":"IFERROR(__xludf.DUMMYFUNCTION(\"\"\"COMPUTED_VALUE\"\"\"),\"Fort seulement\")","v":"Fort seulement"},null,{"$f":"IFERROR(__xludf.DUMMYFUNCTION(\"\"\"COMPUTED_VALUE\"\"\"),\"PAF non reçue\")","v":"PAF non reçue"},{"$f":"IFERROR(__xludf.DUMMYFUNCTION(\"\"\"COMPUTED_VALUE\"\"\"),\"non reçue\")","v":"non reçue"},{"$f":"IFERROR(__xludf.DUMMYFUNCTION(\"\"\"COMPUTED_VALUE\"\"\"),\"R.A.S.\")","v":"R.A.S."},{"$f":"IFERROR(__xludf.DUMMYFUNCTION(\"\"\"COMPUTED_VALUE\"\"\"),\"samedi\")","v":"samedi"},{"$f":"IFERROR(__xludf.DUMMYFUNCTION(\"\"\"COMPUTED_VALUE\"\"\"),\"Reste\")","v":"Reste"}]
[{"$f":"IFERROR(__xludf.DUMMYFUNCTION(\"\"\"COMPUTED_VALUE\"\"\"),45497.0)","v":"2024-07-24"},{"$f":"IFERROR(__xludf.DUMMYFUNCTION(\"\"\"COMPUTED_VALUE\"\"\"),\"orfeuvre\")","v":"orfeuvre"},{"$f":"IFERROR(__xludf.DUMMYFUNCTION(\"\"\"COMPUTED_VALUE\"\"\"),\"emilie\")","v":"emilie"},{"$f":"IFERROR(__xludf.DUMMYFUNCTION(\"\"\"COMPUTED_VALUE\"\"\"),\"F\")","v":"F"},{"$f":"IFERROR(__xludf.DUMMYFUNCTION(\"\"\"COMPUTED_VALUE\"\"\"),35.0)","v":35},{"$f":"IFERROR(__xludf.DUMMYFUNCTION(\"\"\"COMPUTED_VALUE\"\"\"),\"emilie.orfeuvre@gmail.com\")","v":"emilie.orfeuvre@gmail.com"},{"$f":"IFERROR(__xludf.DUMMYFUNCTION(\"\"\"COMPUTED_VALUE\"\"\"),\"Milie oh\")","v":"Milie oh"},{"$f":"IFERROR(__xludf.DUMMYFUNCTION(\"\"\"COMPUTED_VALUE\"\"\"),\"0688550880\")","v":"0688550880"},{"$f":"IFERROR(__xludf.DUMMYFUNCTION(\"\"\"COMPUTED_VALUE\"\"\"),\"PJ+PNJ\")","v":"PJ+PNJ"},{"$f":"IFERROR(__xludf.DUMMYFUNCTION(\"\"\"COMPUTED_VALUE\"\"\"),\"-\")","v":"-"},{"$f":"IFERROR(__xludf.DUMMYFUNCTION(\"\"\"COMPUTED_VALUE\"\"\"),\"septembre\")","v":"septembre"},{"$f":"IFERROR(__xludf.DUMMYFUNCTION(\"\"\"COMPUTED_VALUE\"\"\"),\"Seulement au fort\")","v":"Seulement au fort"},{"$f":"IFERROR(__xludf.DUMMYFUNCTION(\"\"\"COMPUTED_VALUE\"\"\"),\"OK\")","v":"OK"},{"$f":"IFERROR(__xludf.DUMMYFUNCTION(\"\"\"COMPUTED_VALUE\"\"\"),\"OK\")","v":"OK"},{"$f":"IFERROR(__xludf.DUMMYFUNCTION(\"\"\"COMPUTED_VALUE\"\"\"),\"juin\")","v":"juin"},{"$f":"IFERROR(__xludf.DUMMYFUNCTION(\"\"\"COMPUTED_VALUE\"\"\"),\"Fort seulement\")","v":"Fort seulement"},{"$f":"IFERROR(__xludf.DUMMYFUNCTION(\"\"\"COMPUTED_VALUE\"\"\"),200.0)","v":200},{"$f":"IFERROR(__xludf.DUMMYFUNCTION(\"\"\"COMPUTED_VALUE\"\"\"),\"PAF finalisée\")","v":"PAF finalisée"},{"$f":"IFERROR(__xludf.DUMMYFUNCTION(\"\"\"COMPUTED_VALUE\"\"\"),\"non reçue\")","v":"non reçue"},{"$f":"IFERROR(__xludf.DUMMYFUNCTION(\"\"\"COMPUTED_VALUE\"\"\"),\"R.A.S.\")","v":"R.A.S."},{"$f":"IFERROR(__xludf.DUMMYFUNCTION(\"\"\"COMPUTED_VALUE\"\"\"),\"samedi\")","v":"samedi"},{"$f":"IFERROR(__xludf.DUMMYFUNCTION(\"\"\"COMPUTED_VALUE\"\"\"),\"Reste\")","v":"Reste"}]
[{"$f":"IFERROR(__xludf.DUMMYFUNCTION(\"\"\"COMPUTED_VALUE\"\"\"),45676.0)","v":"2025-01-19"},{"$f":"IFERROR(__xludf.DUMMYFUNCTION(\"\"\"COMPUTED_VALUE\"\"\"),\"saison\")","v":"saison"},{"$f":"IFERROR(__xludf.DUMMYFUNCTION(\"\"\"COMPUTED_VALUE\"\"\"),\"arthur\")","v":"arthur"},{"$f":"IFERROR(__xludf.DUMMYFUNCTION(\"\"\"COMPUTED_VALUE\"\"\"),\"H\")","v":"H"},{"$f":"IFERROR(__xludf.DUMMYFUNCTION(\"\"\"COMPUTED_VALUE\"\"\"),25.0)","v":25},{"$f":"IFERROR(__xludf.DUMMYFUNCTION(\"\"\"COMPUTED_VALUE\"\"\"),\"arthur.saison@hotmail.com\")","v":"arthur.saison@hotmail.com"},{"$f":"IFERROR(__xludf.DUMMYFUNCTION(\"\"\"COMPUTED_VALUE\"\"\"),\"Arthur Saison\")","v":"Arthur Saison"},{"$f":"IFERROR(__xludf.DUMMYFUNCTION(\"\"\"COMPUTED_VALUE\"\"\"),\"0674426558\")","v":"0674426558"},{"$f":"IFERROR(__xludf.DUMMYFUNCTION(\"\"\"COMPUTED_VALUE\"\"\"),\"Pur PJ\")","v":"Pur PJ"},{"$f":"IFERROR(__xludf.DUMMYFUNCTION(\"\"\"COMPUTED_VALUE\"\"\"),\"-\")","v":"-"},{"$f":"IFERROR(__xludf.DUMMYFUNCTION(\"\"\"COMPUTED_VALUE\"\"\"),\"septembre\")","v":"septembre"},{"$f":"IFERROR(__xludf.DUMMYFUNCTION(\"\"\"COMPUTED_VALUE\"\"\"),\"Navire et fort\")","v":"Navire et fort"},{"$f":"IFERROR(__xludf.DUMMYFUNCTION(\"\"\"COMPUTED_VALUE\"\"\"),\"OK\")","v":"OK"},{"$f":"IFERROR(__xludf.DUMMYFUNCTION(\"\"\"COMPUTED_VALUE\"\"\"),\"OK\")","v":"OK"},{"$f":"IFERROR(__xludf.DUMMYFUNCTION(\"\"\"COMPUTED_VALUE\"\"\"),\"septembre\")","v":"septembre"},{"$f":"IFERROR(__xludf.DUMMYFUNCTION(\"\"\"COMPUTED_VALUE\"\"\"),\"Navire & Fort\")","v":"Navire & Fort"},null,{"$f":"IFERROR(__xludf.DUMMYFUNCTION(\"\"\"COMPUTED_VALUE\"\"\"),\"PAF non reçue\")","v":"PAF non reçue"},{"$f":"IFERROR(__xludf.DUMMYFUNCTION(\"\"\"COMPUTED_VALUE\"\"\"),\"non reçue\")","v":"non reçue"},{"$f":"IFERROR(__xludf.DUMMYFUNCTION(\"\"\"COMPUTED_VALUE\"\"\"),\"R.A.S.\")","v":"R.A.S."},{"$f":"IFERROR(__xludf.DUMMYFUNCTION(\"\"\"COMPUTED_VALUE\"\"\"),\"samedi\")","v":"samedi"},{"$f":"IFERROR(__xludf.DUMMYFUNCTION(\"\"\"COMPUTED_VALUE\"\"\"),\"Reste\")","v":"Reste"}]
[{"$f":"IFERROR(__xludf.DUMMYFUNCTION(\"\"\"COMPUTED_VALUE\"\"\"),45676.0)","v":"2025-01-19"},{"$f":"IFERROR(__xludf.DUMMYFUNCTION(\"\"\"COMPUTED_VALUE\"\"\"),\"Richard\")","v":"Richard"},{"$f":"IFERROR(__xludf.DUMMYFUNCTION(\"\"\"COMPUTED_VALUE\"\"\"),\"Lea\")","v":"Lea"},{"$f":"IFERROR(__xludf.DUMMYFUNCTION(\"\"\"COMPUTED_VALUE\"\"\"),\"F\")","v":"F"},{"$f":"IFERROR(__xludf.DUMMYFUNCTION(\"\"\"COMPUTED_VALUE\"\"\"),32.0)","v":32},{"$f":"IFERROR(__xludf.DUMMYFUNCTION(\"\"\"COMPUTED_VALUE\"\"\"),\"lea.p.y.richard@outlook.fr\")","v":"lea.p.y.richard@outlook.fr"},{"$f":"IFERROR(__xludf.DUMMYFUNCTION(\"\"\"COMPUTED_VALUE\"\"\"),\"Lea Richard \")","v":"Lea Richard "},{"$f":"IFERROR(__xludf.DUMMYFUNCTION(\"\"\"COMPUTED_VALUE\"\"\"),\"0032494182566\")","v":"0032494182566"},{"$f":"IFERROR(__xludf.DUMMYFUNCTION(\"\"\"COMPUTED_VALUE\"\"\"),\"PJ+PNJ\")","v":"PJ+PNJ"},{"$f":"IFERROR(__xludf.DUMMYFUNCTION(\"\"\"COMPUTED_VALUE\"\"\"),\"-\")","v":"-"},{"$f":"IFERROR(__xludf.DUMMYFUNCTION(\"\"\"COMPUTED_VALUE\"\"\"),\"Les deux\")","v":"Les deux"},{"$f":"IFERROR(__xludf.DUMMYFUNCTION(\"\"\"COMPUTED_VALUE\"\"\"),\"Peu importe\")","v":"Peu importe"},{"$f":"IFERROR(__xludf.DUMMYFUNCTION(\"\"\"COMPUTED_VALUE\"\"\"),\"OK\")","v":"OK"},{"$f":"IFERROR(__xludf.DUMMYFUNCTION(\"\"\"COMPUTED_VALUE\"\"\"),\"OK\")","v":"OK"},{"$f":"IFERROR(__xludf.DUMMYFUNCTION(\"\"\"COMPUTED_VALUE\"\"\"),\"juin\")","v":"juin"},{"$f":"IFERROR(__xludf.DUMMYFUNCTION(\"\"\"COMPUTED_VALUE\"\"\"),\"Navire & Fort\")","v":"Navire & Fort"},null,{"$f":"IFERROR(__xludf.DUMMYFUNCTION(\"\"\"COMPUTED_VALUE\"\"\"),\"PAF non reçue\")","v":"PAF non reçue"},{"$f":"IFERROR(__xludf.DUMMYFUNCTION(\"\"\"COMPUTED_VALUE\"\"\"),\"non reçue\")","v":"non reçue"},{"$f":"IFERROR(__xludf.DUMMYFUNCTION(\"\"\"COMPUTED_VALUE\"\"\"),\"R.A.S.\")","v":"R.A.S."},{"$f":"IFERROR(__xludf.DUMMYFUNCTION(\"\"\"COMPUTED_VALUE\"\"\"),\"samedi\")","v":"samedi"},{"$f":"IFERROR(__xludf.DUMMYFUNCTION(\"\"\"COMPUTED_VALUE\"\"\"),\"Reste\")","v":"Reste"}]
[{"$f":"IFERROR(__xludf.DUMMYFUNCTION(\"\"\"COMPUTED_VALUE\"\"\"),45676.0)","v":"2025-01-19"},{"$f":"IFERROR(__xludf.DUMMYFUNCTION(\"\"\"COMPUTED_VALUE\"\"\"),\"Beeckman\")","v":"Beeckman"},{"$f":"IFERROR(__xludf.DUMMYFUNCTION(\"\"\"COMPUTED_VALUE\"\"\"),\"Nathan\")","v":"Nathan"},{"$f":"IFERROR(__xludf.DUMMYFUNCTION(\"\"\"COMPUTED_VALUE\"\"\"),\"H\")","v":"H"},{"$f":"IFERROR(__xludf.DUMMYFUNCTION(\"\"\"COMPUTED_VALUE\"\"\"),30.0)","v":30},{"$f":"IFERROR(__xludf.DUMMYFUNCTION(\"\"\"COMPUTED_VALUE\"\"\"),\"nbee@live.be\")","v":"nbee@live.be"},{"$f":"IFERROR(__xludf.DUMMYFUNCTION(\"\"\"COMPUTED_VALUE\"\"\"),\"Nathan Beeckman\")","v":"Nathan Beeckman"},{"$f":"IFERROR(__xludf.DUMMYFUNCTION(\"\"\"COMPUTED_VALUE\"\"\"),\"+32 471541547\")","v":"+32 471541547"},{"$f":"IFERROR(__xludf.DUMMYFUNCTION(\"\"\"COMPUTED_VALUE\"\"\"),\"Pur PJ\")","v":"Pur PJ"},{"$f":"IFERROR(__xludf.DUMMYFUNCTION(\"\"\"COMPUTED_VALUE\"\"\"),\"-\")","v":"-"},{"$f":"IFERROR(__xludf.DUMMYFUNCTION(\"\"\"COMPUTED_VALUE\"\"\"),\"septembre\")","v":"septembre"},{"$f":"IFERROR(__xludf.DUMMYFUNCTION(\"\"\"COMPUTED_VALUE\"\"\"),\"Navire et fort\")","v":"Navire et fort"},{"$f":"IFERROR(__xludf.DUMMYFUNCTION(\"\"\"COMPUTED_VALUE\"\"\"),\"OK\")","v":"OK"},{"$f":"IFERROR(__xludf.DUMMYFUNCTION(\"\"\"COMPUTED_VALUE\"\"\"),\"OK\")","v":"OK"},{"$f":"IFERROR(__xludf.DUMMYFUNCTION(\"\"\"COMPUTED_VALUE\"\"\"),\"septembre\")","v":"septembre"},{"$f":"IFERROR(__xludf.DUMMYFUNCTION(\"\"\"COMPUTED_VALUE\"\"\"),\"Navire & Fort\")","v":"Navire & Fort"},null,{"$f":"IFERROR(__xludf.DUMMYFUNCTION(\"\"\"COMPUTED_VALUE\"\"\"),\"PAF non reçue\")","v":"PAF non reçue"},{"$f":"IFERROR(__xludf.DUMMYFUNCTION(\"\"\"COMPUTED_VALUE\"\"\"),\"non reçue\")","v":"non reçue"},{"$f":"IFERROR(__xludf.DUMMYFUNCTION(\"\"\"COMPUTED_VALUE\"\"\"),\"R.A.S.\")","v":"R.A.S."},{"$f":"IFERROR(__xludf.DUMMYFUNCTION(\"\"\"COMPUTED_VALUE\"\"\"),\"samedi\")","v":"samedi"},{"$f":"IFERROR(__xludf.DUMMYFUNCTION(\"\"\"COMPUTED_VALUE\"\"\"),\"Reste\")","v":"Reste"}]
[{"$f":"IFERROR(__xludf.DUMMYFUNCTION(\"\"\"COMPUTED_VALUE\"\"\"),45676.0)","v":"2025-01-19"},{"$f":"IFERROR(__xludf.DUMMYFUNCTION(\"\"\"COMPUTED_VALUE\"\"\"),\"Philbert\")","v":"Philbert"},{"$f":"IFERROR(__xludf.DUMMYFUNCTION(\"\"\"COMPUTED_VALUE\"\"\"),\"SOPHIE\")","v":"SOPHIE"},{"$f":"IFERROR(__xludf.DUMMYFUNCTION(\"\"\"COMPUTED_VALUE\"\"\"),\"F\")","v":"F"},{"$f":"IFERROR(__xludf.DUMMYFUNCTION(\"\"\"COMPUTED_VALUE\"\"\"),41.0)","v":41},{"$f":"IFERROR(__xludf.DUMMYFUNCTION(\"\"\"COMPUTED_VALUE\"\"\"),\"sofides@wanadoo.fr\")","v":"sofides@wanadoo.fr"},{"$f":"IFERROR(__xludf.DUMMYFUNCTION(\"\"\"COMPUTED_VALUE\"\"\"),\"Sophie Philbert\")","v":"Sophie Philbert"},{"$f":"IFERROR(__xludf.DUMMYFUNCTION(\"\"\"COMPUTED_VALUE\"\"\"),\"0669724980\")","v":"0669724980"},{"$f":"IFERROR(__xludf.DUMMYFUNCTION(\"\"\"COMPUTED_VALUE\"\"\"),\"PJ+PNJ\")","v":"PJ+PNJ"},{"$f":"IFERROR(__xludf.DUMMYFUNCTION(\"\"\"COMPUTED_VALUE\"\"\"),\"-\")","v":"-"},{"$f":"IFERROR(__xludf.DUMMYFUNCTION(\"\"\"COMPUTED_VALUE\"\"\"),\"septembre\")","v":"septembre"},{"$f":"IFERROR(__xludf.DUMMYFUNCTION(\"\"\"COMPUTED_VALUE\"\"\"),\"Seulement au fort\")","v":"Seulement au fort"},{"$f":"IFERROR(__xludf.DUMMYFUNCTION(\"\"\"COMPUTED_VALUE\"\"\"),\"OK\")","v":"OK"},{"$f":"IFERROR(__xludf.DUMMYFUNCTION(\"\"\"COMPUTED_VALUE\"\"\"),\"OK\")","v":"OK"},{"$f":"IFERROR(__xludf.DUMMYFUNCTION(\"\"\"COMPUTED_VALUE\"\"\"),\"septembre\")","v":"septembre"},{"$f":"IFERROR(__xludf.DUMMYFUNCTION(\"\"\"COMPUTED_VALUE\"\"\"),\"Fort seulement\")","v":"Fort seulement"},{"$f":"IFERROR(__xludf.DUMMYFUNCTION(\"\"\"COMPUTED_VALUE\"\"\"),200.0)","v":200},{"$f":"IFERROR(__xludf.DUMMYFUNCTION(\"\"\"COMPUTED_VALUE\"\"\"),\"PAF finalisée\")","v":"PAF finalisée"},{"$f":"IFERROR(__xludf.DUMMYFUNCTION(\"\"\"COMPUTED_VALUE\"\"\"),\"non reçue\")","v":"non reçue"},{"$f":"IFERROR(__xludf.DUMMYFUNCTION(\"\"\"COMPUTED_VALUE\"\"\"),\"R.A.S.\")","v":"R.A.S."},{"$f":"IFERROR(__xludf.DUMMYFUNCTION(\"\"\"COMPUTED_VALUE\"\"\"),\"samedi\")","v":"samedi"},{"$f":"IFERROR(__xludf.DUMMYFUNCTION(\"\"\"COMPUTED_VALUE\"\"\"),\"Reste\")","v":"Reste"}]
[{"$f":"IFERROR(__xludf.DUMMYFUNCTION(\"\"\"COMPUTED_VALUE\"\"\"),45303.0)","v":"2024-01-12"},{"$f":"IFERROR(__xludf.DUMMYFUNCTION(\"\"\"COMPUTED_VALUE\"\"\"),\"PHILBERT\")","v":"PHILBERT"},{"$f":"IFERROR(__xludf.DUMMYFUNCTION(\"\"\"COMPUTED_VALUE\"\"\"),\"Charles\")","v":"Charles"},{"$f":"IFERROR(__xludf.DUMMYFUNCTION(\"\"\"COMPUTED_VALUE\"\"\"),\"H\")","v":"H"},{"$f":"IFERROR(__xludf.DUMMYFUNCTION(\"\"\"COMPUTED_VALUE\"\"\"),42.0)","v":42},{"$f":"IFERROR(__xludf.DUMMYFUNCTION(\"\"\"COMPUTED_VALUE\"\"\"),\"Philbert.charles@neuf.fr\")","v":"Philbert.charles@neuf.fr"},{"$f":"IFERROR(__xludf.DUMMYFUNCTION(\"\"\"COMPUTED_VALUE\"\"\"),\"charles PHILBERT\")","v":"charles PHILBERT"},{"$f":"IFERROR(__xludf.DUMMYFUNCTION(\"\"\"COMPUTED_VALUE\"\"\"),\"0688981791\")","v":"0688981791"},{"$f":"IFERROR(__xludf.DUMMYFUNCTION(\"\"\"COMPUTED_VALUE\"\"\"),\"PJ+PNJ\")","v":"PJ+PNJ"},{"$f":"IFERROR(__xludf.DUMMYFUNCTION(\"\"\"COMPUTED_VALUE\"\"\"),\"-\")","v":"-"},{"$f":"IFERROR(__xludf.DUMMYFUNCTION(\"\"\"COMPUTED_VALUE\"\"\"),\"septembre\")","v":"septembre"},{"$f":"IFERROR(__xludf.DUMMYFUNCTION(\"\"\"COMPUTED_VALUE\"\"\"),\"Seulement au fort\")","v":"Seulement au fort"},{"$f":"IFERROR(__xludf.DUMMYFUNCTION(\"\"\"COMPUTED_VALUE\"\"\"),\"OK\")","v":"OK"},{"$f":"IFERROR(__xludf.DUMMYFUNCTION(\"\"\"COMPUTED_VALUE\"\"\"),\"OK\")","v":"OK"},{"$f":"IFERROR(__xludf.DUMMYFUNCTION(\"\"\"COMPUTED_VALUE\"\"\"),\"septembre\")","v":"septembre"},{"$f":"IFERROR(__xludf.DUMMYFUNCTION(\"\"\"COMPUTED_VALUE\"\"\"),\"Fort seulement\")","v":"Fort seulement"},null,{"$f":"IFERROR(__xludf.DUMMYFUNCTION(\"\"\"COMPUTED_VALUE\"\"\"),\"PAF non reçue\")","v":"PAF non reçue"},{"$f":"IFERROR(__xludf.DUMMYFUNCTION(\"\"\"COMPUTED_VALUE\"\"\"),\"non reçue\")","v":"non reçue"},{"$f":"IFERROR(__xludf.DUMMYFUNCTION(\"\"\"COMPUTED_VALUE\"\"\"),\"R.A.S.\")","v":"R.A.S."},{"$f":"IFERROR(__xludf.DUMMYFUNCTION(\"\"\"COMPUTED_VALUE\"\"\"),\"samedi\")","v":"samedi"},{"$f":"IFERROR(__xludf.DUMMYFUNCTION(\"\"\"COMPUTED_VALUE\"\"\"),\"Reste\")","v":"Reste"}]
[{"$f":"IFERROR(__xludf.DUMMYFUNCTION(\"\"\"COMPUTED_VALUE\"\"\"),45677.0)","v":"2025-01-20"},{"$f":"IFERROR(__xludf.DUMMYFUNCTION(\"\"\"COMPUTED_VALUE\"\"\"),\"Delahaye \")","v":"Delahaye "},{"$f":"IFERROR(__xludf.DUMMYFUNCTION(\"\"\"COMPUTED_VALUE\"\"\"),\"Damien\")","v":"Damien"},{"$f":"IFERROR(__xludf.DUMMYFUNCTION(\"\"\"COMPUTED_VALUE\"\"\"),\"H\")","v":"H"},{"$f":"IFERROR(__xludf.DUMMYFUNCTION(\"\"\"COMPUTED_VALUE\"\"\"),32.0)","v":32},{"$f":"IFERROR(__xludf.DUMMYFUNCTION(\"\"\"COMPUTED_VALUE\"\"\"),\"damien-kidds@hotmail.fr\")","v":"damien-kidds@hotmail.fr"},{"$f":"IFERROR(__xludf.DUMMYFUNCTION(\"\"\"COMPUTED_VALUE\"\"\"),\"Kidds teach Rackham \")","v":"Kidds teach Rackham "},{"$f":"IFERROR(__xludf.DUMMYFUNCTION(\"\"\"COMPUTED_VALUE\"\"\"),\"07-85-94-49-12\")","v":"07-85-94-49-12"},{"$f":"IFERROR(__xludf.DUMMYFUNCTION(\"\"\"COMPUTED_VALUE\"\"\"),\"PJ+PNJ\")","v":"PJ+PNJ"},{"$f":"IFERROR(__xludf.DUMMYFUNCTION(\"\"\"COMPUTED_VALUE\"\"\"),\"-\")","v":"-"},{"$f":"IFERROR(__xludf.DUMMYFUNCTION(\"\"\"COMPUTED_VALUE\"\"\"),\"Les deux\")","v":"Les deux"},{"$f":"IFERROR(__xludf.DUMMYFUNCTION(\"\"\"COMPUTED_VALUE\"\"\"),\"Peu importe\")","v":"Peu importe"},{"$f":"IFERROR(__xludf.DUMMYFUNCTION(\"\"\"COMPUTED_VALUE\"\"\"),\"OK\")","v":"OK"},{"$f":"IFERROR(__xludf.DUMMYFUNCTION(\"\"\"COMPUTED_VALUE\"\"\"),\"OK\")","v":"OK"},{"$f":"IFERROR(__xludf.DUMMYFUNCTION(\"\"\"COMPUTED_VALUE\"\"\"),\"juin\")","v":"juin"},{"$f":"IFERROR(__xludf.DUMMYFUNCTION(\"\"\"COMPUTED_VALUE\"\"\"),\"Navire & Fort\")","v":"Navire & Fort"},null,{"$f":"IFERROR(__xludf.DUMMYFUNCTION(\"\"\"COMPUTED_VALUE\"\"\"),\"PAF non reçue\")","v":"PAF non reçue"},{"$f":"IFERROR(__xludf.DUMMYFUNCTION(\"\"\"COMPUTED_VALUE\"\"\"),\"non reçue\")","v":"non reçue"},{"$f":"IFERROR(__xludf.DUMMYFUNCTION(\"\"\"COMPUTED_VALUE\"\"\"),\"R.A.S.\")","v":"R.A.S."},{"$f":"IFERROR(__xludf.DUMMYFUNCTION(\"\"\"COMPUTED_VALUE\"\"\"),\"samedi\")","v":"samedi"},{"$f":"IFERROR(__xludf.DUMMYFUNCTION(\"\"\"COMPUTED_VALUE\"\"\"),\"Reste\")","v":"Reste"}]
[{"$f":"IFERROR(__xludf.DUMMYFUNCTION(\"\"\"COMPUTED_VALUE\"\"\"),45677.0)","v":"2025-01-20"},{"$f":"IFERROR(__xludf.DUMMYFUNCTION(\"\"\"COMPUTED_VALUE\"\"\"),\"Lefebvre\")","v":"Lefebvre"},{"$f":"IFERROR(__xludf.DUMMYFUNCTION(\"\"\"COMPUTED_VALUE\"\"\"),\"Charline\")","v":"Charline"},{"$f":"IFERROR(__xludf.DUMMYFUNCTION(\"\"\"COMPUTED_VALUE\"\"\"),\"F\")","v":"F"},{"$f":"IFERROR(__xludf.DUMMYFUNCTION(\"\"\"COMPUTED_VALUE\"\"\"),26.0)","v":26},{"$f":"IFERROR(__xludf.DUMMYFUNCTION(\"\"\"COMPUTED_VALUE\"\"\"),\"charline.lefebvre7@orange.fr\")","v":"charline.lefebvre7@orange.fr"},{"$f":"IFERROR(__xludf.DUMMYFUNCTION(\"\"\"COMPUTED_VALUE\"\"\"),\"Mini-Mew Chatouxe\")","v":"Mini-Mew Chatouxe"},{"$f":"IFERROR(__xludf.DUMMYFUNCTION(\"\"\"COMPUTED_VALUE\"\"\"),\"0762276863\")","v":"0762276863"},{"$f":"IFERROR(__xludf.DUMMYFUNCTION(\"\"\"COMPUTED_VALUE\"\"\"),\"PJ+PNJ\")","v":"PJ+PNJ"},{"$f":"IFERROR(__xludf.DUMMYFUNCTION(\"\"\"COMPUTED_VALUE\"\"\"),\"-\")","v":"-"},{"$f":"IFERROR(__xludf.DUMMYFUNCTION(\"\"\"COMPUTED_VALUE\"\"\"),\"Les deux\")","v":"Les deux"},{"$f":"IFERROR(__xludf.DUMMYFUNCTION(\"\"\"COMPUTED_VALUE\"\"\"),\"Peu importe\")","v":"Peu importe"},{"$f":"IFERROR(__xludf.DUMMYFUNCTION(\"\"\"COMPUTED_VALUE\"\"\"),\"OK\")","v":"OK"},{"$f":"IFERROR(__xludf.DUMMYFUNCTION(\"\"\"COMPUTED_VALUE\"\"\"),\"OK\")","v":"OK"},{"$f":"IFERROR(__xludf.DUMMYFUNCTION(\"\"\"COMPUTED_VALUE\"\"\"),\"juin\")","v":"juin"},{"$f":"IFERROR(__xludf.DUMMYFUNCTION(\"\"\"COMPUTED_VALUE\"\"\"),\"Navire & Fort\")","v":"Navire & Fort"},null,{"$f":"IFERROR(__xludf.DUMMYFUNCTION(\"\"\"COMPUTED_VALUE\"\"\"),\"PAF non reçue\")","v":"PAF non reçue"},{"$f":"IFERROR(__xludf.DUMMYFUNCTION(\"\"\"COMPUTED_VALUE\"\"\"),\"non reçue\")","v":"non reçue"},{"$f":"IFERROR(__xludf.DUMMYFUNCTION(\"\"\"COMPUTED_VALUE\"\"\"),\"R.A.S.\")","v":"R.A.S."},{"$f":"IFERROR(__xludf.DUMMYFUNCTION(\"\"\"COMPUTED_VALUE\"\"\"),\"samedi\")","v":"samedi"},{"$f":"IFERROR(__xludf.DUMMYFUNCTION(\"\"\"COMPUTED_VALUE\"\"\"),\"Reste\")","v":"Reste"}]
[{"$f":"IFERROR(__xludf.DUMMYFUNCTION(\"\"\"COMPUTED_VALUE\"\"\"),45677.0)","v":"2025-01-20"},{"$f":"IFERROR(__xludf.DUMMYFUNCTION(\"\"\"COMPUTED_VALUE\"\"\"),\"Pressoir\")","v":"Pressoir"},{"$f":"IFERROR(__xludf.DUMMYFUNCTION(\"\"\"COMPUTED_VALUE\"\"\"),\"Valentine\")","v":"Valentine"},{"$f":"IFERROR(__xludf.DUMMYFUNCTION(\"\"\"COMPUTED_VALUE\"\"\"),\"F\")","v":"F"},{"$f":"IFERROR(__xludf.DUMMYFUNCTION(\"\"\"COMPUTED_VALUE\"\"\"),26.0)","v":26},{"$f":"IFERROR(__xludf.DUMMYFUNCTION(\"\"\"COMPUTED_VALUE\"\"\"),\"valentine.pressoir@gmail.com\")","v":"valentine.pressoir@gmail.com"},{"$f":"IFERROR(__xludf.DUMMYFUNCTION(\"\"\"COMPUTED_VALUE\"\"\"),\"Valentine \")","v":"Valentine "},{"$f":"IFERROR(__xludf.DUMMYFUNCTION(\"\"\"COMPUTED_VALUE\"\"\"),\"0645130094\")","v":"0645130094"},{"$f":"IFERROR(__xludf.DUMMYFUNCTION(\"\"\"COMPUTED_VALUE\"\"\"),\"PJ+PNJ\")","v":"PJ+PNJ"},{"$f":"IFERROR(__xludf.DUMMYFUNCTION(\"\"\"COMPUTED_VALUE\"\"\"),\"-\")","v":"-"},{"$f":"IFERROR(__xludf.DUMMYFUNCTION(\"\"\"COMPUTED_VALUE\"\"\"),\"juin\")","v":"juin"},{"$f":"IFERROR(__xludf.DUMMYFUNCTION(\"\"\"COMPUTED_VALUE\"\"\"),\"Seulement au fort\")","v":"Seulement au fort"},{"$f":"IFERROR(__xludf.DUMMYFUNCTION(\"\"\"COMPUTED_VALUE\"\"\"),\"OK\")","v":"OK"},{"$f":"IFERROR(__xludf.DUMMYFUNCTION(\"\"\"COMPUTED_VALUE\"\"\"),\"OK\")","v":"OK"},{"$f":"IFERROR(__xludf.DUMMYFUNCTION(\"\"\"COMPUTED_VALUE\"\"\"),\"juin\")","v":"juin"},{"$f":"IFERROR(__xludf.DUMMYFUNCTION(\"\"\"COMPUTED_VALUE\"\"\"),\"Fort seulement\")","v":"Fort seulement"},null,{"$f":"IFERROR(__xludf.DUMMYFUNCTION(\"\"\"COMPUTED_VALUE\"\"\"),\"PAF non reçue\")","v":"PAF non reçue"},{"$f":"IFERROR(__xludf.DUMMYFUNCTION(\"\"\"COMPUTED_VALUE\"\"\"),\"non reçue\")","v":"non reçue"},{"$f":"IFERROR(__xludf.DUMMYFUNCTION(\"\"\"COMPUTED_VALUE\"\"\"),\"R.A.S.\")","v":"R.A.S."},{"$f":"IFERROR(__xludf.DUMMYFUNCTION(\"\"\"COMPUTED_VALUE\"\"\"),\"samedi\")","v":"samedi"},{"$f":"IFERROR(__xludf.DUMMYFUNCTION(\"\"\"COMPUTED_VALUE\"\"\"),\"Reste\")","v":"Reste"}]
[{"$f":"IFERROR(__xludf.DUMMYFUNCTION(\"\"\"COMPUTED_VALUE\"\"\"),45678.0)","v":"2025-01-21"},{"$f":"IFERROR(__xludf.DUMMYFUNCTION(\"\"\"COMPUTED_VALUE\"\"\"),\"VOINOT\")","v":"VOINOT"},{"$f":"IFERROR(__xludf.DUMMYFUNCTION(\"\"\"COMPUTED_VALUE\"\"\"),\"Sébastien\")","v":"Sébastien"},{"$f":"IFERROR(__xludf.DUMMYFUNCTION(\"\"\"COMPUTED_VALUE\"\"\"),\"H\")","v":"H"},{"$f":"IFERROR(__xludf.DUMMYFUNCTION(\"\"\"COMPUTED_VALUE\"\"\"),50.0)","v":50},{"$f":"IFERROR(__xludf.DUMMYFUNCTION(\"\"\"COMPUTED_VALUE\"\"\"),\"sebvoinot@yahoo.fr\")","v":"sebvoinot@yahoo.fr"},{"$f":"IFERROR(__xludf.DUMMYFUNCTION(\"\"\"COMPUTED_VALUE\"\"\"),\"Sébastien VOINOT\")","v":"Sébastien VOINOT"},{"$f":"IFERROR(__xludf.DUMMYFUNCTION(\"\"\"COMPUTED_VALUE\"\"\"),\"0603087308\")","v":"0603087308"},{"$f":"IFERROR(__xludf.DUMMYFUNCTION(\"\"\"COMPUTED_VALUE\"\"\"),\"Pur PJ\")","v":"Pur PJ"},{"$f":"IFERROR(__xludf.DUMMYFUNCTION(\"\"\"COMPUTED_VALUE\"\"\"),\"-\")","v":"-"},{"$f":"IFERROR(__xludf.DUMMYFUNCTION(\"\"\"COMPUTED_VALUE\"\"\"),\"septembre\")","v":"septembre"},{"$f":"IFERROR(__xludf.DUMMYFUNCTION(\"\"\"COMPUTED_VALUE\"\"\"),\"Navire et fort\")","v":"Navire et fort"},{"$f":"IFERROR(__xludf.DUMMYFUNCTION(\"\"\"COMPUTED_VALUE\"\"\"),\"OK\")","v":"OK"},{"$f":"IFERROR(__xludf.DUMMYFUNCTION(\"\"\"COMPUTED_VALUE\"\"\"),\"OK\")","v":"OK"},{"$f":"IFERROR(__xludf.DUMMYFUNCTION(\"\"\"COMPUTED_VALUE\"\"\"),\"septembre\")","v":"septembre"},{"$f":"IFERROR(__xludf.DUMMYFUNCTION(\"\"\"COMPUTED_VALUE\"\"\"),\"Navire & Fort\")","v":"Navire & Fort"},{"$f":"IFERROR(__xludf.DUMMYFUNCTION(\"\"\"COMPUTED_VALUE\"\"\"),400.0)","v":400},{"$f":"IFERROR(__xludf.DUMMYFUNCTION(\"\"\"COMPUTED_VALUE\"\"\"),\"PAF finalisée\")","v":"PAF finalisée"},{"$f":"IFERROR(__xludf.DUMMYFUNCTION(\"\"\"COMPUTED_VALUE\"\"\"),\"non reçue\")","v":"non reçue"},{"$f":"IFERROR(__xludf.DUMMYFUNCTION(\"\"\"COMPUTED_VALUE\"\"\"),\"R.A.S.\")","v":"R.A.S."},{"$f":"IFERROR(__xludf.DUMMYFUNCTION(\"\"\"COMPUTED_VALUE\"\"\"),\"samedi\")","v":"samedi"},{"$f":"IFERROR(__xludf.DUMMYFUNCTION(\"\"\"COMPUTED_VALUE\"\"\"),\"Reste\")","v":"Reste"}]
[{"$f":"IFERROR(__xludf.DUMMYFUNCTION(\"\"\"COMPUTED_VALUE\"\"\"),45678.0)","v":"2025-01-21"},{"$f":"IFERROR(__xludf.DUMMYFUNCTION(\"\"\"COMPUTED_VALUE\"\"\"),\"Moulin\")","v":"Moulin"},{"$f":"IFERROR(__xludf.DUMMYFUNCTION(\"\"\"COMPUTED_VALUE\"\"\"),\"Philippe\")","v":"Philippe"},{"$f":"IFERROR(__xludf.DUMMYFUNCTION(\"\"\"COMPUTED_VALUE\"\"\"),\"H\")","v":"H"},{"$f":"IFERROR(__xludf.DUMMYFUNCTION(\"\"\"COMPUTED_VALUE\"\"\"),54.0)","v":54},{"$f":"IFERROR(__xludf.DUMMYFUNCTION(\"\"\"COMPUTED_VALUE\"\"\"),\"moulin.philippe@gmail.com\")","v":"moulin.philippe@gmail.com"},{"$f":"IFERROR(__xludf.DUMMYFUNCTION(\"\"\"COMPUTED_VALUE\"\"\"),\"https://www.facebook.com/moulinp1\")","v":"https://www.facebook.com/moulinp1"},{"$f":"IFERROR(__xludf.DUMMYFUNCTION(\"\"\"COMPUTED_VALUE\"\"\"),\"0662476913\")","v":"0662476913"},{"$f":"IFERROR(__xludf.DUMMYFUNCTION(\"\"\"COMPUTED_VALUE\"\"\"),\"PJ+PNJ\")","v":"PJ+PNJ"},{"$f":"IFERROR(__xludf.DUMMYFUNCTION(\"\"\"COMPUTED_VALUE\"\"\"),\"-\")","v":"-"},{"$f":"IFERROR(__xludf.DUMMYFUNCTION(\"\"\"COMPUTED_VALUE\"\"\"),\"Non précisé\")","v":"Non précisé"},{"$f":"IFERROR(__xludf.DUMMYFUNCTION(\"\"\"COMPUTED_VALUE\"\"\"),\"Navire et fort\")","v":"Navire et fort"},{"$f":"IFERROR(__xludf.DUMMYFUNCTION(\"\"\"COMPUTED_VALUE\"\"\"),\"OK\")","v":"OK"},{"$f":"IFERROR(__xludf.DUMMYFUNCTION(\"\"\"COMPUTED_VALUE\"\"\"),\"OK\")","v":"OK"},{"$f":"IFERROR(__xludf.DUMMYFUNCTION(\"\"\"COMPUTED_VALUE\"\"\"),\"septembre\")","v":"septembre"},{"$f":"IFERROR(__xludf.DUMMYFUNCTION(\"\"\"COMPUTED_VALUE\"\"\"),\"Navire & Fort\")","v":"Navire & Fort"},{"$f":"IFERROR(__xludf.DUMMYFUNCTION(\"\"\"COMPUTED_VALUE\"\"\"),400.0)","v":400},{"$f":"IFERROR(__xludf.DUMMYFUNCTION(\"\"\"COMPUTED_VALUE\"\"\"),\"PAF finalisée\")","v":"PAF finalisée"},{"$f":"IFERROR(__xludf.DUMMYFUNCTION(\"\"\"COMPUTED_VALUE\"\"\"),\"non reçue\")","v":"non reçue"},{"$f":"IFERROR(__xludf.DUMMYFUNCTION(\"\"\"COMPUTED_VALUE\"\"\"),\"R.A.S.\")","v":"R.A.S."},{"$f":"IFERROR(__xludf.DUMMYFUNCTION(\"\"\"COMPUTED_VALUE\"\"\"),\"samedi\")","v":"samedi"},{"$f":"IFERROR(__xludf.DUMMYFUNCTION(\"\"\"COMPUTED_VALUE\"\"\"),\"Reste\")","v":"Reste"}]
[{"$f":"IFERROR(__xludf.DUMMYFUNCTION(\"\"\"COMPUTED_VALUE\"\"\"),45678.0)","v":"2025-01-21"},{"$f":"IFERROR(__xludf.DUMMYFUNCTION(\"\"\"COMPUTED_VALUE\"\"\"),\"Rys\")","v":"Rys"},{"$f":"IFERROR(__xludf.DUMMYFUNCTION(\"\"\"COMPUTED_VALUE\"\"\"),\"Ninon\")","v":"Ninon"},{"$f":"IFERROR(__xludf.DUMMYFUNCTION(\"\"\"COMPUTED_VALUE\"\"\"),\"F\")","v":"F"},{"$f":"IFERROR(__xludf.DUMMYFUNCTION(\"\"\"COMPUTED_VALUE\"\"\"),35.0)","v":35},{"$f":"IFERROR(__xludf.DUMMYFUNCTION(\"\"\"COMPUTED_VALUE\"\"\"),\"ninon.rys@gmail.com\")","v":"ninon.rys@gmail.com"},{"$f":"IFERROR(__xludf.DUMMYFUNCTION(\"\"\"COMPUTED_VALUE\"\"\"),\"Ninon Ysr\")","v":"Ninon Ysr"},{"$f":"IFERROR(__xludf.DUMMYFUNCTION(\"\"\"COMPUTED_VALUE\"\"\"),\"0625906212\")","v":"0625906212"},{"$f":"IFERROR(__xludf.DUMMYFUNCTION(\"\"\"COMPUTED_VALUE\"\"\"),\"PJ+PNJ\")","v":"PJ+PNJ"},{"$f":"IFERROR(__xludf.DUMMYFUNCTION(\"\"\"COMPUTED_VALUE\"\"\"),\"-\")","v":"-"},{"$f":"IFERROR(__xludf.DUMMYFUNCTION(\"\"\"COMPUTED_VALUE\"\"\"),\"juin\")","v":"juin"},{"$f":"IFERROR(__xludf.DUMMYFUNCTION(\"\"\"COMPUTED_VALUE\"\"\"),\"Peu importe\")","v":"Peu importe"},{"$f":"IFERROR(__xludf.DUMMYFUNCTION(\"\"\"COMPUTED_VALUE\"\"\"),\"OK\")","v":"OK"},{"$f":"IFERROR(__xludf.DUMMYFUNCTION(\"\"\"COMPUTED_VALUE\"\"\"),\"OK\")","v":"OK"},{"$f":"IFERROR(__xludf.DUMMYFUNCTION(\"\"\"COMPUTED_VALUE\"\"\"),\"juin\")","v":"juin"},{"$f":"IFERROR(__xludf.DUMMYFUNCTION(\"\"\"COMPUTED_VALUE\"\"\"),\"Navire & Fort\")","v":"Navire & Fort"},null,{"$f":"IFERROR(__xludf.DUMMYFUNCTION(\"\"\"COMPUTED_VALUE\"\"\"),\"PAF non reçue\")","v":"PAF non reçue"},{"$f":"IFERROR(__xludf.DUMMYFUNCTION(\"\"\"COMPUTED_VALUE\"\"\"),\"non reçue\")","v":"non reçue"},{"$f":"IFERROR(__xludf.DUMMYFUNCTION(\"\"\"COMPUTED_VALUE\"\"\"),\"R.A.S.\")","v":"R.A.S."},{"$f":"IFERROR(__xludf.DUMMYFUNCTION(\"\"\"COMPUTED_VALUE\"\"\"),\"samedi\")","v":"samedi"},{"$f":"IFERROR(__xludf.DUMMYFUNCTION(\"\"\"COMPUTED_VALUE\"\"\"),\"Reste\")","v":"Reste"}]
[{"$f":"IFERROR(__xludf.DUMMYFUNCTION(\"\"\"COMPUTED_VALUE\"\"\"),45678.0)","v":"2025-01-21"},{"$f":"IFERROR(__xludf.DUMMYFUNCTION(\"\"\"COMPUTED_VALUE\"\"\"),\"picano\")","v":"picano"},{"$f":"IFERROR(__xludf.DUMMYFUNCTION(\"\"\"COMPUTED_VALUE\"\"\"),\"benjamin\")","v":"benjamin"},{"$f":"IFERROR(__xludf.DUMMYFUNCTION(\"\"\"COMPUTED_VALUE\"\"\"),\"H\")","v":"H"},{"$f":"IFERROR(__xludf.DUMMYFUNCTION(\"\"\"COMPUTED_VALUE\"\"\"),43.0)","v":43},{"$f":"IFERROR(__xludf.DUMMYFUNCTION(\"\"\"COMPUTED_VALUE\"\"\"),\"hulrek@gmail.com\")","v":"hulrek@gmail.com"},{"$f":"IFERROR(__xludf.DUMMYFUNCTION(\"\"\"COMPUTED_VALUE\"\"\"),\"benjamin picano\")","v":"benjamin picano"},{"$f":"IFERROR(__xludf.DUMMYFUNCTION(\"\"\"COMPUTED_VALUE\"\"\"),\"0664754371\")","v":"0664754371"},{"$f":"IFERROR(__xludf.DUMMYFUNCTION(\"\"\"COMPUTED_VALUE\"\"\"),\"Pur PJ\")","v":"Pur PJ"},{"$f":"IFERROR(__xludf.DUMMYFUNCTION(\"\"\"COMPUTED_VALUE\"\"\"),\"-\")","v":"-"},{"$f":"IFERROR(__xludf.DUMMYFUNCTION(\"\"\"COMPUTED_VALUE\"\"\"),\"juin\")","v":"juin"},{"$f":"IFERROR(__xludf.DUMMYFUNCTION(\"\"\"COMPUTED_VALUE\"\"\"),\"Navire et fort\")","v":"Navire et fort"},{"$f":"IFERROR(__xludf.DUMMYFUNCTION(\"\"\"COMPUTED_VALUE\"\"\"),\"OK\")","v":"OK"},{"$f":"IFERROR(__xludf.DUMMYFUNCTION(\"\"\"COMPUTED_VALUE\"\"\"),\"OK\")","v":"OK"},{"$f":"IFERROR(__xludf.DUMMYFUNCTION(\"\"\"COMPUTED_VALUE\"\"\"),\"juin\")","v":"juin"},{"$f":"IFERROR(__xludf.DUMMYFUNCTION(\"\"\"COMPUTED_VALUE\"\"\"),\"Navire & Fort\")","v":"Navire & Fort"},null,{"$f":"IFERROR(__xludf.DUMMYFUNCTION(\"\"\"COMPUTED_VALUE\"\"\"),\"PAF non reçue\")","v":"PAF non reçue"},{"$f":"IFERROR(__xludf.DUMMYFUNCTION(\"\"\"COMPUTED_VALUE\"\"\"),\"non reçue\")","v":"non reçue"},{"$f":"IFERROR(__xludf.DUMMYFUNCTION(\"\"\"COMPUTED_VALUE\"\"\"),\"R.A.S.\")","v":"R.A.S."},{"$f":"IFERROR(__xludf.DUMMYFUNCTION(\"\"\"COMPUTED_VALUE\"\"\"),\"samedi\")","v":"samedi"},{"$f":"IFERROR(__xludf.DUMMYFUNCTION(\"\"\"COMPUTED_VALUE\"\"\"),\"Reste\")","v":"Reste"}]
[{"$f":"IFERROR(__xludf.DUMMYFUNCTION(\"\"\"COMPUTED_VALUE\"\"\"),45679.0)","v":"2025-01-22"},{"$f":"IFERROR(__xludf.DUMMYFUNCTION(\"\"\"COMPUTED_VALUE\"\"\"),\"Glapa\")","v":"Glapa"},{"$f":"IFERROR(__xludf.DUMMYFUNCTION(\"\"\"COMPUTED_VALUE\"\"\"),\"Denis\")","v":"Denis"},{"$f":"IFERROR(__xludf.DUMMYFUNCTION(\"\"\"COMPUTED_VALUE\"\"\"),\"H\")","v":"H"},{"$f":"IFERROR(__xludf.DUMMYFUNCTION(\"\"\"COMPUTED_VALUE\"\"\"),42.0)","v":42},{"$f":"IFERROR(__xludf.DUMMYFUNCTION(\"\"\"COMPUTED_VALUE\"\"\"),\"d.glapa@laposte.net\")","v":"d.glapa@laposte.net"},{"$f":"IFERROR(__xludf.DUMMYFUNCTION(\"\"\"COMPUTED_VALUE\"\"\"),\"Denis Carcajou Bondissant\")","v":"Denis Carcajou Bondissant"},{"$f":"IFERROR(__xludf.DUMMYFUNCTION(\"\"\"COMPUTED_VALUE\"\"\"),\"0660570605\")","v":"0660570605"},{"$f":"IFERROR(__xludf.DUMMYFUNCTION(\"\"\"COMPUTED_VALUE\"\"\"),\"PJ+PNJ\")","v":"PJ+PNJ"},{"$f":"IFERROR(__xludf.DUMMYFUNCTION(\"\"\"COMPUTED_VALUE\"\"\"),\"-\")","v":"-"},{"$f":"IFERROR(__xludf.DUMMYFUNCTION(\"\"\"COMPUTED_VALUE\"\"\"),\"juin\")","v":"juin"},{"$f":"IFERROR(__xludf.DUMMYFUNCTION(\"\"\"COMPUTED_VALUE\"\"\"),\"Seulement au fort\")","v":"Seulement au fort"},{"$f":"IFERROR(__xludf.DUMMYFUNCTION(\"\"\"COMPUTED_VALUE\"\"\"),\"OK\")","v":"OK"},{"$f":"IFERROR(__xludf.DUMMYFUNCTION(\"\"\"COMPUTED_VALUE\"\"\"),\"OK\")","v":"OK"},{"$f":"IFERROR(__xludf.DUMMYFUNCTION(\"\"\"COMPUTED_VALUE\"\"\"),\"juin\")","v":"juin"},{"$f":"IFERROR(__xludf.DUMMYFUNCTION(\"\"\"COMPUTED_VALUE\"\"\"),\"Fort seulement\")","v":"Fort seulement"},null,{"$f":"IFERROR(__xludf.DUMMYFUNCTION(\"\"\"COMPUTED_VALUE\"\"\"),\"PAF non reçue\")","v":"PAF non reçue"},{"$f":"IFERROR(__xludf.DUMMYFUNCTION(\"\"\"COMPUTED_VALUE\"\"\"),\"non reçue\")","v":"non reçue"},{"$f":"IFERROR(__xludf.DUMMYFUNCTION(\"\"\"COMPUTED_VALUE\"\"\"),\"R.A.S.\")","v":"R.A.S."},{"$f":"IFERROR(__xludf.DUMMYFUNCTION(\"\"\"COMPUTED_VALUE\"\"\"),\"samedi\")","v":"samedi"},{"$f":"IFERROR(__xludf.DUMMYFUNCTION(\"\"\"COMPUTED_VALUE\"\"\"),\"Reste\")","v":"Reste"}]
[{"$f":"IFERROR(__xludf.DUMMYFUNCTION(\"\"\"COMPUTED_VALUE\"\"\"),45680.0)","v":"2025-01-23"},{"$f":"IFERROR(__xludf.DUMMYFUNCTION(\"\"\"COMPUTED_VALUE\"\"\"),\" Rollin\")","v":" Rollin"},{"$f":"IFERROR(__xludf.DUMMYFUNCTION(\"\"\"COMPUTED_VALUE\"\"\"),\"Cecile\")","v":"Cecile"},{"$f":"IFERROR(__xludf.DUMMYFUNCTION(\"\"\"COMPUTED_VALUE\"\"\"),\"F\")","v":"F"},{"$f":"IFERROR(__xludf.DUMMYFUNCTION(\"\"\"COMPUTED_VALUE\"\"\"),48.0)","v":48},{"$f":"IFERROR(__xludf.DUMMYFUNCTION(\"\"\"COMPUTED_VALUE\"\"\"),\"cecile.rollin@gmail.com\")","v":"cecile.rollin@gmail.com"},{"$f":"IFERROR(__xludf.DUMMYFUNCTION(\"\"\"COMPUTED_VALUE\"\"\"),\"Cécilia Thor Diaz\")","v":"Cécilia Thor Diaz"},{"$f":"IFERROR(__xludf.DUMMYFUNCTION(\"\"\"COMPUTED_VALUE\"\"\"),\"0615362940\")","v":"0615362940"},{"$f":"IFERROR(__xludf.DUMMYFUNCTION(\"\"\"COMPUTED_VALUE\"\"\"),\"Pur PJ\")","v":"Pur PJ"},{"$f":"IFERROR(__xludf.DUMMYFUNCTION(\"\"\"COMPUTED_VALUE\"\"\"),\"-\")","v":"-"},{"$f":"IFERROR(__xludf.DUMMYFUNCTION(\"\"\"COMPUTED_VALUE\"\"\"),\"septembre\")","v":"septembre"},{"$f":"IFERROR(__xludf.DUMMYFUNCTION(\"\"\"COMPUTED_VALUE\"\"\"),\"Navire et fort\")","v":"Navire et fort"},{"$f":"IFERROR(__xludf.DUMMYFUNCTION(\"\"\"COMPUTED_VALUE\"\"\"),\"OK\")","v":"OK"},{"$f":"IFERROR(__xludf.DUMMYFUNCTION(\"\"\"COMPUTED_VALUE\"\"\"),\"OK\")","v":"OK"},{"$f":"IFERROR(__xludf.DUMMYFUNCTION(\"\"\"COMPUTED_VALUE\"\"\"),\"septembre\")","v":"septembre"},{"$f":"IFERROR(__xludf.DUMMYFUNCTION(\"\"\"COMPUTED_VALUE\"\"\"),\"Navire & Fort\")","v":"Navire & Fort"},{"$f":"IFERROR(__xludf.DUMMYFUNCTION(\"\"\"COMPUTED_VALUE\"\"\"),400.0)","v":400},{"$f":"IFERROR(__xludf.DUMMYFUNCTION(\"\"\"COMPUTED_VALUE\"\"\"),\"PAF finalisée\")","v":"PAF finalisée"},{"$f":"IFERROR(__xludf.DUMMYFUNCTION(\"\"\"COMPUTED_VALUE\"\"\"),\"non reçue\")","v":"non reçue"},{"$f":"IFERROR(__xludf.DUMMYFUNCTION(\"\"\"COMPUTED_VALUE\"\"\"),\"R.A.S.\")","v":"R.A.S."},{"$f":"IFERROR(__xludf.DUMMYFUNCTION(\"\"\"COMPUTED_VALUE\"\"\"),\"samedi\")","v":"samedi"},{"$f":"IFERROR(__xludf.DUMMYFUNCTION(\"\"\"COMPUTED_VALUE\"\"\"),\"NON\")","v":"NON"}]
{"$rows_empty":72}
[null,null,"hommes:",{"$f":"COUNTIF(D3:D221, \"H\")","v":91},null,null,null,"souhait pur PJ",{"$f":"COUNTIF(I3:I221, \"pur PJ\")","v":73},"uniq, juin",{"$f":"COUNTIF(K3:K221, \"juin\")","v":51},null,"==> juin :",{"$f":"COUNTIF(N3:N221, \"juin\")","v":0},null,"PAF finalisée",{"$f":"COUNTIF(R3:R221, \"PAF finalisée\")","v":72}]
[null,null,"femmes :",{"$f":"COUNTIF(D3:D221, \"F\")","v":56},null,null,null,"souhait PJ+PNJ",{"$f":"COUNTIF(I3:I221, \"PJ+PNJ\")","v":71},"uniq, septembre",{"$f":"COUNTIF(K3:K221, \"septembre\")","v":34},null,"==> septembre :",{"$f":"COUNTIF(N3:N221, \"septembre\")","v":0},null,"PAF partielle",{"$f":"COUNTIF(R3:R222, \"PAF partielle\")","v":32}]
[{"$nulls":7},"souhait PNJ",{"$f":"COUNTIF(I3:I221, \"PNJ\")","v":3},"les deux",{"$f":"B1-K225-K223-K222","v":48},null,"non attribué :",{"$f":"B1-N223-N222","v":147},null,"PAF offerte",{"$f":"COUNTIF(R3:R222, \"gratuit\")","v":3}]
[{"$nulls":9},"sans avis",{"$f":"COUNTIF(K15:K221, \"Non précisé\")","v":14},null,"nb OK :",{"$f":"COUNTIF(M3:M221, \"ok\")","v":147},null,"PAF non versée",{"$f":"B1-Q223-Q224-Q222","v":40}]
[{"$nulls":10},"Navire & Fort :",{"$f":"COUNTIF(L3:L221, \"Navire et Fort\")","v":93},null,"==> Navire & Fort :",{"$f":"COUNTIF(O3:O221, \"Navire & Fort\")","v":0}]
[{"$nulls":10},"Fort seulement :",{"$f":"COUNTIF(L3:L221, \"Seulement au Fort\")","v":23},null,"==> Fort seulement :",{"$f":"B1-O226","v":147}]
[{"$nulls":10},"Peu importe",{"$f":"COUNTIF(L3:L221, \"peu importe\")","v":31}]

{"sheet":"stats validés","index":6,"n_rows":171,"n_cols":11,"rows_kept":171,"cut":false,"hidden":false,"merged":[[0,0,0,3],[0,5,0,9]]}
["nombre de personnes ayant  un 'OK' dans le tableau de bord  :",null,null,null,{"$f":"'validés'!B1","v":147},"nombre de personnes ayant versé PAF intégralement ou partiellement (ou offerte) :",{"$nulls":4},{"$f":"'validés'!Q222+'validés'!Q223+'validés'!Q224","v":107}]
{"$rows_empty":97}
["Intensité des inscriptions"]
[{"$f":"IFERROR(__xludf.DUMMYFUNCTION(\"QUERY('remplissage du jeu'!A14:A216,\"\"SELECT A, COUNT(A) GROUP BY A ORDER BY A ASC\"\")\"),\"\")","v":""},{"$f":"IFERROR(__xludf.DUMMYFUNCTION(\"\"\"COMPUTED_VALUE\"\"\"),\"count \")","v":"count "}]
[null,{"$f":"IFERROR(__xludf.DUMMYFUNCTION(\"\"\"COMPUTED_VALUE\"\"\"),0.0)","v":0}]
[{"$f":"IFERROR(__xludf.DUMMYFUNCTION(\"\"\"COMPUTED_VALUE\"\"\"),45303.0)","v":"2024-01-12"},{"$f":"IFERROR(__xludf.DUMMYFUNCTION(\"\"\"COMPUTED_VALUE\"\"\"),21.0)","v":21}]
[{"$f":"IFERROR(__xludf.DUMMYFUNCTION(\"\"\"COMPUTED_VALUE\"\"\"),45304.0)","v":"2024-01-13"},{"$f":"IFERROR(__xludf.DUMMYFUNCTION(\"\"\"COMPUTED_VALUE\"\"\"),3.0)","v":3}]
[{"$f":"IFERROR(__xludf.DUMMYFUNCTION(\"\"\"COMPUTED_VALUE\"\"\"),45305.0)","v":"2024-01-14"},{"$f":"IFERROR(__xludf.DUMMYFUNCTION(\"\"\"COMPUTED_VALUE\"\"\"),3.0)","v":3}]
[{"$f":"IFERROR(__xludf.DUMMYFUNCTION(\"\"\"COMPUTED_VALUE\"\"\"),45306.0)","v":"2024-01-15"},{"$f":"IFERROR(__xludf.DUMMYFUNCTION(\"\"\"COMPUTED_VALUE\"\"\"),1.0)","v":1}]
[{"$f":"IFERROR(__xludf.DUMMYFUNCTION(\"\"\"COMPUTED_VALUE\"\"\"),45310.0)","v":"2024-01-19"},{"$f":"IFERROR(__xludf.DUMMYFUNCTION(\"\"\"COMPUTED_VALUE\"\"\"),3.0)","v":3}]
[{"$f":"IFERROR(__xludf.DUMMYFUNCTION(\"\"\"COMPUTED_VALUE\"\"\"),45312.0)","v":"2024-01-21"},{"$f":"IFERROR(__xludf.DUMMYFUNCTION(\"\"\"COMPUTED_VALUE\"\"\"),1.0)","v":1}]
[{"$f":"IFERROR(__xludf.DUMMYFUNCTION(\"\"\"COMPUTED_VALUE\"\"\"),45313.0)","v":"2024-01-22"},{"$f":"IFERROR(__xludf.DUMMYFUNCTION(\"\"\"COMPUTED_VALUE\"\"\"),1.0)","v":1}]
[{"$f":"IFERROR(__xludf.DUMMYFUNCTION(\"\"\"COMPUTED_VALUE\"\"\"),45315.0)","v":"2024-01-24"},{"$f":"IFERROR(__xludf.DUMMYFUNCTION(\"\"\"COMPUTED_VALUE\"\"\"),1.0)","v":1}]
[{"$f":"IFERROR(__xludf.DUMMYFUNCTION(\"\"\"COMPUTED_VALUE\"\"\"),45326.0)","v":"2024-02-04"},{"$f":"IFERROR(__xludf.DUMMYFUNCTION(\"\"\"COMPUTED_VALUE\"\"\"),2.0)","v":2}]
[{"$f":"IFERROR(__xludf.DUMMYFUNCTION(\"\"\"COMPUTED_VALUE\"\"\"),45332.0)","v":"2024-02-10"},{"$f":"IFERROR(__xludf.DUMMYFUNCTION(\"\"\"COMPUTED_VALUE\"\"\"),5.0)","v":5}]
[{"$f":"IFERROR(__xludf.DUMMYFUNCTION(\"\"\"COMPUTED_VALUE\"\"\"),45341.0)","v":"2024-02-19"},{"$f":"IFERROR(__xludf.DUMMYFUNCTION(\"\"\"COMPUTED_VALUE\"\"\"),1.0)","v":1}]
[{"$f":"IFERROR(__xludf.DUMMYFUNCTION(\"\"\"COMPUTED_VALUE\"\"\"),45342.0)","v":"2024-02-20"},{"$f":"IFERROR(__xludf.DUMMYFUNCTION(\"\"\"COMPUTED_VALUE\"\"\"),3.0)","v":3}]
[{"$f":"IFERROR(__xludf.DUMMYFUNCTION(\"\"\"COMPUTED_VALUE\"\"\"),45363.0)","v":"2024-03-12"},{"$f":"IFERROR(__xludf.DUMMYFUNCTION(\"\"\"COMPUTED_VALUE\"\"\"),1.0)","v":1}]
[{"$f":"IFERROR(__xludf.DUMMYFUNCTION(\"\"\"COMPUTED_VALUE\"\"\"),45366.0)","v":"2024-03-15"},{"$f":"IFERROR(__xludf.DUMMYFUNCTION(\"\"\"COMPUTED_VALUE\"\"\"),1.0)","v":1}]
[{"$f":"IFERROR(__xludf.DUMMYFUNCTION(\"\"\"COMPUTED_VALUE\"\"\"),45390.0)","v":"2024-04-08"},{"$f":"IFERROR(__xludf.DUMMYFUNCTION(\"\"\"COMPUTED_VALUE\"\"\"),1.0)","v":1}]
[{"$f":"IFERROR(__xludf.DUMMYFUNCTION(\"\"\"COMPUTED_VALUE\"\"\"),45446.0)","v":"2024-06-03"},{"$f":"IFERROR(__xludf.DUMMYFUNCTION(\"\"\"COMPUTED_VALUE\"\"\"),1.0)","v":1}]
[{"$f":"IFERROR(__xludf.DUMMYFUNCTION(\"\"\"COMPUTED_VALUE\"\"\"),45460.0)","v":"2024-06-17"},{"$f":"IFERROR(__xludf.DUMMYFUNCTION(\"\"\"COMPUTED_VALUE\"\"\"),1.0)","v":1}]
[{"$f":"IFERROR(__xludf.DUMMYFUNCTION(\"\"\"COMPUTED_VALUE\"\"\"),45461.0)","v":"2024-06-18"},{"$f":"IFERROR(__xludf.DUMMYFUNCTION(\"\"\"COMPUTED_VALUE\"\"\"),1.0)","v":1}]
[{"$f":"IFERROR(__xludf.DUMMYFUNCTION(\"\"\"COMPUTED_VALUE\"\"\"),45465.0)","v":"2024-06-22"},{"$f":"IFERROR(__xludf.DUMMYFUNCTION(\"\"\"COMPUTED_VALUE\"\"\"),1.0)","v":1}]
[{"$f":"IFERROR(__xludf.DUMMYFUNCTION(\"\"\"COMPUTED_VALUE\"\"\"),45494.0)","v":"2024-07-21"},{"$f":"IFERROR(__xludf.DUMMYFUNCTION(\"\"\"COMPUTED_VALUE\"\"\"),4.0)","v":4}]
[{"$f":"IFERROR(__xludf.DUMMYFUNCTION(\"\"\"COMPUTED_VALUE\"\"\"),45495.0)","v":"2024-07-22"},{"$f":"IFERROR(__xludf.DUMMYFUNCTION(\"\"\"COMPUTED_VALUE\"\"\"),7.0)","v":7}]
[{"$f":"IFERROR(__xludf.DUMMYFUNCTION(\"\"\"COMPUTED_VALUE\"\"\"),45496.0)","v":"2024-07-23"},{"$f":"IFERROR(__xludf.DUMMYFUNCTION(\"\"\"COMPUTED_VALUE\"\"\"),4.0)","v":4}]
[{"$f":"IFERROR(__xludf.DUMMYFUNCTION(\"\"\"COMPUTED_VALUE\"\"\"),45497.0)","v":"2024-07-24"},{"$f":"IFERROR(__xludf.DUMMYFUNCTION(\"\"\"COMPUTED_VALUE\"\"\"),1.0)","v":1}]
[{"$f":"IFERROR(__xludf.DUMMYFUNCTION(\"\"\"COMPUTED_VALUE\"\"\"),45498.0)","v":"2024-07-25"},{"$f":"IFERROR(__xludf.DUMMYFUNCTION(\"\"\"COMPUTED_VALUE\"\"\"),2.0)","v":2}]
[{"$f":"IFERROR(__xludf.DUMMYFUNCTION(\"\"\"COMPUTED_VALUE\"\"\"),45499.0)","v":"2024-07-26"},{"$f":"IFERROR(__xludf.DUMMYFUNCTION(\"\"\"COMPUTED_VALUE\"\"\"),1.0)","v":1}]
[{"$f":"IFERROR(__xludf.DUMMYFUNCTION(\"\"\"COMPUTED_VALUE\"\"\"),45508.0)","v":"2024-08-04"},{"$f":"IFERROR(__xludf.DUMMYFUNCTION(\"\"\"COMPUTED_VALUE\"\"\"),1.0)","v":1}]
[{"$f":"IFERROR(__xludf.DUMMYFUNCTION(\"\"\"COMPUTED_VALUE\"\"\"),45540.0)","v":"2024-09-05"},{"$f":"IFERROR(__xludf.DUMMYFUNCTION(\"\"\"COMPUTED_VALUE\"\"\"),2.0)","v":2}]
[{"$f":"IFERROR(__xludf.DUMMYFUNCTION(\"\"\"COMPUTED_VALUE\"\"\"),45542.0)","v":"2024-09-07"},{"$f":"IFERROR(__xludf.DUMMYFUNCTION(\"\"\"COMPUTED_VALUE\"\"\"),1.0)","v":1}]
[{"$f":"IFERROR(__xludf.DUMMYFUNCTION(\"\"\"COMPUTED_VALUE\"\"\"),45543.0)","v":"2024-09-08"},{"$f":"IFERROR(__xludf.DUMMYFUNCTION(\"\"\"COMPUTED_VALUE\"\"\"),1.0)","v":1}]
[{"$f":"IFERROR(__xludf.DUMMYFUNCTION(\"\"\"COMPUTED_VALUE\"\"\"),45544.0)","v":"2024-09-09"},{"$f":"IFERROR(__xludf.DUMMYFUNCTION(\"\"\"COMPUTED_VALUE\"\"\"),2.0)","v":2}]
[{"$f":"IFERROR(__xludf.DUMMYFUNCTION(\"\"\"COMPUTED_VALUE\"\"\"),45548.0)","v":"2024-09-13"},{"$f":"IFERROR(__xludf.DUMMYFUNCTION(\"\"\"COMPUTED_VALUE\"\"\"),1.0)","v":1}]
[{"$f":"IFERROR(__xludf.DUMMYFUNCTION(\"\"\"COMPUTED_VALUE\"\"\"),45549.0)","v":"2024-09-14"},{"$f":"IFERROR(__xludf.DUMMYFUNCTION(\"\"\"COMPUTED_VALUE\"\"\"),2.0)","v":2}]
[{"$f":"IFERROR(__xludf.DUMMYFUNCTION(\"\"\"COMPUTED_VALUE\"\"\"),45551.0)","v":"2024-09-16"},{"$f":"IFERROR(__xludf.DUMMYFUNCTION(\"\"\"COMPUTED_VALUE\"\"\"),3.0)","v":3}]
[{"$f":"IFERROR(__xludf.DUMMYFUNCTION(\"\"\"COMPUTED_VALUE\"\"\"),45553.0)","v":"2024-09-18"},{"$f":"IFERROR(__xludf.DUMMYFUNCTION(\"\"\"COMPUTED_VALUE\"\"\"),5.0)","v":5}]
[{"$f":"IFERROR(__xludf.DUMMYFUNCTION(\"\"\"COMPUTED_VALUE\"\"\"),45555.0)","v":"2024-09-20"},{"$f":"IFERROR(__xludf.DUMMYFUNCTION(\"\"\"COMPUTED_VALUE\"\"\"),3.0)","v":3}]
[{"$f":"IFERROR(__xludf.DUMMYFUNCTION(\"\"\"COMPUTED_VALUE\"\"\"),45556.0)","v":"2024-09-21"},{"$f":"IFERROR(__xludf.DUMMYFUNCTION(\"\"\"COMPUTED_VALUE\"\"\"),1.0)","v":1}]
[{"$f":"IFERROR(__xludf.DUMMYFUNCTION(\"\"\"COMPUTED_VALUE\"\"\"),45557.0)","v":"2024-09-22"},{"$f":"IFERROR(__xludf.DUMMYFUNCTION(\"\"\"COMPUTED_VALUE\"\"\"),2.0)","v":2}]
[{"$f":"IFERROR(__xludf.DUMMYFUNCTION(\"\"\"COMPUTED_VALUE\"\"\"),45558.0)","v":"2024-09-23"},{"$f":"IFERROR(__xludf.DUMMYFUNCTION(\"\"\"COMPUTED_VALUE\"\"\"),1.0)","v":1}]
[{"$f":"IFERROR(__xludf.DUMMYFUNCTION(\"\"\"COMPUTED_VALUE\"\"\"),45560.0)","v":"2024-09-25"},{"$f":"IFERROR(__xludf.DUMMYFUNCTION(\"\"\"COMPUTED_VALUE\"\"\"),2.0)","v":2}]
[{"$f":"IFERROR(__xludf.DUMMYFUNCTION(\"\"\"COMPUTED_VALUE\"\"\"),45564.0)","v":"2024-09-29"},{"$f":"IFERROR(__xludf.DUMMYFUNCTION(\"\"\"COMPUTED_VALUE\"\"\"),4.0)","v":4}]
[{"$f":"IFERROR(__xludf.DUMMYFUNCTION(\"\"\"COMPUTED_VALUE\"\"\"),45574.0)","v":"2024-10-09"},{"$f":"IFERROR(__xludf.DUMMYFUNCTION(\"\"\"COMPUTED_VALUE\"\"\"),1.0)","v":1}]
[{"$f":"IFERROR(__xludf.DUMMYFUNCTION(\"\"\"COMPUTED_VALUE\"\"\"),45576.0)","v":"2024-10-11"},{"$f":"IFERROR(__xludf.DUMMYFUNCTION(\"\"\"COMPUTED_VALUE\"\"\"),2.0)","v":2}]
[{"$f":"IFERROR(__xludf.DUMMYFUNCTION(\"\"\"COMPUTED_VALUE\"\"\"),45577.0)","v":"2024-10-12"},{"$f":"IFERROR(__xludf.DUMMYFUNCTION(\"\"\"COMPUTED_VALUE\"\"\"),2.0)","v":2}]
[{"$f":"IFERROR(__xludf.DUMMYFUNCTION(\"\"\"COMPUTED_VALUE\"\"\"),45581.0)","v":"2024-10-16"},{"$f":"IFERROR(__xludf.DUMMYFUNCTION(\"\"\"COMPUTED_VALUE\"\"\"),1.0)","v":1}]
[{"$f":"IFERROR(__xludf.DUMMYFUNCTION(\"\"\"COMPUTED_VALUE\"\"\"),45585.0)","v":"2024-10-20"},{"$f":"IFERROR(__xludf.DUMMYFUNCTION(\"\"\"COMPUTED_VALUE\"\"\"),2.0)","v":2}]
[{"$f":"IFERROR(__xludf.DUMMYFUNCTION(\"\"\"COMPUTED_VALUE\"\"\"),45586.0)","v":"2024-10-21"},{"$f":"IFERROR(__xludf.DUMMYFUNCTION(\"\"\"COMPUTED_VALUE\"\"\"),2.0)","v":2}]
[{"$f":"IFERROR(__xludf.DUMMYFUNCTION(\"\"\"COMPUTED_VALUE\"\"\"),45588.0)","v":"2024-10-23"},{"$f":"IFERROR(__xludf.DUMMYFUNCTION(\"\"\"COMPUTED_VALUE\"\"\"),1.0)","v":1}]
[{"$f":"IFERROR(__xludf.DUMMYFUNCTION(\"\"\"COMPUTED_VALUE\"\"\"),45596.0)","v":"2024-10-31"},{"$f":"IFERROR(__xludf.DUMMYFUNCTION(\"\"\"COMPUTED_VALUE\"\"\"),1.0)","v":1}]
[{"$f":"IFERROR(__xludf.DUMMYFUNCTION(\"\"\"COMPUTED_VALUE\"\"\"),45597.0)","v":"2024-11-01"},{"$f":"IFERROR(__xludf.DUMMYFUNCTION(\"\"\"COMPUTED_VALUE\"\"\"),1.0)","v":1}]
[{"$f":"IFERROR(__xludf.DUMMYFUNCTION(\"\"\"COMPUTED_VALUE\"\"\"),45605.0)","v":"2024-11-09"},{"$f":"IFERROR(__xludf.DUMMYFUNCTION(\"\"\"COMPUTED_VALUE\"\"\"),1.0)","v":1}]
[{"$f":"IFERROR(__xludf.DUMMYFUNCTION(\"\"\"COMPUTED_VALUE\"\"\"),45613.0)","v":"2024-11-17"},{"$f":"IFERROR(__xludf.DUMMYFUNCTION(\"\"\"COMPUTED_VALUE\"\"\"),1.0)","v":1}]
[{"$f":"IFERROR(__xludf.DUMMYFUNCTION(\"\"\"COMPUTED_VALUE\"\"\"),45617.0)","v":"2024-11-21"},{"$f":"IFERROR(__xludf.DUMMYFUNCTION(\"\"\"COMPUTED_VALUE\"\"\"),1.0)","v":1}]
[{"$f":"IFERROR(__xludf.DUMMYFUNCTION(\"\"\"COMPUTED_VALUE\"\"\"),45618.0)","v":"2024-11-22"},{"$f":"IFERROR(__xludf.DUMMYFUNCTION(\"\"\"COMPUTED_VALUE\"\"\"),1.0)","v":1}]
[{"$f":"IFERROR(__xludf.DUMMYFUNCTION(\"\"\"COMPUTED_VALUE\"\"\"),45642.0)","v":"2024-12-16"},{"$f":"IFERROR(__xludf.DUMMYFUNCTION(\"\"\"COMPUTED_VALUE\"\"\"),1.0)","v":1}]
[{"$f":"IFERROR(__xludf.DUMMYFUNCTION(\"\"\"COMPUTED_VALUE\"\"\"),45660.0)","v":"2025-01-03"},{"$f":"IFERROR(__xludf.DUMMYFUNCTION(\"\"\"COMPUTED_VALUE\"\"\"),1.0)","v":1}]
[{"$f":"IFERROR(__xludf.DUMMYFUNCTION(\"\"\"COMPUTED_VALUE\"\"\"),45661.0)","v":"2025-01-04"},{"$f":"IFERROR(__xludf.DUMMYFUNCTION(\"\"\"COMPUTED_VALUE\"\"\"),3.0)","v":3}]
[{"$f":"IFERROR(__xludf.DUMMYFUNCTION(\"\"\"COMPUTED_VALUE\"\"\"),45662.0)","v":"2025-01-05"},{"$f":"IFERROR(__xludf.DUMMYFUNCTION(\"\"\"COMPUTED_VALUE\"\"\"),1.0)","v":1}]
[{"$f":"IFERROR(__xludf.DUMMYFUNCTION(\"\"\"COMPUTED_VALUE\"\"\"),45663.0)","v":"2025-01-06"},{"$f":"IFERROR(__xludf.DUMMYFUNCTION(\"\"\"COMPUTED_VALUE\"\"\"),1.0)","v":1}]
[{"$f":"IFERROR(__xludf.DUMMYFUNCTION(\"\"\"COMPUTED_VALUE\"\"\"),45664.0)","v":"2025-01-07"},{"$f":"IFERROR(__xludf.DUMMYFUNCTION(\"\"\"COMPUTED_VALUE\"\"\"),1.0)","v":1}]
[{"$f":"IFERROR(__xludf.DUMMYFUNCTION(\"\"\"COMPUTED_VALUE\"\"\"),45669.0)","v":"2025-01-12"},{"$f":"IFERROR(__xludf.DUMMYFUNCTION(\"\"\"COMPUTED_VALUE\"\"\"),1.0)","v":1}]
[{"$f":"IFERROR(__xludf.DUMMYFUNCTION(\"\"\"COMPUTED_VALUE\"\"\"),45670.0)","v":"2025-01-13"},{"$f":"IFERROR(__xludf.DUMMYFUNCTION(\"\"\"COMPUTED_VALUE\"\"\"),1.0)","v":1}]
[{"$f":"IFERROR(__xludf.DUMMYFUNCTION(\"\"\"COMPUTED_VALUE\"\"\"),45671.0)","v":"2025-01-14"},{"$f":"IFERROR(__xludf.DUMMYFUNCTION(\"\"\"COMPUTED_VALUE\"\"\"),1.0)","v":1}]
[{"$f":"IFERROR(__xludf.DUMMYFUNCTION(\"\"\"COMPUTED_VALUE\"\"\"),45672.0)","v":"2025-01-15"},{"$f":"IFERROR(__xludf.DUMMYFUNCTION(\"\"\"COMPUTED_VALUE\"\"\"),1.0)","v":1}]
[{"$f":"IFERROR(__xludf.DUMMYFUNCTION(\"\"\"COMPUTED_VALUE\"\"\"),45673.0)","v":"2025-01-16"},{"$f":"IFERROR(__xludf.DUMMYFUNCTION(\"\"\"COMPUTED_VALUE\"\"\"),3.0)","v":3}]
[{"$f":"IFERROR(__xludf.DUMMYFUNCTION(\"\"\"COMPUTED_VALUE\"\"\"),45674.0)","v":"2025-01-17"},{"$f":"IFERROR(__xludf.DUMMYFUNCTION(\"\"\"COMPUTED_VALUE\"\"\"),2.0)","v":2}]
[{"$f":"IFERROR(__xludf.DUMMYFUNCTION(\"\"\"COMPUTED_VALUE\"\"\"),45676.0)","v":"2025-01-19"},{"$f":"IFERROR(__xludf.DUMMYFUNCTION(\"\"\"COMPUTED_VALUE\"\"\"),4.0)","v":4}]
[{"$f":"IFERROR(__xludf.DUMMYFUNCTION(\"\"\"COMPUTED_VALUE\"\"\"),45677.0)","v":"2025-01-20"},{"$f":"IFERROR(__xludf.DUMMYFUNCTION(\"\"\"COMPUTED_VALUE\"\"\"),3.0)","v":3}]
[{"$f":"IFERROR(__xludf.DUMMYFUNCTION(\"\"\"COMPUTED_VALUE\"\"\"),45678.0)","v":"2025-01-21"},{"$f":"IFERROR(__xludf.DUMMYFUNCTION(\"\"\"COMPUTED_VALUE\"\"\"),4.0)","v":4}]
[{"$f":"IFERROR(__xludf.DUMMYFUNCTION(\"\"\"COMPUTED_VALUE\"\"\"),45679.0)","v":"2025-01-22"},{"$f":"IFERROR(__xludf.DUMMYFUNCTION(\"\"\"COMPUTED_VALUE\"\"\"),1.0)","v":1}]
[{"$f":"IFERROR(__xludf.DUMMYFUNCTION(\"\"\"COMPUTED_VALUE\"\"\"),45680.0)","v":"2025-01-23"},{"$f":"IFERROR(__xludf.DUMMYFUNCTION(\"\"\"COMPUTED_VALUE\"\"\"),1.0)","v":1}]

{"sheet":"pb PAF","index":7,"n_rows":37,"n_cols":22,"rows_kept":37,"cut":false,"hidden":false,"merged":[]}
[{"$f":"IFERROR(__xludf.DUMMYFUNCTION(\"QUERY('remplissage du jeu'!A14:AA218, \"\"select * where M='OK' and R='PAF non reçue'\"\")\"),45326.0)","v":"2024-02-04"},{"$f":"IFERROR(__xludf.DUMMYFUNCTION(\"\"\"COMPUTED_VALUE\"\"\"),\"Culot \")","v":"Culot "},{"$f":"IFERROR(__xludf.DUMMYFUNCTION(\"\"\"COMPUTED_VALUE\"\"\"),\"Grégoire\")","v":"Grégoire"},{"$f":"IFERROR(__xludf.DUMMYFUNCTION(\"\"\"COMPUTED_VALUE\"\"\"),\"H\")","v":"H"},{"$f":"IFERROR(__xludf.DUMMYFUNCTION(\"\"\"COMPUTED_VALUE\"\"\"),40.0)","v":40},{"$f":"IFERROR(__xludf.DUMMYFUNCTION(\"\"\"COMPUTED_VALUE\"\"\"),\"gregoire.culot@gmail.com\")","v":"gregoire.culot@gmail.com"},{"$f":"IFERROR(__xludf.DUMMYFUNCTION(\"\"\"COMPUTED_VALUE\"\"\"),\"Grégoire Culot\")","v":"Grégoire Culot"},{"$f":"IFERROR(__xludf.DUMMYFUNCTION(\"\"\"COMPUTED_VALUE\"\"\"),\"0672817191\")","v":"0672817191"},{"$f":"IFERROR(__xludf.DUMMYFUNCTION(\"\"\"COMPUTED_VALUE\"\"\"),\"Pur PJ\")","v":"Pur PJ"},{"$f":"IFERROR(__xludf.DUMMYFUNCTION(\"\"\"COMPUTED_VALUE\"\"\"),\"-\")","v":"-"},{"$f":"IFERROR(__xludf.DUMMYFUNCTION(\"\"\"COMPUTED_VALUE\"\"\"),\"juin\")","v":"juin"},{"$f":"IFERROR(__xludf.DUMMYFUNCTION(\"\"\"COMPUTED_VALUE\"\"\"),\"Navire et fort\")","v":"Navire et fort"},{"$f":"IFERROR(__xludf.DUMMYFUNCTION(\"\"\"COMPUTED_VALUE\"\"\"),\"OK\")","v":"OK"},{"$f":"IFERROR(__xludf.DUMMYFUNCTION(\"\"\"COMPUTED_VALUE\"\"\"),\"OK\")","v":"OK"},{"$f":"IFERROR(__xludf.DUMMYFUNCTION(\"\"\"COMPUTED_VALUE\"\"\"),\"non attribué\")","v":"non attribué"},{"$f":"IFERROR(__xludf.DUMMYFUNCTION(\"\"\"COMPUTED_VALUE\"\"\"),\"non attribué\")","v":"non attribué"},null,{"$f":"IFERROR(__xludf.DUMMYFUNCTION(\"\"\"COMPUTED_VALUE\"\"\"),\"PAF non reçue\")","v":"PAF non reçue"},{"$f":"IFERROR(__xludf.DUMMYFUNCTION(\"\"\"COMPUTED_VALUE\"\"\"),\"non reçue\")","v":"non reçue"},{"$f":"IFERROR(__xludf.DUMMYFUNCTION(\"\"\"COMPUTED_VALUE\"\"\"),\"R.A.S.\")","v":"R.A.S."},{"$f":"IFERROR(__xludf.DUMMYFUNCTION(\"\"\"COMPUTED_VALUE\"\"\"),\"samedi\")","v":"samedi"},{"$f":"IFERROR(__xludf.DUMMYFUNCTION(\"\"\"COMPUTED_VALUE\"\"\"),\"Reste\")","v":"Reste"}]
[{"$f":"IFERROR(__xludf.DUMMYFUNCTION(\"\"\"COMPUTED_VALUE\"\"\"),45303.0)","v":"2024-01-12"},{"$f":"IFERROR(__xludf.DUMMYFUNCTION(\"\"\"COMPUTED_VALUE\"\"\"),\"Faure \")","v":"Faure "},{"$f":"IFERROR(__xludf.DUMMYFUNCTION(\"\"\"COMPUTED_VALUE\"\"\"),\"Guillaume\")","v":"Guillaume"},{"$f":"IFERROR(__xludf.DUMMYFUNCTION(\"\"\"COMPUTED_VALUE\"\"\"),\"H\")","v":"H"},{"$f":"IFERROR(__xludf.DUMMYFUNCTION(\"\"\"COMPUTED_VALUE\"\"\"),36.0)","v":36},{"$f":"IFERROR(__xludf.DUMMYFUNCTION(\"\"\"COMPUTED_VALUE\"\"\"),\"Versangre@gmail.com\")","v":"Versangre@gmail.com"},{"$f":"IFERROR(__xludf.DUMMYFUNCTION(\"\"\"COMPUTED_VALUE\"\"\"),\"Yôm Guillaume Faure \")","v":"Yôm Guillaume Faure "},{"$f":"IFERROR(__xludf.DUMMYFUNCTION(\"\"\"COMPUTED_VALUE\"\"\"),\"0681454981\")","v":"0681454981"},{"$f":"IFERROR(__xludf.DUMMYFUNCTION(\"\"\"COMPUTED_VALUE\"\"\"),\"PJ+PNJ\")","v":"PJ+PNJ"},{"$f":"IFERROR(__xludf.DUMMYFUNCTION(\"\"\"COMPUTED_VALUE\"\"\"),\"-\")","v":"-"},{"$f":"IFERROR(__xludf.DUMMYFUNCTION(\"\"\"COMPUTED_VALUE\"\"\"),\"Non précisé\")","v":"Non précisé"},{"$f":"IFERROR(__xludf.DUMMYFUNCTION(\"\"\"COMPUTED_VALUE\"\"\"),\"Peu importe\")","v":"Peu importe"},{"$f":"IFERROR(__xludf.DUMMYFUNCTION(\"\"\"COMPUTED_VALUE\"\"\"),\"OK\")","v":"OK"},{"$f":"IFERROR(__xludf.DUMMYFUNCTION(\"\"\"COMPUTED_VALUE\"\"\"),\"KO\")","v":"KO"},{"$f":"IFERROR(__xludf.DUMMYFUNCTION(\"\"\"COMPUTED_VALUE\"\"\"),\"juin\")","v":"juin"},{"$f":"IFERROR(__xludf.DUMMYFUNCTION(\"\"\"COMPUTED_VALUE\"\"\"),\"Navire & Fort\")","v":"Navire & Fort"},null,{"$f":"IFERROR(__xludf.DUMMYFUNCTION(\"\"\"COMPUTED_VALUE\"\"\"),\"PAF non reçue\")","v":"PAF non reçue"},{"$f":"IFERROR(__xludf.DUMMYFUNCTION(\"\"\"COMPUTED_VALUE\"\"\"),\"non reçue\")","v":"non reçue"},{"$f":"IFERROR(__xludf.DUMMYFUNCTION(\"\"\"COMPUTED_VALUE\"\"\"),\"R.A.S.\")","v":"R.A.S."},{"$f":"IFERROR(__xludf.DUMMYFUNCTION(\"\"\"COMPUTED_VALUE\"\"\"),\"samedi\")","v":"samedi"},{"$f":"IFERROR(__xludf.DUMMYFUNCTION(\"\"\"COMPUTED_VALUE\"\"\"),\"Reste\")","v":"Reste"}]
[{"$f":"IFERROR(__xludf.DUMMYFUNCTION(\"\"\"COMPUTED_VALUE\"\"\"),45303.0)","v":"2024-01-12"},{"$f":"IFERROR(__xludf.DUMMYFUNCTION(\"\"\"COMPUTED_VALUE\"\"\"),\"Lorente\")","v":"Lorente"},{"$f":"IFERROR(__xludf.DUMMYFUNCTION(\"\"\"COMPUTED_VALUE\"\"\"),\"Matthieu\")","v":"Matthieu"},{"$f":"IFERROR(__xludf.DUMMYFUNCTION(\"\"\"COMPUTED_VALUE\"\"\"),\"H\")","v":"H"},{"$f":"IFERROR(__xludf.DUMMYFUNCTION(\"\"\"COMPUTED_VALUE\"\"\"),41.0)","v":41},{"$f":"IFERROR(__xludf.DUMMYFUNCTION(\"\"\"COMPUTED_VALUE\"\"\"),\"lorentemathieu@gmail.com\")","v":"lorentemathieu@gmail.com"},{"$f":"IFERROR(__xludf.DUMMYFUNCTION(\"\"\"COMPUTED_VALUE\"\"\"),\"Mathieu LORENTE\")","v":"Mathieu LORENTE"},{"$f":"IFERROR(__xludf.DUMMYFUNCTION(\"\"\"COMPUTED_VALUE\"\"\"),\"0647832624\")","v":"0647832624"},{"$f":"IFERROR(__xludf.DUMMYFUNCTION(\"\"\"COMPUTED_VALUE\"\"\"),\"Pur PJ\")","v":"Pur PJ"},{"$f":"IFERROR(__xludf.DUMMYFUNCTION(\"\"\"COMPUTED_VALUE\"\"\"),\"-\")","v":"-"},{"$f":"IFERROR(__xludf.DUMMYFUNCTION(\"\"\"COMPUTED_VALUE\"\"\"),\"septembre\")","v":"septembre"},{"$f":"IFERROR(__xludf.DUMMYFUNCTION(\"\"\"COMPUTED_VALUE\"\"\"),\"Seulement au fort\")","v":"Seulement au fort"},{"$f":"IFERROR(__xludf.DUMMYFUNCTION(\"\"\"COMPUTED_VALUE\"\"\"),\"OK\")","v":"OK"},{"$f":"IFERROR(__xludf.DUMMYFUNCTION(\"\"\"COMPUTED_VALUE\"\"\"),\"OK\")","v":"OK"},{"$f":"IFERROR(__xludf.DUMMYFUNCTION(\"\"\"COMPUTED_VALUE\"\"\"),\"septembre\")","v":"septembre"},{"$f":"IFERROR(__xludf.DUMMYFUNCTION(\"\"\"COMPUTED_VALUE\"\"\"),\"Fort seulement\")","v":"Fort seulement"},null,{"$f":"IFERROR(__xludf.DUMMYFUNCTION(\"\"\"COMPUTED_VALUE\"\"\"),\"PAF non reçue\")","v":"PAF non reçue"},{"$f":"IFERROR(__xludf.DUMMYFUNCTION(\"\"\"COMPUTED_VALUE\"\"\"),\"non reçue\")","v":"non reçue"},{"$f":"IFERROR(__xludf.DUMMYFUNCTION(\"\"\"COMPUTED_VALUE\"\"\"),\"R.A.S.\")","v":"R.A.S."},{"$f":"IFERROR(__xludf.DUMMYFUNCTION(\"\"\"COMPUTED_VALUE\"\"\"),\"samedi\")","v":"samedi"},{"$f":"IFERROR(__xludf.DUMMYFUNCTION(\"\"\"COMPUTED_VALUE\"\"\"),\"Reste\")","v":"Reste"}]
[{"$f":"IFERROR(__xludf.DUMMYFUNCTION(\"\"\"COMPUTED_VALUE\"\"\"),45312.0)","v":"2024-01-21"},{"$f":"IFERROR(__xludf.DUMMYFUNCTION(\"\"\"COMPUTED_VALUE\"\"\"),\"Doche De Laquintane \")","v":"Doche De Laquintane "},{"$f":"IFERROR(__xludf.DUMMYFUNCTION(\"\"\"COMPUTED_VALUE\"\"\"),\"Nicolas \")","v":"Nicolas "},{"$f":"IFERROR(__xludf.DUMMYFUNCTION(\"\"\"COMPUTED_VALUE\"\"\"),\"H\")","v":"H"},{"$f":"IFERROR(__xludf.DUMMYFUNCTION(\"\"\"COMPUTED_VALUE\"\"\"),44.0)","v":44},{"$f":"IFERROR(__xludf.DUMMYFUNCTION(\"\"\"COMPUTED_VALUE\"\"\"),\"jeanflur@gmail.com\")","v":"jeanflur@gmail.com"},{"$f":"IFERROR(__xludf.DUMMYFUNCTION(\"\"\"COMPUTED_VALUE\"\"\"),\"Jean Flur\")","v":"Jean Flur"},{"$f":"IFERROR(__xludf.DUMMYFUNCTION(\"\"\"COMPUTED_VALUE\"\"\"),\"0672711392\")","v":"0672711392"},{"$f":"IFERROR(__xludf.DUMMYFUNCTION(\"\"\"COMPUTED_VALUE\"\"\"),\"PJ+PNJ\")","v":"PJ+PNJ"},{"$f":"IFERROR(__xludf.DUMMYFUNCTION(\"\"\"COMPUTED_VALUE\"\"\"),\"-\")","v":"-"},{"$f":"IFERROR(__xludf.DUMMYFUNCTION(\"\"\"COMPUTED_VALUE\"\"\"),\"Les deux\")","v":"Les deux"},{"$f":"IFERROR(__xludf.DUMMYFUNCTION(\"\"\"COMPUTED_VALUE\"\"\"),\"Peu importe\")","v":"Peu importe"},{"$f":"IFERROR(__xludf.DUMMYFUNCTION(\"\"\"COMPUTED_VALUE\"\"\"),\"OK\")","v":"OK"},{"$f":"IFERROR(__xludf.DUMMYFUNCTION(\"\"\"COMPUTED_VALUE\"\"\"),\"OK\")","v":"OK"},{"$f":"IFERROR(__xludf.DUMMYFUNCTION(\"\"\"COMPUTED_VALUE\"\"\"),\"septembre\")","v":"septembre"},{"$f":"IFERROR(__xludf.DUMMYFUNCTION(\"\"\"COMPUTED_VALUE\"\"\"),\"non attribué\")","v":"non attribué"},null,{"$f":"IFERROR(__xludf.DUMMYFUNCTION(\"\"\"COMPUTED_VALUE\"\"\"),\"PAF non reçue\")","v":"PAF non reçue"},{"$f":"IFERROR(__xludf.DUMMYFUNCTION(\"\"\"COMPUTED_VALUE\"\"\"),\"non reçue\")","v":"non reçue"},{"$f":"IFERROR(__xludf.DUMMYFUNCTION(\"\"\"COMPUTED_VALUE\"\"\"),\"R.A.S.\")","v":"R.A.S."},{"$f":"IFERROR(__xludf.DUMMYFUNCTION(\"\"\"COMPUTED_VALUE\"\"\"),\"samedi\")","v":"samedi"},{"$f":"IFERROR(__xludf.DUMMYFUNCTION(\"\"\"COMPUTED_VALUE\"\"\"),\"Reste\")","v":"Reste"}]
[{"$f":"IFERROR(__xludf.DUMMYFUNCTION(\"\"\"COMPUTED_VALUE\"\"\"),45304.0)","v":"2024-01-13"},{"$f":"IFERROR(__xludf.DUMMYFUNCTION(\"\"\"COMPUTED_VALUE\"\"\"),\"Maitreheu\")","v":"Maitreheu"},{"$f":"IFERROR(__xludf.DUMMYFUNCTION(\"\"\"COMPUTED_VALUE\"\"\"),\"Mélodie\")","v":"Mélodie"},{"$f":"IFERROR(__xludf.DUMMYFUNCTION(\"\"\"COMPUTED_VALUE\"\"\"),\"F\")","v":"F"},{"$f":"IFERROR(__xludf.DUMMYFUNCTION(\"\"\"COMPUTED_VALUE\"\"\"),35.0)","v":35},{"$f":"IFERROR(__xludf.DUMMYFUNCTION(\"\"\"COMPUTED_VALUE\"\"\"),\"melodie.maitreheu@gmail.com\")","v":"melodie.maitreheu@gmail.com"},{"$f":"IFERROR(__xludf.DUMMYFUNCTION(\"\"\"COMPUTED_VALUE\"\"\"),\"Mélodie Maitreheu\")","v":"Mélodie Maitreheu"},{"$f":"IFERROR(__xludf.DUMMYFUNCTION(\"\"\"COMPUTED_VALUE\"\"\"),\"0623465958\")","v":"0623465958"},{"$f":"IFERROR(__xludf.DUMMYFUNCTION(\"\"\"COMPUTED_VALUE\"\"\"),\"Pur PJ\")","v":"Pur PJ"},{"$f":"IFERROR(__xludf.DUMMYFUNCTION(\"\"\"COMPUTED_VALUE\"\"\"),\"-\")","v":"-"},{"$f":"IFERROR(__xludf.DUMMYFUNCTION(\"\"\"COMPUTED_VALUE\"\"\"),\"Non précisé\")","v":"Non précisé"},{"$f":"IFERROR(__xludf.DUMMYFUNCTION(\"\"\"COMPUTED_VALUE\"\"\"),\"Navire et fort\")","v":"Navire et fort"},{"$f":"IFERROR(__xludf.DUMMYFUNCTION(\"\"\"COMPUTED_VALUE\"\"\"),\"OK\")","v":"OK"},{"$f":"IFERROR(__xludf.DUMMYFUNCTION(\"\"\"COMPUTED_VALUE\"\"\"),\"OK\")","v":"OK"},{"$f":"IFERROR(__xludf.DUMMYFUNCTION(\"\"\"COMPUTED_VALUE\"\"\"),\"septembre\")","v":"septembre"},{"$f":"IFERROR(__xludf.DUMMYFUNCTION(\"\"\"COMPUTED_VALUE\"\"\"),\"Navire & Fort\")","v":"Navire & Fort"},null,{"$f":"IFERROR(__xludf.DUMMYFUNCTION(\"\"\"COMPUTED_VALUE\"\"\"),\"PAF non reçue\")","v":"PAF non reçue"},{"$f":"IFERROR(__xludf.DUMMYFUNCTION(\"\"\"COMPUTED_VALUE\"\"\"),\"non reçue\")","v":"non reçue"},{"$f":"IFERROR(__xludf.DUMMYFUNCTION(\"\"\"COMPUTED_VALUE\"\"\"),\"R.A.S.\")","v":"R.A.S."},{"$f":"IFERROR(__xludf.DUMMYFUNCTION(\"\"\"COMPUTED_VALUE\"\"\"),\"samedi\")","v":"samedi"},{"$f":"IFERROR(__xludf.DUMMYFUNCTION(\"\"\"COMPUTED_VALUE\"\"\"),\"Reste\")","v":"Reste"}]
[{"$f":"IFERROR(__xludf.DUMMYFUNCTION(\"\"\"COMPUTED_VALUE\"\"\"),45363.0)","v":"2024-03-12"},{"$f":"IFERROR(__xludf.DUMMYFUNCTION(\"\"\"COMPUTED_VALUE\"\"\"),\"Dagrain\")","v":"Dagrain"},{"$f":"IFERROR(__xludf.DUMMYFUNCTION(\"\"\"COMPUTED_VALUE\"\"\"),\"Valerie\")","v":"Valerie"},{"$f":"IFERROR(__xludf.DUMMYFUNCTION(\"\"\"COMPUTED_VALUE\"\"\"),\"F\")","v":"F"},{"$f":"IFERROR(__xludf.DUMMYFUNCTION(\"\"\"COMPUTED_VALUE\"\"\"),51.0)","v":51},{"$f":"IFERROR(__xludf.DUMMYFUNCTION(\"\"\"COMPUTED_VALUE\"\"\"),\"valerie.dagrain@protonmail.com\")","v":"valerie.dagrain@protonmail.com"},{"$f":"IFERROR(__xludf.DUMMYFUNCTION(\"\"\"COMPUTED_VALUE\"\"\"),\"Valérie Dagrain \")","v":"Valérie Dagrain "},{"$f":"IFERROR(__xludf.DUMMYFUNCTION(\"\"\"COMPUTED_VALUE\"\"\"),\"0663614215\")","v":"0663614215"},{"$f":"IFERROR(__xludf.DUMMYFUNCTION(\"\"\"COMPUTED_VALUE\"\"\"),\"PJ+PNJ\")","v":"PJ+PNJ"},{"$f":"IFERROR(__xludf.DUMMYFUNCTION(\"\"\"COMPUTED_VALUE\"\"\"),\"-\")","v":"-"},{"$f":"IFERROR(__xludf.DUMMYFUNCTION(\"\"\"COMPUTED_VALUE\"\"\"),\"Les deux\")","v":"Les deux"},{"$f":"IFERROR(__xludf.DUMMYFUNCTION(\"\"\"COMPUTED_VALUE\"\"\"),\"Navire et fort\")","v":"Navire et fort"},{"$f":"IFERROR(__xludf.DUMMYFUNCTION(\"\"\"COMPUTED_VALUE\"\"\"),\"OK\")","v":"OK"},{"$f":"IFERROR(__xludf.DUMMYFUNCTION(\"\"\"COMPUTED_VALUE\"\"\"),\"OK\")","v":"OK"},{"$f":"IFERROR(__xludf.DUMMYFUNCTION(\"\"\"COMPUTED_VALUE\"\"\"),\"septembre\")","v":"septembre"},{"$f":"IFERROR(__xludf.DUMMYFUNCTION(\"\"\"COMPUTED_VALUE\"\"\"),\"Navire & Fort\")","v":"Navire & Fort"},null,{"$f":"IFERROR(__xludf.DUMMYFUNCTION(\"\"\"COMPUTED_VALUE\"\"\"),\"PAF non reçue\")","v":"PAF non reçue"},{"$f":"IFERROR(__xludf.DUMMYFUNCTION(\"\"\"COMPUTED_VALUE\"\"\"),\"non reçue\")","v":"non reçue"},{"$f":"IFERROR(__xludf.DUMMYFUNCTION(\"\"\"COMPUTED_VALUE\"\"\"),\"R.A.S.\")","v":"R.A.S."},{"$f":"IFERROR(__xludf.DUMMYFUNCTION(\"\"\"COMPUTED_VALUE\"\"\"),\"samedi\")","v":"samedi"},{"$f":"IFERROR(__xludf.DUMMYFUNCTION(\"\"\"COMPUTED_VALUE\"\"\"),\"NON\")","v":"NON"}]
[{"$f":"IFERROR(__xludf.DUMMYFUNCTION(\"\"\"COMPUTED_VALUE\"\"\"),45332.0)","v":"2024-02-10"},{"$f":"IFERROR(__xludf.DUMMYFUNCTION(\"\"\"COMPUTED_VALUE\"\"\"),\"Moynier\")","v":"Moynier"},{"$f":"IFERROR(__xludf.DUMMYFUNCTION(\"\"\"COMPUTED_VALUE\"\"\"),\"Bérénice\")","v":"Bérénice"},{"$f":"IFERROR(__xludf.DUMMYFUNCTION(\"\"\"COMPUTED_VALUE\"\"\"),\"F\")","v":"F"},{"$f":"IFERROR(__xludf.DUMMYFUNCTION(\"\"\"COMPUTED_VALUE\"\"\"),30.0)","v":30},{"$f":"IFERROR(__xludf.DUMMYFUNCTION(\"\"\"COMPUTED_VALUE\"\"\"),\"berenicemoynier@gmail.com\")","v":"berenicemoynier@gmail.com"},{"$f":"IFERROR(__xludf.DUMMYFUNCTION(\"\"\"COMPUTED_VALUE\"\"\"),\"Baby Suisse \")","v":"Baby Suisse "},{"$f":"IFERROR(__xludf.DUMMYFUNCTION(\"\"\"COMPUTED_VALUE\"\"\"),\"00.41.77.449.23.78\")","v":"00.41.77.449.23.78"},{"$f":"IFERROR(__xludf.DUMMYFUNCTION(\"\"\"COMPUTED_VALUE\"\"\"),\"Pur PJ\")","v":"Pur PJ"},{"$f":"IFERROR(__xludf.DUMMYFUNCTION(\"\"\"COMPUTED_VALUE\"\"\"),\"-\")","v":"-"},{"$f":"IFERROR(__xludf.DUMMYFUNCTION(\"\"\"COMPUTED_VALUE\"\"\"),\"Les deux\")","v":"Les deux"},{"$f":"IFERROR(__xludf.DUMMYFUNCTION(\"\"\"COMPUTED_VALUE\"\"\"),\"Navire et fort\")","v":"Navire et fort"},{"$f":"IFERROR(__xludf.DUMMYFUNCTION(\"\"\"COMPUTED_VALUE\"\"\"),\"OK\")","v":"OK"},{"$f":"IFERROR(__xludf.DUMMYFUNCTION(\"\"\"COMPUTED_VALUE\"\"\"),\"OK\")","v":"OK"},{"$f":"IFERROR(__xludf.DUMMYFUNCTION(\"\"\"COMPUTED_VALUE\"\"\"),\"septembre\")","v":"septembre"},{"$f":"IFERROR(__xludf.DUMMYFUNCTION(\"\"\"COMPUTED_VALUE\"\"\"),\"Navire & Fort\")","v":"Navire & Fort"},null,{"$f":"IFERROR(__xludf.DUMMYFUNCTION(\"\"\"COMPUTED_VALUE\"\"\"),\"PAF non reçue\")","v":"PAF non reçue"},{"$f":"IFERROR(__xludf.DUMMYFUNCTION(\"\"\"COMPUTED_VALUE\"\"\"),\"non reçue\")","v":"non reçue"},{"$f":"IFERROR(__xludf.DUMMYFUNCTION(\"\"\"COMPUTED_VALUE\"\"\"),\"R.A.S.\")","v":"R.A.S."},{"$f":"IFERROR(__xludf.DUMMYFUNCTION(\"\"\"COMPUTED_VALUE\"\"\"),\"samedi\")","v":"samedi"},{"$f":"IFERROR(__xludf.DUMMYFUNCTION(\"\"\"COMPUTED_VALUE\"\"\"),\"Reste\")","v":"Reste"}]
[{"$f":"IFERROR(__xludf.DUMMYFUNCTION(\"\"\"COMPUTED_VALUE\"\"\"),45495.0)","v":"2024-07-22"},{"$f":"IFERROR(__xludf.DUMMYFUNCTION(\"\"\"COMPUTED_VALUE\"\"\"),\"MUNARO\")","v":"MUNARO"},{"$f":"IFERROR(__xludf.DUMMYFUNCTION(\"\"\"COMPUTED_VALUE\"\"\"),\"Perrine\")","v":"Perrine"},{"$f":"IFERROR(__xludf.DUMMYFUNCTION(\"\"\"COMPUTED_VALUE\"\"\"),\"F\")","v":"F"},{"$f":"IFERROR(__xludf.DUMMYFUNCTION(\"\"\"COMPUTED_VALUE\"\"\"),40.0)","v":40},{"$f":"IFERROR(__xludf.DUMMYFUNCTION(\"\"\"COMPUTED_VALUE\"\"\"),\"perrine.munaro@gmail.com\")","v":"perrine.munaro@gmail.com"},{"$f":"IFERROR(__xludf.DUMMYFUNCTION(\"\"\"COMPUTED_VALUE\"\"\"),\"Perrine Duracell\")","v":"Perrine Duracell"},{"$f":"IFERROR(__xludf.DUMMYFUNCTION(\"\"\"COMPUTED_VALUE\"\"\"),\"0673120151\")","v":"0673120151"},{"$f":"IFERROR(__xludf.DUMMYFUNCTION(\"\"\"COMPUTED_VALUE\"\"\"),\"Pur PJ\")","v":"Pur PJ"},{"$f":"IFERROR(__xludf.DUMMYFUNCTION(\"\"\"COMPUTED_VALUE\"\"\"),\"-\")","v":"-"},{"$f":"IFERROR(__xludf.DUMMYFUNCTION(\"\"\"COMPUTED_VALUE\"\"\"),\"Les deux\")","v":"Les deux"},{"$f":"IFERROR(__xludf.DUMMYFUNCTION(\"\"\"COMPUTED_VALUE\"\"\"),\"Navire et fort\")","v":"Navire et fort"},{"$f":"IFERROR(__xludf.DUMMYFUNCTION(\"\"\"COMPUTED_VALUE\"\"\"),\"OK\")","v":"OK"},{"$f":"IFERROR(__xludf.DUMMYFUNCTION(\"\"\"COMPUTED_VALUE\"\"\"),\"OK\")","v":"OK"},{"$f":"IFERROR(__xludf.DUMMYFUNCTION(\"\"\"COMPUTED_VALUE\"\"\"),\"septembre\")","v":"septembre"},{"$f":"IFERROR(__xludf.DUMMYFUNCTION(\"\"\"COMPUTED_VALUE\"\"\"),\"Navire & Fort\")","v":"Navire & Fort"},null,{"$f":"IFERROR(__xludf.DUMMYFUNCTION(\"\"\"COMPUTED_VALUE\"\"\"),\"PAF non reçue\")","v":"PAF non reçue"},{"$f":"IFERROR(__xludf.DUMMYFUNCTION(\"\"\"COMPUTED_VALUE\"\"\"),\"non reçue\")","v":"non reçue"},{"$f":"IFERROR(__xludf.DUMMYFUNCTION(\"\"\"COMPUTED_VALUE\"\"\"),\"R.A.S.\")","v":"R.A.S."},{"$f":"IFERROR(__xludf.DUMMYFUNCTION(\"\"\"COMPUTED_VALUE\"\"\"),\"samedi\")","v":"samedi"},{"$f":"IFERROR(__xludf.DUMMYFUNCTION(\"\"\"COMPUTED_VALUE\"\"\"),\"Reste\")","v":"Reste"}]
[{"$f":"IFERROR(__xludf.DUMMYFUNCTION(\"\"\"COMPUTED_VALUE\"\"\"),45495.0)","v":"2024-07-22"},{"$f":"IFERROR(__xludf.DUMMYFUNCTION(\"\"\"COMPUTED_VALUE\"\"\"),\"le merdy\")","v":"le merdy"},{"$f":"IFERROR(__xludf.DUMMYFUNCTION(\"\"\"COMPUTED_VALUE\"\"\"),\"claire\")","v":"claire"},{"$f":"IFERROR(__xludf.DUMMYFUNCTION(\"\"\"COMPUTED_VALUE\"\"\"),\"F\")","v":"F"},{"$f":"IFERROR(__xludf.DUMMYFUNCTION(\"\"\"COMPUTED_VALUE\"\"\"),32.0)","v":32},{"$f":"IFERROR(__xludf.DUMMYFUNCTION(\"\"\"COMPUTED_VALUE\"\"\"),\"claire.lem@hotmail.fr\")","v":"claire.lem@hotmail.fr"},{"$f":"IFERROR(__xludf.DUMMYFUNCTION(\"\"\"COMPUTED_VALUE\"\"\"),\"claire LM\")","v":"claire LM"},{"$f":"IFERROR(__xludf.DUMMYFUNCTION(\"\"\"COMPUTED_VALUE\"\"\"),\"674802559\")","v":"674802559"},{"$f":"IFERROR(__xludf.DUMMYFUNCTION(\"\"\"COMPUTED_VALUE\"\"\"),\"PNJ\")","v":"PNJ"},{"$f":"IFERROR(__xludf.DUMMYFUNCTION(\"\"\"COMPUTED_VALUE\"\"\"),\"-\")","v":"-"},{"$f":"IFERROR(__xludf.DUMMYFUNCTION(\"\"\"COMPUTED_VALUE\"\"\"),\"Les deux\")","v":"Les deux"},{"$f":"IFERROR(__xludf.DUMMYFUNCTION(\"\"\"COMPUTED_VALUE\"\"\"),\"Peu importe\")","v":"Peu importe"},{"$f":"IFERROR(__xludf.DUMMYFUNCTION(\"\"\"COMPUTED_VALUE\"\"\"),\"OK\")","v":"OK"},{"$f":"IFERROR(__xludf.DUMMYFUNCTION(\"\"\"COMPUTED_VALUE\"\"\"),\"OK\")","v":"OK"},{"$f":"IFERROR(__xludf.DUMMYFUNCTION(\"\"\"COMPUTED_VALUE\"\"\"),\"juin\")","v":"juin"},{"$f":"IFERROR(__xludf.DUMMYFUNCTION(\"\"\"COMPUTED_VALUE\"\"\"),\"Fort seulement\")","v":"Fort seulement"},null,{"$f":"IFERROR(__xludf.DUMMYFUNCTION(\"\"\"COMPUTED_VALUE\"\"\"),\"PAF non reçue\")","v":"PAF non reçue"},{"$f":"IFERROR(__xludf.DUMMYFUNCTION(\"\"\"COMPUTED_VALUE\"\"\"),\"non reçue\")","v":"non reçue"},{"$f":"IFERROR(__xludf.DUMMYFUNCTION(\"\"\"COMPUTED_VALUE\"\"\"),\"R.A.S.\")","v":"R.A.S."},{"$f":"IFERROR(__xludf.DUMMYFUNCTION(\"\"\"COMPUTED_VALUE\"\"\"),\"samedi\")","v":"samedi"},{"$f":"IFERROR(__xludf.DUMMYFUNCTION(\"\"\"COMPUTED_VALUE\"\"\"),\"Reste\")","v":"Reste"}]
[{"$f":"IFERROR(__xludf.DUMMYFUNCTION(\"\"\"COMPUTED_VALUE\"\"\"),45496.0)","v":"2024-07-23"},{"$f":"IFERROR(__xludf.DUMMYFUNCTION(\"\"\"COMPUTED_VALUE\"\"\"),\"Cornu \")","v":"Cornu "},{"$f":"IFERROR(__xludf.DUMMYFUNCTION(\"\"\"COMPUTED_VALUE\"\"\"),\"Nathan\")","v":"Nathan"},{"$f":"IFERROR(__xludf.DUMMYFUNCTION(\"\"\"COMPUTED_VALUE\"\"\"),\"H\")","v":"H"},{"$f":"IFERROR(__xludf.DUMMYFUNCTION(\"\"\"COMPUTED_VALUE\"\"\"),30.0)","v":30},{"$f":"IFERROR(__xludf.DUMMYFUNCTION(\"\"\"COMPUTED_VALUE\"\"\"),\"nathancornu@gmail.com\")","v":"nathancornu@gmail.com"},{"$f":"IFERROR(__xludf.DUMMYFUNCTION(\"\"\"COMPUTED_VALUE\"\"\"),\"Nathan cornu\")","v":"Nathan cornu"},{"$f":"IFERROR(__xludf.DUMMYFUNCTION(\"\"\"COMPUTED_VALUE\"\"\"),\"0646031612\")","v":"0646031612"},{"$f":"IFERROR(__xludf.DUMMYFUNCTION(\"\"\"COMPUTED_VALUE\"\"\"),\"PNJ\")","v":"PNJ"},{"$f":"IFERROR(__xludf.DUMMYFUNCTION(\"\"\"COMPUTED_VALUE\"\"\"),\"-\")","v":"-"},{"$f":"IFERROR(__xludf.DUMMYFUNCTION(\"\"\"COMPUTED_VALUE\"\"\"),\"Les deux\")","v":"Les deux"},{"$f":"IFERROR(__xludf.DUMMYFUNCTION(\"\"\"COMPUTED_VALUE\"\"\"),\"Peu importe\")","v":"Peu importe"},{"$f":"IFERROR(__xludf.DUMMYFUNCTION(\"\"\"COMPUTED_VALUE\"\"\"),\"OK\")","v":"OK"},{"$f":"IFERROR(__xludf.DUMMYFUNCTION(\"\"\"COMPUTED_VALUE\"\"\"),\"OK\")","v":"OK"},{"$f":"IFERROR(__xludf.DUMMYFUNCTION(\"\"\"COMPUTED_VALUE\"\"\"),\"juin\")","v":"juin"},{"$f":"IFERROR(__xludf.DUMMYFUNCTION(\"\"\"COMPUTED_VALUE\"\"\"),\"Fort seulement\")","v":"Fort seulement"},null,{"$f":"IFERROR(__xludf.DUMMYFUNCTION(\"\"\"COMPUTED_VALUE\"\"\"),\"PAF non reçue\")","v":"PAF non reçue"},{"$f":"IFERROR(__xludf.DUMMYFUNCTION(\"\"\"COMPUTED_VALUE\"\"\"),\"non reçue\")","v":"non reçue"},{"$f":"IFERROR(__xludf.DUMMYFUNCTION(\"\"\"COMPUTED_VALUE\"\"\"),\"R.A.S.\")","v":"R.A.S."},{"$f":"IFERROR(__xludf.DUMMYFUNCTION(\"\"\"COMPUTED_VALUE\"\"\"),\"samedi\")","v":"samedi"},{"$f":"IFERROR(__xludf.DUMMYFUNCTION(\"\"\"COMPUTED_VALUE\"\"\"),\"Reste\")","v":"Reste"}]
[{"$f":"IFERROR(__xludf.DUMMYFUNCTION(\"\"\"COMPUTED_VALUE\"\"\"),45498.0)","v":"2024-07-25"},{"$f":"IFERROR(__xludf.DUMMYFUNCTION(\"\"\"COMPUTED_VALUE\"\"\"),\"Blanchard Quentin\")","v":"Blanchard Quentin"},{"$f":"IFERROR(__xludf.DUMMYFUNCTION(\"\"\"COMPUTED_VALUE\"\"\"),\"Quentin\")","v":"Quentin"},{"$f":"IFERROR(__xludf.DUMMYFUNCTION(\"\"\"COMPUTED_VALUE\"\"\"),\"H\")","v":"H"},{"$f":"IFERROR(__xludf.DUMMYFUNCTION(\"\"\"COMPUTED_VALUE\"\"\"),32.0)","v":32},{"$f":"IFERROR(__xludf.DUMMYFUNCTION(\"\"\"COMPUTED_VALUE\"\"\"),\"blanchard.quentin1@gmail.com\")","v":"blanchard.quentin1@gmail.com"},{"$f":"IFERROR(__xludf.DUMMYFUNCTION(\"\"\"COMPUTED_VALUE\"\"\"),\"Quentin Kando\")","v":"Quentin Kando"},{"$f":"IFERROR(__xludf.DUMMYFUNCTION(\"\"\"COMPUTED_VALUE\"\"\"),\"0676788950\")","v":"0676788950"},{"$f":"IFERROR(__xludf.DUMMYFUNCTION(\"\"\"COMPUTED_VALUE\"\"\"),\"PJ+PNJ\")","v":"PJ+PNJ"},{"$f":"IFERROR(__xludf.DUMMYFUNCTION(\"\"\"COMPUTED_VALUE\"\"\"),\"-\")","v":"-"},{"$f":"IFERROR(__xludf.DUMMYFUNCTION(\"\"\"COMPUTED_VALUE\"\"\"),\"septembre\")","v":"septembre"},{"$f":"IFERROR(__xludf.DUMMYFUNCTION(\"\"\"COMPUTED_VALUE\"\"\"),\"Navire et fort\")","v":"Navire et fort"},{"$f":"IFERROR(__xludf.DUMMYFUNCTION(\"\"\"COMPUTED_VALUE\"\"\"),\"OK\")","v":"OK"},{"$f":"IFERROR(__xludf.DUMMYFUNCTION(\"\"\"COMPUTED_VALUE\"\"\"),\"OK\")","v":"OK"},{"$f":"IFERROR(__xludf.DUMMYFUNCTION(\"\"\"COMPUTED_VALUE\"\"\"),\"septembre\")","v":"septembre"},{"$f":"IFERROR(__xludf.DUMMYFUNCTION(\"\"\"COMPUTED_VALUE\"\"\"),\"Navire & Fort\")","v":"Navire & Fort"},null,{"$f":"IFERROR(__xludf.DUMMYFUNCTION(\"\"\"COMPUTED_VALUE\"\"\"),\"PAF non reçue\")","v":"PAF non reçue"},{"$f":"IFERROR(__xludf.DUMMYFUNCTION(\"\"\"COMPUTED_VALUE\"\"\"),\"non reçue\")","v":"non reçue"},{"$f":"IFERROR(__xludf.DUMMYFUNCTION(\"\"\"COMPUTED_VALUE\"\"\"),\"R.A.S.\")","v":"R.A.S."},{"$f":"IFERROR(__xludf.DUMMYFUNCTION(\"\"\"COMPUTED_VALUE\"\"\"),\"samedi\")","v":"samedi"},{"$f":"IFERROR(__xludf.DUMMYFUNCTION(\"\"\"COMPUTED_VALUE\"\"\"),\"NON\")","v":"NON"}]
[{"$f":"IFERROR(__xludf.DUMMYFUNCTION(\"\"\"COMPUTED_VALUE\"\"\"),45540.0)","v":"2024-09-05"},{"$f":"IFERROR(__xludf.DUMMYFUNCTION(\"\"\"COMPUTED_VALUE\"\"\"),\"Lefebvre \")","v":"Lefebvre "},{"$f":"IFERROR(__xludf.DUMMYFUNCTION(\"\"\"COMPUTED_VALUE\"\"\"),\"Gregoire \")","v":"Gregoire "},{"$f":"IFERROR(__xludf.DUMMYFUNCTION(\"\"\"COMPUTED_VALUE\"\"\"),\"H\")","v":"H"},{"$f":"IFERROR(__xludf.DUMMYFUNCTION(\"\"\"COMPUTED_VALUE\"\"\"),51.0)","v":51},{"$f":"IFERROR(__xludf.DUMMYFUNCTION(\"\"\"COMPUTED_VALUE\"\"\"),\"gregoire.lefebvre38@gmail.com\")","v":"gregoire.lefebvre38@gmail.com"},{"$f":"IFERROR(__xludf.DUMMYFUNCTION(\"\"\"COMPUTED_VALUE\"\"\"),\"Grégoire Lefebvre \")","v":"Grégoire Lefebvre "},{"$f":"IFERROR(__xludf.DUMMYFUNCTION(\"\"\"COMPUTED_VALUE\"\"\"),\"0615337655\")","v":"0615337655"},{"$f":"IFERROR(__xludf.DUMMYFUNCTION(\"\"\"COMPUTED_VALUE\"\"\"),\"PJ+PNJ\")","v":"PJ+PNJ"},null,{"$f":"IFERROR(__xludf.DUMMYFUNCTION(\"\"\"COMPUTED_VALUE\"\"\"),\"juin\")","v":"juin"},{"$f":"IFERROR(__xludf.DUMMYFUNCTION(\"\"\"COMPUTED_VALUE\"\"\"),\"Peu importe\")","v":"Peu importe"},{"$f":"IFERROR(__xludf.DUMMYFUNCTION(\"\"\"COMPUTED_VALUE\"\"\"),\"OK\")","v":"OK"},{"$f":"IFERROR(__xludf.DUMMYFUNCTION(\"\"\"COMPUTED_VALUE\"\"\"),\"KO\")","v":"KO"},{"$f":"IFERROR(__xludf.DUMMYFUNCTION(\"\"\"COMPUTED_VALUE\"\"\"),\"juin\")","v":"juin"},{"$f":"IFERROR(__xludf.DUMMYFUNCTION(\"\"\"COMPUTED_VALUE\"\"\"),\"Fort seulement\")","v":"Fort seulement"},null,{"$f":"IFERROR(__xludf.DUMMYFUNCTION(\"\"\"COMPUTED_VALUE\"\"\"),\"PAF non reçue\")","v":"PAF non reçue"},{"$f":"IFERROR(__xludf.DUMMYFUNCTION(\"\"\"COMPUTED_VALUE\"\"\"),\"non reçue\")","v":"non reçue"},{"$f":"IFERROR(__xludf.DUMMYFUNCTION(\"\"\"COMPUTED_VALUE\"\"\"),\"R.A.S.\")","v":"R.A.S."},{"$f":"IFERROR(__xludf.DUMMYFUNCTION(\"\"\"COMPUTED_VALUE\"\"\"),\"samedi\")","v":"samedi"},{"$f":"IFERROR(__xludf.DUMMYFUNCTION(\"\"\"COMPUTED_VALUE\"\"\"),\"Reste\")","v":"Reste"}]
[{"$f":"IFERROR(__xludf.DUMMYFUNCTION(\"\"\"COMPUTED_VALUE\"\"\"),45555.0)","v":"2024-09-20"},{"$f":"IFERROR(__xludf.DUMMYFUNCTION(\"\"\"COMPUTED_VALUE\"\"\"),\"Tudoux\")","v":"Tudoux"},{"$f":"IFERROR(__xludf.DUMMYFUNCTION(\"\"\"COMPUTED_VALUE\"\"\"),\"Charly\")","v":"Charly"},{"$f":"IFERROR(__xludf.DUMMYFUNCTION(\"\"\"COMPUTED_VALUE\"\"\"),\"H\")","v":"H"},{"$f":"IFERROR(__xludf.DUMMYFUNCTION(\"\"\"COMPUTED_VALUE\"\"\"),50.0)","v":50},{"$f":"IFERROR(__xludf.DUMMYFUNCTION(\"\"\"COMPUTED_VALUE\"\"\"),\"cet49@wanadoo.fr\")","v":"cet49@wanadoo.fr"},{"$f":"IFERROR(__xludf.DUMMYFUNCTION(\"\"\"COMPUTED_VALUE\"\"\"),\"charlygn\")","v":"charlygn"},{"$f":"IFERROR(__xludf.DUMMYFUNCTION(\"\"\"COMPUTED_VALUE\"\"\"),\"0683159265\")","v":"0683159265"},{"$f":"IFERROR(__xludf.DUMMYFUNCTION(\"\"\"COMPUTED_VALUE\"\"\"),\"PJ+PNJ\")","v":"PJ+PNJ"},{"$f":"IFERROR(__xludf.DUMMYFUNCTION(\"\"\"COMPUTED_VALUE\"\"\"),\"-\")","v":"-"},{"$f":"IFERROR(__xludf.DUMMYFUNCTION(\"\"\"COMPUTED_VALUE\"\"\"),\"Les deux\")","v":"Les deux"},{"$f":"IFERROR(__xludf.DUMMYFUNCTION(\"\"\"COMPUTED_VALUE\"\"\"),\"Peu importe\")","v":"Peu importe"},{"$f":"IFERROR(__xludf.DUMMYFUNCTION(\"\"\"COMPUTED_VALUE\"\"\"),\"OK\")","v":"OK"},{"$f":"IFERROR(__xludf.DUMMYFUNCTION(\"\"\"COMPUTED_VALUE\"\"\"),\"OK\")","v":"OK"},{"$f":"IFERROR(__xludf.DUMMYFUNCTION(\"\"\"COMPUTED_VALUE\"\"\"),\"juin\")","v":"juin"},{"$f":"IFERROR(__xludf.DUMMYFUNCTION(\"\"\"COMPUTED_VALUE\"\"\"),\"Fort seulement\")","v":"Fort seulement"},null,{"$f":"IFERROR(__xludf.DUMMYFUNCTION(\"\"\"COMPUTED_VALUE\"\"\"),\"PAF non reçue\")","v":"PAF non reçue"},{"$f":"IFERROR(__xludf.DUMMYFUNCTION(\"\"\"COMPUTED_VALUE\"\"\"),\"non reçue\")","v":"non reçue"},{"$f":"IFERROR(__xludf.DUMMYFUNCTION(\"\"\"COMPUTED_VALUE\"\"\"),\"R.A.S.\")","v":"R.A.S."},{"$f":"IFERROR(__xludf.DUMMYFUNCTION(\"\"\"COMPUTED_VALUE\"\"\"),\"samedi\")","v":"samedi"},{"$f":"IFERROR(__xludf.DUMMYFUNCTION(\"\"\"COMPUTED_VALUE\"\"\"),\"Reste\")","v":"Reste"}]
[{"$f":"IFERROR(__xludf.DUMMYFUNCTION(\"\"\"COMPUTED_VALUE\"\"\"),45581.0)","v":"2024-10-16"},{"$f":"IFERROR(__xludf.DUMMYFUNCTION(\"\"\"COMPUTED_VALUE\"\"\"),\"Whittaker\")","v":"Whittaker"},{"$f":"IFERROR(__xludf.DUMMYFUNCTION(\"\"\"COMPUTED_VALUE\"\"\"),\"Isabelle\")","v":"Isabelle"},{"$f":"IFERROR(__xludf.DUMMYFUNCTION(\"\"\"COMPUTED_VALUE\"\"\"),\"F\")","v":"F"},{"$f":"IFERROR(__xludf.DUMMYFUNCTION(\"\"\"COMPUTED_VALUE\"\"\"),37.0)","v":37},{"$f":"IFERROR(__xludf.DUMMYFUNCTION(\"\"\"COMPUTED_VALUE\"\"\"),\"isabelle.whittaker@gmail.com\")","v":"isabelle.whittaker@gmail.com"},{"$f":"IFERROR(__xludf.DUMMYFUNCTION(\"\"\"COMPUTED_VALUE\"\"\"),\"Isabelle Whittaker\")","v":"Isabelle Whittaker"},{"$f":"IFERROR(__xludf.DUMMYFUNCTION(\"\"\"COMPUTED_VALUE\"\"\"),\"0786144580\")","v":"0786144580"},{"$f":"IFERROR(__xludf.DUMMYFUNCTION(\"\"\"COMPUTED_VALUE\"\"\"),\"Pur PJ\")","v":"Pur PJ"},{"$f":"IFERROR(__xludf.DUMMYFUNCTION(\"\"\"COMPUTED_VALUE\"\"\"),\"-\")","v":"-"},{"$f":"IFERROR(__xludf.DUMMYFUNCTION(\"\"\"COMPUTED_VALUE\"\"\"),\"juin\")","v":"juin"},{"$f":"IFERROR(__xludf.DUMMYFUNCTION(\"\"\"COMPUTED_VALUE\"\"\"),\"Peu importe\")","v":"Peu importe"},{"$f":"IFERROR(__xludf.DUMMYFUNCTION(\"\"\"COMPUTED_VALUE\"\"\"),\"OK\")","v":"OK"},{"$f":"IFERROR(__xludf.DUMMYFUNCTION(\"\"\"COMPUTED_VALUE\"\"\"),\"OK\")","v":"OK"},{"$f":"IFERROR(__xludf.DUMMYFUNCTION(\"\"\"COMPUTED_VALUE\"\"\"),\"septembre\")","v":"septembre"},{"$f":"IFERROR(__xludf.DUMMYFUNCTION(\"\"\"COMPUTED_VALUE\"\"\"),\"Navire & Fort\")","v":"Navire & Fort"},null,{"$f":"IFERROR(__xludf.DUMMYFUNCTION(\"\"\"COMPUTED_VALUE\"\"\"),\"PAF non reçue\")","v":"PAF non reçue"},{"$f":"IFERROR(__xludf.DUMMYFUNCTION(\"\"\"COMPUTED_VALUE\"\"\"),\"non reçue\")","v":"non reçue"},{"$f":"IFERROR(__xludf.DUMMYFUNCTION(\"\"\"COMPUTED_VALUE\"\"\"),\"R.A.S.\")","v":"R.A.S."},{"$f":"IFERROR(__xludf.DUMMYFUNCTION(\"\"\"COMPUTED_VALUE\"\"\"),\"samedi\")","v":"samedi"},{"$f":"IFERROR(__xludf.DUMMYFUNCTION(\"\"\"COMPUTED_VALUE\"\"\"),\"Reste\")","v":"Reste"}]
[{"$f":"IFERROR(__xludf.DUMMYFUNCTION(\"\"\"COMPUTED_VALUE\"\"\"),45585.0)","v":"2024-10-20"},{"$f":"IFERROR(__xludf.DUMMYFUNCTION(\"\"\"COMPUTED_VALUE\"\"\"),\"Petitdemange\")","v":"Petitdemange"},{"$f":"IFERROR(__xludf.DUMMYFUNCTION(\"\"\"COMPUTED_VALUE\"\"\"),\"Floriane\")","v":"Floriane"},{"$f":"IFERROR(__xludf.DUMMYFUNCTION(\"\"\"COMPUTED_VALUE\"\"\"),\"F\")","v":"F"},{"$f":"IFERROR(__xludf.DUMMYFUNCTION(\"\"\"COMPUTED_VALUE\"\"\"),36.0)","v":36},{"$f":"IFERROR(__xludf.DUMMYFUNCTION(\"\"\"COMPUTED_VALUE\"\"\"),\"floriane.petitdemange@gmail.com\")","v":"floriane.petitdemange@gmail.com"},{"$f":"IFERROR(__xludf.DUMMYFUNCTION(\"\"\"COMPUTED_VALUE\"\"\"),\"Floriane Senami\")","v":"Floriane Senami"},{"$f":"IFERROR(__xludf.DUMMYFUNCTION(\"\"\"COMPUTED_VALUE\"\"\"),\"06.02.36.57.68.\")","v":"06.02.36.57.68."},{"$f":"IFERROR(__xludf.DUMMYFUNCTION(\"\"\"COMPUTED_VALUE\"\"\"),\"Pur PJ\")","v":"Pur PJ"},{"$f":"IFERROR(__xludf.DUMMYFUNCTION(\"\"\"COMPUTED_VALUE\"\"\"),\"-\")","v":"-"},{"$f":"IFERROR(__xludf.DUMMYFUNCTION(\"\"\"COMPUTED_VALUE\"\"\"),\"Les deux\")","v":"Les deux"},{"$f":"IFERROR(__xludf.DUMMYFUNCTION(\"\"\"COMPUTED_VALUE\"\"\"),\"Navire et fort\")","v":"Navire et fort"},{"$f":"IFERROR(__xludf.DUMMYFUNCTION(\"\"\"COMPUTED_VALUE\"\"\"),\"OK\")","v":"OK"},{"$f":"IFERROR(__xludf.DUMMYFUNCTION(\"\"\"COMPUTED_VALUE\"\"\"),\"OK\")","v":"OK"},{"$f":"IFERROR(__xludf.DUMMYFUNCTION(\"\"\"COMPUTED_VALUE\"\"\"),\"septembre\")","v":"septembre"},{"$f":"IFERROR(__xludf.DUMMYFUNCTION(\"\"\"COMPUTED_VALUE\"\"\"),\"Navire & Fort\")","v":"Navire & Fort"},null,{"$f":"IFERROR(__xludf.DUMMYFUNCTION(\"\"\"COMPUTED_VALUE\"\"\"),\"PAF non reçue\")","v":"PAF non reçue"},{"$f":"IFERROR(__xludf.DUMMYFUNCTION(\"\"\"COMPUTED_VALUE\"\"\"),\"non reçue\")","v":"non reçue"},{"$f":"IFERROR(__xludf.DUMMYFUNCTION(\"\"\"COMPUTED_VALUE\"\"\"),\"R.A.S.\")","v":"R.A.S."},{"$f":"IFERROR(__xludf.DUMMYFUNCTION(\"\"\"COMPUTED_VALUE\"\"\"),\"samedi\")","v":"samedi"},{"$f":"IFERROR(__xludf.DUMMYFUNCTION(\"\"\"COMPUTED_VALUE\"\"\"),\"Reste\")","v":"Reste"}]
[{"$f":"IFERROR(__xludf.DUMMYFUNCTION(\"\"\"COMPUTED_VALUE\"\"\"),45596.0)","v":"2024-10-31"},{"$f":"IFERROR(__xludf.DUMMYFUNCTION(\"\"\"COMPUTED_VALUE\"\"\"),\"Gresset\")","v":"Gresset"},{"$f":"IFERROR(__xludf.DUMMYFUNCTION(\"\"\"COMPUTED_VALUE\"\"\"),\"Véronique \")","v":"Véronique "},{"$f":"IFERROR(__xludf.DUMMYFUNCTION(\"\"\"COMPUTED_VALUE\"\"\"),\"F\")","v":"F"},{"$f":"IFERROR(__xludf.DUMMYFUNCTION(\"\"\"COMPUTED_VALUE\"\"\"),56.0)","v":56},{"$f":"IFERROR(__xludf.DUMMYFUNCTION(\"\"\"COMPUTED_VALUE\"\"\"),\"veronique.gresset@gmail.com\")","v":"veronique.gresset@gmail.com"},{"$f":"IFERROR(__xludf.DUMMYFUNCTION(\"\"\"COMPUTED_VALUE\"\"\"),\"charlottesurlenet\")","v":"charlottesurlenet"},{"$f":"IFERROR(__xludf.DUMMYFUNCTION(\"\"\"COMPUTED_VALUE\"\"\"),\"0783736968\")","v":"0783736968"},{"$f":"IFERROR(__xludf.DUMMYFUNCTION(\"\"\"COMPUTED_VALUE\"\"\"),\"Pur PJ\")","v":"Pur PJ"},{"$f":"IFERROR(__xludf.DUMMYFUNCTION(\"\"\"COMPUTED_VALUE\"\"\"),\"-\")","v":"-"},{"$f":"IFERROR(__xludf.DUMMYFUNCTION(\"\"\"COMPUTED_VALUE\"\"\"),\"septembre\")","v":"septembre"},{"$f":"IFERROR(__xludf.DUMMYFUNCTION(\"\"\"COMPUTED_VALUE\"\"\"),\"Seulement au fort\")","v":"Seulement au fort"},{"$f":"IFERROR(__xludf.DUMMYFUNCTION(\"\"\"COMPUTED_VALUE\"\"\"),\"OK\")","v":"OK"},{"$f":"IFERROR(__xludf.DUMMYFUNCTION(\"\"\"COMPUTED_VALUE\"\"\"),\"OK\")","v":"OK"},{"$f":"IFERROR(__xludf.DUMMYFUNCTION(\"\"\"COMPUTED_VALUE\"\"\"),\"septembre\")","v":"septembre"},{"$f":"IFERROR(__xludf.DUMMYFUNCTION(\"\"\"COMPUTED_VALUE\"\"\"),\"Fort seulement\")","v":"Fort seulement"},null,{"$f":"IFERROR(__xludf.DUMMYFUNCTION(\"\"\"COMPUTED_VALUE\"\"\"),\"PAF non reçue\")","v":"PAF non reçue"},{"$f":"IFERROR(__xludf.DUMMYFUNCTION(\"\"\"COMPUTED_VALUE\"\"\"),\"non reçue\")","v":"non reçue"},{"$f":"IFERROR(__xludf.DUMMYFUNCTION(\"\"\"COMPUTED_VALUE\"\"\"),\"R.A.S.\")","v":"R.A.S."},{"$f":"IFERROR(__xludf.DUMMYFUNCTION(\"\"\"COMPUTED_VALUE\"\"\"),\"samedi\")","v":"samedi"},{"$f":"IFERROR(__xludf.DUMMYFUNCTION(\"\"\"COMPUTED_VALUE\"\"\"),\"Reste\")","v":"Reste"}]
[{"$f":"IFERROR(__xludf.DUMMYFUNCTION(\"\"\"COMPUTED_VALUE\"\"\"),45617.0)","v":"2024-11-21"},{"$f":"IFERROR(__xludf.DUMMYFUNCTION(\"\"\"COMPUTED_VALUE\"\"\"),\"Trémoulière\")","v":"Trémoulière"},{"$f":"IFERROR(__xludf.DUMMYFUNCTION(\"\"\"COMPUTED_VALUE\"\"\"),\"Claire\")","v":"Claire"},{"$f":"IFERROR(__xludf.DUMMYFUNCTION(\"\"\"COMPUTED_VALUE\"\"\"),\"F\")","v":"F"},{"$f":"IFERROR(__xludf.DUMMYFUNCTION(\"\"\"COMPUTED_VALUE\"\"\"),30.0)","v":30},{"$f":"IFERROR(__xludf.DUMMYFUNCTION(\"\"\"COMPUTED_VALUE\"\"\"),\"claire.tremouliere@gmail.com\")","v":"claire.tremouliere@gmail.com"},{"$f":"IFERROR(__xludf.DUMMYFUNCTION(\"\"\"COMPUTED_VALUE\"\"\"),\"Claire Trml\")","v":"Claire Trml"},{"$f":"IFERROR(__xludf.DUMMYFUNCTION(\"\"\"COMPUTED_VALUE\"\"\"),\"0647932215\")","v":"0647932215"},{"$f":"IFERROR(__xludf.DUMMYFUNCTION(\"\"\"COMPUTED_VALUE\"\"\"),\"Pur PJ\")","v":"Pur PJ"},{"$f":"IFERROR(__xludf.DUMMYFUNCTION(\"\"\"COMPUTED_VALUE\"\"\"),\"-\")","v":"-"},{"$f":"IFERROR(__xludf.DUMMYFUNCTION(\"\"\"COMPUTED_VALUE\"\"\"),\"septembre\")","v":"septembre"},{"$f":"IFERROR(__xludf.DUMMYFUNCTION(\"\"\"COMPUTED_VALUE\"\"\"),\"Seulement au fort\")","v":"Seulement au fort"},{"$f":"IFERROR(__xludf.DUMMYFUNCTION(\"\"\"COMPUTED_VALUE\"\"\"),\"OK\")","v":"OK"},{"$f":"IFERROR(__xludf.DUMMYFUNCTION(\"\"\"COMPUTED_VALUE\"\"\"),\"OK\")","v":"OK"},{"$f":"IFERROR(__xludf.DUMMYFUNCTION(\"\"\"COMPUTED_VALUE\"\"\"),\"septembre\")","v":"septembre"},{"$f":"IFERROR(__xludf.DUMMYFUNCTION(\"\"\"COMPUTED_VALUE\"\"\"),\"Fort seulement\")","v":"Fort seulement"},null,{"$f":"IFERROR(__xludf.DUMMYFUNCTION(\"\"\"COMPUTED_VALUE\"\"\"),\"PAF non reçue\")","v":"PAF non reçue"},{"$f":"IFERROR(__xludf.DUMMYFUNCTION(\"\"\"COMPUTED_VALUE\"\"\"),\"non reçue\")","v":"non reçue"},{"$f":"IFERROR(__xludf.DUMMYFUNCTION(\"\"\"COMPUTED_VALUE\"\"\"),\"R.A.S.\")","v":"R.A.S."},{"$f":"IFERROR(__xludf.DUMMYFUNCTION(\"\"\"COMPUTED_VALUE\"\"\"),\"samedi\")","v":"samedi"},{"$f":"IFERROR(__xludf.DUMMYFUNCTION(\"\"\"COMPUTED_VALUE\"\"\"),\"Reste\")","v":"Reste"}]
[{"$f":"IFERROR(__xludf.DUMMYFUNCTION(\"\"\"COMPUTED_VALUE\"\"\"),45618.0)","v":"2024-11-22"},{"$f":"IFERROR(__xludf.DUMMYFUNCTION(\"\"\"COMPUTED_VALUE\"\"\"),\"Fustec\")","v":"Fustec"},{"$f":"IFERROR(__xludf.DUMMYFUNCTION(\"\"\"COMPUTED_VALUE\"\"\"),\"Timothée\")","v":"Timothée"},{"$f":"IFERROR(__xludf.DUMMYFUNCTION(\"\"\"COMPUTED_VALUE\"\"\"),\"H\")","v":"H"},{"$f":"IFERROR(__xludf.DUMMYFUNCTION(\"\"\"COMPUTED_VALUE\"\"\"),31.0)","v":31},{"$f":"IFERROR(__xludf.DUMMYFUNCTION(\"\"\"COMPUTED_VALUE\"\"\"),\"timothee.fustec@gmail.com\")","v":"timothee.fustec@gmail.com"},{"$f":"IFERROR(__xludf.DUMMYFUNCTION(\"\"\"COMPUTED_VALUE\"\"\"),\"L'Homme À Tentacules\")","v":"L'Homme À Tentacules"},{"$f":"IFERROR(__xludf.DUMMYFUNCTION(\"\"\"COMPUTED_VALUE\"\"\"),\"0679313968\")","v":"0679313968"},{"$f":"IFERROR(__xludf.DUMMYFUNCTION(\"\"\"COMPUTED_VALUE\"\"\"),\"PJ+PNJ\")","v":"PJ+PNJ"},{"$f":"IFERROR(__xludf.DUMMYFUNCTION(\"\"\"COMPUTED_VALUE\"\"\"),\"-\")","v":"-"},{"$f":"IFERROR(__xludf.DUMMYFUNCTION(\"\"\"COMPUTED_VALUE\"\"\"),\"septembre\")","v":"septembre"},{"$f":"IFERROR(__xludf.DUMMYFUNCTION(\"\"\"COMPUTED_VALUE\"\"\"),\"Peu importe\")","v":"Peu importe"},{"$f":"IFERROR(__xludf.DUMMYFUNCTION(\"\"\"COMPUTED_VALUE\"\"\"),\"OK\")","v":"OK"},{"$f":"IFERROR(__xludf.DUMMYFUNCTION(\"\"\"COMPUTED_VALUE\"\"\"),\"OK\")","v":"OK"},{"$f":"IFERROR(__xludf.DUMMYFUNCTION(\"\"\"COMPUTED_VALUE\"\"\"),\"septembre\")","v":"septembre"},{"$f":"IFERROR(__xludf.DUMMYFUNCTION(\"\"\"COMPUTED_VALUE\"\"\"),\"Fort seulement\")","v":"Fort seulement"},null,{"$f":"IFERROR(__xludf.DUMMYFUNCTION(\"\"\"COMPUTED_VALUE\"\"\"),\"PAF non reçue\")","v":"PAF non reçue"},{"$f":"IFERROR(__xludf.DUMMYFUNCTION(\"\"\"COMPUTED_VALUE\"\"\"),\"non reçue\")","v":"non reçue"},{"$f":"IFERROR(__xludf.DUMMYFUNCTION(\"\"\"COMPUTED_VALUE\"\"\"),\"R.A.S.\")","v":"R.A.S."},{"$f":"IFERROR(__xludf.DUMMYFUNCTION(\"\"\"COMPUTED_VALUE\"\"\"),\"samedi\")","v":"samedi"},{"$f":"IFERROR(__xludf.DUMMYFUNCTION(\"\"\"COMPUTED_VALUE\"\"\"),\"Reste\")","v":"Reste"}]
[{"$f":"IFERROR(__xludf.DUMMYFUNCTION(\"\"\"COMPUTED_VALUE\"\"\"),45660.0)","v":"2025-01-03"},{"$f":"IFERROR(__xludf.DUMMYFUNCTION(\"\"\"COMPUTED_VALUE\"\"\"),\"Vidal \")","v":"Vidal "},{"$f":"IFERROR(__xludf.DUMMYFUNCTION(\"\"\"COMPUTED_VALUE\"\"\"),\"Jules\")","v":"Jules"},{"$f":"IFERROR(__xludf.DUMMYFUNCTION(\"\"\"COMPUTED_VALUE\"\"\"),\"H\")","v":"H"},{"$f":"IFERROR(__xludf.DUMMYFUNCTION(\"\"\"COMPUTED_VALUE\"\"\"),31.0)","v":31},{"$f":"IFERROR(__xludf.DUMMYFUNCTION(\"\"\"COMPUTED_VALUE\"\"\"),\"jules.vidal@live.fr\")","v":"jules.vidal@live.fr"},{"$f":"IFERROR(__xludf.DUMMYFUNCTION(\"\"\"COMPUTED_VALUE\"\"\"),\"Jules Vidal \")","v":"Jules Vidal "},{"$f":"IFERROR(__xludf.DUMMYFUNCTION(\"\"\"COMPUTED_VALUE\"\"\"),\"645063353\")","v":"645063353"},{"$f":"IFERROR(__xludf.DUMMYFUNCTION(\"\"\"COMPUTED_VALUE\"\"\"),\"PJ+PNJ\")","v":"PJ+PNJ"},{"$f":"IFERROR(__xludf.DUMMYFUNCTION(\"\"\"COMPUTED_VALUE\"\"\"),\"-\")","v":"-"},{"$f":"IFERROR(__xludf.DUMMYFUNCTION(\"\"\"COMPUTED_VALUE\"\"\"),\"Les deux\")","v":"Les deux"},{"$f":"IFERROR(__xludf.DUMMYFUNCTION(\"\"\"COMPUTED_VALUE\"\"\"),\"Navire et fort\")","v":"Navire et fort"},{"$f":"IFERROR(__xludf.DUMMYFUNCTION(\"\"\"COMPUTED_VALUE\"\"\"),\"OK\")","v":"OK"},{"$f":"IFERROR(__xludf.DUMMYFUNCTION(\"\"\"COMPUTED_VALUE\"\"\"),\"OK\")","v":"OK"},{"$f":"IFERROR(__xludf.DUMMYFUNCTION(\"\"\"COMPUTED_VALUE\"\"\"),\"septembre\")","v":"septembre"},{"$f":"IFERROR(__xludf.DUMMYFUNCTION(\"\"\"COMPUTED_VALUE\"\"\"),\"Navire & Fort\")","v":"Navire & Fort"},null,{"$f":"IFERROR(__xludf.DUMMYFUNCTION(\"\"\"COMPUTED_VALUE\"\"\"),\"PAF non reçue\")","v":"PAF non reçue"},{"$f":"IFERROR(__xludf.DUMMYFUNCTION(\"\"\"COMPUTED_VALUE\"\"\"),\"non reçue\")","v":"non reçue"},{"$f":"IFERROR(__xludf.DUMMYFUNCTION(\"\"\"COMPUTED_VALUE\"\"\"),\"R.A.S.\")","v":"R.A.S."},{"$f":"IFERROR(__xludf.DUMMYFUNCTION(\"\"\"COMPUTED_VALUE\"\"\"),\"samedi\")","v":"samedi"},{"$f":"IFERROR(__xludf.DUMMYFUNCTION(\"\"\"COMPUTED_VALUE\"\"\"),\"Reste\")","v":"Reste"}]
[{"$f":"IFERROR(__xludf.DUMMYFUNCTION(\"\"\"COMPUTED_VALUE\"\"\"),45661.0)","v":"2025-01-04"},{"$f":"IFERROR(__xludf.DUMMYFUNCTION(\"\"\"COMPUTED_VALUE\"\"\"),\"Barrere\")","v":"Barrere"},{"$f":"IFERROR(__xludf.DUMMYFUNCTION(\"\"\"COMPUTED_VALUE\"\"\"),\"Ludovic\")","v":"Ludovic"},{"$f":"IFERROR(__xludf.DUMMYFUNCTION(\"\"\"COMPUTED_VALUE\"\"\"),\"H\")","v":"H"},{"$f":"IFERROR(__xludf.DUMMYFUNCTION(\"\"\"COMPUTED_VALUE\"\"\"),-68648.0)","v":-68648},{"$f":"IFERROR(__xludf.DUMMYFUNCTION(\"\"\"COMPUTED_VALUE\"\"\"),\"ludobarrere@hotmail.fr\")","v":"ludobarrere@hotmail.fr"},{"$f":"IFERROR(__xludf.DUMMYFUNCTION(\"\"\"COMPUTED_VALUE\"\"\"),\"Lu Dovic\")","v":"Lu Dovic"},{"$f":"IFERROR(__xludf.DUMMYFUNCTION(\"\"\"COMPUTED_VALUE\"\"\"),\"0617981351\")","v":"0617981351"},{"$f":"IFERROR(__xludf.DUMMYFUNCTION(\"\"\"COMPUTED_VALUE\"\"\"),\"Pur PJ\")","v":"Pur PJ"},{"$f":"IFERROR(__xludf.DUMMYFUNCTION(\"\"\"COMPUTED_VALUE\"\"\"),\"-\")","v":"-"},{"$f":"IFERROR(__xludf.DUMMYFUNCTION(\"\"\"COMPUTED_VALUE\"\"\"),\"septembre\")","v":"septembre"},{"$f":"IFERROR(__xludf.DUMMYFUNCTION(\"\"\"COMPUTED_VALUE\"\"\"),\"Navire et fort\")","v":"Navire et fort"},{"$f":"IFERROR(__xludf.DUMMYFUNCTION(\"\"\"COMPUTED_VALUE\"\"\"),\"OK\")","v":"OK"},{"$f":"IFERROR(__xludf.DUMMYFUNCTION(\"\"\"COMPUTED_VALUE\"\"\"),\"OK\")","v":"OK"},{"$f":"IFERROR(__xludf.DUMMYFUNCTION(\"\"\"COMPUTED_VALUE\"\"\"),\"septembre\")","v":"septembre"},{"$f":"IFERROR(__xludf.DUMMYFUNCTION(\"\"\"COMPUTED_VALUE\"\"\"),\"Navire & Fort\")","v":"Navire & Fort"},null,{"$f":"IFERROR(__xludf.DUMMYFUNCTION(\"\"\"COMPUTED_VALUE\"\"\"),\"PAF non reçue\")","v":"PAF non reçue"},{"$f":"IFERROR(__xludf.DUMMYFUNCTION(\"\"\"COMPUTED_VALUE\"\"\"),\"non reçue\")","v":"non reçue"},{"$f":"IFERROR(__xludf.DUMMYFUNCTION(\"\"\"COMPUTED_VALUE\"\"\"),\"R.A.S.\")","v":"R.A.S."},{"$f":"IFERROR(__xludf.DUMMYFUNCTION(\"\"\"COMPUTED_VALUE\"\"\"),\"samedi\")","v":"samedi"},{"$f":"IFERROR(__xludf.DUMMYFUNCTION(\"\"\"COMPUTED_VALUE\"\"\"),\"Reste\")","v":"Reste"}]
[{"$f":"IFERROR(__xludf.DUMMYFUNCTION(\"\"\"COMPUTED_VALUE\"\"\"),45661.0)","v":"2025-01-04"},{"$f":"IFERROR(__xludf.DUMMYFUNCTION(\"\"\"COMPUTED_VALUE\"\"\"),\"Dubois \")","v":"Dubois "},{"$f":"IFERROR(__xludf.DUMMYFUNCTION(\"\"\"COMPUTED_VALUE\"\"\"),\"Patrick \")","v":"Patrick "},{"$f":"IFERROR(__xludf.DUMMYFUNCTION(\"\"\"COMPUTED_VALUE\"\"\"),\"H\")","v":"H"},{"$f":"IFERROR(__xludf.DUMMYFUNCTION(\"\"\"COMPUTED_VALUE\"\"\"),54.0)","v":54},{"$f":"IFERROR(__xludf.DUMMYFUNCTION(\"\"\"COMPUTED_VALUE\"\"\"),\"caninepointue@yahoo.fr\")","v":"caninepointue@yahoo.fr"},{"$f":"IFERROR(__xludf.DUMMYFUNCTION(\"\"\"COMPUTED_VALUE\"\"\"),\"Patrick Dubois \")","v":"Patrick Dubois "},{"$f":"IFERROR(__xludf.DUMMYFUNCTION(\"\"\"COMPUTED_VALUE\"\"\"),\"0681649536\")","v":"0681649536"},{"$f":"IFERROR(__xludf.DUMMYFUNCTION(\"\"\"COMPUTED_VALUE\"\"\"),\"Pur PJ\")","v":"Pur PJ"},{"$f":"IFERROR(__xludf.DUMMYFUNCTION(\"\"\"COMPUTED_VALUE\"\"\"),\"-\")","v":"-"},{"$f":"IFERROR(__xludf.DUMMYFUNCTION(\"\"\"COMPUTED_VALUE\"\"\"),\"juin\")","v":"juin"},{"$f":"IFERROR(__xludf.DUMMYFUNCTION(\"\"\"COMPUTED_VALUE\"\"\"),\"Peu importe\")","v":"Peu importe"},{"$f":"IFERROR(__xludf.DUMMYFUNCTION(\"\"\"COMPUTED_VALUE\"\"\"),\"OK\")","v":"OK"},{"$f":"IFERROR(__xludf.DUMMYFUNCTION(\"\"\"COMPUTED_VALUE\"\"\"),\"OK\")","v":"OK"},{"$f":"IFERROR(__xludf.DUMMYFUNCTION(\"\"\"COMPUTED_VALUE\"\"\"),\"juin\")","v":"juin"},{"$f":"IFERROR(__xludf.DUMMYFUNCTION(\"\"\"COMPUTED_VALUE\"\"\"),\"Fort seulement\")","v":"Fort seulement"},null,{"$f":"IFERROR(__xludf.DUMMYFUNCTION(\"\"\"COMPUTED_VALUE\"\"\"),\"PAF non reçue\")","v":"PAF non reçue"},{"$f":"IFERROR(__xludf.DUMMYFUNCTION(\"\"\"COMPUTED_VALUE\"\"\"),\"non reçue\")","v":"non reçue"},{"$f":"IFERROR(__xludf.DUMMYFUNCTION(\"\"\"COMPUTED_VALUE\"\"\"),\"R.A.S.\")","v":"R.A.S."},{"$f":"IFERROR(__xludf.DUMMYFUNCTION(\"\"\"COMPUTED_VALUE\"\"\"),\"samedi\")","v":"samedi"},{"$f":"IFERROR(__xludf.DUMMYFUNCTION(\"\"\"COMPUTED_VALUE\"\"\"),\"Reste\")","v":"Reste"}]
[{"$f":"IFERROR(__xludf.DUMMYFUNCTION(\"\"\"COMPUTED_VALUE\"\"\"),45662.0)","v":"2025-01-05"},{"$f":"IFERROR(__xludf.DUMMYFUNCTION(\"\"\"COMPUTED_VALUE\"\"\"),\"Kerfriden \")","v":"Kerfriden "},{"$f":"IFERROR(__xludf.DUMMYFUNCTION(\"\"\"COMPUTED_VALUE\"\"\"),\"Claire \")","v":"Claire "},{"$f":"IFERROR(__xludf.DUMMYFUNCTION(\"\"\"COMPUTED_VALUE\"\"\"),\"F\")","v":"F"},{"$f":"IFERROR(__xludf.DUMMYFUNCTION(\"\"\"COMPUTED_VALUE\"\"\"),22.0)","v":22},{"$f":"IFERROR(__xludf.DUMMYFUNCTION(\"\"\"COMPUTED_VALUE\"\"\"),\"claire.kerfriden@gmail.com\")","v":"claire.kerfriden@gmail.com"},{"$f":"IFERROR(__xludf.DUMMYFUNCTION(\"\"\"COMPUTED_VALUE\"\"\"),\"Claire Kerfriden \")","v":"Claire Kerfriden "},{"$f":"IFERROR(__xludf.DUMMYFUNCTION(\"\"\"COMPUTED_VALUE\"\"\"),\"06-09-73-55-13 \")","v":"06-09-73-55-13 "},{"$f":"IFERROR(__xludf.DUMMYFUNCTION(\"\"\"COMPUTED_VALUE\"\"\"),\"Pur PJ\")","v":"Pur PJ"},{"$f":"IFERROR(__xludf.DUMMYFUNCTION(\"\"\"COMPUTED_VALUE\"\"\"),\"-\")","v":"-"},{"$f":"IFERROR(__xludf.DUMMYFUNCTION(\"\"\"COMPUTED_VALUE\"\"\"),\"juin\")","v":"juin"},{"$f":"IFERROR(__xludf.DUMMYFUNCTION(\"\"\"COMPUTED_VALUE\"\"\"),\"Peu importe\")","v":"Peu importe"},{"$f":"IFERROR(__xludf.DUMMYFUNCTION(\"\"\"COMPUTED_VALUE\"\"\"),\"OK\")","v":"OK"},{"$f":"IFERROR(__xludf.DUMMYFUNCTION(\"\"\"COMPUTED_VALUE\"\"\"),\"OK\")","v":"OK"},{"$f":"IFERROR(__xludf.DUMMYFUNCTION(\"\"\"COMPUTED_VALUE\"\"\"),\"juin\")","v":"juin"},{"$f":"IFERROR(__xludf.DUMMYFUNCTION(\"\"\"COMPUTED_VALUE\"\"\"),\"Fort seulement\")","v":"Fort seulement"},null,{"$f":"IFERROR(__xludf.DUMMYFUNCTION(\"\"\"COMPUTED_VALUE\"\"\"),\"PAF non reçue\")","v":"PAF non reçue"},{"$f":"IFERROR(__xludf.DUMMYFUNCTION(\"\"\"COMPUTED_VALUE\"\"\"),\"non reçue\")","v":"non reçue"},{"$f":"IFERROR(__xludf.DUMMYFUNCTION(\"\"\"COMPUTED_VALUE\"\"\"),\"R.A.S.\")","v":"R.A.S."},{"$f":"IFERROR(__xludf.DUMMYFUNCTION(\"\"\"COMPUTED_VALUE\"\"\"),\"samedi\")","v":"samedi"},{"$f":"IFERROR(__xludf.DUMMYFUNCTION(\"\"\"COMPUTED_VALUE\"\"\"),\"NON\")","v":"NON"}]
[{"$f":"IFERROR(__xludf.DUMMYFUNCTION(\"\"\"COMPUTED_VALUE\"\"\"),45664.0)","v":"2025-01-07"},{"$f":"IFERROR(__xludf.DUMMYFUNCTION(\"\"\"COMPUTED_VALUE\"\"\"),\"leveque\")","v":"leveque"},{"$f":"IFERROR(__xludf.DUMMYFUNCTION(\"\"\"COMPUTED_VALUE\"\"\"),\"Jonathan\")","v":"Jonathan"},{"$f":"IFERROR(__xludf.DUMMYFUNCTION(\"\"\"COMPUTED_VALUE\"\"\"),\"H\")","v":"H"},{"$f":"IFERROR(__xludf.DUMMYFUNCTION(\"\"\"COMPUTED_VALUE\"\"\"),39.0)","v":39},{"$f":"IFERROR(__xludf.DUMMYFUNCTION(\"\"\"COMPUTED_VALUE\"\"\"),\"j.leveque44@gmail.com\")","v":"j.leveque44@gmail.com"},{"$f":"IFERROR(__xludf.DUMMYFUNCTION(\"\"\"COMPUTED_VALUE\"\"\"),\"John Calias\")","v":"John Calias"},{"$f":"IFERROR(__xludf.DUMMYFUNCTION(\"\"\"COMPUTED_VALUE\"\"\"),\"0474450053\")","v":"0474450053"},{"$f":"IFERROR(__xludf.DUMMYFUNCTION(\"\"\"COMPUTED_VALUE\"\"\"),\"PJ+PNJ\")","v":"PJ+PNJ"},{"$f":"IFERROR(__xludf.DUMMYFUNCTION(\"\"\"COMPUTED_VALUE\"\"\"),\"-\")","v":"-"},{"$f":"IFERROR(__xludf.DUMMYFUNCTION(\"\"\"COMPUTED_VALUE\"\"\"),\"Les deux\")","v":"Les deux"},{"$f":"IFERROR(__xludf.DUMMYFUNCTION(\"\"\"COMPUTED_VALUE\"\"\"),\"Navire et fort\")","v":"Navire et fort"},{"$f":"IFERROR(__xludf.DUMMYFUNCTION(\"\"\"COMPUTED_VALUE\"\"\"),\"OK\")","v":"OK"},{"$f":"IFERROR(__xludf.DUMMYFUNCTION(\"\"\"COMPUTED_VALUE\"\"\"),\"OK\")","v":"OK"},{"$f":"IFERROR(__xludf.DUMMYFUNCTION(\"\"\"COMPUTED_VALUE\"\"\"),\"septembre\")","v":"septembre"},{"$f":"IFERROR(__xludf.DUMMYFUNCTION(\"\"\"COMPUTED_VALUE\"\"\"),\"Navire & Fort\")","v":"Navire & Fort"},null,{"$f":"IFERROR(__xludf.DUMMYFUNCTION(\"\"\"COMPUTED_VALUE\"\"\"),\"PAF non reçue\")","v":"PAF non reçue"},{"$f":"IFERROR(__xludf.DUMMYFUNCTION(\"\"\"COMPUTED_VALUE\"\"\"),\"non reçue\")","v":"non reçue"},{"$f":"IFERROR(__xludf.DUMMYFUNCTION(\"\"\"COMPUTED_VALUE\"\"\"),\"R.A.S.\")","v":"R.A.S."},{"$f":"IFERROR(__xludf.DUMMYFUNCTION(\"\"\"COMPUTED_VALUE\"\"\"),\"samedi\")","v":"samedi"},{"$f":"IFERROR(__xludf.DUMMYFUNCTION(\"\"\"COMPUTED_VALUE\"\"\"),\"Reste\")","v":"Reste"}]
[{"$f":"IFERROR(__xludf.DUMMYFUNCTION(\"\"\"COMPUTED_VALUE\"\"\"),45672.0)","v":"2025-01-15"},{"$f":"IFERROR(__xludf.DUMMYFUNCTION(\"\"\"COMPUTED_VALUE\"\"\"),\"Flamant\")","v":"Flamant"},{"$f":"IFERROR(__xludf.DUMMYFUNCTION(\"\"\"COMPUTED_VALUE\"\"\"),\"Julien\")","v":"Julien"},{"$f":"IFERROR(__xludf.DUMMYFUNCTION(\"\"\"COMPUTED_VALUE\"\"\"),\"H\")","v":"H"},{"$f":"IFERROR(__xludf.DUMMYFUNCTION(\"\"\"COMPUTED_VALUE\"\"\"),42.0)","v":42},{"$f":"IFERROR(__xludf.DUMMYFUNCTION(\"\"\"COMPUTED_VALUE\"\"\"),\"julien.flamant@gmail.com\")","v":"julien.flamant@gmail.com"},{"$f":"IFERROR(__xludf.DUMMYFUNCTION(\"\"\"COMPUTED_VALUE\"\"\"),\"P'tit Fût l'Apostat\")","v":"P'tit Fût l'Apostat"},{"$f":"IFERROR(__xludf.DUMMYFUNCTION(\"\"\"COMPUTED_VALUE\"\"\"),\"0679705430\")","v":"0679705430"},{"$f":"IFERROR(__xludf.DUMMYFUNCTION(\"\"\"COMPUTED_VALUE\"\"\"),\"Pur PJ\")","v":"Pur PJ"},{"$f":"IFERROR(__xludf.DUMMYFUNCTION(\"\"\"COMPUTED_VALUE\"\"\"),\"-\")","v":"-"},{"$f":"IFERROR(__xludf.DUMMYFUNCTION(\"\"\"COMPUTED_VALUE\"\"\"),\"septembre\")","v":"septembre"},{"$f":"IFERROR(__xludf.DUMMYFUNCTION(\"\"\"COMPUTED_VALUE\"\"\"),\"Seulement au fort\")","v":"Seulement au fort"},{"$f":"IFERROR(__xludf.DUMMYFUNCTION(\"\"\"COMPUTED_VALUE\"\"\"),\"OK\")","v":"OK"},{"$f":"IFERROR(__xludf.DUMMYFUNCTION(\"\"\"COMPUTED_VALUE\"\"\"),\"OK\")","v":"OK"},{"$f":"IFERROR(__xludf.DUMMYFUNCTION(\"\"\"COMPUTED_VALUE\"\"\"),\"septembre\")","v":"septembre"},{"$f":"IFERROR(__xludf.DUMMYFUNCTION(\"\"\"COMPUTED_VALUE\"\"\"),\"Fort seulement\")","v":"Fort seulement"},null,{"$f":"IFERROR(__xludf.DUMMYFUNCTION(\"\"\"COMPUTED_VALUE\"\"\"),\"PAF non reçue\")","v":"PAF non reçue"},{"$f":"IFERROR(__xludf.DUMMYFUNCTION(\"\"\"COMPUTED_VALUE\"\"\"),\"non reçue\")","v":"non reçue"},{"$f":"IFERROR(__xludf.DUMMYFUNCTION(\"\"\"COMPUTED_VALUE\"\"\"),\"R.A.S.\")","v":"R.A.S."},{"$f":"IFERROR(__xludf.DUMMYFUNCTION(\"\"\"COMPUTED_VALUE\"\"\"),\"samedi\")","v":"samedi"},{"$f":"IFERROR(__xludf.DUMMYFUNCTION(\"\"\"COMPUTED_VALUE\"\"\"),\"Reste\")","v":"Reste"}]
[{"$f":"IFERROR(__xludf.DUMMYFUNCTION(\"\"\"COMPUTED_VALUE\"\"\"),45673.0)","v":"2025-01-16"},{"$f":"IFERROR(__xludf.DUMMYFUNCTION(\"\"\"COMPUTED_VALUE\"\"\"),\"Navarro\")","v":"Navarro"},{"$f":"IFERROR(__xludf.DUMMYFUNCTION(\"\"\"COMPUTED_VALUE\"\"\"),\"Grégory \")","v":"Grégory "},{"$f":"IFERROR(__xludf.DUMMYFUNCTION(\"\"\"COMPUTED_VALUE\"\"\"),\"H\")","v":"H"},{"$f":"IFERROR(__xludf.DUMMYFUNCTION(\"\"\"COMPUTED_VALUE\"\"\"),45.0)","v":45},{"$f":"IFERROR(__xludf.DUMMYFUNCTION(\"\"\"COMPUTED_VALUE\"\"\"),\"gregory.navarro@googlemail.com\")","v":"gregory.navarro@googlemail.com"},{"$f":"IFERROR(__xludf.DUMMYFUNCTION(\"\"\"COMPUTED_VALUE\"\"\"),\"Gregaf Tapdurhörson\")","v":"Gregaf Tapdurhörson"},null,{"$f":"IFERROR(__xludf.DUMMYFUNCTION(\"\"\"COMPUTED_VALUE\"\"\"),\"Pur PJ\")","v":"Pur PJ"},{"$f":"IFERROR(__xludf.DUMMYFUNCTION(\"\"\"COMPUTED_VALUE\"\"\"),\"-\")","v":"-"},{"$f":"IFERROR(__xludf.DUMMYFUNCTION(\"\"\"COMPUTED_VALUE\"\"\"),\"septembre\")","v":"septembre"},{"$f":"IFERROR(__xludf.DUMMYFUNCTION(\"\"\"COMPUTED_VALUE\"\"\"),\"Navire et fort\")","v":"Navire et fort"},{"$f":"IFERROR(__xludf.DUMMYFUNCTION(\"\"\"COMPUTED_VALUE\"\"\"),\"OK\")","v":"OK"},{"$f":"IFERROR(__xludf.DUMMYFUNCTION(\"\"\"COMPUTED_VALUE\"\"\"),\"OK\")","v":"OK"},{"$f":"IFERROR(__xludf.DUMMYFUNCTION(\"\"\"COMPUTED_VALUE\"\"\"),\"septembre\")","v":"septembre"},{"$f":"IFERROR(__xludf.DUMMYFUNCTION(\"\"\"COMPUTED_VALUE\"\"\"),\"Navire & Fort\")","v":"Navire & Fort"},null,{"$f":"IFERROR(__xludf.DUMMYFUNCTION(\"\"\"COMPUTED_VALUE\"\"\"),\"PAF non reçue\")","v":"PAF non reçue"},{"$f":"IFERROR(__xludf.DUMMYFUNCTION(\"\"\"COMPUTED_VALUE\"\"\"),\"non reçue\")","v":"non reçue"},{"$f":"IFERROR(__xludf.DUMMYFUNCTION(\"\"\"COMPUTED_VALUE\"\"\"),\"R.A.S.\")","v":"R.A.S."},{"$f":"IFERROR(__xludf.DUMMYFUNCTION(\"\"\"COMPUTED_VALUE\"\"\"),\"samedi\")","v":"samedi"},{"$f":"IFERROR(__xludf.DUMMYFUNCTION(\"\"\"COMPUTED_VALUE\"\"\"),\"Reste\")","v":"Reste"}]
[{"$f":"IFERROR(__xludf.DUMMYFUNCTION(\"\"\"COMPUTED_VALUE\"\"\"),45674.0)","v":"2025-01-17"},{"$f":"IFERROR(__xludf.DUMMYFUNCTION(\"\"\"COMPUTED_VALUE\"\"\"),\"Mousset \")","v":"Mousset "},{"$f":"IFERROR(__xludf.DUMMYFUNCTION(\"\"\"COMPUTED_VALUE\"\"\"),\"Valérie \")","v":"Valérie "},{"$f":"IFERROR(__xludf.DUMMYFUNCTION(\"\"\"COMPUTED_VALUE\"\"\"),\"F\")","v":"F"},{"$f":"IFERROR(__xludf.DUMMYFUNCTION(\"\"\"COMPUTED_VALUE\"\"\"),46.0)","v":46},{"$f":"IFERROR(__xludf.DUMMYFUNCTION(\"\"\"COMPUTED_VALUE\"\"\"),\"valmousset@gmail.com\")","v":"valmousset@gmail.com"},{"$f":"IFERROR(__xludf.DUMMYFUNCTION(\"\"\"COMPUTED_VALUE\"\"\"),\"Valeriemousset\")","v":"Valeriemousset"},{"$f":"IFERROR(__xludf.DUMMYFUNCTION(\"\"\"COMPUTED_VALUE\"\"\"),\"0620784623\")","v":"0620784623"},{"$f":"IFERROR(__xludf.DUMMYFUNCTION(\"\"\"COMPUTED_VALUE\"\"\"),\"Pur PJ\")","v":"Pur PJ"},{"$f":"IFERROR(__xludf.DUMMYFUNCTION(\"\"\"COMPUTED_VALUE\"\"\"),\"-\")","v":"-"},{"$f":"IFERROR(__xludf.DUMMYFUNCTION(\"\"\"COMPUTED_VALUE\"\"\"),\"septembre\")","v":"septembre"},{"$f":"IFERROR(__xludf.DUMMYFUNCTION(\"\"\"COMPUTED_VALUE\"\"\"),\"Navire et fort\")","v":"Navire et fort"},{"$f":"IFERROR(__xludf.DUMMYFUNCTION(\"\"\"COMPUTED_VALUE\"\"\"),\"OK\")","v":"OK"},{"$f":"IFERROR(__xludf.DUMMYFUNCTION(\"\"\"COMPUTED_VALUE\"\"\"),\"OK\")","v":"OK"},{"$f":"IFERROR(__xludf.DUMMYFUNCTION(\"\"\"COMPUTED_VALUE\"\"\"),\"septembre\")","v":"septembre"},{"$f":"IFERROR(__xludf.DUMMYFUNCTION(\"\"\"COMPUTED_VALUE\"\"\"),\"Navire & Fort\")","v":"Navire & Fort"},null,{"$f":"IFERROR(__xludf.DUMMYFUNCTION(\"\"\"COMPUTED_VALUE\"\"\"),\"PAF non reçue\")","v":"PAF non reçue"},{"$f":"IFERROR(__xludf.DUMMYFUNCTION(\"\"\"COMPUTED_VALUE\"\"\"),\"non reçue\")","v":"non reçue"},{"$f":"IFERROR(__xludf.DUMMYFUNCTION(\"\"\"COMPUTED_VALUE\"\"\"),\"R.A.S.\")","v":"R.A.S."},{"$f":"IFERROR(__xludf.DUMMYFUNCTION(\"\"\"COMPUTED_VALUE\"\"\"),\"samedi\")","v":"samedi"},{"$f":"IFERROR(__xludf.DUMMYFUNCTION(\"\"\"COMPUTED_VALUE\"\"\"),\"Reste\")","v":"Reste"}]
[{"$f":"IFERROR(__xludf.DUMMYFUNCTION(\"\"\"COMPUTED_VALUE\"\"\"),45674.0)","v":"2025-01-17"},{"$f":"IFERROR(__xludf.DUMMYFUNCTION(\"\"\"COMPUTED_VALUE\"\"\"),\"Trébosc\")","v":"Trébosc"},{"$f":"IFERROR(__xludf.DUMMYFUNCTION(\"\"\"COMPUTED_VALUE\"\"\"),\"David\")","v":"David"},{"$f":"IFERROR(__xludf.DUMMYFUNCTION(\"\"\"COMPUTED_VALUE\"\"\"),\"H\")","v":"H"},{"$f":"IFERROR(__xludf.DUMMYFUNCTION(\"\"\"COMPUTED_VALUE\"\"\"),41.0)","v":41},{"$f":"IFERROR(__xludf.DUMMYFUNCTION(\"\"\"COMPUTED_VALUE\"\"\"),\"trebosc.david@gmail.com\")","v":"trebosc.david@gmail.com"},{"$f":"IFERROR(__xludf.DUMMYFUNCTION(\"\"\"COMPUTED_VALUE\"\"\"),\"David Trébosc\")","v":"David Trébosc"},{"$f":"IFERROR(__xludf.DUMMYFUNCTION(\"\"\"COMPUTED_VALUE\"\"\"),\"618811757\")","v":"618811757"},{"$f":"IFERROR(__xludf.DUMMYFUNCTION(\"\"\"COMPUTED_VALUE\"\"\"),\"PJ+PNJ\")","v":"PJ+PNJ"},{"$f":"IFERROR(__xludf.DUMMYFUNCTION(\"\"\"COMPUTED_VALUE\"\"\"),\"-\")","v":"-"},{"$f":"IFERROR(__xludf.DUMMYFUNCTION(\"\"\"COMPUTED_VALUE\"\"\"),\"septembre\")","v":"septembre"},{"$f":"IFERROR(__xludf.DUMMYFUNCTION(\"\"\"COMPUTED_VALUE\"\"\"),\"Seulement au fort\")","v":"Seulement au fort"},{"$f":"IFERROR(__xludf.DUMMYFUNCTION(\"\"\"COMPUTED_VALUE\"\"\"),\"OK\")","v":"OK"},{"$f":"IFERROR(__xludf.DUMMYFUNCTION(\"\"\"COMPUTED_VALUE\"\"\"),\"OK\")","v":"OK"},{"$f":"IFERROR(__xludf.DUMMYFUNCTION(\"\"\"COMPUTED_VALUE\"\"\"),\"septembre\")","v":"septembre"},{"$f":"IFERROR(__xludf.DUMMYFUNCTION(\"\"\"COMPUTED_VALUE\"\"\"),\"Fort seulement\")","v":"Fort seulement"},null,{"$f":"IFERROR(__xludf.DUMMYFUNCTION(\"\"\"COMPUTED_VALUE\"\"\"),\"PAF non reçue\")","v":"PAF non reçue"},{"$f":"IFERROR(__xludf.DUMMYFUNCTION(\"\"\"COMPUTED_VALUE\"\"\"),\"non reçue\")","v":"non reçue"},{"$f":"IFERROR(__xludf.DUMMYFUNCTION(\"\"\"COMPUTED_VALUE\"\"\"),\"R.A.S.\")","v":"R.A.S."},{"$f":"IFERROR(__xludf.DUMMYFUNCTION(\"\"\"COMPUTED_VALUE\"\"\"),\"samedi\")","v":"samedi"},{"$f":"IFERROR(__xludf.DUMMYFUNCTION(\"\"\"COMPUTED_VALUE\"\"\"),\"Reste\")","v":"Reste"}]
[{"$f":"IFERROR(__xludf.DUMMYFUNCTION(\"\"\"COMPUTED_VALUE\"\"\"),45676.0)","v":"2025-01-19"},{"$f":"IFERROR(__xludf.DUMMYFUNCTION(\"\"\"COMPUTED_VALUE\"\"\"),\"saison\")","v":"saison"},{"$f":"IFERROR(__xludf.DUMMYFUNCTION(\"\"\"COMPUTED_VALUE\"\"\"),\"arthur\")","v":"arthur"},{"$f":"IFERROR(__xludf.DUMMYFUNCTION(\"\"\"COMPUTED_VALUE\"\"\"),\"H\")","v":"H"},{"$f":"IFERROR(__xludf.DUMMYFUNCTION(\"\"\"COMPUTED_VALUE\"\"\"),25.0)","v":25},{"$f":"IFERROR(__xludf.DUMMYFUNCTION(\"\"\"COMPUTED_VALUE\"\"\"),\"arthur.saison@hotmail.com\")","v":"arthur.saison@hotmail.com"},{"$f":"IFERROR(__xludf.DUMMYFUNCTION(\"\"\"COMPUTED_VALUE\"\"\"),\"Arthur Saison\")","v":"Arthur Saison"},{"$f":"IFERROR(__xludf.DUMMYFUNCTION(\"\"\"COMPUTED_VALUE\"\"\"),\"0674426558\")","v":"0674426558"},{"$f":"IFERROR(__xludf.DUMMYFUNCTION(\"\"\"COMPUTED_VALUE\"\"\"),\"Pur PJ\")","v":"Pur PJ"},{"$f":"IFERROR(__xludf.DUMMYFUNCTION(\"\"\"COMPUTED_VALUE\"\"\"),\"-\")","v":"-"},{"$f":"IFERROR(__xludf.DUMMYFUNCTION(\"\"\"COMPUTED_VALUE\"\"\"),\"septembre\")","v":"septembre"},{"$f":"IFERROR(__xludf.DUMMYFUNCTION(\"\"\"COMPUTED_VALUE\"\"\"),\"Navire et fort\")","v":"Navire et fort"},{"$f":"IFERROR(__xludf.DUMMYFUNCTION(\"\"\"COMPUTED_VALUE\"\"\"),\"OK\")","v":"OK"},{"$f":"IFERROR(__xludf.DUMMYFUNCTION(\"\"\"COMPUTED_VALUE\"\"\"),\"OK\")","v":"OK"},{"$f":"IFERROR(__xludf.DUMMYFUNCTION(\"\"\"COMPUTED_VALUE\"\"\"),\"septembre\")","v":"septembre"},{"$f":"IFERROR(__xludf.DUMMYFUNCTION(\"\"\"COMPUTED_VALUE\"\"\"),\"Navire & Fort\")","v":"Navire & Fort"},null,{"$f":"IFERROR(__xludf.DUMMYFUNCTION(\"\"\"COMPUTED_VALUE\"\"\"),\"PAF non reçue\")","v":"PAF non reçue"},{"$f":"IFERROR(__xludf.DUMMYFUNCTION(\"\"\"COMPUTED_VALUE\"\"\"),\"non reçue\")","v":"non reçue"},{"$f":"IFERROR(__xludf.DUMMYFUNCTION(\"\"\"COMPUTED_VALUE\"\"\"),\"R.A.S.\")","v":"R.A.S."},{"$f":"IFERROR(__xludf.DUMMYFUNCTION(\"\"\"COMPUTED_VALUE\"\"\"),\"samedi\")","v":"samedi"},{"$f":"IFERROR(__xludf.DUMMYFUNCTION(\"\"\"COMPUTED_VALUE\"\"\"),\"Reste\")","v":"Reste"}]
[{"$f":"IFERROR(__xludf.DUMMYFUNCTION(\"\"\"COMPUTED_VALUE\"\"\"),45676.0)","v":"2025-01-19"},{"$f":"IFERROR(__xludf.DUMMYFUNCTION(\"\"\"COMPUTED_VALUE\"\"\"),\"Richard\")","v":"Richard"},{"$f":"IFERROR(__xludf.DUMMYFUNCTION(\"\"\"COMPUTED_VALUE\"\"\"),\"Lea\")","v":"Lea"},{"$f":"IFERROR(__xludf.DUMMYFUNCTION(\"\"\"COMPUTED_VALUE\"\"\"),\"F\")","v":"F"},{"$f":"IFERROR(__xludf.DUMMYFUNCTION(\"\"\"COMPUTED_VALUE\"\"\"),32.0)","v":32},{"$f":"IFERROR(__xludf.DUMMYFUNCTION(\"\"\"COMPUTED_VALUE\"\"\"),\"lea.p.y.richard@outlook.fr\")","v":"lea.p.y.richard@outlook.fr"},{"$f":"IFERROR(__xludf.DUMMYFUNCTION(\"\"\"COMPUTED_VALUE\"\"\"),\"Lea Richard \")","v":"Lea Richard "},{"$f":"IFERROR(__xludf.DUMMYFUNCTION(\"\"\"COMPUTED_VALUE\"\"\"),\"0032494182566\")","v":"0032494182566"},{"$f":"IFERROR(__xludf.DUMMYFUNCTION(\"\"\"COMPUTED_VALUE\"\"\"),\"PJ+PNJ\")","v":"PJ+PNJ"},{"$f":"IFERROR(__xludf.DUMMYFUNCTION(\"\"\"COMPUTED_VALUE\"\"\"),\"-\")","v":"-"},{"$f":"IFERROR(__xludf.DUMMYFUNCTION(\"\"\"COMPUTED_VALUE\"\"\"),\"Les deux\")","v":"Les deux"},{"$f":"IFERROR(__xludf.DUMMYFUNCTION(\"\"\"COMPUTED_VALUE\"\"\"),\"Peu importe\")","v":"Peu importe"},{"$f":"IFERROR(__xludf.DUMMYFUNCTION(\"\"\"COMPUTED_VALUE\"\"\"),\"OK\")","v":"OK"},{"$f":"IFERROR(__xludf.DUMMYFUNCTION(\"\"\"COMPUTED_VALUE\"\"\"),\"OK\")","v":"OK"},{"$f":"IFERROR(__xludf.DUMMYFUNCTION(\"\"\"COMPUTED_VALUE\"\"\"),\"juin\")","v":"juin"},{"$f":"IFERROR(__xludf.DUMMYFUNCTION(\"\"\"COMPUTED_VALUE\"\"\"),\"Navire & Fort\")","v":"Navire & Fort"},null,{"$f":"IFERROR(__xludf.DUMMYFUNCTION(\"\"\"COMPUTED_VALUE\"\"\"),\"PAF non reçue\")","v":"PAF non reçue"},{"$f":"IFERROR(__xludf.DUMMYFUNCTION(\"\"\"COMPUTED_VALUE\"\"\"),\"non reçue\")","v":"non reçue"},{"$f":"IFERROR(__xludf.DUMMYFUNCTION(\"\"\"COMPUTED_VALUE\"\"\"),\"R.A.S.\")","v":"R.A.S."},{"$f":"IFERROR(__xludf.DUMMYFUNCTION(\"\"\"COMPUTED_VALUE\"\"\"),\"samedi\")","v":"samedi"},{"$f":"IFERROR(__xludf.DUMMYFUNCTION(\"\"\"COMPUTED_VALUE\"\"\"),\"Reste\")","v":"Reste"}]
[{"$f":"IFERROR(__xludf.DUMMYFUNCTION(\"\"\"COMPUTED_VALUE\"\"\"),45676.0)","v":"2025-01-19"},{"$f":"IFERROR(__xludf.DUMMYFUNCTION(\"\"\"COMPUTED_VALUE\"\"\"),\"Beeckman\")","v":"Beeckman"},{"$f":"IFERROR(__xludf.DUMMYFUNCTION(\"\"\"COMPUTED_VALUE\"\"\"),\"Nathan\")","v":"Nathan"},{"$f":"IFERROR(__xludf.DUMMYFUNCTION(\"\"\"COMPUTED_VALUE\"\"\"),\"H\")","v":"H"},{"$f":"IFERROR(__xludf.DUMMYFUNCTION(\"\"\"COMPUTED_VALUE\"\"\"),30.0)","v":30},{"$f":"IFERROR(__xludf.DUMMYFUNCTION(\"\"\"COMPUTED_VALUE\"\"\"),\"nbee@live.be\")","v":"nbee@live.be"},{"$f":"IFERROR(__xludf.DUMMYFUNCTION(\"\"\"COMPUTED_VALUE\"\"\"),\"Nathan Beeckman\")","v":"Nathan Beeckman"},{"$f":"IFERROR(__xludf.DUMMYFUNCTION(\"\"\"COMPUTED_VALUE\"\"\"),\"+32 471541547\")","v":"+32 471541547"},{"$f":"IFERROR(__xludf.DUMMYFUNCTION(\"\"\"COMPUTED_VALUE\"\"\"),\"Pur PJ\")","v":"Pur PJ"},{"$f":"IFERROR(__xludf.DUMMYFUNCTION(\"\"\"COMPUTED_VALUE\"\"\"),\"-\")","v":"-"},{"$f":"IFERROR(__xludf.DUMMYFUNCTION(\"\"\"COMPUTED_VALUE\"\"\"),\"septembre\")","v":"septembre"},{"$f":"IFERROR(__xludf.DUMMYFUNCTION(\"\"\"COMPUTED_VALUE\"\"\"),\"Navire et fort\")","v":"Navire et fort"},{"$f":"IFERROR(__xludf.DUMMYFUNCTION(\"\"\"COMPUTED_VALUE\"\"\"),\"OK\")","v":"OK"},{"$f":"IFERROR(__xludf.DUMMYFUNCTION(\"\"\"COMPUTED_VALUE\"\"\"),\"OK\")","v":"OK"},{"$f":"IFERROR(__xludf.DUMMYFUNCTION(\"\"\"COMPUTED_VALUE\"\"\"),\"septembre\")","v":"septembre"},{"$f":"IFERROR(__xludf.DUMMYFUNCTION(\"\"\"COMPUTED_VALUE\"\"\"),\"Navire & Fort\")","v":"Navire & Fort"},null,{"$f":"IFERROR(__xludf.DUMMYFUNCTION(\"\"\"COMPUTED_VALUE\"\"\"),\"PAF non reçue\")","v":"PAF non reçue"},{"$f":"IFERROR(__xludf.DUMMYFUNCTION(\"\"\"COMPUTED_VALUE\"\"\"),\"non reçue\")","v":"non reçue"},{"$f":"IFERROR(__xludf.DUMMYFUNCTION(\"\"\"COMPUTED_VALUE\"\"\"),\"R.A.S.\")","v":"R.A.S."},{"$f":"IFERROR(__xludf.DUMMYFUNCTION(\"\"\"COMPUTED_VALUE\"\"\"),\"samedi\")","v":"samedi"},{"$f":"IFERROR(__xludf.DUMMYFUNCTION(\"\"\"COMPUTED_VALUE\"\"\"),\"Reste\")","v":"Reste"}]
[{"$f":"IFERROR(__xludf.DUMMYFUNCTION(\"\"\"COMPUTED_VALUE\"\"\"),45303.0)","v":"2024-01-12"},{"$f":"IFERROR(__xludf.DUMMYFUNCTION(\"\"\"COMPUTED_VALUE\"\"\"),\"PHILBERT\")","v":"PHILBERT"},{"$f":"IFERROR(__xludf.DUMMYFUNCTION(\"\"\"COMPUTED_VALUE\"\"\"),\"Charles\")","v":"Charles"},{"$f":"IFERROR(__xludf.DUMMYFUNCTION(\"\"\"COMPUTED_VALUE\"\"\"),\"H\")","v":"H"},{"$f":"IFERROR(__xludf.DUMMYFUNCTION(\"\"\"COMPUTED_VALUE\"\"\"),42.0)","v":42},{"$f":"IFERROR(__xludf.DUMMYFUNCTION(\"\"\"COMPUTED_VALUE\"\"\"),\"Philbert.charles@neuf.fr\")","v":"Philbert.charles@neuf.fr"},{"$f":"IFERROR(__xludf.DUMMYFUNCTION(\"\"\"COMPUTED_VALUE\"\"\"),\"charles PHILBERT\")","v":"charles PHILBERT"},{"$f":"IFERROR(__xludf.DUMMYFUNCTION(\"\"\"COMPUTED_VALUE\"\"\"),\"0688981791\")","v":"0688981791"},{"$f":"IFERROR(__xludf.DUMMYFUNCTION(\"\"\"COMPUTED_VALUE\"\"\"),\"PJ+PNJ\")","v":"PJ+PNJ"},{"$f":"IFERROR(__xludf.DUMMYFUNCTION(\"\"\"COMPUTED_VALUE\"\"\"),\"-\")","v":"-"},{"$f":"IFERROR(__xludf.DUMMYFUNCTION(\"\"\"COMPUTED_VALUE\"\"\"),\"septembre\")","v":"septembre"},{"$f":"IFERROR(__xludf.DUMMYFUNCTION(\"\"\"COMPUTED_VALUE\"\"\"),\"Seulement au fort\")","v":"Seulement au fort"},{"$f":"IFERROR(__xludf.DUMMYFUNCTION(\"\"\"COMPUTED_VALUE\"\"\"),\"OK\")","v":"OK"},{"$f":"IFERROR(__xludf.DUMMYFUNCTION(\"\"\"COMPUTED_VALUE\"\"\"),\"OK\")","v":"OK"},{"$f":"IFERROR(__xludf.DUMMYFUNCTION(\"\"\"COMPUTED_VALUE\"\"\"),\"septembre\")","v":"septembre"},{"$f":"IFERROR(__xludf.DUMMYFUNCTION(\"\"\"COMPUTED_VALUE\"\"\"),\"Fort seulement\")","v":"Fort seulement"},null,{"$f":"IFERROR(__xludf.DUMMYFUNCTION(\"\"\"COMPUTED_VALUE\"\"\"),\"PAF non reçue\")","v":"PAF non reçue"},{"$f":"IFERROR(__xludf.DUMMYFUNCTION(\"\"\"COMPUTED_VALUE\"\"\"),\"non reçue\")","v":"non reçue"},{"$f":"IFERROR(__xludf.DUMMYFUNCTION(\"\"\"COMPUTED_VALUE\"\"\"),\"R.A.S.\")","v":"R.A.S."},{"$f":"IFERROR(__xludf.DUMMYFUNCTION(\"\"\"COMPUTED_VALUE\"\"\"),\"samedi\")","v":"samedi"},{"$f":"IFERROR(__xludf.DUMMYFUNCTION(\"\"\"COMPUTED_VALUE\"\"\"),\"Reste\")","v":"Reste"}]
[{"$f":"IFERROR(__xludf.DUMMYFUNCTION(\"\"\"COMPUTED_VALUE\"\"\"),45677.0)","v":"2025-01-20"},{"$f":"IFERROR(__xludf.DUMMYFUNCTION(\"\"\"COMPUTED_VALUE\"\"\"),\"Delahaye \")","v":"Delahaye "},{"$f":"IFERROR(__xludf.DUMMYFUNCTION(\"\"\"COMPUTED_VALUE\"\"\"),\"Damien\")","v":"Damien"},{"$f":"IFERROR(__xludf.DUMMYFUNCTION(\"\"\"COMPUTED_VALUE\"\"\"),\"H\")","v":"H"},{"$f":"IFERROR(__xludf.DUMMYFUNCTION(\"\"\"COMPUTED_VALUE\"\"\"),32.0)","v":32},{"$f":"IFERROR(__xludf.DUMMYFUNCTION(\"\"\"COMPUTED_VALUE\"\"\"),\"damien-kidds@hotmail.fr\")","v":"damien-kidds@hotmail.fr"},{"$f":"IFERROR(__xludf.DUMMYFUNCTION(\"\"\"COMPUTED_VALUE\"\"\"),\"Kidds teach Rackham \")","v":"Kidds teach Rackham "},{"$f":"IFERROR(__xludf.DUMMYFUNCTION(\"\"\"COMPUTED_VALUE\"\"\"),\"07-85-94-49-12\")","v":"07-85-94-49-12"},{"$f":"IFERROR(__xludf.DUMMYFUNCTION(\"\"\"COMPUTED_VALUE\"\"\"),\"PJ+PNJ\")","v":"PJ+PNJ"},{"$f":"IFERROR(__xludf.DUMMYFUNCTION(\"\"\"COMPUTED_VALUE\"\"\"),\"-\")","v":"-"},{"$f":"IFERROR(__xludf.DUMMYFUNCTION(\"\"\"COMPUTED_VALUE\"\"\"),\"Les deux\")","v":"Les deux"},{"$f":"IFERROR(__xludf.DUMMYFUNCTION(\"\"\"COMPUTED_VALUE\"\"\"),\"Peu importe\")","v":"Peu importe"},{"$f":"IFERROR(__xludf.DUMMYFUNCTION(\"\"\"COMPUTED_VALUE\"\"\"),\"OK\")","v":"OK"},{"$f":"IFERROR(__xludf.DUMMYFUNCTION(\"\"\"COMPUTED_VALUE\"\"\"),\"OK\")","v":"OK"},{"$f":"IFERROR(__xludf.DUMMYFUNCTION(\"\"\"COMPUTED_VALUE\"\"\"),\"juin\")","v":"juin"},{"$f":"IFERROR(__xludf.DUMMYFUNCTION(\"\"\"COMPUTED_VALUE\"\"\"),\"Navire & Fort\")","v":"Navire & Fort"},null,{"$f":"IFERROR(__xludf.DUMMYFUNCTION(\"\"\"COMPUTED_VALUE\"\"\"),\"PAF non reçue\")","v":"PAF non reçue"},{"$f":"IFERROR(__xludf.DUMMYFUNCTION(\"\"\"COMPUTED_VALUE\"\"\"),\"non reçue\")","v":"non reçue"},{"$f":"IFERROR(__xludf.DUMMYFUNCTION(\"\"\"COMPUTED_VALUE\"\"\"),\"R.A.S.\")","v":"R.A.S."},{"$f":"IFERROR(__xludf.DUMMYFUNCTION(\"\"\"COMPUTED_VALUE\"\"\"),\"samedi\")","v":"samedi"},{"$f":"IFERROR(__xludf.DUMMYFUNCTION(\"\"\"COMPUTED_VALUE\"\"\"),\"Reste\")","v":"Reste"}]
[{"$f":"IFERROR(__xludf.DUMMYFUNCTION(\"\"\"COMPUTED_VALUE\"\"\"),45677.0)","v":"2025-01-20"},{"$f":"IFERROR(__xludf.DUMMYFUNCTION(\"\"\"COMPUTED_VALUE\"\"\"),\"Lefebvre\")","v":"Lefebvre"},{"$f":"IFERROR(__xludf.DUMMYFUNCTION(\"\"\"COMPUTED_VALUE\"\"\"),\"Charline\")","v":"Charline"},{"$f":"IFERROR(__xludf.DUMMYFUNCTION(\"\"\"COMPUTED_VALUE\"\"\"),\"F\")","v":"F"},{"$f":"IFERROR(__xludf.DUMMYFUNCTION(\"\"\"COMPUTED_VALUE\"\"\"),26.0)","v":26},{"$f":"IFERROR(__xludf.DUMMYFUNCTION(\"\"\"COMPUTED_VALUE\"\"\"),\"charline.lefebvre7@orange.fr\")","v":"charline.lefebvre7@orange.fr"},{"$f":"IFERROR(__xludf.DUMMYFUNCTION(\"\"\"COMPUTED_VALUE\"\"\"),\"Mini-Mew Chatouxe\")","v":"Mini-Mew Chatouxe"},{"$f":"IFERROR(__xludf.DUMMYFUNCTION(\"\"\"COMPUTED_VALUE\"\"\"),\"0762276863\")","v":"0762276863"},{"$f":"IFERROR(__xludf.DUMMYFUNCTION(\"\"\"COMPUTED_VALUE\"\"\"),\"PJ+PNJ\")","v":"PJ+PNJ"},{"$f":"IFERROR(__xludf.DUMMYFUNCTION(\"\"\"COMPUTED_VALUE\"\"\"),\"-\")","v":"-"},{"$f":"IFERROR(__xludf.DUMMYFUNCTION(\"\"\"COMPUTED_VALUE\"\"\"),\"Les deux\")","v":"Les deux"},{"$f":"IFERROR(__xludf.DUMMYFUNCTION(\"\"\"COMPUTED_VALUE\"\"\"),\"Peu importe\")","v":"Peu importe"},{"$f":"IFERROR(__xludf.DUMMYFUNCTION(\"\"\"COMPUTED_VALUE\"\"\"),\"OK\")","v":"OK"},{"$f":"IFERROR(__xludf.DUMMYFUNCTION(\"\"\"COMPUTED_VALUE\"\"\"),\"OK\")","v":"OK"},{"$f":"IFERROR(__xludf.DUMMYFUNCTION(\"\"\"COMPUTED_VALUE\"\"\"),\"juin\")","v":"juin"},{"$f":"IFERROR(__xludf.DUMMYFUNCTION(\"\"\"COMPUTED_VALUE\"\"\"),\"Navire & Fort\")","v":"Navire & Fort"},null,{"$f":"IFERROR(__xludf.DUMMYFUNCTION(\"\"\"COMPUTED_VALUE\"\"\"),\"PAF non reçue\")","v":"PAF non reçue"},{"$f":"IFERROR(__xludf.DUMMYFUNCTION(\"\"\"COMPUTED_VALUE\"\"\"),\"non reçue\")","v":"non reçue"},{"$f":"IFERROR(__xludf.DUMMYFUNCTION(\"\"\"COMPUTED_VALUE\"\"\"),\"R.A.S.\")","v":"R.A.S."},{"$f":"IFERROR(__xludf.DUMMYFUNCTION(\"\"\"COMPUTED_VALUE\"\"\"),\"samedi\")","v":"samedi"},{"$f":"IFERROR(__xludf.DUMMYFUNCTION(\"\"\"COMPUTED_VALUE\"\"\"),\"Reste\")","v":"Reste"}]
[{"$f":"IFERROR(__xludf.DUMMYFUNCTION(\"\"\"COMPUTED_VALUE\"\"\"),45677.0)","v":"2025-01-20"},{"$f":"IFERROR(__xludf.DUMMYFUNCTION(\"\"\"COMPUTED_VALUE\"\"\"),\"Pressoir\")","v":"Pressoir"},{"$f":"IFERROR(__xludf.DUMMYFUNCTION(\"\"\"COMPUTED_VALUE\"\"\"),\"Valentine\")","v":"Valentine"},{"$f":"IFERROR(__xludf.DUMMYFUNCTION(\"\"\"COMPUTED_VALUE\"\"\"),\"F\")","v":"F"},{"$f":"IFERROR(__xludf.DUMMYFUNCTION(\"\"\"COMPUTED_VALUE\"\"\"),26.0)","v":26},{"$f":"IFERROR(__xludf.DUMMYFUNCTION(\"\"\"COMPUTED_VALUE\"\"\"),\"valentine.pressoir@gmail.com\")","v":"valentine.pressoir@gmail.com"},{"$f":"IFERROR(__xludf.DUMMYFUNCTION(\"\"\"COMPUTED_VALUE\"\"\"),\"Valentine \")","v":"Valentine "},{"$f":"IFERROR(__xludf.DUMMYFUNCTION(\"\"\"COMPUTED_VALUE\"\"\"),\"0645130094\")","v":"0645130094"},{"$f":"IFERROR(__xludf.DUMMYFUNCTION(\"\"\"COMPUTED_VALUE\"\"\"),\"PJ+PNJ\")","v":"PJ+PNJ"},{"$f":"IFERROR(__xludf.DUMMYFUNCTION(\"\"\"COMPUTED_VALUE\"\"\"),\"-\")","v":"-"},{"$f":"IFERROR(__xludf.DUMMYFUNCTION(\"\"\"COMPUTED_VALUE\"\"\"),\"juin\")","v":"juin"},{"$f":"IFERROR(__xludf.DUMMYFUNCTION(\"\"\"COMPUTED_VALUE\"\"\"),\"Seulement au fort\")","v":"Seulement au fort"},{"$f":"IFERROR(__xludf.DUMMYFUNCTION(\"\"\"COMPUTED_VALUE\"\"\"),\"OK\")","v":"OK"},{"$f":"IFERROR(__xludf.DUMMYFUNCTION(\"\"\"COMPUTED_VALUE\"\"\"),\"OK\")","v":"OK"},{"$f":"IFERROR(__xludf.DUMMYFUNCTION(\"\"\"COMPUTED_VALUE\"\"\"),\"juin\")","v":"juin"},{"$f":"IFERROR(__xludf.DUMMYFUNCTION(\"\"\"COMPUTED_VALUE\"\"\"),\"Fort seulement\")","v":"Fort seulement"},null,{"$f":"IFERROR(__xludf.DUMMYFUNCTION(\"\"\"COMPUTED_VALUE\"\"\"),\"PAF non reçue\")","v":"PAF non reçue"},{"$f":"IFERROR(__xludf.DUMMYFUNCTION(\"\"\"COMPUTED_VALUE\"\"\"),\"non reçue\")","v":"non reçue"},{"$f":"IFERROR(__xludf.DUMMYFUNCTION(\"\"\"COMPUTED_VALUE\"\"\"),\"R.A.S.\")","v":"R.A.S."},{"$f":"IFERROR(__xludf.DUMMYFUNCTION(\"\"\"COMPUTED_VALUE\"\"\"),\"samedi\")","v":"samedi"},{"$f":"IFERROR(__xludf.DUMMYFUNCTION(\"\"\"COMPUTED_VALUE\"\"\"),\"Reste\")","v":"Reste"}]
[{"$f":"IFERROR(__xludf.DUMMYFUNCTION(\"\"\"COMPUTED_VALUE\"\"\"),45678.0)","v":"2025-01-21"},{"$f":"IFERROR(__xludf.DUMMYFUNCTION(\"\"\"COMPUTED_VALUE\"\"\"),\"Rys\")","v":"Rys"},{"$f":"IFERROR(__xludf.DUMMYFUNCTION(\"\"\"COMPUTED_VALUE\"\"\"),\"Ninon\")","v":"Ninon"},{"$f":"IFERROR(__xludf.DUMMYFUNCTION(\"\"\"COMPUTED_VALUE\"\"\"),\"F\")","v":"F"},{"$f":"IFERROR(__xludf.DUMMYFUNCTION(\"\"\"COMPUTED_VALUE\"\"\"),35.0)","v":35},{"$f":"IFERROR(__xludf.DUMMYFUNCTION(\"\"\"COMPUTED_VALUE\"\"\"),\"ninon.rys@gmail.com\")","v":"ninon.rys@gmail.com"},{"$f":"IFERROR(__xludf.DUMMYFUNCTION(\"\"\"COMPUTED_VALUE\"\"\"),\"Ninon Ysr\")","v":"Ninon Ysr"},{"$f":"IFERROR(__xludf.DUMMYFUNCTION(\"\"\"COMPUTED_VALUE\"\"\"),\"0625906212\")","v":"0625906212"},{"$f":"IFERROR(__xludf.DUMMYFUNCTION(\"\"\"COMPUTED_VALUE\"\"\"),\"PJ+PNJ\")","v":"PJ+PNJ"},{"$f":"IFERROR(__xludf.DUMMYFUNCTION(\"\"\"COMPUTED_VALUE\"\"\"),\"-\")","v":"-"},{"$f":"IFERROR(__xludf.DUMMYFUNCTION(\"\"\"COMPUTED_VALUE\"\"\"),\"juin\")","v":"juin"},{"$f":"IFERROR(__xludf.DUMMYFUNCTION(\"\"\"COMPUTED_VALUE\"\"\"),\"Peu importe\")","v":"Peu importe"},{"$f":"IFERROR(__xludf.DUMMYFUNCTION(\"\"\"COMPUTED_VALUE\"\"\"),\"OK\")","v":"OK"},{"$f":"IFERROR(__xludf.DUMMYFUNCTION(\"\"\"COMPUTED_VALUE\"\"\"),\"OK\")","v":"OK"},{"$f":"IFERROR(__xludf.DUMMYFUNCTION(\"\"\"COMPUTED_VALUE\"\"\"),\"juin\")","v":"juin"},{"$f":"IFERROR(__xludf.DUMMYFUNCTION(\"\"\"COMPUTED_VALUE\"\"\"),\"Navire & Fort\")","v":"Navire & Fort"},null,{"$f":"IFERROR(__xludf.DUMMYFUNCTION(\"\"\"COMPUTED_VALUE\"\"\"),\"PAF non reçue\")","v":"PAF non reçue"},{"$f":"IFERROR(__xludf.DUMMYFUNCTION(\"\"\"COMPUTED_VALUE\"\"\"),\"non reçue\")","v":"non reçue"},{"$f":"IFERROR(__xludf.DUMMYFUNCTION(\"\"\"COMPUTED_VALUE\"\"\"),\"R.A.S.\")","v":"R.A.S."},{"$f":"IFERROR(__xludf.DUMMYFUNCTION(\"\"\"COMPUTED_VALUE\"\"\"),\"samedi\")","v":"samedi"},{"$f":"IFERROR(__xludf.DUMMYFUNCTION(\"\"\"COMPUTED_VALUE\"\"\"),\"Reste\")","v":"Reste"}]
[{"$f":"IFERROR(__xludf.DUMMYFUNCTION(\"\"\"COMPUTED_VALUE\"\"\"),45678.0)","v":"2025-01-21"},{"$f":"IFERROR(__xludf.DUMMYFUNCTION(\"\"\"COMPUTED_VALUE\"\"\"),\"picano\")","v":"picano"},{"$f":"IFERROR(__xludf.DUMMYFUNCTION(\"\"\"COMPUTED_VALUE\"\"\"),\"benjamin\")","v":"benjamin"},{"$f":"IFERROR(__xludf.DUMMYFUNCTION(\"\"\"COMPUTED_VALUE\"\"\"),\"H\")","v":"H"},{"$f":"IFERROR(__xludf.DUMMYFUNCTION(\"\"\"COMPUTED_VALUE\"\"\"),43.0)","v":43},{"$f":"IFERROR(__xludf.DUMMYFUNCTION(\"\"\"COMPUTED_VALUE\"\"\"),\"hulrek@gmail.com\")","v":"hulrek@gmail.com"},{"$f":"IFERROR(__xludf.DUMMYFUNCTION(\"\"\"COMPUTED_VALUE\"\"\"),\"benjamin picano\")","v":"benjamin picano"},{"$f":"IFERROR(__xludf.DUMMYFUNCTION(\"\"\"COMPUTED_VALUE\"\"\"),\"0664754371\")","v":"0664754371"},{"$f":"IFERROR(__xludf.DUMMYFUNCTION(\"\"\"COMPUTED_VALUE\"\"\"),\"Pur PJ\")","v":"Pur PJ"},{"$f":"IFERROR(__xludf.DUMMYFUNCTION(\"\"\"COMPUTED_VALUE\"\"\"),\"-\")","v":"-"},{"$f":"IFERROR(__xludf.DUMMYFUNCTION(\"\"\"COMPUTED_VALUE\"\"\"),\"juin\")","v":"juin"},{"$f":"IFERROR(__xludf.DUMMYFUNCTION(\"\"\"COMPUTED_VALUE\"\"\"),\"Navire et fort\")","v":"Navire et fort"},{"$f":"IFERROR(__xludf.DUMMYFUNCTION(\"\"\"COMPUTED_VALUE\"\"\"),\"OK\")","v":"OK"},{"$f":"IFERROR(__xludf.DUMMYFUNCTION(\"\"\"COMPUTED_VALUE\"\"\"),\"OK\")","v":"OK"},{"$f":"IFERROR(__xludf.DUMMYFUNCTION(\"\"\"COMPUTED_VALUE\"\"\"),\"juin\")","v":"juin"},{"$f":"IFERROR(__xludf.DUMMYFUNCTION(\"\"\"COMPUTED_VALUE\"\"\"),\"Navire & Fort\")","v":"Navire & Fort"},null,{"$f":"IFERROR(__xludf.DUMMYFUNCTION(\"\"\"COMPUTED_VALUE\"\"\"),\"PAF non reçue\")","v":"PAF non reçue"},{"$f":"IFERROR(__xludf.DUMMYFUNCTION(\"\"\"COMPUTED_VALUE\"\"\"),\"non reçue\")","v":"non reçue"},{"$f":"IFERROR(__xludf.DUMMYFUNCTION(\"\"\"COMPUTED_VALUE\"\"\"),\"R.A.S.\")","v":"R.A.S."},{"$f":"IFERROR(__xludf.DUMMYFUNCTION(\"\"\"COMPUTED_VALUE\"\"\"),\"samedi\")","v":"samedi"},{"$f":"IFERROR(__xludf.DUMMYFUNCTION(\"\"\"COMPUTED_VALUE\"\"\"),\"Reste\")","v":"Reste"}]
[{"$f":"IFERROR(__xludf.DUMMYFUNCTION(\"\"\"COMPUTED_VALUE\"\"\"),45679.0)","v":"2025-01-22"},{"$f":"IFERROR(__xludf.DUMMYFUNCTION(\"\"\"COMPUTED_VALUE\"\"\"),\"Glapa\")","v":"Glapa"},{"$f":"IFERROR(__xludf.DUMMYFUNCTION(\"\"\"COMPUTED_VALUE\"\"\"),\"Denis\")","v":"Denis"},{"$f":"IFERROR(__xludf.DUMMYFUNCTION(\"\"\"COMPUTED_VALUE\"\"\"),\"H\")","v":"H"},{"$f":"IFERROR(__xludf.DUMMYFUNCTION(\"\"\"COMPUTED_VALUE\"\"\"),42.0)","v":42},{"$f":"IFERROR(__xludf.DUMMYFUNCTION(\"\"\"COMPUTED_VALUE\"\"\"),\"d.glapa@laposte.net\")","v":"d.glapa@laposte.net"},{"$f":"IFERROR(__xludf.DUMMYFUNCTION(\"\"\"COMPUTED_VALUE\"\"\"),\"Denis Carcajou Bondissant\")","v":"Denis Carcajou Bondissant"},{"$f":"IFERROR(__xludf.DUMMYFUNCTION(\"\"\"COMPUTED_VALUE\"\"\"),\"0660570605\")","v":"0660570605"},{"$f":"IFERROR(__xludf.DUMMYFUNCTION(\"\"\"COMPUTED_VALUE\"\"\"),\"PJ+PNJ\")","v":"PJ+PNJ"},{"$f":"IFERROR(__xludf.DUMMYFUNCTION(\"\"\"COMPUTED_VALUE\"\"\"),\"-\")","v":"-"},{"$f":"IFERROR(__xludf.DUMMYFUNCTION(\"\"\"COMPUTED_VALUE\"\"\"),\"juin\")","v":"juin"},{"$f":"IFERROR(__xludf.DUMMYFUNCTION(\"\"\"COMPUTED_VALUE\"\"\"),\"Seulement au fort\")","v":"Seulement au fort"},{"$f":"IFERROR(__xludf.DUMMYFUNCTION(\"\"\"COMPUTED_VALUE\"\"\"),\"OK\")","v":"OK"},{"$f":"IFERROR(__xludf.DUMMYFUNCTION(\"\"\"COMPUTED_VALUE\"\"\"),\"OK\")","v":"OK"},{"$f":"IFERROR(__xludf.DUMMYFUNCTION(\"\"\"COMPUTED_VALUE\"\"\"),\"juin\")","v":"juin"},{"$f":"IFERROR(__xludf.DUMMYFUNCTION(\"\"\"COMPUTED_VALUE\"\"\"),\"Fort seulement\")","v":"Fort seulement"},null,{"$f":"IFERROR(__xludf.DUMMYFUNCTION(\"\"\"COMPUTED_VALUE\"\"\"),\"PAF non reçue\")","v":"PAF non reçue"},{"$f":"IFERROR(__xludf.DUMMYFUNCTION(\"\"\"COMPUTED_VALUE\"\"\"),\"non reçue\")","v":"non reçue"},{"$f":"IFERROR(__xludf.DUMMYFUNCTION(\"\"\"COMPUTED_VALUE\"\"\"),\"R.A.S.\")","v":"R.A.S."},{"$f":"IFERROR(__xludf.DUMMYFUNCTION(\"\"\"COMPUTED_VALUE\"\"\"),\"samedi\")","v":"samedi"},{"$f":"IFERROR(__xludf.DUMMYFUNCTION(\"\"\"COMPUTED_VALUE\"\"\"),\"Reste\")","v":"Reste"}]

{"sheet":"non-validés","index":8,"n_rows":228,"n_cols":21,"rows_kept":228,"cut":false,"hidden":false,"merged":[]}
[null,{"$f":"COUNTA(B3:B221)","v":0}]
["date\npré-inscription","NOM","Prénom","Genre","age","E-MAIL","FB","Tél","souhait type\nparticipation","Personnage\nattribué","souhait\nsession","souhait : fort  OU\nfort &é navire"," acceptation",null,"session\nattribuée","Lieu","somme\nversée","état PAF","photo ?","compétence medicale","arrivée"]
[{"$f":"IFERROR(__xludf.DUMMYFUNCTION(\"QUERY('remplissage du jeu'!A14:AA218, \"\"select * where M='KO'\"\")\"),\"\")","v":""},{"$nulls":11},{"$f":"IFERROR(__xludf.DUMMYFUNCTION(\"\"\"COMPUTED_VALUE\"\"\"),\"KO\")","v":"KO"},{"$f":"IFERROR(__xludf.DUMMYFUNCTION(\"\"\"COMPUTED_VALUE\"\"\"),\"KO\")","v":"KO"},{"$f":"IFERROR(__xludf.DUMMYFUNCTION(\"\"\"COMPUTED_VALUE\"\"\"),\"non attribué\")","v":"non attribué"},{"$f":"IFERROR(__xludf.DUMMYFUNCTION(\"\"\"COMPUTED_VALUE\"\"\"),\"non attribué\")","v":"non attribué"},null,{"$f":"IFERROR(__xludf.DUMMYFUNCTION(\"\"\"COMPUTED_VALUE\"\"\"),\"PAF non reçue\")","v":"PAF non reçue"},{"$f":"IFERROR(__xludf.DUMMYFUNCTION(\"\"\"COMPUTED_VALUE\"\"\"),\"non reçue\")","v":"non reçue"},{"$f":"IFERROR(__xludf.DUMMYFUNCTION(\"\"\"COMPUTED_VALUE\"\"\"),\"R.A.S.\")","v":"R.A.S."},{"$f":"IFERROR(__xludf.DUMMYFUNCTION(\"\"\"COMPUTED_VALUE\"\"\"),\"samedi\")","v":"samedi"}]
[{"$nulls":12},{"$f":"IFERROR(__xludf.DUMMYFUNCTION(\"\"\"COMPUTED_VALUE\"\"\"),\"KO\")","v":"KO"},{"$f":"IFERROR(__xludf.DUMMYFUNCTION(\"\"\"COMPUTED_VALUE\"\"\"),\"KO\")","v":"KO"},{"$f":"IFERROR(__xludf.DUMMYFUNCTION(\"\"\"COMPUTED_VALUE\"\"\"),\"non attribué\")","v":"non attribué"},{"$f":"IFERROR(__xludf.DUMMYFUNCTION(\"\"\"COMPUTED_VALUE\"\"\"),\"non attribué\")","v":"non attribué"},null,{"$f":"IFERROR(__xludf.DUMMYFUNCTION(\"\"\"COMPUTED_VALUE\"\"\"),\"PAF non reçue\")","v":"PAF non reçue"},{"$f":"IFERROR(__xludf.DUMMYFUNCTION(\"\"\"COMPUTED_VALUE\"\"\"),\"non reçue\")","v":"non reçue"},{"$f":"IFERROR(__xludf.DUMMYFUNCTION(\"\"\"COMPUTED_VALUE\"\"\"),\"R.A.S.\")","v":"R.A.S."},{"$f":"IFERROR(__xludf.DUMMYFUNCTION(\"\"\"COMPUTED_VALUE\"\"\"),\"samedi\")","v":"samedi"}]
[{"$nulls":12},{"$f":"IFERROR(__xludf.DUMMYFUNCTION(\"\"\"COMPUTED_VALUE\"\"\"),\"KO\")","v":"KO"},{"$f":"IFERROR(__xludf.DUMMYFUNCTION(\"\"\"COMPUTED_VALUE\"\"\"),\"KO\")","v":"KO"},{"$f":"IFERROR(__xludf.DUMMYFUNCTION(\"\"\"COMPUTED_VALUE\"\"\"),\"non attribué\")","v":"non attribué"},{"$f":"IFERROR(__xludf.DUMMYFUNCTION(\"\"\"COMPUTED_VALUE\"\"\"),\"non attribué\")","v":"non attribué"},null,{"$f":"IFERROR(__xludf.DUMMYFUNCTION(\"\"\"COMPUTED_VALUE\"\"\"),\"PAF non reçue\")","v":"PAF non reçue"},{"$f":"IFERROR(__xludf.DUMMYFUNCTION(\"\"\"COMPUTED_VALUE\"\"\"),\"non reçue\")","v":"non reçue"},{"$f":"IFERROR(__xludf.DUMMYFUNCTION(\"\"\"COMPUTED_VALUE\"\"\"),\"R.A.S.\")","v":"R.A.S."},{"$f":"IFERROR(__xludf.DUMMYFUNCTION(\"\"\"COMPUTED_VALUE\"\"\"),\"samedi\")","v":"samedi"}]
[{"$nulls":12},{"$f":"IFERROR(__xludf.DUMMYFUNCTION(\"\"\"COMPUTED_VALUE\"\"\"),\"KO\")","v":"KO"},{"$f":"IFERROR(__xludf.DUMMYFUNCTION(\"\"\"COMPUTED_VALUE\"\"\"),\"KO\")","v":"KO"},{"$f":"IFERROR(__xludf.DUMMYFUNCTION(\"\"\"COMPUTED_VALUE\"\"\"),\"non attribué\")","v":"non attribué"},{"$f":"IFERROR(__xludf.DUMMYFUNCTION(\"\"\"COMPUTED_VALUE\"\"\"),\"non attribué\")","v":"non attribué"},null,{"$f":"IFERROR(__xludf.DUMMYFUNCTION(\"\"\"COMPUTED_VALUE\"\"\"),\"PAF non reçue\")","v":"PAF non reçue"},{"$f":"IFERROR(__xludf.DUMMYFUNCTION(\"\"\"COMPUTED_VALUE\"\"\"),\"non reçue\")","v":"non reçue"},{"$f":"IFERROR(__xludf.DUMMYFUNCTION(\"\"\"COMPUTED_VALUE\"\"\"),\"R.A.S.\")","v":"R.A.S."},{"$f":"IFERROR(__xludf.DUMMYFUNCTION(\"\"\"COMPUTED_VALUE\"\"\"),\"samedi\")","v":"samedi"}]
[{"$nulls":12},{"$f":"IFERROR(__xludf.DUMMYFUNCTION(\"\"\"COMPUTED_VALUE\"\"\"),\"KO\")","v":"KO"},{"$f":"IFERROR(__xludf.DUMMYFUNCTION(\"\"\"COMPUTED_VALUE\"\"\"),\"KO\")","v":"KO"},{"$f":"IFERROR(__xludf.DUMMYFUNCTION(\"\"\"COMPUTED_VALUE\"\"\"),\"non attribué\")","v":"non attribué"},{"$f":"IFERROR(__xludf.DUMMYFUNCTION(\"\"\"COMPUTED_VALUE\"\"\"),\"non attribué\")","v":"non attribué"},null,{"$f":"IFERROR(__xludf.DUMMYFUNCTION(\"\"\"COMPUTED_VALUE\"\"\"),\"PAF non reçue\")","v":"PAF non reçue"},{"$f":"IFERROR(__xludf.DUMMYFUNCTION(\"\"\"COMPUTED_VALUE\"\"\"),\"non reçue\")","v":"non reçue"},{"$f":"IFERROR(__xludf.DUMMYFUNCTION(\"\"\"COMPUTED_VALUE\"\"\"),\"R.A.S.\")","v":"R.A.S."},{"$f":"IFERROR(__xludf.DUMMYFUNCTION(\"\"\"COMPUTED_VALUE\"\"\"),\"samedi\")","v":"samedi"}]
[{"$nulls":12},{"$f":"IFERROR(__xludf.DUMMYFUNCTION(\"\"\"COMPUTED_VALUE\"\"\"),\"KO\")","v":"KO"},{"$f":"IFERROR(__xludf.DUMMYFUNCTION(\"\"\"COMPUTED_VALUE\"\"\"),\"KO\")","v":"KO"},{"$f":"IFERROR(__xludf.DUMMYFUNCTION(\"\"\"COMPUTED_VALUE\"\"\"),\"non attribué\")","v":"non attribué"},{"$f":"IFERROR(__xludf.DUMMYFUNCTION(\"\"\"COMPUTED_VALUE\"\"\"),\"non attribué\")","v":"non attribué"},null,{"$f":"IFERROR(__xludf.DUMMYFUNCTION(\"\"\"COMPUTED_VALUE\"\"\"),\"PAF non reçue\")","v":"PAF non reçue"},{"$f":"IFERROR(__xludf.DUMMYFUNCTION(\"\"\"COMPUTED_VALUE\"\"\"),\"non reçue\")","v":"non reçue"},{"$f":"IFERROR(__xludf.DUMMYFUNCTION(\"\"\"COMPUTED_VALUE\"\"\"),\"R.A.S.\")","v":"R.A.S."},{"$f":"IFERROR(__xludf.DUMMYFUNCTION(\"\"\"COMPUTED_VALUE\"\"\"),\"samedi\")","v":"samedi"}]
[{"$nulls":12},{"$f":"IFERROR(__xludf.DUMMYFUNCTION(\"\"\"COMPUTED_VALUE\"\"\"),\"KO\")","v":"KO"},{"$f":"IFERROR(__xludf.DUMMYFUNCTION(\"\"\"COMPUTED_VALUE\"\"\"),\"KO\")","v":"KO"},{"$f":"IFERROR(__xludf.DUMMYFUNCTION(\"\"\"COMPUTED_VALUE\"\"\"),\"non attribué\")","v":"non attribué"},{"$f":"IFERROR(__xludf.DUMMYFUNCTION(\"\"\"COMPUTED_VALUE\"\"\"),\"non attribué\")","v":"non attribué"},null,{"$f":"IFERROR(__xludf.DUMMYFUNCTION(\"\"\"COMPUTED_VALUE\"\"\"),\"PAF non reçue\")","v":"PAF non reçue"},{"$f":"IFERROR(__xludf.DUMMYFUNCTION(\"\"\"COMPUTED_VALUE\"\"\"),\"non reçue\")","v":"non reçue"},{"$f":"IFERROR(__xludf.DUMMYFUNCTION(\"\"\"COMPUTED_VALUE\"\"\"),\"R.A.S.\")","v":"R.A.S."},{"$f":"IFERROR(__xludf.DUMMYFUNCTION(\"\"\"COMPUTED_VALUE\"\"\"),\"samedi\")","v":"samedi"}]
[{"$nulls":12},{"$f":"IFERROR(__xludf.DUMMYFUNCTION(\"\"\"COMPUTED_VALUE\"\"\"),\"KO\")","v":"KO"},{"$f":"IFERROR(__xludf.DUMMYFUNCTION(\"\"\"COMPUTED_VALUE\"\"\"),\"KO\")","v":"KO"},{"$f":"IFERROR(__xludf.DUMMYFUNCTION(\"\"\"COMPUTED_VALUE\"\"\"),\"non attribué\")","v":"non attribué"},{"$f":"IFERROR(__xludf.DUMMYFUNCTION(\"\"\"COMPUTED_VALUE\"\"\"),\"non attribué\")","v":"non attribué"},null,{"$f":"IFERROR(__xludf.DUMMYFUNCTION(\"\"\"COMPUTED_VALUE\"\"\"),\"PAF non reçue\")","v":"PAF non reçue"},{"$f":"IFERROR(__xludf.DUMMYFUNCTION(\"\"\"COMPUTED_VALUE\"\"\"),\"non reçue\")","v":"non reçue"},{"$f":"IFERROR(__xludf.DUMMYFUNCTION(\"\"\"COMPUTED_VALUE\"\"\"),\"R.A.S.\")","v":"R.A.S."},{"$f":"IFERROR(__xludf.DUMMYFUNCTION(\"\"\"COMPUTED_VALUE\"\"\"),\"samedi\")","v":"samedi"}]
[{"$nulls":12},{"$f":"IFERROR(__xludf.DUMMYFUNCTION(\"\"\"COMPUTED_VALUE\"\"\"),\"KO\")","v":"KO"},{"$f":"IFERROR(__xludf.DUMMYFUNCTION(\"\"\"COMPUTED_VALUE\"\"\"),\"KO\")","v":"KO"},{"$f":"IFERROR(__xludf.DUMMYFUNCTION(\"\"\"COMPUTED_VALUE\"\"\"),\"non attribué\")","v":"non attribué"},{"$f":"IFERROR(__xludf.DUMMYFUNCTION(\"\"\"COMPUTED_VALUE\"\"\"),\"non attribué\")","v":"non attribué"},null,{"$f":"IFERROR(__xludf.DUMMYFUNCTION(\"\"\"COMPUTED_VALUE\"\"\"),\"PAF non reçue\")","v":"PAF non reçue"},{"$f":"IFERROR(__xludf.DUMMYFUNCTION(\"\"\"COMPUTED_VALUE\"\"\"),\"non reçue\")","v":"non reçue"},{"$f":"IFERROR(__xludf.DUMMYFUNCTION(\"\"\"COMPUTED_VALUE\"\"\"),\"R.A.S.\")","v":"R.A.S."},{"$f":"IFERROR(__xludf.DUMMYFUNCTION(\"\"\"COMPUTED_VALUE\"\"\"),\"samedi\")","v":"samedi"}]
[{"$nulls":12},{"$f":"IFERROR(__xludf.DUMMYFUNCTION(\"\"\"COMPUTED_VALUE\"\"\"),\"KO\")","v":"KO"},{"$f":"IFERROR(__xludf.DUMMYFUNCTION(\"\"\"COMPUTED_VALUE\"\"\"),\"KO\")","v":"KO"},{"$f":"IFERROR(__xludf.DUMMYFUNCTION(\"\"\"COMPUTED_VALUE\"\"\"),\"non attribué\")","v":"non attribué"},{"$f":"IFERROR(__xludf.DUMMYFUNCTION(\"\"\"COMPUTED_VALUE\"\"\"),\"non attribué\")","v":"non attribué"},null,{"$f":"IFERROR(__xludf.DUMMYFUNCTION(\"\"\"COMPUTED_VALUE\"\"\"),\"PAF non reçue\")","v":"PAF non reçue"},{"$f":"IFERROR(__xludf.DUMMYFUNCTION(\"\"\"COMPUTED_VALUE\"\"\"),\"non reçue\")","v":"non reçue"},{"$f":"IFERROR(__xludf.DUMMYFUNCTION(\"\"\"COMPUTED_VALUE\"\"\"),\"R.A.S.\")","v":"R.A.S."},{"$f":"IFERROR(__xludf.DUMMYFUNCTION(\"\"\"COMPUTED_VALUE\"\"\"),\"samedi\")","v":"samedi"}]
[{"$nulls":12},{"$f":"IFERROR(__xludf.DUMMYFUNCTION(\"\"\"COMPUTED_VALUE\"\"\"),\"KO\")","v":"KO"},{"$f":"IFERROR(__xludf.DUMMYFUNCTION(\"\"\"COMPUTED_VALUE\"\"\"),\"KO\")","v":"KO"},{"$f":"IFERROR(__xludf.DUMMYFUNCTION(\"\"\"COMPUTED_VALUE\"\"\"),\"non attribué\")","v":"non attribué"},{"$f":"IFERROR(__xludf.DUMMYFUNCTION(\"\"\"COMPUTED_VALUE\"\"\"),\"non attribué\")","v":"non attribué"},null,{"$f":"IFERROR(__xludf.DUMMYFUNCTION(\"\"\"COMPUTED_VALUE\"\"\"),\"PAF non reçue\")","v":"PAF non reçue"},{"$f":"IFERROR(__xludf.DUMMYFUNCTION(\"\"\"COMPUTED_VALUE\"\"\"),\"non reçue\")","v":"non reçue"},{"$f":"IFERROR(__xludf.DUMMYFUNCTION(\"\"\"COMPUTED_VALUE\"\"\"),\"R.A.S.\")","v":"R.A.S."},{"$f":"IFERROR(__xludf.DUMMYFUNCTION(\"\"\"COMPUTED_VALUE\"\"\"),\"samedi\")","v":"samedi"}]
[{"$nulls":12},{"$f":"IFERROR(__xludf.DUMMYFUNCTION(\"\"\"COMPUTED_VALUE\"\"\"),\"KO\")","v":"KO"},{"$f":"IFERROR(__xludf.DUMMYFUNCTION(\"\"\"COMPUTED_VALUE\"\"\"),\"KO\")","v":"KO"},{"$f":"IFERROR(__xludf.DUMMYFUNCTION(\"\"\"COMPUTED_VALUE\"\"\"),\"non attribué\")","v":"non attribué"},{"$f":"IFERROR(__xludf.DUMMYFUNCTION(\"\"\"COMPUTED_VALUE\"\"\"),\"non attribué\")","v":"non attribué"},null,{"$f":"IFERROR(__xludf.DUMMYFUNCTION(\"\"\"COMPUTED_VALUE\"\"\"),\"PAF non reçue\")","v":"PAF non reçue"},{"$f":"IFERROR(__xludf.DUMMYFUNCTION(\"\"\"COMPUTED_VALUE\"\"\"),\"non reçue\")","v":"non reçue"},{"$f":"IFERROR(__xludf.DUMMYFUNCTION(\"\"\"COMPUTED_VALUE\"\"\"),\"R.A.S.\")","v":"R.A.S."},{"$f":"IFERROR(__xludf.DUMMYFUNCTION(\"\"\"COMPUTED_VALUE\"\"\"),\"samedi\")","v":"samedi"}]
[{"$nulls":12},{"$f":"IFERROR(__xludf.DUMMYFUNCTION(\"\"\"COMPUTED_VALUE\"\"\"),\"KO\")","v":"KO"},{"$f":"IFERROR(__xludf.DUMMYFUNCTION(\"\"\"COMPUTED_VALUE\"\"\"),\"KO\")","v":"KO"},{"$f":"IFERROR(__xludf.DUMMYFUNCTION(\"\"\"COMPUTED_VALUE\"\"\"),\"non attribué\")","v":"non attribué"},{"$f":"IFERROR(__xludf.DUMMYFUNCTION(\"\"\"COMPUTED_VALUE\"\"\"),\"non attribué\")","v":"non attribué"},null,{"$f":"IFERROR(__xludf.DUMMYFUNCTION(\"\"\"COMPUTED_VALUE\"\"\"),\"PAF non reçue\")","v":"PAF non reçue"},{"$f":"IFERROR(__xludf.DUMMYFUNCTION(\"\"\"COMPUTED_VALUE\"\"\"),\"non reçue\")","v":"non reçue"},{"$f":"IFERROR(__xludf.DUMMYFUNCTION(\"\"\"COMPUTED_VALUE\"\"\"),\"R.A.S.\")","v":"R.A.S."},{"$f":"IFERROR(__xludf.DUMMYFUNCTION(\"\"\"COMPUTED_VALUE\"\"\"),\"samedi\")","v":"samedi"}]
[{"$nulls":12},{"$f":"IFERROR(__xludf.DUMMYFUNCTION(\"\"\"COMPUTED_VALUE\"\"\"),\"KO\")","v":"KO"},{"$f":"IFERROR(__xludf.DUMMYFUNCTION(\"\"\"COMPUTED_VALUE\"\"\"),\"KO\")","v":"KO"},{"$f":"IFERROR(__xludf.DUMMYFUNCTION(\"\"\"COMPUTED_VALUE\"\"\"),\"non attribué\")","v":"non attribué"},{"$f":"IFERROR(__xludf.DUMMYFUNCTION(\"\"\"COMPUTED_VALUE\"\"\"),\"non attribué\")","v":"non attribué"},null,{"$f":"IFERROR(__xludf.DUMMYFUNCTION(\"\"\"COMPUTED_VALUE\"\"\"),\"PAF non reçue\")","v":"PAF non reçue"},{"$f":"IFERROR(__xludf.DUMMYFUNCTION(\"\"\"COMPUTED_VALUE\"\"\"),\"non reçue\")","v":"non reçue"},{"$f":"IFERROR(__xludf.DUMMYFUNCTION(\"\"\"COMPUTED_VALUE\"\"\"),\"R.A.S.\")","v":"R.A.S."},{"$f":"IFERROR(__xludf.DUMMYFUNCTION(\"\"\"COMPUTED_VALUE\"\"\"),\"samedi\")","v":"samedi"}]
[{"$nulls":12},{"$f":"IFERROR(__xludf.DUMMYFUNCTION(\"\"\"COMPUTED_VALUE\"\"\"),\"KO\")","v":"KO"},{"$f":"IFERROR(__xludf.DUMMYFUNCTION(\"\"\"COMPUTED_VALUE\"\"\"),\"KO\")","v":"KO"},{"$f":"IFERROR(__xludf.DUMMYFUNCTION(\"\"\"COMPUTED_VALUE\"\"\"),\"non attribué\")","v":"non attribué"},{"$f":"IFERROR(__xludf.DUMMYFUNCTION(\"\"\"COMPUTED_VALUE\"\"\"),\"non attribué\")","v":"non attribué"},null,{"$f":"IFERROR(__xludf.DUMMYFUNCTION(\"\"\"COMPUTED_VALUE\"\"\"),\"PAF non reçue\")","v":"PAF non reçue"},{"$f":"IFERROR(__xludf.DUMMYFUNCTION(\"\"\"COMPUTED_VALUE\"\"\"),\"non reçue\")","v":"non reçue"},{"$f":"IFERROR(__xludf.DUMMYFUNCTION(\"\"\"COMPUTED_VALUE\"\"\"),\"R.A.S.\")","v":"R.A.S."},{"$f":"IFERROR(__xludf.DUMMYFUNCTION(\"\"\"COMPUTED_VALUE\"\"\"),\"samedi\")","v":"samedi"}]
[{"$nulls":12},{"$f":"IFERROR(__xludf.DUMMYFUNCTION(\"\"\"COMPUTED_VALUE\"\"\"),\"KO\")","v":"KO"},{"$f":"IFERROR(__xludf.DUMMYFUNCTION(\"\"\"COMPUTED_VALUE\"\"\"),\"KO\")","v":"KO"},{"$f":"IFERROR(__xludf.DUMMYFUNCTION(\"\"\"COMPUTED_VALUE\"\"\"),\"non attribué\")","v":"non attribué"},{"$f":"IFERROR(__xludf.DUMMYFUNCTION(\"\"\"COMPUTED_VALUE\"\"\"),\"non attribué\")","v":"non attribué"},null,{"$f":"IFERROR(__xludf.DUMMYFUNCTION(\"\"\"COMPUTED_VALUE\"\"\"),\"PAF non reçue\")","v":"PAF non reçue"},{"$f":"IFERROR(__xludf.DUMMYFUNCTION(\"\"\"COMPUTED_VALUE\"\"\"),\"non reçue\")","v":"non reçue"},{"$f":"IFERROR(__xludf.DUMMYFUNCTION(\"\"\"COMPUTED_VALUE\"\"\"),\"R.A.S.\")","v":"R.A.S."},{"$f":"IFERROR(__xludf.DUMMYFUNCTION(\"\"\"COMPUTED_VALUE\"\"\"),\"samedi\")","v":"samedi"}]
[{"$nulls":12},{"$f":"IFERROR(__xludf.DUMMYFUNCTION(\"\"\"COMPUTED_VALUE\"\"\"),\"KO\")","v":"KO"},{"$f":"IFERROR(__xludf.DUMMYFUNCTION(\"\"\"COMPUTED_VALUE\"\"\"),\"KO\")","v":"KO"},{"$f":"IFERROR(__xludf.DUMMYFUNCTION(\"\"\"COMPUTED_VALUE\"\"\"),\"non attribué\")","v":"non attribué"},{"$f":"IFERROR(__xludf.DUMMYFUNCTION(\"\"\"COMPUTED_VALUE\"\"\"),\"non attribué\")","v":"non attribué"},null,{"$f":"IFERROR(__xludf.DUMMYFUNCTION(\"\"\"COMPUTED_VALUE\"\"\"),\"PAF non reçue\")","v":"PAF non reçue"},{"$f":"IFERROR(__xludf.DUMMYFUNCTION(\"\"\"COMPUTED_VALUE\"\"\"),\"non reçue\")","v":"non reçue"},{"$f":"IFERROR(__xludf.DUMMYFUNCTION(\"\"\"COMPUTED_VALUE\"\"\"),\"R.A.S.\")","v":"R.A.S."},{"$f":"IFERROR(__xludf.DUMMYFUNCTION(\"\"\"COMPUTED_VALUE\"\"\"),\"samedi\")","v":"samedi"}]
[{"$nulls":12},{"$f":"IFERROR(__xludf.DUMMYFUNCTION(\"\"\"COMPUTED_VALUE\"\"\"),\"KO\")","v":"KO"},{"$f":"IFERROR(__xludf.DUMMYFUNCTION(\"\"\"COMPUTED_VALUE\"\"\"),\"KO\")","v":"KO"},{"$f":"IFERROR(__xludf.DUMMYFUNCTION(\"\"\"COMPUTED_VALUE\"\"\"),\"non attribué\")","v":"non attribué"},{"$f":"IFERROR(__xludf.DUMMYFUNCTION(\"\"\"COMPUTED_VALUE\"\"\"),\"non attribué\")","v":"non attribué"},null,{"$f":"IFERROR(__xludf.DUMMYFUNCTION(\"\"\"COMPUTED_VALUE\"\"\"),\"PAF non reçue\")","v":"PAF non reçue"},{"$f":"IFERROR(__xludf.DUMMYFUNCTION(\"\"\"COMPUTED_VALUE\"\"\"),\"non reçue\")","v":"non reçue"},{"$f":"IFERROR(__xludf.DUMMYFUNCTION(\"\"\"COMPUTED_VALUE\"\"\"),\"R.A.S.\")","v":"R.A.S."},{"$f":"IFERROR(__xludf.DUMMYFUNCTION(\"\"\"COMPUTED_VALUE\"\"\"),\"samedi\")","v":"samedi"}]
[{"$nulls":12},{"$f":"IFERROR(__xludf.DUMMYFUNCTION(\"\"\"COMPUTED_VALUE\"\"\"),\"KO\")","v":"KO"},{"$f":"IFERROR(__xludf.DUMMYFUNCTION(\"\"\"COMPUTED_VALUE\"\"\"),\"KO\")","v":"KO"},{"$f":"IFERROR(__xludf.DUMMYFUNCTION(\"\"\"COMPUTED_VALUE\"\"\"),\"non attribué\")","v":"non attribué"},{"$f":"IFERROR(__xludf.DUMMYFUNCTION(\"\"\"COMPUTED_VALUE\"\"\"),\"non attribué\")","v":"non attribué"},null,{"$f":"IFERROR(__xludf.DUMMYFUNCTION(\"\"\"COMPUTED_VALUE\"\"\"),\"PAF non reçue\")","v":"PAF non reçue"},{"$f":"IFERROR(__xludf.DUMMYFUNCTION(\"\"\"COMPUTED_VALUE\"\"\"),\"non reçue\")","v":"non reçue"},{"$f":"IFERROR(__xludf.DUMMYFUNCTION(\"\"\"COMPUTED_VALUE\"\"\"),\"R.A.S.\")","v":"R.A.S."},{"$f":"IFERROR(__xludf.DUMMYFUNCTION(\"\"\"COMPUTED_VALUE\"\"\"),\"samedi\")","v":"samedi"}]
[{"$nulls":12},{"$f":"IFERROR(__xludf.DUMMYFUNCTION(\"\"\"COMPUTED_VALUE\"\"\"),\"KO\")","v":"KO"},{"$f":"IFERROR(__xludf.DUMMYFUNCTION(\"\"\"COMPUTED_VALUE\"\"\"),\"KO\")","v":"KO"},{"$f":"IFERROR(__xludf.DUMMYFUNCTION(\"\"\"COMPUTED_VALUE\"\"\"),\"non attribué\")","v":"non attribué"},{"$f":"IFERROR(__xludf.DUMMYFUNCTION(\"\"\"COMPUTED_VALUE\"\"\"),\"non attribué\")","v":"non attribué"},null,{"$f":"IFERROR(__xludf.DUMMYFUNCTION(\"\"\"COMPUTED_VALUE\"\"\"),\"PAF non reçue\")","v":"PAF non reçue"},{"$f":"IFERROR(__xludf.DUMMYFUNCTION(\"\"\"COMPUTED_VALUE\"\"\"),\"non reçue\")","v":"non reçue"},{"$f":"IFERROR(__xludf.DUMMYFUNCTION(\"\"\"COMPUTED_VALUE\"\"\"),\"R.A.S.\")","v":"R.A.S."},{"$f":"IFERROR(__xludf.DUMMYFUNCTION(\"\"\"COMPUTED_VALUE\"\"\"),\"samedi\")","v":"samedi"}]
[{"$nulls":12},{"$f":"IFERROR(__xludf.DUMMYFUNCTION(\"\"\"COMPUTED_VALUE\"\"\"),\"KO\")","v":"KO"},{"$f":"IFERROR(__xludf.DUMMYFUNCTION(\"\"\"COMPUTED_VALUE\"\"\"),\"KO\")","v":"KO"},{"$f":"IFERROR(__xludf.DUMMYFUNCTION(\"\"\"COMPUTED_VALUE\"\"\"),\"non attribué\")","v":"non attribué"},{"$f":"IFERROR(__xludf.DUMMYFUNCTION(\"\"\"COMPUTED_VALUE\"\"\"),\"non attribué\")","v":"non attribué"},null,{"$f":"IFERROR(__xludf.DUMMYFUNCTION(\"\"\"COMPUTED_VALUE\"\"\"),\"PAF non reçue\")","v":"PAF non reçue"},{"$f":"IFERROR(__xludf.DUMMYFUNCTION(\"\"\"COMPUTED_VALUE\"\"\"),\"non reçue\")","v":"non reçue"},{"$f":"IFERROR(__xludf.DUMMYFUNCTION(\"\"\"COMPUTED_VALUE\"\"\"),\"R.A.S.\")","v":"R.A.S."},{"$f":"IFERROR(__xludf.DUMMYFUNCTION(\"\"\"COMPUTED_VALUE\"\"\"),\"samedi\")","v":"samedi"}]
[{"$nulls":12},{"$f":"IFERROR(__xludf.DUMMYFUNCTION(\"\"\"COMPUTED_VALUE\"\"\"),\"KO\")","v":"KO"},{"$f":"IFERROR(__xludf.DUMMYFUNCTION(\"\"\"COMPUTED_VALUE\"\"\"),\"KO\")","v":"KO"},{"$f":"IFERROR(__xludf.DUMMYFUNCTION(\"\"\"COMPUTED_VALUE\"\"\"),\"non attribué\")","v":"non attribué"},{"$f":"IFERROR(__xludf.DUMMYFUNCTION(\"\"\"COMPUTED_VALUE\"\"\"),\"non attribué\")","v":"non attribué"},null,{"$f":"IFERROR(__xludf.DUMMYFUNCTION(\"\"\"COMPUTED_VALUE\"\"\"),\"PAF non reçue\")","v":"PAF non reçue"},{"$f":"IFERROR(__xludf.DUMMYFUNCTION(\"\"\"COMPUTED_VALUE\"\"\"),\"non reçue\")","v":"non reçue"},{"$f":"IFERROR(__xludf.DUMMYFUNCTION(\"\"\"COMPUTED_VALUE\"\"\"),\"R.A.S.\")","v":"R.A.S."},{"$f":"IFERROR(__xludf.DUMMYFUNCTION(\"\"\"COMPUTED_VALUE\"\"\"),\"samedi\")","v":"samedi"}]
[{"$nulls":12},{"$f":"IFERROR(__xludf.DUMMYFUNCTION(\"\"\"COMPUTED_VALUE\"\"\"),\"KO\")","v":"KO"},{"$f":"IFERROR(__xludf.DUMMYFUNCTION(\"\"\"COMPUTED_VALUE\"\"\"),\"KO\")","v":"KO"},{"$f":"IFERROR(__xludf.DUMMYFUNCTION(\"\"\"COMPUTED_VALUE\"\"\"),\"non attribué\")","v":"non attribué"},{"$f":"IFERROR(__xludf.DUMMYFUNCTION(\"\"\"COMPUTED_VALUE\"\"\"),\"non attribué\")","v":"non attribué"},null,{"$f":"IFERROR(__xludf.DUMMYFUNCTION(\"\"\"COMPUTED_VALUE\"\"\"),\"PAF non reçue\")","v":"PAF non reçue"},{"$f":"IFERROR(__xludf.DUMMYFUNCTION(\"\"\"COMPUTED_VALUE\"\"\"),\"non reçue\")","v":"non reçue"},{"$f":"IFERROR(__xludf.DUMMYFUNCTION(\"\"\"COMPUTED_VALUE\"\"\"),\"R.A.S.\")","v":"R.A.S."},{"$f":"IFERROR(__xludf.DUMMYFUNCTION(\"\"\"COMPUTED_VALUE\"\"\"),\"samedi\")","v":"samedi"}]
[{"$nulls":12},{"$f":"IFERROR(__xludf.DUMMYFUNCTION(\"\"\"COMPUTED_VALUE\"\"\"),\"KO\")","v":"KO"},{"$f":"IFERROR(__xludf.DUMMYFUNCTION(\"\"\"COMPUTED_VALUE\"\"\"),\"KO\")","v":"KO"},{"$f":"IFERROR(__xludf.DUMMYFUNCTION(\"\"\"COMPUTED_VALUE\"\"\"),\"non attribué\")","v":"non attribué"},{"$f":"IFERROR(__xludf.DUMMYFUNCTION(\"\"\"COMPUTED_VALUE\"\"\"),\"non attribué\")","v":"non attribué"},null,{"$f":"IFERROR(__xludf.DUMMYFUNCTION(\"\"\"COMPUTED_VALUE\"\"\"),\"PAF non reçue\")","v":"PAF non reçue"},{"$f":"IFERROR(__xludf.DUMMYFUNCTION(\"\"\"COMPUTED_VALUE\"\"\"),\"non reçue\")","v":"non reçue"},{"$f":"IFERROR(__xludf.DUMMYFUNCTION(\"\"\"COMPUTED_VALUE\"\"\"),\"R.A.S.\")","v":"R.A.S."},{"$f":"IFERROR(__xludf.DUMMYFUNCTION(\"\"\"COMPUTED_VALUE\"\"\"),\"samedi\")","v":"samedi"}]
[{"$nulls":12},{"$f":"IFERROR(__xludf.DUMMYFUNCTION(\"\"\"COMPUTED_VALUE\"\"\"),\"KO\")","v":"KO"},{"$f":"IFERROR(__xludf.DUMMYFUNCTION(\"\"\"COMPUTED_VALUE\"\"\"),\"KO\")","v":"KO"},{"$f":"IFERROR(__xludf.DUMMYFUNCTION(\"\"\"COMPUTED_VALUE\"\"\"),\"non attribué\")","v":"non attribué"},{"$f":"IFERROR(__xludf.DUMMYFUNCTION(\"\"\"COMPUTED_VALUE\"\"\"),\"non attribué\")","v":"non attribué"},null,{"$f":"IFERROR(__xludf.DUMMYFUNCTION(\"\"\"COMPUTED_VALUE\"\"\"),\"PAF non reçue\")","v":"PAF non reçue"},{"$f":"IFERROR(__xludf.DUMMYFUNCTION(\"\"\"COMPUTED_VALUE\"\"\"),\"non reçue\")","v":"non reçue"},{"$f":"IFERROR(__xludf.DUMMYFUNCTION(\"\"\"COMPUTED_VALUE\"\"\"),\"R.A.S.\")","v":"R.A.S."},{"$f":"IFERROR(__xludf.DUMMYFUNCTION(\"\"\"COMPUTED_VALUE\"\"\"),\"samedi\")","v":"samedi"}]
[{"$nulls":12},{"$f":"IFERROR(__xludf.DUMMYFUNCTION(\"\"\"COMPUTED_VALUE\"\"\"),\"KO\")","v":"KO"},{"$f":"IFERROR(__xludf.DUMMYFUNCTION(\"\"\"COMPUTED_VALUE\"\"\"),\"KO\")","v":"KO"},{"$f":"IFERROR(__xludf.DUMMYFUNCTION(\"\"\"COMPUTED_VALUE\"\"\"),\"non attribué\")","v":"non attribué"},{"$f":"IFERROR(__xludf.DUMMYFUNCTION(\"\"\"COMPUTED_VALUE\"\"\"),\"non attribué\")","v":"non attribué"},null,{"$f":"IFERROR(__xludf.DUMMYFUNCTION(\"\"\"COMPUTED_VALUE\"\"\"),\"PAF non reçue\")","v":"PAF non reçue"},{"$f":"IFERROR(__xludf.DUMMYFUNCTION(\"\"\"COMPUTED_VALUE\"\"\"),\"non reçue\")","v":"non reçue"},{"$f":"IFERROR(__xludf.DUMMYFUNCTION(\"\"\"COMPUTED_VALUE\"\"\"),\"R.A.S.\")","v":"R.A.S."},{"$f":"IFERROR(__xludf.DUMMYFUNCTION(\"\"\"COMPUTED_VALUE\"\"\"),\"samedi\")","v":"samedi"}]
[{"$nulls":12},{"$f":"IFERROR(__xludf.DUMMYFUNCTION(\"\"\"COMPUTED_VALUE\"\"\"),\"KO\")","v":"KO"},{"$f":"IFERROR(__xludf.DUMMYFUNCTION(\"\"\"COMPUTED_VALUE\"\"\"),\"KO\")","v":"KO"},{"$f":"IFERROR(__xludf.DUMMYFUNCTION(\"\"\"COMPUTED_VALUE\"\"\"),\"non attribué\")","v":"non attribué"},{"$f":"IFERROR(__xludf.DUMMYFUNCTION(\"\"\"COMPUTED_VALUE\"\"\"),\"non attribué\")","v":"non attribué"},null,{"$f":"IFERROR(__xludf.DUMMYFUNCTION(\"\"\"COMPUTED_VALUE\"\"\"),\"PAF non reçue\")","v":"PAF non reçue"},{"$f":"IFERROR(__xludf.DUMMYFUNCTION(\"\"\"COMPUTED_VALUE\"\"\"),\"non reçue\")","v":"non reçue"},{"$f":"IFERROR(__xludf.DUMMYFUNCTION(\"\"\"COMPUTED_VALUE\"\"\"),\"R.A.S.\")","v":"R.A.S."},{"$f":"IFERROR(__xludf.DUMMYFUNCTION(\"\"\"COMPUTED_VALUE\"\"\"),\"samedi\")","v":"samedi"}]
[{"$nulls":12},{"$f":"IFERROR(__xludf.DUMMYFUNCTION(\"\"\"COMPUTED_VALUE\"\"\"),\"KO\")","v":"KO"},{"$f":"IFERROR(__xludf.DUMMYFUNCTION(\"\"\"COMPUTED_VALUE\"\"\"),\"KO\")","v":"KO"},{"$f":"IFERROR(__xludf.DUMMYFUNCTION(\"\"\"COMPUTED_VALUE\"\"\"),\"non attribué\")","v":"non attribué"},{"$f":"IFERROR(__xludf.DUMMYFUNCTION(\"\"\"COMPUTED_VALUE\"\"\"),\"non attribué\")","v":"non attribué"},null,{"$f":"IFERROR(__xludf.DUMMYFUNCTION(\"\"\"COMPUTED_VALUE\"\"\"),\"PAF non reçue\")","v":"PAF non reçue"},{"$f":"IFERROR(__xludf.DUMMYFUNCTION(\"\"\"COMPUTED_VALUE\"\"\"),\"non reçue\")","v":"non reçue"},{"$f":"IFERROR(__xludf.DUMMYFUNCTION(\"\"\"COMPUTED_VALUE\"\"\"),\"R.A.S.\")","v":"R.A.S."},{"$f":"IFERROR(__xludf.DUMMYFUNCTION(\"\"\"COMPUTED_VALUE\"\"\"),\"samedi\")","v":"samedi"}]
[{"$nulls":12},{"$f":"IFERROR(__xludf.DUMMYFUNCTION(\"\"\"COMPUTED_VALUE\"\"\"),\"KO\")","v":"KO"},{"$f":"IFERROR(__xludf.DUMMYFUNCTION(\"\"\"COMPUTED_VALUE\"\"\"),\"KO\")","v":"KO"},{"$f":"IFERROR(__xludf.DUMMYFUNCTION(\"\"\"COMPUTED_VALUE\"\"\"),\"non attribué\")","v":"non attribué"},{"$f":"IFERROR(__xludf.DUMMYFUNCTION(\"\"\"COMPUTED_VALUE\"\"\"),\"non attribué\")","v":"non attribué"},null,{"$f":"IFERROR(__xludf.DUMMYFUNCTION(\"\"\"COMPUTED_VALUE\"\"\"),\"PAF non reçue\")","v":"PAF non reçue"},{"$f":"IFERROR(__xludf.DUMMYFUNCTION(\"\"\"COMPUTED_VALUE\"\"\"),\"non reçue\")","v":"non reçue"},{"$f":"IFERROR(__xludf.DUMMYFUNCTION(\"\"\"COMPUTED_VALUE\"\"\"),\"R.A.S.\")","v":"R.A.S."},{"$f":"IFERROR(__xludf.DUMMYFUNCTION(\"\"\"COMPUTED_VALUE\"\"\"),\"samedi\")","v":"samedi"}]
[{"$nulls":12},{"$f":"IFERROR(__xludf.DUMMYFUNCTION(\"\"\"COMPUTED_VALUE\"\"\"),\"KO\")","v":"KO"},{"$f":"IFERROR(__xludf.DUMMYFUNCTION(\"\"\"COMPUTED_VALUE\"\"\"),\"KO\")","v":"KO"},{"$f":"IFERROR(__xludf.DUMMYFUNCTION(\"\"\"COMPUTED_VALUE\"\"\"),\"non attribué\")","v":"non attribué"},{"$f":"IFERROR(__xludf.DUMMYFUNCTION(\"\"\"COMPUTED_VALUE\"\"\"),\"non attribué\")","v":"non attribué"},null,{"$f":"IFERROR(__xludf.DUMMYFUNCTION(\"\"\"COMPUTED_VALUE\"\"\"),\"PAF non reçue\")","v":"PAF non reçue"},{"$f":"IFERROR(__xludf.DUMMYFUNCTION(\"\"\"COMPUTED_VALUE\"\"\"),\"non reçue\")","v":"non reçue"},{"$f":"IFERROR(__xludf.DUMMYFUNCTION(\"\"\"COMPUTED_VALUE\"\"\"),\"R.A.S.\")","v":"R.A.S."},{"$f":"IFERROR(__xludf.DUMMYFUNCTION(\"\"\"COMPUTED_VALUE\"\"\"),\"samedi\")","v":"samedi"}]
[{"$nulls":12},{"$f":"IFERROR(__xludf.DUMMYFUNCTION(\"\"\"COMPUTED_VALUE\"\"\"),\"KO\")","v":"KO"},{"$f":"IFERROR(__xludf.DUMMYFUNCTION(\"\"\"COMPUTED_VALUE\"\"\"),\"KO\")","v":"KO"},{"$f":"IFERROR(__xludf.DUMMYFUNCTION(\"\"\"COMPUTED_VALUE\"\"\"),\"non attribué\")","v":"non attribué"},{"$f":"IFERROR(__xludf.DUMMYFUNCTION(\"\"\"COMPUTED_VALUE\"\"\"),\"non attribué\")","v":"non attribué"},null,{"$f":"IFERROR(__xludf.DUMMYFUNCTION(\"\"\"COMPUTED_VALUE\"\"\"),\"PAF non reçue\")","v":"PAF non reçue"},{"$f":"IFERROR(__xludf.DUMMYFUNCTION(\"\"\"COMPUTED_VALUE\"\"\"),\"non reçue\")","v":"non reçue"},{"$f":"IFERROR(__xludf.DUMMYFUNCTION(\"\"\"COMPUTED_VALUE\"\"\"),\"R.A.S.\")","v":"R.A.S."},{"$f":"IFERROR(__xludf.DUMMYFUNCTION(\"\"\"COMPUTED_VALUE\"\"\"),\"samedi\")","v":"samedi"}]
[{"$nulls":12},{"$f":"IFERROR(__xludf.DUMMYFUNCTION(\"\"\"COMPUTED_VALUE\"\"\"),\"KO\")","v":"KO"},{"$f":"IFERROR(__xludf.DUMMYFUNCTION(\"\"\"COMPUTED_VALUE\"\"\"),\"KO\")","v":"KO"},{"$f":"IFERROR(__xludf.DUMMYFUNCTION(\"\"\"COMPUTED_VALUE\"\"\"),\"non attribué\")","v":"non attribué"},{"$f":"IFERROR(__xludf.DUMMYFUNCTION(\"\"\"COMPUTED_VALUE\"\"\"),\"non attribué\")","v":"non attribué"},null,{"$f":"IFERROR(__xludf.DUMMYFUNCTION(\"\"\"COMPUTED_VALUE\"\"\"),\"PAF non reçue\")","v":"PAF non reçue"},{"$f":"IFERROR(__xludf.DUMMYFUNCTION(\"\"\"COMPUTED_VALUE\"\"\"),\"non reçue\")","v":"non reçue"},{"$f":"IFERROR(__xludf.DUMMYFUNCTION(\"\"\"COMPUTED_VALUE\"\"\"),\"R.A.S.\")","v":"R.A.S."},{"$f":"IFERROR(__xludf.DUMMYFUNCTION(\"\"\"COMPUTED_VALUE\"\"\"),\"samedi\")","v":"samedi"}]
[{"$nulls":12},{"$f":"IFERROR(__xludf.DUMMYFUNCTION(\"\"\"COMPUTED_VALUE\"\"\"),\"KO\")","v":"KO"},{"$f":"IFERROR(__xludf.DUMMYFUNCTION(\"\"\"COMPUTED_VALUE\"\"\"),\"KO\")","v":"KO"},{"$f":"IFERROR(__xludf.DUMMYFUNCTION(\"\"\"COMPUTED_VALUE\"\"\"),\"non attribué\")","v":"non attribué"},{"$f":"IFERROR(__xludf.DUMMYFUNCTION(\"\"\"COMPUTED_VALUE\"\"\"),\"non attribué\")","v":"non attribué"},null,{"$f":"IFERROR(__xludf.DUMMYFUNCTION(\"\"\"COMPUTED_VALUE\"\"\"),\"PAF non reçue\")","v":"PAF non reçue"},{"$f":"IFERROR(__xludf.DUMMYFUNCTION(\"\"\"COMPUTED_VALUE\"\"\"),\"non reçue\")","v":"non reçue"},{"$f":"IFERROR(__xludf.DUMMYFUNCTION(\"\"\"COMPUTED_VALUE\"\"\"),\"R.A.S.\")","v":"R.A.S."},{"$f":"IFERROR(__xludf.DUMMYFUNCTION(\"\"\"COMPUTED_VALUE\"\"\"),\"samedi\")","v":"samedi"}]
[{"$nulls":12},{"$f":"IFERROR(__xludf.DUMMYFUNCTION(\"\"\"COMPUTED_VALUE\"\"\"),\"KO\")","v":"KO"},{"$f":"IFERROR(__xludf.DUMMYFUNCTION(\"\"\"COMPUTED_VALUE\"\"\"),\"KO\")","v":"KO"},{"$f":"IFERROR(__xludf.DUMMYFUNCTION(\"\"\"COMPUTED_VALUE\"\"\"),\"non attribué\")","v":"non attribué"},{"$f":"IFERROR(__xludf.DUMMYFUNCTION(\"\"\"COMPUTED_VALUE\"\"\"),\"non attribué\")","v":"non attribué"},null,{"$f":"IFERROR(__xludf.DUMMYFUNCTION(\"\"\"COMPUTED_VALUE\"\"\"),\"PAF non reçue\")","v":"PAF non reçue"},{"$f":"IFERROR(__xludf.DUMMYFUNCTION(\"\"\"COMPUTED_VALUE\"\"\"),\"non reçue\")","v":"non reçue"},{"$f":"IFERROR(__xludf.DUMMYFUNCTION(\"\"\"COMPUTED_VALUE\"\"\"),\"R.A.S.\")","v":"R.A.S."},{"$f":"IFERROR(__xludf.DUMMYFUNCTION(\"\"\"COMPUTED_VALUE\"\"\"),\"samedi\")","v":"samedi"}]
[{"$nulls":12},{"$f":"IFERROR(__xludf.DUMMYFUNCTION(\"\"\"COMPUTED_VALUE\"\"\"),\"KO\")","v":"KO"},{"$f":"IFERROR(__xludf.DUMMYFUNCTION(\"\"\"COMPUTED_VALUE\"\"\"),\"KO\")","v":"KO"},{"$f":"IFERROR(__xludf.DUMMYFUNCTION(\"\"\"COMPUTED_VALUE\"\"\"),\"non attribué\")","v":"non attribué"},{"$f":"IFERROR(__xludf.DUMMYFUNCTION(\"\"\"COMPUTED_VALUE\"\"\"),\"non attribué\")","v":"non attribué"},null,{"$f":"IFERROR(__xludf.DUMMYFUNCTION(\"\"\"COMPUTED_VALUE\"\"\"),\"PAF non reçue\")","v":"PAF non reçue"},{"$f":"IFERROR(__xludf.DUMMYFUNCTION(\"\"\"COMPUTED_VALUE\"\"\"),\"non reçue\")","v":"non reçue"},{"$f":"IFERROR(__xludf.DUMMYFUNCTION(\"\"\"COMPUTED_VALUE\"\"\"),\"R.A.S.\")","v":"R.A.S."},{"$f":"IFERROR(__xludf.DUMMYFUNCTION(\"\"\"COMPUTED_VALUE\"\"\"),\"samedi\")","v":"samedi"}]
[{"$nulls":12},{"$f":"IFERROR(__xludf.DUMMYFUNCTION(\"\"\"COMPUTED_VALUE\"\"\"),\"KO\")","v":"KO"},{"$f":"IFERROR(__xludf.DUMMYFUNCTION(\"\"\"COMPUTED_VALUE\"\"\"),\"KO\")","v":"KO"},{"$f":"IFERROR(__xludf.DUMMYFUNCTION(\"\"\"COMPUTED_VALUE\"\"\"),\"non attribué\")","v":"non attribué"},{"$f":"IFERROR(__xludf.DUMMYFUNCTION(\"\"\"COMPUTED_VALUE\"\"\"),\"non attribué\")","v":"non attribué"},null,{"$f":"IFERROR(__xludf.DUMMYFUNCTION(\"\"\"COMPUTED_VALUE\"\"\"),\"PAF non reçue\")","v":"PAF non reçue"},{"$f":"IFERROR(__xludf.DUMMYFUNCTION(\"\"\"COMPUTED_VALUE\"\"\"),\"non reçue\")","v":"non reçue"},{"$f":"IFERROR(__xludf.DUMMYFUNCTION(\"\"\"COMPUTED_VALUE\"\"\"),\"R.A.S.\")","v":"R.A.S."},{"$f":"IFERROR(__xludf.DUMMYFUNCTION(\"\"\"COMPUTED_VALUE\"\"\"),\"samedi\")","v":"samedi"}]
[{"$nulls":12},{"$f":"IFERROR(__xludf.DUMMYFUNCTION(\"\"\"COMPUTED_VALUE\"\"\"),\"KO\")","v":"KO"},{"$f":"IFERROR(__xludf.DUMMYFUNCTION(\"\"\"COMPUTED_VALUE\"\"\"),\"KO\")","v":"KO"},{"$f":"IFERROR(__xludf.DUMMYFUNCTION(\"\"\"COMPUTED_VALUE\"\"\"),\"non attribué\")","v":"non attribué"},{"$f":"IFERROR(__xludf.DUMMYFUNCTION(\"\"\"COMPUTED_VALUE\"\"\"),\"non attribué\")","v":"non attribué"},null,{"$f":"IFERROR(__xludf.DUMMYFUNCTION(\"\"\"COMPUTED_VALUE\"\"\"),\"PAF non reçue\")","v":"PAF non reçue"},{"$f":"IFERROR(__xludf.DUMMYFUNCTION(\"\"\"COMPUTED_VALUE\"\"\"),\"non reçue\")","v":"non reçue"},{"$f":"IFERROR(__xludf.DUMMYFUNCTION(\"\"\"COMPUTED_VALUE\"\"\"),\"R.A.S.\")","v":"R.A.S."},{"$f":"IFERROR(__xludf.DUMMYFUNCTION(\"\"\"COMPUTED_VALUE\"\"\"),\"samedi\")","v":"samedi"}]
[{"$nulls":12},{"$f":"IFERROR(__xludf.DUMMYFUNCTION(\"\"\"COMPUTED_VALUE\"\"\"),\"KO\")","v":"KO"},{"$f":"IFERROR(__xludf.DUMMYFUNCTION(\"\"\"COMPUTED_VALUE\"\"\"),\"KO\")","v":"KO"},{"$f":"IFERROR(__xludf.DUMMYFUNCTION(\"\"\"COMPUTED_VALUE\"\"\"),\"non attribué\")","v":"non attribué"},{"$f":"IFERROR(__xludf.DUMMYFUNCTION(\"\"\"COMPUTED_VALUE\"\"\"),\"non attribué\")","v":"non attribué"},null,{"$f":"IFERROR(__xludf.DUMMYFUNCTION(\"\"\"COMPUTED_VALUE\"\"\"),\"PAF non reçue\")","v":"PAF non reçue"},{"$f":"IFERROR(__xludf.DUMMYFUNCTION(\"\"\"COMPUTED_VALUE\"\"\"),\"non reçue\")","v":"non reçue"},{"$f":"IFERROR(__xludf.DUMMYFUNCTION(\"\"\"COMPUTED_VALUE\"\"\"),\"R.A.S.\")","v":"R.A.S."},{"$f":"IFERROR(__xludf.DUMMYFUNCTION(\"\"\"COMPUTED_VALUE\"\"\"),\"samedi\")","v":"samedi"}]
[{"$nulls":12},{"$f":"IFERROR(__xludf.DUMMYFUNCTION(\"\"\"COMPUTED_VALUE\"\"\"),\"KO\")","v":"KO"},{"$f":"IFERROR(__xludf.DUMMYFUNCTION(\"\"\"COMPUTED_VALUE\"\"\"),\"KO\")","v":"KO"},{"$f":"IFERROR(__xludf.DUMMYFUNCTION(\"\"\"COMPUTED_VALUE\"\"\"),\"non attribué\")","v":"non attribué"},{"$f":"IFERROR(__xludf.DUMMYFUNCTION(\"\"\"COMPUTED_VALUE\"\"\"),\"non attribué\")","v":"non attribué"},null,{"$f":"IFERROR(__xludf.DUMMYFUNCTION(\"\"\"COMPUTED_VALUE\"\"\"),\"PAF non reçue\")","v":"PAF non reçue"},{"$f":"IFERROR(__xludf.DUMMYFUNCTION(\"\"\"COMPUTED_VALUE\"\"\"),\"non reçue\")","v":"non reçue"},{"$f":"IFERROR(__xludf.DUMMYFUNCTION(\"\"\"COMPUTED_VALUE\"\"\"),\"R.A.S.\")","v":"R.A.S."},{"$f":"IFERROR(__xludf.DUMMYFUNCTION(\"\"\"COMPUTED_VALUE\"\"\"),\"samedi\")","v":"samedi"}]
[{"$nulls":12},{"$f":"IFERROR(__xludf.DUMMYFUNCTION(\"\"\"COMPUTED_VALUE\"\"\"),\"KO\")","v":"KO"},{"$f":"IFERROR(__xludf.DUMMYFUNCTION(\"\"\"COMPUTED_VALUE\"\"\"),\"KO\")","v":"KO"},{"$f":"IFERROR(__xludf.DUMMYFUNCTION(\"\"\"COMPUTED_VALUE\"\"\"),\"non attribué\")","v":"non attribué"},{"$f":"IFERROR(__xludf.DUMMYFUNCTION(\"\"\"COMPUTED_VALUE\"\"\"),\"non attribué\")","v":"non attribué"},null,{"$f":"IFERROR(__xludf.DUMMYFUNCTION(\"\"\"COMPUTED_VALUE\"\"\"),\"PAF non reçue\")","v":"PAF non reçue"},{"$f":"IFERROR(__xludf.DUMMYFUNCTION(\"\"\"COMPUTED_VALUE\"\"\"),\"non reçue\")","v":"non reçue"},{"$f":"IFERROR(__xludf.DUMMYFUNCTION(\"\"\"COMPUTED_VALUE\"\"\"),\"R.A.S.\")","v":"R.A.S."},{"$f":"IFERROR(__xludf.DUMMYFUNCTION(\"\"\"COMPUTED_VALUE\"\"\"),\"samedi\")","v":"samedi"}]
[{"$nulls":12},{"$f":"IFERROR(__xludf.DUMMYFUNCTION(\"\"\"COMPUTED_VALUE\"\"\"),\"KO\")","v":"KO"},{"$f":"IFERROR(__xludf.DUMMYFUNCTION(\"\"\"COMPUTED_VALUE\"\"\"),\"KO\")","v":"KO"},{"$f":"IFERROR(__xludf.DUMMYFUNCTION(\"\"\"COMPUTED_VALUE\"\"\"),\"non attribué\")","v":"non attribué"},{"$f":"IFERROR(__xludf.DUMMYFUNCTION(\"\"\"COMPUTED_VALUE\"\"\"),\"non attribué\")","v":"non attribué"},null,{"$f":"IFERROR(__xludf.DUMMYFUNCTION(\"\"\"COMPUTED_VALUE\"\"\"),\"PAF non reçue\")","v":"PAF non reçue"},{"$f":"IFERROR(__xludf.DUMMYFUNCTION(\"\"\"COMPUTED_VALUE\"\"\"),\"non reçue\")","v":"non reçue"},{"$f":"IFERROR(__xludf.DUMMYFUNCTION(\"\"\"COMPUTED_VALUE\"\"\"),\"R.A.S.\")","v":"R.A.S."},{"$f":"IFERROR(__xludf.DUMMYFUNCTION(\"\"\"COMPUTED_VALUE\"\"\"),\"samedi\")","v":"samedi"}]
[{"$nulls":12},{"$f":"IFERROR(__xludf.DUMMYFUNCTION(\"\"\"COMPUTED_VALUE\"\"\"),\"KO\")","v":"KO"},{"$f":"IFERROR(__xludf.DUMMYFUNCTION(\"\"\"COMPUTED_VALUE\"\"\"),\"KO\")","v":"KO"},{"$f":"IFERROR(__xludf.DUMMYFUNCTION(\"\"\"COMPUTED_VALUE\"\"\"),\"non attribué\")","v":"non attribué"},{"$f":"IFERROR(__xludf.DUMMYFUNCTION(\"\"\"COMPUTED_VALUE\"\"\"),\"non attribué\")","v":"non attribué"},null,{"$f":"IFERROR(__xludf.DUMMYFUNCTION(\"\"\"COMPUTED_VALUE\"\"\"),\"PAF non reçue\")","v":"PAF non reçue"},{"$f":"IFERROR(__xludf.DUMMYFUNCTION(\"\"\"COMPUTED_VALUE\"\"\"),\"non reçue\")","v":"non reçue"},{"$f":"IFERROR(__xludf.DUMMYFUNCTION(\"\"\"COMPUTED_VALUE\"\"\"),\"R.A.S.\")","v":"R.A.S."},{"$f":"IFERROR(__xludf.DUMMYFUNCTION(\"\"\"COMPUTED_VALUE\"\"\"),\"samedi\")","v":"samedi"}]
[{"$nulls":12},{"$f":"IFERROR(__xludf.DUMMYFUNCTION(\"\"\"COMPUTED_VALUE\"\"\"),\"KO\")","v":"KO"},{"$f":"IFERROR(__xludf.DUMMYFUNCTION(\"\"\"COMPUTED_VALUE\"\"\"),\"KO\")","v":"KO"},{"$f":"IFERROR(__xludf.DUMMYFUNCTION(\"\"\"COMPUTED_VALUE\"\"\"),\"non attribué\")","v":"non attribué"},{"$f":"IFERROR(__xludf.DUMMYFUNCTION(\"\"\"COMPUTED_VALUE\"\"\"),\"non attribué\")","v":"non attribué"},null,{"$f":"IFERROR(__xludf.DUMMYFUNCTION(\"\"\"COMPUTED_VALUE\"\"\"),\"PAF non reçue\")","v":"PAF non reçue"},{"$f":"IFERROR(__xludf.DUMMYFUNCTION(\"\"\"COMPUTED_VALUE\"\"\"),\"non reçue\")","v":"non reçue"},{"$f":"IFERROR(__xludf.DUMMYFUNCTION(\"\"\"COMPUTED_VALUE\"\"\"),\"R.A.S.\")","v":"R.A.S."},{"$f":"IFERROR(__xludf.DUMMYFUNCTION(\"\"\"COMPUTED_VALUE\"\"\"),\"samedi\")","v":"samedi"}]
[{"$nulls":12},{"$f":"IFERROR(__xludf.DUMMYFUNCTION(\"\"\"COMPUTED_VALUE\"\"\"),\"KO\")","v":"KO"},{"$f":"IFERROR(__xludf.DUMMYFUNCTION(\"\"\"COMPUTED_VALUE\"\"\"),\"KO\")","v":"KO"},{"$f":"IFERROR(__xludf.DUMMYFUNCTION(\"\"\"COMPUTED_VALUE\"\"\"),\"non attribué\")","v":"non attribué"},{"$f":"IFERROR(__xludf.DUMMYFUNCTION(\"\"\"COMPUTED_VALUE\"\"\"),\"non attribué\")","v":"non attribué"},null,{"$f":"IFERROR(__xludf.DUMMYFUNCTION(\"\"\"COMPUTED_VALUE\"\"\"),\"PAF non reçue\")","v":"PAF non reçue"},{"$f":"IFERROR(__xludf.DUMMYFUNCTION(\"\"\"COMPUTED_VALUE\"\"\"),\"non reçue\")","v":"non reçue"},{"$f":"IFERROR(__xludf.DUMMYFUNCTION(\"\"\"COMPUTED_VALUE\"\"\"),\"R.A.S.\")","v":"R.A.S."},{"$f":"IFERROR(__xludf.DUMMYFUNCTION(\"\"\"COMPUTED_VALUE\"\"\"),\"samedi\")","v":"samedi"}]
[{"$nulls":12},{"$f":"IFERROR(__xludf.DUMMYFUNCTION(\"\"\"COMPUTED_VALUE\"\"\"),\"KO\")","v":"KO"},{"$f":"IFERROR(__xludf.DUMMYFUNCTION(\"\"\"COMPUTED_VALUE\"\"\"),\"KO\")","v":"KO"},{"$f":"IFERROR(__xludf.DUMMYFUNCTION(\"\"\"COMPUTED_VALUE\"\"\"),\"non attribué\")","v":"non attribué"},{"$f":"IFERROR(__xludf.DUMMYFUNCTION(\"\"\"COMPUTED_VALUE\"\"\"),\"non attribué\")","v":"non attribué"},null,{"$f":"IFERROR(__xludf.DUMMYFUNCTION(\"\"\"COMPUTED_VALUE\"\"\"),\"PAF non reçue\")","v":"PAF non reçue"},{"$f":"IFERROR(__xludf.DUMMYFUNCTION(\"\"\"COMPUTED_VALUE\"\"\"),\"non reçue\")","v":"non reçue"},{"$f":"IFERROR(__xludf.DUMMYFUNCTION(\"\"\"COMPUTED_VALUE\"\"\"),\"R.A.S.\")","v":"R.A.S."},{"$f":"IFERROR(__xludf.DUMMYFUNCTION(\"\"\"COMPUTED_VALUE\"\"\"),\"samedi\")","v":"samedi"}]
[{"$nulls":12},{"$f":"IFERROR(__xludf.DUMMYFUNCTION(\"\"\"COMPUTED_VALUE\"\"\"),\"KO\")","v":"KO"},{"$f":"IFERROR(__xludf.DUMMYFUNCTION(\"\"\"COMPUTED_VALUE\"\"\"),\"KO\")","v":"KO"},{"$f":"IFERROR(__xludf.DUMMYFUNCTION(\"\"\"COMPUTED_VALUE\"\"\"),\"non attribué\")","v":"non attribué"},{"$f":"IFERROR(__xludf.DUMMYFUNCTION(\"\"\"COMPUTED_VALUE\"\"\"),\"non attribué\")","v":"non attribué"},null,{"$f":"IFERROR(__xludf.DUMMYFUNCTION(\"\"\"COMPUTED_VALUE\"\"\"),\"PAF non reçue\")","v":"PAF non reçue"},{"$f":"IFERROR(__xludf.DUMMYFUNCTION(\"\"\"COMPUTED_VALUE\"\"\"),\"non reçue\")","v":"non reçue"},{"$f":"IFERROR(__xludf.DUMMYFUNCTION(\"\"\"COMPUTED_VALUE\"\"\"),\"R.A.S.\")","v":"R.A.S."},{"$f":"IFERROR(__xludf.DUMMYFUNCTION(\"\"\"COMPUTED_VALUE\"\"\"),\"samedi\")","v":"samedi"}]
[{"$nulls":12},{"$f":"IFERROR(__xludf.DUMMYFUNCTION(\"\"\"COMPUTED_VALUE\"\"\"),\"KO\")","v":"KO"},{"$f":"IFERROR(__xludf.DUMMYFUNCTION(\"\"\"COMPUTED_VALUE\"\"\"),\"KO\")","v":"KO"},{"$f":"IFERROR(__xludf.DUMMYFUNCTION(\"\"\"COMPUTED_VALUE\"\"\"),\"non attribué\")","v":"non attribué"},{"$f":"IFERROR(__xludf.DUMMYFUNCTION(\"\"\"COMPUTED_VALUE\"\"\"),\"non attribué\")","v":"non attribué"},null,{"$f":"IFERROR(__xludf.DUMMYFUNCTION(\"\"\"COMPUTED_VALUE\"\"\"),\"PAF non reçue\")","v":"PAF non reçue"},{"$f":"IFERROR(__xludf.DUMMYFUNCTION(\"\"\"COMPUTED_VALUE\"\"\"),\"non reçue\")","v":"non reçue"},{"$f":"IFERROR(__xludf.DUMMYFUNCTION(\"\"\"COMPUTED_VALUE\"\"\"),\"R.A.S.\")","v":"R.A.S."},{"$f":"IFERROR(__xludf.DUMMYFUNCTION(\"\"\"COMPUTED_VALUE\"\"\"),\"samedi\")","v":"samedi"}]
[{"$nulls":12},{"$f":"IFERROR(__xludf.DUMMYFUNCTION(\"\"\"COMPUTED_VALUE\"\"\"),\"KO\")","v":"KO"},{"$f":"IFERROR(__xludf.DUMMYFUNCTION(\"\"\"COMPUTED_VALUE\"\"\"),\"KO\")","v":"KO"},{"$f":"IFERROR(__xludf.DUMMYFUNCTION(\"\"\"COMPUTED_VALUE\"\"\"),\"non attribué\")","v":"non attribué"},{"$f":"IFERROR(__xludf.DUMMYFUNCTION(\"\"\"COMPUTED_VALUE\"\"\"),\"non attribué\")","v":"non attribué"},null,{"$f":"IFERROR(__xludf.DUMMYFUNCTION(\"\"\"COMPUTED_VALUE\"\"\"),\"PAF non reçue\")","v":"PAF non reçue"},{"$f":"IFERROR(__xludf.DUMMYFUNCTION(\"\"\"COMPUTED_VALUE\"\"\"),\"non reçue\")","v":"non reçue"},{"$f":"IFERROR(__xludf.DUMMYFUNCTION(\"\"\"COMPUTED_VALUE\"\"\"),\"R.A.S.\")","v":"R.A.S."},{"$f":"IFERROR(__xludf.DUMMYFUNCTION(\"\"\"COMPUTED_VALUE\"\"\"),\"samedi\")","v":"samedi"}]
[{"$nulls":12},{"$f":"IFERROR(__xludf.DUMMYFUNCTION(\"\"\"COMPUTED_VALUE\"\"\"),\"KO\")","v":"KO"},{"$f":"IFERROR(__xludf.DUMMYFUNCTION(\"\"\"COMPUTED_VALUE\"\"\"),\"KO\")","v":"KO"},{"$f":"IFERROR(__xludf.DUMMYFUNCTION(\"\"\"COMPUTED_VALUE\"\"\"),\"non attribué\")","v":"non attribué"},{"$f":"IFERROR(__xludf.DUMMYFUNCTION(\"\"\"COMPUTED_VALUE\"\"\"),\"non attribué\")","v":"non attribué"},null,{"$f":"IFERROR(__xludf.DUMMYFUNCTION(\"\"\"COMPUTED_VALUE\"\"\"),\"PAF non reçue\")","v":"PAF non reçue"},{"$f":"IFERROR(__xludf.DUMMYFUNCTION(\"\"\"COMPUTED_VALUE\"\"\"),\"non reçue\")","v":"non reçue"},{"$f":"IFERROR(__xludf.DUMMYFUNCTION(\"\"\"COMPUTED_VALUE\"\"\"),\"R.A.S.\")","v":"R.A.S."},{"$f":"IFERROR(__xludf.DUMMYFUNCTION(\"\"\"COMPUTED_VALUE\"\"\"),\"samedi\")","v":"samedi"}]
[{"$nulls":12},{"$f":"IFERROR(__xludf.DUMMYFUNCTION(\"\"\"COMPUTED_VALUE\"\"\"),\"KO\")","v":"KO"},{"$f":"IFERROR(__xludf.DUMMYFUNCTION(\"\"\"COMPUTED_VALUE\"\"\"),\"KO\")","v":"KO"},{"$f":"IFERROR(__xludf.DUMMYFUNCTION(\"\"\"COMPUTED_VALUE\"\"\"),\"non attribué\")","v":"non attribué"},{"$f":"IFERROR(__xludf.DUMMYFUNCTION(\"\"\"COMPUTED_VALUE\"\"\"),\"non attribué\")","v":"non attribué"},null,{"$f":"IFERROR(__xludf.DUMMYFUNCTION(\"\"\"COMPUTED_VALUE\"\"\"),\"PAF non reçue\")","v":"PAF non reçue"},{"$f":"IFERROR(__xludf.DUMMYFUNCTION(\"\"\"COMPUTED_VALUE\"\"\"),\"non reçue\")","v":"non reçue"},{"$f":"IFERROR(__xludf.DUMMYFUNCTION(\"\"\"COMPUTED_VALUE\"\"\"),\"R.A.S.\")","v":"R.A.S."},{"$f":"IFERROR(__xludf.DUMMYFUNCTION(\"\"\"COMPUTED_VALUE\"\"\"),\"samedi\")","v":"samedi"}]
[{"$nulls":12},{"$f":"IFERROR(__xludf.DUMMYFUNCTION(\"\"\"COMPUTED_VALUE\"\"\"),\"KO\")","v":"KO"},{"$f":"IFERROR(__xludf.DUMMYFUNCTION(\"\"\"COMPUTED_VALUE\"\"\"),\"KO\")","v":"KO"},{"$f":"IFERROR(__xludf.DUMMYFUNCTION(\"\"\"COMPUTED_VALUE\"\"\"),\"non attribué\")","v":"non attribué"},{"$f":"IFERROR(__xludf.DUMMYFUNCTION(\"\"\"COMPUTED_VALUE\"\"\"),\"non attribué\")","v":"non attribué"},null,{"$f":"IFERROR(__xludf.DUMMYFUNCTION(\"\"\"COMPUTED_VALUE\"\"\"),\"PAF non reçue\")","v":"PAF non reçue"},{"$f":"IFERROR(__xludf.DUMMYFUNCTION(\"\"\"COMPUTED_VALUE\"\"\"),\"non reçue\")","v":"non reçue"},{"$f":"IFERROR(__xludf.DUMMYFUNCTION(\"\"\"COMPUTED_VALUE\"\"\"),\"R.A.S.\")","v":"R.A.S."},{"$f":"IFERROR(__xludf.DUMMYFUNCTION(\"\"\"COMPUTED_VALUE\"\"\"),\"samedi\")","v":"samedi"}]
[{"$nulls":12},{"$f":"IFERROR(__xludf.DUMMYFUNCTION(\"\"\"COMPUTED_VALUE\"\"\"),\"KO\")","v":"KO"},{"$f":"IFERROR(__xludf.DUMMYFUNCTION(\"\"\"COMPUTED_VALUE\"\"\"),\"KO\")","v":"KO"},{"$f":"IFERROR(__xludf.DUMMYFUNCTION(\"\"\"COMPUTED_VALUE\"\"\"),\"non attribué\")","v":"non attribué"},{"$f":"IFERROR(__xludf.DUMMYFUNCTION(\"\"\"COMPUTED_VALUE\"\"\"),\"non attribué\")","v":"non attribué"},null,{"$f":"IFERROR(__xludf.DUMMYFUNCTION(\"\"\"COMPUTED_VALUE\"\"\"),\"PAF non reçue\")","v":"PAF non reçue"},{"$f":"IFERROR(__xludf.DUMMYFUNCTION(\"\"\"COMPUTED_VALUE\"\"\"),\"non reçue\")","v":"non reçue"},{"$f":"IFERROR(__xludf.DUMMYFUNCTION(\"\"\"COMPUTED_VALUE\"\"\"),\"R.A.S.\")","v":"R.A.S."},{"$f":"IFERROR(__xludf.DUMMYFUNCTION(\"\"\"COMPUTED_VALUE\"\"\"),\"samedi\")","v":"samedi"}]
[{"$nulls":12},{"$f":"IFERROR(__xludf.DUMMYFUNCTION(\"\"\"COMPUTED_VALUE\"\"\"),\"KO\")","v":"KO"},{"$f":"IFERROR(__xludf.DUMMYFUNCTION(\"\"\"COMPUTED_VALUE\"\"\"),\"KO\")","v":"KO"},{"$f":"IFERROR(__xludf.DUMMYFUNCTION(\"\"\"COMPUTED_VALUE\"\"\"),\"non attribué\")","v":"non attribué"},{"$f":"IFERROR(__xludf.DUMMYFUNCTION(\"\"\"COMPUTED_VALUE\"\"\"),\"non attribué\")","v":"non attribué"},null,{"$f":"IFERROR(__xludf.DUMMYFUNCTION(\"\"\"COMPUTED_VALUE\"\"\"),\"PAF non reçue\")","v":"PAF non reçue"},{"$f":"IFERROR(__xludf.DUMMYFUNCTION(\"\"\"COMPUTED_VALUE\"\"\"),\"non reçue\")","v":"non reçue"},{"$f":"IFERROR(__xludf.DUMMYFUNCTION(\"\"\"COMPUTED_VALUE\"\"\"),\"R.A.S.\")","v":"R.A.S."},{"$f":"IFERROR(__xludf.DUMMYFUNCTION(\"\"\"COMPUTED_VALUE\"\"\"),\"samedi\")","v":"samedi"}]
[{"$nulls":12},{"$f":"IFERROR(__xludf.DUMMYFUNCTION(\"\"\"COMPUTED_VALUE\"\"\"),\"KO\")","v":"KO"},{"$f":"IFERROR(__xludf.DUMMYFUNCTION(\"\"\"COMPUTED_VALUE\"\"\"),\"KO\")","v":"KO"},{"$f":"IFERROR(__xludf.DUMMYFUNCTION(\"\"\"COMPUTED_VALUE\"\"\"),\"non attribué\")","v":"non attribué"},{"$f":"IFERROR(__xludf.DUMMYFUNCTION(\"\"\"COMPUTED_VALUE\"\"\"),\"non attribué\")","v":"non attribué"},null,{"$f":"IFERROR(__xludf.DUMMYFUNCTION(\"\"\"COMPUTED_VALUE\"\"\"),\"PAF non reçue\")","v":"PAF non reçue"},{"$f":"IFERROR(__xludf.DUMMYFUNCTION(\"\"\"COMPUTED_VALUE\"\"\"),\"non reçue\")","v":"non reçue"},{"$f":"IFERROR(__xludf.DUMMYFUNCTION(\"\"\"COMPUTED_VALUE\"\"\"),\"R.A.S.\")","v":"R.A.S."},{"$f":"IFERROR(__xludf.DUMMYFUNCTION(\"\"\"COMPUTED_VALUE\"\"\"),\"samedi\")","v":"samedi"}]
{"$rows_empty":165}
[null,null,"hommes:",{"$f":"COUNTIF(D3:D221, \"H\")","v":0},null,null,null,"souhait pur PJ",{"$f":"COUNTIF(I3:I221, \"pur PJ\")","v":0},"uniq, juin",{"$f":"COUNTIF(K3:K221, \"juin\")","v":0},null,"==> juin :",{"$f":"COUNTIF(N3:N221, \"juin\")","v":0},null,"PAF finalisée",{"$f":"COUNTIF(R3:R221, \"PAF finalisée\")","v":0}]
[null,null,"femmes :",{"$f":"COUNTIF(D3:D221, \"F\")","v":0},null,null,null,"souhait PJ+PNJ",{"$f":"COUNTIF(I3:I221, \"PJ+PNJ\")","v":0},"uniq, septembre",{"$f":"COUNTIF(K3:K221, \"septembre\")","v":0},null,"==> septembre :",{"$f":"COUNTIF(N3:N221, \"septembre\")","v":0},null,"PAF partielle",{"$f":"COUNTIF(R3:R222, \"PAF partielle\")","v":0}]
[{"$nulls":7},"souhait PNJ",{"$f":"COUNTIF(I3:I221, \"PNJ\")","v":0},"les deux",{"$f":"B1-K225-K223-K222","v":0},null,"non attribué :",{"$f":"B1-N223-N222","v":0},null,"PAF offerte",{"$f":"COUNTIF(R3:R222, \"gratuit\")","v":0}]
[{"$nulls":9},"sans avis",{"$f":"COUNTIF(K15:K221, \"Non précisé\")","v":0},null,"nb OK :",{"$f":"COUNTIF(M3:M221, \"ok\")","v":0},null,"PAF non versée",{"$f":"B1-Q223-Q224-Q222","v":0}]
[{"$nulls":10},"Navire & Fort :",{"$f":"COUNTIF(L3:L221, \"Navire et Fort\")","v":0},null,"==> Navire & Fort :",{"$f":"COUNTIF(O3:O221, \"Navire & Fort\")","v":0}]
[{"$nulls":10},"Fort seulement :",{"$f":"COUNTIF(L3:L221, \"Seulement au Fort\")","v":0},null,"==> Fort seulement :",{"$f":"B1-O226","v":0}]
[{"$nulls":10},"Peu importe",{"$f":"COUNTIF(L3:L221, \"peu importe\")","v":0}]

{"sheet":"stats non-validés","index":9,"n_rows":171,"n_cols":5,"rows_kept":171,"cut":false,"hidden":false,"merged":[[0,0,0,3]]}
["nombre de personnes n'ayant pas un 'OK' dans le tableau de bord  :",null,null,null,{"$f":"'non-validés'!B1","v":0}]
{"$rows_empty":97}
["Intensité des inscriptions"]
[{"$f":"IFERROR(__xludf.DUMMYFUNCTION(\"QUERY('remplissage du jeu'!A14:A216,\"\"SELECT A, COUNT(A) GROUP BY A ORDER BY A ASC\"\")\"),\"\")","v":""},{"$f":"IFERROR(__xludf.DUMMYFUNCTION(\"\"\"COMPUTED_VALUE\"\"\"),\"count \")","v":"count "}]
[null,{"$f":"IFERROR(__xludf.DUMMYFUNCTION(\"\"\"COMPUTED_VALUE\"\"\"),0.0)","v":0}]
[{"$f":"IFERROR(__xludf.DUMMYFUNCTION(\"\"\"COMPUTED_VALUE\"\"\"),45303.0)","v":"2024-01-12"},{"$f":"IFERROR(__xludf.DUMMYFUNCTION(\"\"\"COMPUTED_VALUE\"\"\"),21.0)","v":21}]
[{"$f":"IFERROR(__xludf.DUMMYFUNCTION(\"\"\"COMPUTED_VALUE\"\"\"),45304.0)","v":"2024-01-13"},{"$f":"IFERROR(__xludf.DUMMYFUNCTION(\"\"\"COMPUTED_VALUE\"\"\"),3.0)","v":3}]
[{"$f":"IFERROR(__xludf.DUMMYFUNCTION(\"\"\"COMPUTED_VALUE\"\"\"),45305.0)","v":"2024-01-14"},{"$f":"IFERROR(__xludf.DUMMYFUNCTION(\"\"\"COMPUTED_VALUE\"\"\"),3.0)","v":3}]
[{"$f":"IFERROR(__xludf.DUMMYFUNCTION(\"\"\"COMPUTED_VALUE\"\"\"),45306.0)","v":"2024-01-15"},{"$f":"IFERROR(__xludf.DUMMYFUNCTION(\"\"\"COMPUTED_VALUE\"\"\"),1.0)","v":1}]
[{"$f":"IFERROR(__xludf.DUMMYFUNCTION(\"\"\"COMPUTED_VALUE\"\"\"),45310.0)","v":"2024-01-19"},{"$f":"IFERROR(__xludf.DUMMYFUNCTION(\"\"\"COMPUTED_VALUE\"\"\"),3.0)","v":3}]
[{"$f":"IFERROR(__xludf.DUMMYFUNCTION(\"\"\"COMPUTED_VALUE\"\"\"),45312.0)","v":"2024-01-21"},{"$f":"IFERROR(__xludf.DUMMYFUNCTION(\"\"\"COMPUTED_VALUE\"\"\"),1.0)","v":1}]
[{"$f":"IFERROR(__xludf.DUMMYFUNCTION(\"\"\"COMPUTED_VALUE\"\"\"),45313.0)","v":"2024-01-22"},{"$f":"IFERROR(__xludf.DUMMYFUNCTION(\"\"\"COMPUTED_VALUE\"\"\"),1.0)","v":1}]
[{"$f":"IFERROR(__xludf.DUMMYFUNCTION(\"\"\"COMPUTED_VALUE\"\"\"),45315.0)","v":"2024-01-24"},{"$f":"IFERROR(__xludf.DUMMYFUNCTION(\"\"\"COMPUTED_VALUE\"\"\"),1.0)","v":1}]
[{"$f":"IFERROR(__xludf.DUMMYFUNCTION(\"\"\"COMPUTED_VALUE\"\"\"),45326.0)","v":"2024-02-04"},{"$f":"IFERROR(__xludf.DUMMYFUNCTION(\"\"\"COMPUTED_VALUE\"\"\"),2.0)","v":2}]
[{"$f":"IFERROR(__xludf.DUMMYFUNCTION(\"\"\"COMPUTED_VALUE\"\"\"),45332.0)","v":"2024-02-10"},{"$f":"IFERROR(__xludf.DUMMYFUNCTION(\"\"\"COMPUTED_VALUE\"\"\"),5.0)","v":5}]
[{"$f":"IFERROR(__xludf.DUMMYFUNCTION(\"\"\"COMPUTED_VALUE\"\"\"),45341.0)","v":"2024-02-19"},{"$f":"IFERROR(__xludf.DUMMYFUNCTION(\"\"\"COMPUTED_VALUE\"\"\"),1.0)","v":1}]
[{"$f":"IFERROR(__xludf.DUMMYFUNCTION(\"\"\"COMPUTED_VALUE\"\"\"),45342.0)","v":"2024-02-20"},{"$f":"IFERROR(__xludf.DUMMYFUNCTION(\"\"\"COMPUTED_VALUE\"\"\"),3.0)","v":3}]
[{"$f":"IFERROR(__xludf.DUMMYFUNCTION(\"\"\"COMPUTED_VALUE\"\"\"),45363.0)","v":"2024-03-12"},{"$f":"IFERROR(__xludf.DUMMYFUNCTION(\"\"\"COMPUTED_VALUE\"\"\"),1.0)","v":1}]
[{"$f":"IFERROR(__xludf.DUMMYFUNCTION(\"\"\"COMPUTED_VALUE\"\"\"),45366.0)","v":"2024-03-15"},{"$f":"IFERROR(__xludf.DUMMYFUNCTION(\"\"\"COMPUTED_VALUE\"\"\"),1.0)","v":1}]
[{"$f":"IFERROR(__xludf.DUMMYFUNCTION(\"\"\"COMPUTED_VALUE\"\"\"),45390.0)","v":"2024-04-08"},{"$f":"IFERROR(__xludf.DUMMYFUNCTION(\"\"\"COMPUTED_VALUE\"\"\"),1.0)","v":1}]
[{"$f":"IFERROR(__xludf.DUMMYFUNCTION(\"\"\"COMPUTED_VALUE\"\"\"),45446.0)","v":"2024-06-03"},{"$f":"IFERROR(__xludf.DUMMYFUNCTION(\"\"\"COMPUTED_VALUE\"\"\"),1.0)","v":1}]
[{"$f":"IFERROR(__xludf.DUMMYFUNCTION(\"\"\"COMPUTED_VALUE\"\"\"),45460.0)","v":"2024-06-17"},{"$f":"IFERROR(__xludf.DUMMYFUNCTION(\"\"\"COMPUTED_VALUE\"\"\"),1.0)","v":1}]
[{"$f":"IFERROR(__xludf.DUMMYFUNCTION(\"\"\"COMPUTED_VALUE\"\"\"),45461.0)","v":"2024-06-18"},{"$f":"IFERROR(__xludf.DUMMYFUNCTION(\"\"\"COMPUTED_VALUE\"\"\"),1.0)","v":1}]
[{"$f":"IFERROR(__xludf.DUMMYFUNCTION(\"\"\"COMPUTED_VALUE\"\"\"),45465.0)","v":"2024-06-22"},{"$f":"IFERROR(__xludf.DUMMYFUNCTION(\"\"\"COMPUTED_VALUE\"\"\"),1.0)","v":1}]
[{"$f":"IFERROR(__xludf.DUMMYFUNCTION(\"\"\"COMPUTED_VALUE\"\"\"),45494.0)","v":"2024-07-21"},{"$f":"IFERROR(__xludf.DUMMYFUNCTION(\"\"\"COMPUTED_VALUE\"\"\"),4.0)","v":4}]
[{"$f":"IFERROR(__xludf.DUMMYFUNCTION(\"\"\"COMPUTED_VALUE\"\"\"),45495.0)","v":"2024-07-22"},{"$f":"IFERROR(__xludf.DUMMYFUNCTION(\"\"\"COMPUTED_VALUE\"\"\"),7.0)","v":7}]
[{"$f":"IFERROR(__xludf.DUMMYFUNCTION(\"\"\"COMPUTED_VALUE\"\"\"),45496.0)","v":"2024-07-23"},{"$f":"IFERROR(__xludf.DUMMYFUNCTION(\"\"\"COMPUTED_VALUE\"\"\"),4.0)","v":4}]
[{"$f":"IFERROR(__xludf.DUMMYFUNCTION(\"\"\"COMPUTED_VALUE\"\"\"),45497.0)","v":"2024-07-24"},{"$f":"IFERROR(__xludf.DUMMYFUNCTION(\"\"\"COMPUTED_VALUE\"\"\"),1.0)","v":1}]
[{"$f":"IFERROR(__xludf.DUMMYFUNCTION(\"\"\"COMPUTED_VALUE\"\"\"),45498.0)","v":"2024-07-25"},{"$f":"IFERROR(__xludf.DUMMYFUNCTION(\"\"\"COMPUTED_VALUE\"\"\"),2.0)","v":2}]
[{"$f":"IFERROR(__xludf.DUMMYFUNCTION(\"\"\"COMPUTED_VALUE\"\"\"),45499.0)","v":"2024-07-26"},{"$f":"IFERROR(__xludf.DUMMYFUNCTION(\"\"\"COMPUTED_VALUE\"\"\"),1.0)","v":1}]
[{"$f":"IFERROR(__xludf.DUMMYFUNCTION(\"\"\"COMPUTED_VALUE\"\"\"),45508.0)","v":"2024-08-04"},{"$f":"IFERROR(__xludf.DUMMYFUNCTION(\"\"\"COMPUTED_VALUE\"\"\"),1.0)","v":1}]
[{"$f":"IFERROR(__xludf.DUMMYFUNCTION(\"\"\"COMPUTED_VALUE\"\"\"),45540.0)","v":"2024-09-05"},{"$f":"IFERROR(__xludf.DUMMYFUNCTION(\"\"\"COMPUTED_VALUE\"\"\"),2.0)","v":2}]
[{"$f":"IFERROR(__xludf.DUMMYFUNCTION(\"\"\"COMPUTED_VALUE\"\"\"),45542.0)","v":"2024-09-07"},{"$f":"IFERROR(__xludf.DUMMYFUNCTION(\"\"\"COMPUTED_VALUE\"\"\"),1.0)","v":1}]
[{"$f":"IFERROR(__xludf.DUMMYFUNCTION(\"\"\"COMPUTED_VALUE\"\"\"),45543.0)","v":"2024-09-08"},{"$f":"IFERROR(__xludf.DUMMYFUNCTION(\"\"\"COMPUTED_VALUE\"\"\"),1.0)","v":1}]
[{"$f":"IFERROR(__xludf.DUMMYFUNCTION(\"\"\"COMPUTED_VALUE\"\"\"),45544.0)","v":"2024-09-09"},{"$f":"IFERROR(__xludf.DUMMYFUNCTION(\"\"\"COMPUTED_VALUE\"\"\"),2.0)","v":2}]
[{"$f":"IFERROR(__xludf.DUMMYFUNCTION(\"\"\"COMPUTED_VALUE\"\"\"),45548.0)","v":"2024-09-13"},{"$f":"IFERROR(__xludf.DUMMYFUNCTION(\"\"\"COMPUTED_VALUE\"\"\"),1.0)","v":1}]
[{"$f":"IFERROR(__xludf.DUMMYFUNCTION(\"\"\"COMPUTED_VALUE\"\"\"),45549.0)","v":"2024-09-14"},{"$f":"IFERROR(__xludf.DUMMYFUNCTION(\"\"\"COMPUTED_VALUE\"\"\"),2.0)","v":2}]
[{"$f":"IFERROR(__xludf.DUMMYFUNCTION(\"\"\"COMPUTED_VALUE\"\"\"),45551.0)","v":"2024-09-16"},{"$f":"IFERROR(__xludf.DUMMYFUNCTION(\"\"\"COMPUTED_VALUE\"\"\"),3.0)","v":3}]
[{"$f":"IFERROR(__xludf.DUMMYFUNCTION(\"\"\"COMPUTED_VALUE\"\"\"),45553.0)","v":"2024-09-18"},{"$f":"IFERROR(__xludf.DUMMYFUNCTION(\"\"\"COMPUTED_VALUE\"\"\"),5.0)","v":5}]
[{"$f":"IFERROR(__xludf.DUMMYFUNCTION(\"\"\"COMPUTED_VALUE\"\"\"),45555.0)","v":"2024-09-20"},{"$f":"IFERROR(__xludf.DUMMYFUNCTION(\"\"\"COMPUTED_VALUE\"\"\"),3.0)","v":3}]
[{"$f":"IFERROR(__xludf.DUMMYFUNCTION(\"\"\"COMPUTED_VALUE\"\"\"),45556.0)","v":"2024-09-21"},{"$f":"IFERROR(__xludf.DUMMYFUNCTION(\"\"\"COMPUTED_VALUE\"\"\"),1.0)","v":1}]
[{"$f":"IFERROR(__xludf.DUMMYFUNCTION(\"\"\"COMPUTED_VALUE\"\"\"),45557.0)","v":"2024-09-22"},{"$f":"IFERROR(__xludf.DUMMYFUNCTION(\"\"\"COMPUTED_VALUE\"\"\"),2.0)","v":2}]
[{"$f":"IFERROR(__xludf.DUMMYFUNCTION(\"\"\"COMPUTED_VALUE\"\"\"),45558.0)","v":"2024-09-23"},{"$f":"IFERROR(__xludf.DUMMYFUNCTION(\"\"\"COMPUTED_VALUE\"\"\"),1.0)","v":1}]
[{"$f":"IFERROR(__xludf.DUMMYFUNCTION(\"\"\"COMPUTED_VALUE\"\"\"),45560.0)","v":"2024-09-25"},{"$f":"IFERROR(__xludf.DUMMYFUNCTION(\"\"\"COMPUTED_VALUE\"\"\"),2.0)","v":2}]
[{"$f":"IFERROR(__xludf.DUMMYFUNCTION(\"\"\"COMPUTED_VALUE\"\"\"),45564.0)","v":"2024-09-29"},{"$f":"IFERROR(__xludf.DUMMYFUNCTION(\"\"\"COMPUTED_VALUE\"\"\"),4.0)","v":4}]
[{"$f":"IFERROR(__xludf.DUMMYFUNCTION(\"\"\"COMPUTED_VALUE\"\"\"),45574.0)","v":"2024-10-09"},{"$f":"IFERROR(__xludf.DUMMYFUNCTION(\"\"\"COMPUTED_VALUE\"\"\"),1.0)","v":1}]
[{"$f":"IFERROR(__xludf.DUMMYFUNCTION(\"\"\"COMPUTED_VALUE\"\"\"),45576.0)","v":"2024-10-11"},{"$f":"IFERROR(__xludf.DUMMYFUNCTION(\"\"\"COMPUTED_VALUE\"\"\"),2.0)","v":2}]
[{"$f":"IFERROR(__xludf.DUMMYFUNCTION(\"\"\"COMPUTED_VALUE\"\"\"),45577.0)","v":"2024-10-12"},{"$f":"IFERROR(__xludf.DUMMYFUNCTION(\"\"\"COMPUTED_VALUE\"\"\"),2.0)","v":2}]
[{"$f":"IFERROR(__xludf.DUMMYFUNCTION(\"\"\"COMPUTED_VALUE\"\"\"),45581.0)","v":"2024-10-16"},{"$f":"IFERROR(__xludf.DUMMYFUNCTION(\"\"\"COMPUTED_VALUE\"\"\"),1.0)","v":1}]
[{"$f":"IFERROR(__xludf.DUMMYFUNCTION(\"\"\"COMPUTED_VALUE\"\"\"),45585.0)","v":"2024-10-20"},{"$f":"IFERROR(__xludf.DUMMYFUNCTION(\"\"\"COMPUTED_VALUE\"\"\"),2.0)","v":2}]
[{"$f":"IFERROR(__xludf.DUMMYFUNCTION(\"\"\"COMPUTED_VALUE\"\"\"),45586.0)","v":"2024-10-21"},{"$f":"IFERROR(__xludf.DUMMYFUNCTION(\"\"\"COMPUTED_VALUE\"\"\"),2.0)","v":2}]
[{"$f":"IFERROR(__xludf.DUMMYFUNCTION(\"\"\"COMPUTED_VALUE\"\"\"),45588.0)","v":"2024-10-23"},{"$f":"IFERROR(__xludf.DUMMYFUNCTION(\"\"\"COMPUTED_VALUE\"\"\"),1.0)","v":1}]
[{"$f":"IFERROR(__xludf.DUMMYFUNCTION(\"\"\"COMPUTED_VALUE\"\"\"),45596.0)","v":"2024-10-31"},{"$f":"IFERROR(__xludf.DUMMYFUNCTION(\"\"\"COMPUTED_VALUE\"\"\"),1.0)","v":1}]
[{"$f":"IFERROR(__xludf.DUMMYFUNCTION(\"\"\"COMPUTED_VALUE\"\"\"),45597.0)","v":"2024-11-01"},{"$f":"IFERROR(__xludf.DUMMYFUNCTION(\"\"\"COMPUTED_VALUE\"\"\"),1.0)","v":1}]
[{"$f":"IFERROR(__xludf.DUMMYFUNCTION(\"\"\"COMPUTED_VALUE\"\"\"),45605.0)","v":"2024-11-09"},{"$f":"IFERROR(__xludf.DUMMYFUNCTION(\"\"\"COMPUTED_VALUE\"\"\"),1.0)","v":1}]
[{"$f":"IFERROR(__xludf.DUMMYFUNCTION(\"\"\"COMPUTED_VALUE\"\"\"),45613.0)","v":"2024-11-17"},{"$f":"IFERROR(__xludf.DUMMYFUNCTION(\"\"\"COMPUTED_VALUE\"\"\"),1.0)","v":1}]
[{"$f":"IFERROR(__xludf.DUMMYFUNCTION(\"\"\"COMPUTED_VALUE\"\"\"),45617.0)","v":"2024-11-21"},{"$f":"IFERROR(__xludf.DUMMYFUNCTION(\"\"\"COMPUTED_VALUE\"\"\"),1.0)","v":1}]
[{"$f":"IFERROR(__xludf.DUMMYFUNCTION(\"\"\"COMPUTED_VALUE\"\"\"),45618.0)","v":"2024-11-22"},{"$f":"IFERROR(__xludf.DUMMYFUNCTION(\"\"\"COMPUTED_VALUE\"\"\"),1.0)","v":1}]
[{"$f":"IFERROR(__xludf.DUMMYFUNCTION(\"\"\"COMPUTED_VALUE\"\"\"),45642.0)","v":"2024-12-16"},{"$f":"IFERROR(__xludf.DUMMYFUNCTION(\"\"\"COMPUTED_VALUE\"\"\"),1.0)","v":1}]
[{"$f":"IFERROR(__xludf.DUMMYFUNCTION(\"\"\"COMPUTED_VALUE\"\"\"),45660.0)","v":"2025-01-03"},{"$f":"IFERROR(__xludf.DUMMYFUNCTION(\"\"\"COMPUTED_VALUE\"\"\"),1.0)","v":1}]
[{"$f":"IFERROR(__xludf.DUMMYFUNCTION(\"\"\"COMPUTED_VALUE\"\"\"),45661.0)","v":"2025-01-04"},{"$f":"IFERROR(__xludf.DUMMYFUNCTION(\"\"\"COMPUTED_VALUE\"\"\"),3.0)","v":3}]
[{"$f":"IFERROR(__xludf.DUMMYFUNCTION(\"\"\"COMPUTED_VALUE\"\"\"),45662.0)","v":"2025-01-05"},{"$f":"IFERROR(__xludf.DUMMYFUNCTION(\"\"\"COMPUTED_VALUE\"\"\"),1.0)","v":1}]
[{"$f":"IFERROR(__xludf.DUMMYFUNCTION(\"\"\"COMPUTED_VALUE\"\"\"),45663.0)","v":"2025-01-06"},{"$f":"IFERROR(__xludf.DUMMYFUNCTION(\"\"\"COMPUTED_VALUE\"\"\"),1.0)","v":1}]
[{"$f":"IFERROR(__xludf.DUMMYFUNCTION(\"\"\"COMPUTED_VALUE\"\"\"),45664.0)","v":"2025-01-07"},{"$f":"IFERROR(__xludf.DUMMYFUNCTION(\"\"\"COMPUTED_VALUE\"\"\"),1.0)","v":1}]
[{"$f":"IFERROR(__xludf.DUMMYFUNCTION(\"\"\"COMPUTED_VALUE\"\"\"),45669.0)","v":"2025-01-12"},{"$f":"IFERROR(__xludf.DUMMYFUNCTION(\"\"\"COMPUTED_VALUE\"\"\"),1.0)","v":1}]
[{"$f":"IFERROR(__xludf.DUMMYFUNCTION(\"\"\"COMPUTED_VALUE\"\"\"),45670.0)","v":"2025-01-13"},{"$f":"IFERROR(__xludf.DUMMYFUNCTION(\"\"\"COMPUTED_VALUE\"\"\"),1.0)","v":1}]
[{"$f":"IFERROR(__xludf.DUMMYFUNCTION(\"\"\"COMPUTED_VALUE\"\"\"),45671.0)","v":"2025-01-14"},{"$f":"IFERROR(__xludf.DUMMYFUNCTION(\"\"\"COMPUTED_VALUE\"\"\"),1.0)","v":1}]
[{"$f":"IFERROR(__xludf.DUMMYFUNCTION(\"\"\"COMPUTED_VALUE\"\"\"),45672.0)","v":"2025-01-15"},{"$f":"IFERROR(__xludf.DUMMYFUNCTION(\"\"\"COMPUTED_VALUE\"\"\"),1.0)","v":1}]
[{"$f":"IFERROR(__xludf.DUMMYFUNCTION(\"\"\"COMPUTED_VALUE\"\"\"),45673.0)","v":"2025-01-16"},{"$f":"IFERROR(__xludf.DUMMYFUNCTION(\"\"\"COMPUTED_VALUE\"\"\"),3.0)","v":3}]
[{"$f":"IFERROR(__xludf.DUMMYFUNCTION(\"\"\"COMPUTED_VALUE\"\"\"),45674.0)","v":"2025-01-17"},{"$f":"IFERROR(__xludf.DUMMYFUNCTION(\"\"\"COMPUTED_VALUE\"\"\"),2.0)","v":2}]
[{"$f":"IFERROR(__xludf.DUMMYFUNCTION(\"\"\"COMPUTED_VALUE\"\"\"),45676.0)","v":"2025-01-19"},{"$f":"IFERROR(__xludf.DUMMYFUNCTION(\"\"\"COMPUTED_VALUE\"\"\"),4.0)","v":4}]
[{"$f":"IFERROR(__xludf.DUMMYFUNCTION(\"\"\"COMPUTED_VALUE\"\"\"),45677.0)","v":"2025-01-20"},{"$f":"IFERROR(__xludf.DUMMYFUNCTION(\"\"\"COMPUTED_VALUE\"\"\"),3.0)","v":3}]
[{"$f":"IFERROR(__xludf.DUMMYFUNCTION(\"\"\"COMPUTED_VALUE\"\"\"),45678.0)","v":"2025-01-21"},{"$f":"IFERROR(__xludf.DUMMYFUNCTION(\"\"\"COMPUTED_VALUE\"\"\"),4.0)","v":4}]
[{"$f":"IFERROR(__xludf.DUMMYFUNCTION(\"\"\"COMPUTED_VALUE\"\"\"),45679.0)","v":"2025-01-22"},{"$f":"IFERROR(__xludf.DUMMYFUNCTION(\"\"\"COMPUTED_VALUE\"\"\"),1.0)","v":1}]
[{"$f":"IFERROR(__xludf.DUMMYFUNCTION(\"\"\"COMPUTED_VALUE\"\"\"),45680.0)","v":"2025-01-23"},{"$f":"IFERROR(__xludf.DUMMYFUNCTION(\"\"\"COMPUTED_VALUE\"\"\"),1.0)","v":1}]

{"sheet":"validés juin","index":10,"n_rows":235,"n_cols":27,"rows_kept":235,"cut":false,"hidden":false,"merged":[]}
[null,{"$f":"COUNTA(B3:B221)","v":79}]
["date\npré-inscription","NOM","Prénom","Genre","age","E-MAIL","FB","Tél","souhait type\nparticipation","Personnage\nattribué","souhait\nsession","souhait : fort  OU\nfort &é navire"," acceptation",null,"session\nattribuée","Lieu","somme\nversée","état PAF","photo ?","compétence medicale","arrivée"]
[{"$f":"IFERROR(__xludf.DUMMYFUNCTION(\"QUERY('remplissage du jeu'!A14:AA218, \"\"select * where M='OK' and O='juin'\"\")\"),45303.0)","v":"2024-01-12"},{"$f":"IFERROR(__xludf.DUMMYFUNCTION(\"\"\"COMPUTED_VALUE\"\"\"),\"ARVIN-BEROD \")","v":"ARVIN-BEROD "},{"$f":"IFERROR(__xludf.DUMMYFUNCTION(\"\"\"COMPUTED_VALUE\"\"\"),\"Florence\")","v":"Florence"},{"$f":"IFERROR(__xludf.DUMMYFUNCTION(\"\"\"COMPUTED_VALUE\"\"\"),\"F\")","v":"F"},{"$f":"IFERROR(__xludf.DUMMYFUNCTION(\"\"\"COMPUTED_VALUE\"\"\"),33.0)","v":33},{"$f":"IFERROR(__xludf.DUMMYFUNCTION(\"\"\"COMPUTED_VALUE\"\"\"),\"flofloab@yahoo.fr\")","v":"flofloab@yahoo.fr"},{"$f":"IFERROR(__xludf.DUMMYFUNCTION(\"\"\"COMPUTED_VALUE\"\"\"),\"Florence ARVIN-BEROD \")","v":"Florence ARVIN-BEROD "},{"$f":"IFERROR(__xludf.DUMMYFUNCTION(\"\"\"COMPUTED_VALUE\"\"\"),\"0617161474\")","v":"0617161474"},{"$f":"IFERROR(__xludf.DUMMYFUNCTION(\"\"\"COMPUTED_VALUE\"\"\"),\"Pur PJ\")","v":"Pur PJ"},{"$f":"IFERROR(__xludf.DUMMYFUNCTION(\"\"\"COMPUTED_VALUE\"\"\"),\"-\")","v":"-"},{"$f":"IFERROR(__xludf.DUMMYFUNCTION(\"\"\"COMPUTED_VALUE\"\"\"),\"juin\")","v":"juin"},{"$f":"IFERROR(__xludf.DUMMYFUNCTION(\"\"\"COMPUTED_VALUE\"\"\"),\"Navire et fort\")","v":"Navire et fort"},{"$f":"IFERROR(__xludf.DUMMYFUNCTION(\"\"\"COMPUTED_VALUE\"\"\"),\"OK\")","v":"OK"},{"$f":"IFERROR(__xludf.DUMMYFUNCTION(\"\"\"COMPUTED_VALUE\"\"\"),\"OK\")","v":"OK"},{"$f":"IFERROR(__xludf.DUMMYFUNCTION(\"\"\"COMPUTED_VALUE\"\"\"),\"juin\")","v":"juin"},{"$f":"IFERROR(__xludf.DUMMYFUNCTION(\"\"\"COMPUTED_VALUE\"\"\"),\"Navire & Fort\")","v":"Navire & Fort"},{"$f":"IFERROR(__xludf.DUMMYFUNCTION(\"\"\"COMPUTED_VALUE\"\"\"),400.0)","v":400},{"$f":"IFERROR(__xludf.DUMMYFUNCTION(\"\"\"COMPUTED_VALUE\"\"\"),\"PAF finalisée\")","v":"PAF finalisée"},{"$f":"IFERROR(__xludf.DUMMYFUNCTION(\"\"\"COMPUTED_VALUE\"\"\"),\"non reçue\")","v":"non reçue"},{"$f":"IFERROR(__xludf.DUMMYFUNCTION(\"\"\"COMPUTED_VALUE\"\"\"),\"R.A.S.\")","v":"R.A.S."},{"$f":"IFERROR(__xludf.DUMMYFUNCTION(\"\"\"COMPUTED_VALUE\"\"\"),\"samedi\")","v":"samedi"},{"$f":"IFERROR(__xludf.DUMMYFUNCTION(\"\"\"COMPUTED_VALUE\"\"\"),\"Reste\")","v":"Reste"}]
[{"$f":"IFERROR(__xludf.DUMMYFUNCTION(\"\"\"COMPUTED_VALUE\"\"\"),45303.0)","v":"2024-01-12"},{"$f":"IFERROR(__xludf.DUMMYFUNCTION(\"\"\"COMPUTED_VALUE\"\"\"),\"Bergeret \")","v":"Bergeret "},{"$f":"IFERROR(__xludf.DUMMYFUNCTION(\"\"\"COMPUTED_VALUE\"\"\"),\"Mathieu / Leo Gueguen ,dit la teigne\")","v":"Mathieu / Leo Gueguen ,dit la teigne"},{"$f":"IFERROR(__xludf.DUMMYFUNCTION(\"\"\"COMPUTED_VALUE\"\"\"),\"H\")","v":"H"},{"$f":"IFERROR(__xludf.DUMMYFUNCTION(\"\"\"COMPUTED_VALUE\"\"\"),38.0)","v":38},{"$f":"IFERROR(__xludf.DUMMYFUNCTION(\"\"\"COMPUTED_VALUE\"\"\"),\"bergeretmathieu.pro@gmail.com\")","v":"bergeretmathieu.pro@gmail.com"},{"$f":"IFERROR(__xludf.DUMMYFUNCTION(\"\"\"COMPUTED_VALUE\"\"\"),\"Spoiler TheThird \")","v":"Spoiler TheThird "},{"$f":"IFERROR(__xludf.DUMMYFUNCTION(\"\"\"COMPUTED_VALUE\"\"\"),\"0684346225\")","v":"0684346225"},{"$f":"IFERROR(__xludf.DUMMYFUNCTION(\"\"\"COMPUTED_VALUE\"\"\"),\"Pur PJ\")","v":"Pur PJ"},{"$f":"IFERROR(__xludf.DUMMYFUNCTION(\"\"\"COMPUTED_VALUE\"\"\"),\"-\")","v":"-"},{"$f":"IFERROR(__xludf.DUMMYFUNCTION(\"\"\"COMPUTED_VALUE\"\"\"),\"Non précisé\")","v":"Non précisé"},{"$f":"IFERROR(__xludf.DUMMYFUNCTION(\"\"\"COMPUTED_VALUE\"\"\"),\"Navire et fort\")","v":"Navire et fort"},{"$f":"IFERROR(__xludf.DUMMYFUNCTION(\"\"\"COMPUTED_VALUE\"\"\"),\"OK\")","v":"OK"},{"$f":"IFERROR(__xludf.DUMMYFUNCTION(\"\"\"COMPUTED_VALUE\"\"\"),\"OK\")","v":"OK"},{"$f":"IFERROR(__xludf.DUMMYFUNCTION(\"\"\"COMPUTED_VALUE\"\"\"),\"juin\")","v":"juin"},{"$f":"IFERROR(__xludf.DUMMYFUNCTION(\"\"\"COMPUTED_VALUE\"\"\"),\"Navire & Fort\")","v":"Navire & Fort"},{"$f":"IFERROR(__xludf.DUMMYFUNCTION(\"\"\"COMPUTED_VALUE\"\"\"),400.5)","v":400.5},{"$f":"IFERROR(__xludf.DUMMYFUNCTION(\"\"\"COMPUTED_VALUE\"\"\"),\"PAF finalisée\")","v":"PAF finalisée"},{"$f":"IFERROR(__xludf.DUMMYFUNCTION(\"\"\"COMPUTED_VALUE\"\"\"),\"non reçue\")","v":"non reçue"},{"$f":"IFERROR(__xludf.DUMMYFUNCTION(\"\"\"COMPUTED_VALUE\"\"\"),\"R.A.S.\")","v":"R.A.S."},{"$f":"IFERROR(__xludf.DUMMYFUNCTION(\"\"\"COMPUTED_VALUE\"\"\"),\"samedi\")","v":"samedi"},{"$f":"IFERROR(__xludf.DUMMYFUNCTION(\"\"\"COMPUTED_VALUE\"\"\"),\"Reste\")","v":"Reste"}]
[{"$f":"IFERROR(__xludf.DUMMYFUNCTION(\"\"\"COMPUTED_VALUE\"\"\"),45303.0)","v":"2024-01-12"},{"$f":"IFERROR(__xludf.DUMMYFUNCTION(\"\"\"COMPUTED_VALUE\"\"\"),\"BUCAS\")","v":"BUCAS"},{"$f":"IFERROR(__xludf.DUMMYFUNCTION(\"\"\"COMPUTED_VALUE\"\"\"),\"Ced\")","v":"Ced"},{"$f":"IFERROR(__xludf.DUMMYFUNCTION(\"\"\"COMPUTED_VALUE\"\"\"),\"H\")","v":"H"},{"$f":"IFERROR(__xludf.DUMMYFUNCTION(\"\"\"COMPUTED_VALUE\"\"\"),50.0)","v":50},{"$f":"IFERROR(__xludf.DUMMYFUNCTION(\"\"\"COMPUTED_VALUE\"\"\"),\"sacub@sfr.fr\")","v":"sacub@sfr.fr"},{"$f":"IFERROR(__xludf.DUMMYFUNCTION(\"\"\"COMPUTED_VALUE\"\"\"),\"Cire de Sacub\")","v":"Cire de Sacub"},{"$f":"IFERROR(__xludf.DUMMYFUNCTION(\"\"\"COMPUTED_VALUE\"\"\"),\"0675585665\")","v":"0675585665"},{"$f":"IFERROR(__xludf.DUMMYFUNCTION(\"\"\"COMPUTED_VALUE\"\"\"),\"Pur PJ\")","v":"Pur PJ"},{"$f":"IFERROR(__xludf.DUMMYFUNCTION(\"\"\"COMPUTED_VALUE\"\"\"),\"-\")","v":"-"},{"$f":"IFERROR(__xludf.DUMMYFUNCTION(\"\"\"COMPUTED_VALUE\"\"\"),\"Non précisé\")","v":"Non précisé"},{"$f":"IFERROR(__xludf.DUMMYFUNCTION(\"\"\"COMPUTED_VALUE\"\"\"),\"Navire et fort\")","v":"Navire et fort"},{"$f":"IFERROR(__xludf.DUMMYFUNCTION(\"\"\"COMPUTED_VALUE\"\"\"),\"OK\")","v":"OK"},{"$f":"IFERROR(__xludf.DUMMYFUNCTION(\"\"\"COMPUTED_VALUE\"\"\"),\"OK\")","v":"OK"},{"$f":"IFERROR(__xludf.DUMMYFUNCTION(\"\"\"COMPUTED_VALUE\"\"\"),\"juin\")","v":"juin"},{"$f":"IFERROR(__xludf.DUMMYFUNCTION(\"\"\"COMPUTED_VALUE\"\"\"),\"Navire & Fort\")","v":"Navire & Fort"},{"$f":"IFERROR(__xludf.DUMMYFUNCTION(\"\"\"COMPUTED_VALUE\"\"\"),400.0)","v":400},{"$f":"IFERROR(__xludf.DUMMYFUNCTION(\"\"\"COMPUTED_VALUE\"\"\"),\"PAF finalisée\")","v":"PAF finalisée"},{"$f":"IFERROR(__xludf.DUMMYFUNCTION(\"\"\"COMPUTED_VALUE\"\"\"),\"non reçue\")","v":"non reçue"},{"$f":"IFERROR(__xludf.DUMMYFUNCTION(\"\"\"COMPUTED_VALUE\"\"\"),\"R.A.S.\")","v":"R.A.S."},{"$f":"IFERROR(__xludf.DUMMYFUNCTION(\"\"\"COMPUTED_VALUE\"\"\"),\"samedi\")","v":"samedi"},{"$f":"IFERROR(__xludf.DUMMYFUNCTION(\"\"\"COMPUTED_VALUE\"\"\"),\"Reste\")","v":"Reste"}]
[{"$f":"IFERROR(__xludf.DUMMYFUNCTION(\"\"\"COMPUTED_VALUE\"\"\"),45303.0)","v":"2024-01-12"},{"$f":"IFERROR(__xludf.DUMMYFUNCTION(\"\"\"COMPUTED_VALUE\"\"\"),\"CERUTTI\")","v":"CERUTTI"},{"$f":"IFERROR(__xludf.DUMMYFUNCTION(\"\"\"COMPUTED_VALUE\"\"\"),\"Laëtitia\")","v":"Laëtitia"},{"$f":"IFERROR(__xludf.DUMMYFUNCTION(\"\"\"COMPUTED_VALUE\"\"\"),\"F\")","v":"F"},{"$f":"IFERROR(__xludf.DUMMYFUNCTION(\"\"\"COMPUTED_VALUE\"\"\"),35.0)","v":35},{"$f":"IFERROR(__xludf.DUMMYFUNCTION(\"\"\"COMPUTED_VALUE\"\"\"),\"laetitia.cerutti@gozmail.bzh\")","v":"laetitia.cerutti@gozmail.bzh"},{"$f":"IFERROR(__xludf.DUMMYFUNCTION(\"\"\"COMPUTED_VALUE\"\"\"),\"Laëtitia Elune\")","v":"Laëtitia Elune"},{"$f":"IFERROR(__xludf.DUMMYFUNCTION(\"\"\"COMPUTED_VALUE\"\"\"),\"689400155\")","v":"689400155"},{"$f":"IFERROR(__xludf.DUMMYFUNCTION(\"\"\"COMPUTED_VALUE\"\"\"),\"PJ+PNJ\")","v":"PJ+PNJ"},{"$f":"IFERROR(__xludf.DUMMYFUNCTION(\"\"\"COMPUTED_VALUE\"\"\"),\"-\")","v":"-"},{"$f":"IFERROR(__xludf.DUMMYFUNCTION(\"\"\"COMPUTED_VALUE\"\"\"),\"Non précisé\")","v":"Non précisé"},{"$f":"IFERROR(__xludf.DUMMYFUNCTION(\"\"\"COMPUTED_VALUE\"\"\"),\"Navire et fort\")","v":"Navire et fort"},{"$f":"IFERROR(__xludf.DUMMYFUNCTION(\"\"\"COMPUTED_VALUE\"\"\"),\"OK\")","v":"OK"},{"$f":"IFERROR(__xludf.DUMMYFUNCTION(\"\"\"COMPUTED_VALUE\"\"\"),\"OK\")","v":"OK"},{"$f":"IFERROR(__xludf.DUMMYFUNCTION(\"\"\"COMPUTED_VALUE\"\"\"),\"juin\")","v":"juin"},{"$f":"IFERROR(__xludf.DUMMYFUNCTION(\"\"\"COMPUTED_VALUE\"\"\"),\"Navire & Fort\")","v":"Navire & Fort"},{"$f":"IFERROR(__xludf.DUMMYFUNCTION(\"\"\"COMPUTED_VALUE\"\"\"),400.0)","v":400},{"$f":"IFERROR(__xludf.DUMMYFUNCTION(\"\"\"COMPUTED_VALUE\"\"\"),\"PAF finalisée\")","v":"PAF finalisée"},{"$f":"IFERROR(__xludf.DUMMYFUNCTION(\"\"\"COMPUTED_VALUE\"\"\"),\"non reçue\")","v":"non reçue"},{"$f":"IFERROR(__xludf.DUMMYFUNCTION(\"\"\"COMPUTED_VALUE\"\"\"),\"R.A.S.\")","v":"R.A.S."},{"$f":"IFERROR(__xludf.DUMMYFUNCTION(\"\"\"COMPUTED_VALUE\"\"\"),\"samedi\")","v":"samedi"},{"$f":"IFERROR(__xludf.DUMMYFUNCTION(\"\"\"COMPUTED_VALUE\"\"\"),\"Reste\")","v":"Reste"}]
[{"$f":"IFERROR(__xludf.DUMMYFUNCTION(\"\"\"COMPUTED_VALUE\"\"\"),45465.0)","v":"2024-06-22"},{"$f":"IFERROR(__xludf.DUMMYFUNCTION(\"\"\"COMPUTED_VALUE\"\"\"),\"DELAPORTE\")","v":"DELAPORTE"},{"$f":"IFERROR(__xludf.DUMMYFUNCTION(\"\"\"COMPUTED_VALUE\"\"\"),\"Arnaud\")","v":"Arnaud"},{"$f":"IFERROR(__xludf.DUMMYFUNCTION(\"\"\"COMPUTED_VALUE\"\"\"),\"H\")","v":"H"},{"$f":"IFERROR(__xludf.DUMMYFUNCTION(\"\"\"COMPUTED_VALUE\"\"\"),48.0)","v":48},{"$f":"IFERROR(__xludf.DUMMYFUNCTION(\"\"\"COMPUTED_VALUE\"\"\"),\"lordfiendel@wanadoo.fr\")","v":"lordfiendel@wanadoo.fr"},{"$f":"IFERROR(__xludf.DUMMYFUNCTION(\"\"\"COMPUTED_VALUE\"\"\"),\"Arnaud Delaporte\")","v":"Arnaud Delaporte"},{"$f":"IFERROR(__xludf.DUMMYFUNCTION(\"\"\"COMPUTED_VALUE\"\"\"),\"0660682995\")","v":"0660682995"},{"$f":"IFERROR(__xludf.DUMMYFUNCTION(\"\"\"COMPUTED_VALUE\"\"\"),\"PJ+PNJ\")","v":"PJ+PNJ"},{"$f":"IFERROR(__xludf.DUMMYFUNCTION(\"\"\"COMPUTED_VALUE\"\"\"),\"-\")","v":"-"},{"$f":"IFERROR(__xludf.DUMMYFUNCTION(\"\"\"COMPUTED_VALUE\"\"\"),\"Les deux\")","v":"Les deux"},{"$f":"IFERROR(__xludf.DUMMYFUNCTION(\"\"\"COMPUTED_VALUE\"\"\"),\"Peu importe\")","v":"Peu importe"},{"$f":"IFERROR(__xludf.DUMMYFUNCTION(\"\"\"COMPUTED_VALUE\"\"\"),\"OK\")","v":"OK"},{"$f":"IFERROR(__xludf.DUMMYFUNCTION(\"\"\"COMPUTED_VALUE\"\"\"),\"OK\")","v":"OK"},{"$f":"IFERROR(__xludf.DUMMYFUNCTION(\"\"\"COMPUTED_VALUE\"\"\"),\"juin\")","v":"juin"},{"$f":"IFERROR(__xludf.DUMMYFUNCTION(\"\"\"COMPUTED_VALUE\"\"\"),\"Navire & Fort\")","v":"Navire & Fort"},{"$f":"IFERROR(__xludf.DUMMYFUNCTION(\"\"\"COMPUTED_VALUE\"\"\"),400.0)","v":400},{"$f":"IFERROR(__xludf.DUMMYFUNCTION(\"\"\"COMPUTED_VALUE\"\"\"),\"PAF finalisée\")","v":"PAF finalisée"},{"$f":"IFERROR(__xludf.DUMMYFUNCTION(\"\"\"COMPUTED_VALUE\"\"\"),\"non reçue\")","v":"non reçue"},{"$f":"IFERROR(__xludf.DUMMYFUNCTION(\"\"\"COMPUTED_VALUE\"\"\"),\"R.A.S.\")","v":"R.A.S."},{"$f":"IFERROR(__xludf.DUMMYFUNCTION(\"\"\"COMPUTED_VALUE\"\"\"),\"samedi\")","v":"samedi"},{"$f":"IFERROR(__xludf.DUMMYFUNCTION(\"\"\"COMPUTED_VALUE\"\"\"),\"Reste\")","v":"Reste"}]
[{"$f":"IFERROR(__xludf.DUMMYFUNCTION(\"\"\"COMPUTED_VALUE\"\"\"),45303.0)","v":"2024-01-12"},{"$f":"IFERROR(__xludf.DUMMYFUNCTION(\"\"\"COMPUTED_VALUE\"\"\"),\"Faure \")","v":"Faure "},{"$f":"IFERROR(__xludf.DUMMYFUNCTION(\"\"\"COMPUTED_VALUE\"\"\"),\"Guillaume\")","v":"Guillaume"},{"$f":"IFERROR(__xludf.DUMMYFUNCTION(\"\"\"COMPUTED_VALUE\"\"\"),\"H\")","v":"H"},{"$f":"IFERROR(__xludf.DUMMYFUNCTION(\"\"\"COMPUTED_VALUE\"\"\"),36.0)","v":36},{"$f":"IFERROR(__xludf.DUMMYFUNCTION(\"\"\"COMPUTED_VALUE\"\"\"),\"Versangre@gmail.com\")","v":"Versangre@gmail.com"},{"$f":"IFERROR(__xludf.DUMMYFUNCTION(\"\"\"COMPUTED_VALUE\"\"\"),\"Yôm Guillaume Faure \")","v":"Yôm Guillaume Faure "},{"$f":"IFERROR(__xludf.DUMMYFUNCTION(\"\"\"COMPUTED_VALUE\"\"\"),\"0681454981\")","v":"0681454981"},{"$f":"IFERROR(__xludf.DUMMYFUNCTION(\"\"\"COMPUTED_VALUE\"\"\"),\"PJ+PNJ\")","v":"PJ+PNJ"},{"$f":"IFERROR(__xludf.DUMMYFUNCTION(\"\"\"COMPUTED_VALUE\"\"\"),\"-\")","v":"-"},{"$f":"IFERROR(__xludf.DUMMYFUNCTION(\"\"\"COMPUTED_VALUE\"\"\"),\"Non précisé\")","v":"Non précisé"},{"$f":"IFERROR(__xludf.DUMMYFUNCTION(\"\"\"COMPUTED_VALUE\"\"\"),\"Peu importe\")","v":"Peu importe"},{"$f":"IFERROR(__xludf.DUMMYFUNCTION(\"\"\"COMPUTED_VALUE\"\"\"),\"OK\")","v":"OK"},{"$f":"IFERROR(__xludf.DUMMYFUNCTION(\"\"\"COMPUTED_VALUE\"\"\"),\"KO\")","v":"KO"},{"$f":"IFERROR(__xludf.DUMMYFUNCTION(\"\"\"COMPUTED_VALUE\"\"\"),\"juin\")","v":"juin"},{"$f":"IFERROR(__xludf.DUMMYFUNCTION(\"\"\"COMPUTED_VALUE\"\"\"),\"Navire & Fort\")","v":"Navire & Fort"},null,{"$f":"IFERROR(__xludf.DUMMYFUNCTION(\"\"\"COMPUTED_VALUE\"\"\"),\"PAF non reçue\")","v":"PAF non reçue"},{"$f":"IFERROR(__xludf.DUMMYFUNCTION(\"\"\"COMPUTED_VALUE\"\"\"),\"non reçue\")","v":"non reçue"},{"$f":"IFERROR(__xludf.DUMMYFUNCTION(\"\"\"COMPUTED_VALUE\"\"\"),\"R.A.S.\")","v":"R.A.S."},{"$f":"IFERROR(__xludf.DUMMYFUNCTION(\"\"\"COMPUTED_VALUE\"\"\"),\"samedi\")","v":"samedi"},{"$f":"IFERROR(__xludf.DUMMYFUNCTION(\"\"\"COMPUTED_VALUE\"\"\"),\"Reste\")","v":"Reste"}]
[{"$f":"IFERROR(__xludf.DUMMYFUNCTION(\"\"\"COMPUTED_VALUE\"\"\"),45495.0)","v":"2024-07-22"},{"$f":"IFERROR(__xludf.DUMMYFUNCTION(\"\"\"COMPUTED_VALUE\"\"\"),\"gerberon \")","v":"gerberon "},{"$f":"IFERROR(__xludf.DUMMYFUNCTION(\"\"\"COMPUTED_VALUE\"\"\"),\"Elodie\")","v":"Elodie"},{"$f":"IFERROR(__xludf.DUMMYFUNCTION(\"\"\"COMPUTED_VALUE\"\"\"),\"F\")","v":"F"},{"$f":"IFERROR(__xludf.DUMMYFUNCTION(\"\"\"COMPUTED_VALUE\"\"\"),43.0)","v":43},{"$f":"IFERROR(__xludf.DUMMYFUNCTION(\"\"\"COMPUTED_VALUE\"\"\"),\"dodimails@gmail.com\")","v":"dodimails@gmail.com"},{"$f":"IFERROR(__xludf.DUMMYFUNCTION(\"\"\"COMPUTED_VALUE\"\"\"),\"Élodie Circlepuke \")","v":"Élodie Circlepuke "},{"$f":"IFERROR(__xludf.DUMMYFUNCTION(\"\"\"COMPUTED_VALUE\"\"\"),\"0666617248\")","v":"0666617248"},{"$f":"IFERROR(__xludf.DUMMYFUNCTION(\"\"\"COMPUTED_VALUE\"\"\"),\"Pur PJ\")","v":"Pur PJ"},{"$f":"IFERROR(__xludf.DUMMYFUNCTION(\"\"\"COMPUTED_VALUE\"\"\"),\"-\")","v":"-"},{"$f":"IFERROR(__xludf.DUMMYFUNCTION(\"\"\"COMPUTED_VALUE\"\"\"),\"juin\")","v":"juin"},{"$f":"IFERROR(__xludf.DUMMYFUNCTION(\"\"\"COMPUTED_VALUE\"\"\"),\"Navire et fort\")","v":"Navire et fort"},{"$f":"IFERROR(__xludf.DUMMYFUNCTION(\"\"\"COMPUTED_VALUE\"\"\"),\"OK\")","v":"OK"},{"$f":"IFERROR(__xludf.DUMMYFUNCTION(\"\"\"COMPUTED_VALUE\"\"\"),\"OK\")","v":"OK"},{"$f":"IFERROR(__xludf.DUMMYFUNCTION(\"\"\"COMPUTED_VALUE\"\"\"),\"juin\")","v":"juin"},{"$f":"IFERROR(__xludf.DUMMYFUNCTION(\"\"\"COMPUTED_VALUE\"\"\"),\"Navire & Fort\")","v":"Navire & Fort"},{"$f":"IFERROR(__xludf.DUMMYFUNCTION(\"\"\"COMPUTED_VALUE\"\"\"),400.5)","v":400.5},{"$f":"IFERROR(__xludf.DUMMYFUNCTION(\"\"\"COMPUTED_VALUE\"\"\"),\"PAF finalisée\")","v":"PAF finalisée"},{"$f":"IFERROR(__xludf.DUMMYFUNCTION(\"\"\"COMPUTED_VALUE\"\"\"),\"non reçue\")","v":"non reçue"},{"$f":"IFERROR(__xludf.DUMMYFUNCTION(\"\"\"COMPUTED_VALUE\"\"\"),\"R.A.S.\")","v":"R.A.S."},{"$f":"IFERROR(__xludf.DUMMYFUNCTION(\"\"\"COMPUTED_VALUE\"\"\"),\"samedi\")","v":"samedi"},{"$f":"IFERROR(__xludf.DUMMYFUNCTION(\"\"\"COMPUTED_VALUE\"\"\"),\"Reste\")","v":"Reste"}]
[{"$f":"IFERROR(__xludf.DUMMYFUNCTION(\"\"\"COMPUTED_VALUE\"\"\"),45303.0)","v":"2024-01-12"},{"$f":"IFERROR(__xludf.DUMMYFUNCTION(\"\"\"COMPUTED_VALUE\"\"\"),\"Hawkins \")","v":"Hawkins "},{"$f":"IFERROR(__xludf.DUMMYFUNCTION(\"\"\"COMPUTED_VALUE\"\"\"),\"James\")","v":"James"},{"$f":"IFERROR(__xludf.DUMMYFUNCTION(\"\"\"COMPUTED_VALUE\"\"\"),\"H\")","v":"H"},{"$f":"IFERROR(__xludf.DUMMYFUNCTION(\"\"\"COMPUTED_VALUE\"\"\"),33.0)","v":33},{"$f":"IFERROR(__xludf.DUMMYFUNCTION(\"\"\"COMPUTED_VALUE\"\"\"),\"stevenlecointre0@gmail.com\")","v":"stevenlecointre0@gmail.com"},{"$f":"IFERROR(__xludf.DUMMYFUNCTION(\"\"\"COMPUTED_VALUE\"\"\"),\"James Hawkins \")","v":"James Hawkins "},{"$f":"IFERROR(__xludf.DUMMYFUNCTION(\"\"\"COMPUTED_VALUE\"\"\"),\"0631587139\")","v":"0631587139"},{"$f":"IFERROR(__xludf.DUMMYFUNCTION(\"\"\"COMPUTED_VALUE\"\"\"),\"PJ+PNJ\")","v":"PJ+PNJ"},{"$f":"IFERROR(__xludf.DUMMYFUNCTION(\"\"\"COMPUTED_VALUE\"\"\"),\"-\")","v":"-"},{"$f":"IFERROR(__xludf.DUMMYFUNCTION(\"\"\"COMPUTED_VALUE\"\"\"),\"Non précisé\")","v":"Non précisé"},{"$f":"IFERROR(__xludf.DUMMYFUNCTION(\"\"\"COMPUTED_VALUE\"\"\"),\"Seulement au fort\")","v":"Seulement au fort"},{"$f":"IFERROR(__xludf.DUMMYFUNCTION(\"\"\"COMPUTED_VALUE\"\"\"),\"OK\")","v":"OK"},{"$f":"IFERROR(__xludf.DUMMYFUNCTION(\"\"\"COMPUTED_VALUE\"\"\"),\"OK\")","v":"OK"},{"$f":"IFERROR(__xludf.DUMMYFUNCTION(\"\"\"COMPUTED_VALUE\"\"\"),\"juin\")","v":"juin"},{"$f":"IFERROR(__xludf.DUMMYFUNCTION(\"\"\"COMPUTED_VALUE\"\"\"),\"Fort seulement\")","v":"Fort seulement"},{"$f":"IFERROR(__xludf.DUMMYFUNCTION(\"\"\"COMPUTED_VALUE\"\"\"),0.0)","v":0},{"$f":"IFERROR(__xludf.DUMMYFUNCTION(\"\"\"COMPUTED_VALUE\"\"\"),\"gratuit\")","v":"gratuit"},{"$f":"IFERROR(__xludf.DUMMYFUNCTION(\"\"\"COMPUTED_VALUE\"\"\"),\"non reçue\")","v":"non reçue"},{"$f":"IFERROR(__xludf.DUMMYFUNCTION(\"\"\"COMPUTED_VALUE\"\"\"),\"R.A.S.\")","v":"R.A.S."},{"$f":"IFERROR(__xludf.DUMMYFUNCTION(\"\"\"COMPUTED_VALUE\"\"\"),\"samedi\")","v":"samedi"},{"$f":"IFERROR(__xludf.DUMMYFUNCTION(\"\"\"COMPUTED_VALUE\"\"\"),\"Reste\")","v":"Reste"}]
[{"$f":"IFERROR(__xludf.DUMMYFUNCTION(\"\"\"COMPUTED_VALUE\"\"\"),45303.0)","v":"2024-01-12"},{"$f":"IFERROR(__xludf.DUMMYFUNCTION(\"\"\"COMPUTED_VALUE\"\"\"),\"Jacq\")","v":"Jacq"},{"$f":"IFERROR(__xludf.DUMMYFUNCTION(\"\"\"COMPUTED_VALUE\"\"\"),\"Gaëlle\")","v":"Gaëlle"},{"$f":"IFERROR(__xludf.DUMMYFUNCTION(\"\"\"COMPUTED_VALUE\"\"\"),\"F\")","v":"F"},{"$f":"IFERROR(__xludf.DUMMYFUNCTION(\"\"\"COMPUTED_VALUE\"\"\"),47.0)","v":47},{"$f":"IFERROR(__xludf.DUMMYFUNCTION(\"\"\"COMPUTED_VALUE\"\"\"),\"gaellejacq@yahoo.com\")","v":"gaellejacq@yahoo.com"},{"$f":"IFERROR(__xludf.DUMMYFUNCTION(\"\"\"COMPUTED_VALUE\"\"\"),\"Adira GJ\")","v":"Adira GJ"},{"$f":"IFERROR(__xludf.DUMMYFUNCTION(\"\"\"COMPUTED_VALUE\"\"\"),\"630975006\")","v":"630975006"},{"$f":"IFERROR(__xludf.DUMMYFUNCTION(\"\"\"COMPUTED_VALUE\"\"\"),\"Pur PJ\")","v":"Pur PJ"},{"$f":"IFERROR(__xludf.DUMMYFUNCTION(\"\"\"COMPUTED_VALUE\"\"\"),\"-\")","v":"-"},{"$f":"IFERROR(__xludf.DUMMYFUNCTION(\"\"\"COMPUTED_VALUE\"\"\"),\"juin\")","v":"juin"},{"$f":"IFERROR(__xludf.DUMMYFUNCTION(\"\"\"COMPUTED_VALUE\"\"\"),\"Navire et fort\")","v":"Navire et fort"},{"$f":"IFERROR(__xludf.DUMMYFUNCTION(\"\"\"COMPUTED_VALUE\"\"\"),\"OK\")","v":"OK"},{"$f":"IFERROR(__xludf.DUMMYFUNCTION(\"\"\"COMPUTED_VALUE\"\"\"),\"OK\")","v":"OK"},{"$f":"IFERROR(__xludf.DUMMYFUNCTION(\"\"\"COMPUTED_VALUE\"\"\"),\"juin\")","v":"juin"},{"$f":"IFERROR(__xludf.DUMMYFUNCTION(\"\"\"COMPUTED_VALUE\"\"\"),\"Navire & Fort\")","v":"Navire & Fort"},{"$f":"IFERROR(__xludf.DUMMYFUNCTION(\"\"\"COMPUTED_VALUE\"\"\"),400.0)","v":400},{"$f":"IFERROR(__xludf.DUMMYFUNCTION(\"\"\"COMPUTED_VALUE\"\"\"),\"PAF finalisée\")","v":"PAF finalisée"},{"$f":"IFERROR(__xludf.DUMMYFUNCTION(\"\"\"COMPUTED_VALUE\"\"\"),\"non reçue\")","v":"non reçue"},{"$f":"IFERROR(__xludf.DUMMYFUNCTION(\"\"\"COMPUTED_VALUE\"\"\"),\"R.A.S.\")","v":"R.A.S."},{"$f":"IFERROR(__xludf.DUMMYFUNCTION(\"\"\"COMPUTED_VALUE\"\"\"),\"samedi\")","v":"samedi"},{"$f":"IFERROR(__xludf.DUMMYFUNCTION(\"\"\"COMPUTED_VALUE\"\"\"),\"Reste\")","v":"Reste"}]
[{"$f":"IFERROR(__xludf.DUMMYFUNCTION(\"\"\"COMPUTED_VALUE\"\"\"),45303.0)","v":"2024-01-12"},{"$f":"IFERROR(__xludf.DUMMYFUNCTION(\"\"\"COMPUTED_VALUE\"\"\"),\"Letteron \")","v":"Letteron "},{"$f":"IFERROR(__xludf.DUMMYFUNCTION(\"\"\"COMPUTED_VALUE\"\"\"),\"Seb\")","v":"Seb"},{"$f":"IFERROR(__xludf.DUMMYFUNCTION(\"\"\"COMPUTED_VALUE\"\"\"),\"H\")","v":"H"},{"$f":"IFERROR(__xludf.DUMMYFUNCTION(\"\"\"COMPUTED_VALUE\"\"\"),56.0)","v":56},{"$f":"IFERROR(__xludf.DUMMYFUNCTION(\"\"\"COMPUTED_VALUE\"\"\"),\"rencata@aliceadsl.fr\")","v":"rencata@aliceadsl.fr"},{"$f":"IFERROR(__xludf.DUMMYFUNCTION(\"\"\"COMPUTED_VALUE\"\"\"),\"Seb Lett\")","v":"Seb Lett"},{"$f":"IFERROR(__xludf.DUMMYFUNCTION(\"\"\"COMPUTED_VALUE\"\"\"),\"0622546336\")","v":"0622546336"},{"$f":"IFERROR(__xludf.DUMMYFUNCTION(\"\"\"COMPUTED_VALUE\"\"\"),\"PJ+PNJ\")","v":"PJ+PNJ"},{"$f":"IFERROR(__xludf.DUMMYFUNCTION(\"\"\"COMPUTED_VALUE\"\"\"),\"-\")","v":"-"},{"$f":"IFERROR(__xludf.DUMMYFUNCTION(\"\"\"COMPUTED_VALUE\"\"\"),\"Non précisé\")","v":"Non précisé"},{"$f":"IFERROR(__xludf.DUMMYFUNCTION(\"\"\"COMPUTED_VALUE\"\"\"),\"Seulement au fort\")","v":"Seulement au fort"},{"$f":"IFERROR(__xludf.DUMMYFUNCTION(\"\"\"COMPUTED_VALUE\"\"\"),\"OK\")","v":"OK"},{"$f":"IFERROR(__xludf.DUMMYFUNCTION(\"\"\"COMPUTED_VALUE\"\"\"),\"OK\")","v":"OK"},{"$f":"IFERROR(__xludf.DUMMYFUNCTION(\"\"\"COMPUTED_VALUE\"\"\"),\"juin\")","v":"juin"},{"$f":"IFERROR(__xludf.DUMMYFUNCTION(\"\"\"COMPUTED_VALUE\"\"\"),\"Fort seulement\")","v":"Fort seulement"},{"$f":"IFERROR(__xludf.DUMMYFUNCTION(\"\"\"COMPUTED_VALUE\"\"\"),205.0)","v":205},{"$f":"IFERROR(__xludf.DUMMYFUNCTION(\"\"\"COMPUTED_VALUE\"\"\"),\"PAF finalisée\")","v":"PAF finalisée"},{"$f":"IFERROR(__xludf.DUMMYFUNCTION(\"\"\"COMPUTED_VALUE\"\"\"),\"non reçue\")","v":"non reçue"},{"$f":"IFERROR(__xludf.DUMMYFUNCTION(\"\"\"COMPUTED_VALUE\"\"\"),\"R.A.S.\")","v":"R.A.S."},{"$f":"IFERROR(__xludf.DUMMYFUNCTION(\"\"\"COMPUTED_VALUE\"\"\"),\"samedi\")","v":"samedi"},{"$f":"IFERROR(__xludf.DUMMYFUNCTION(\"\"\"COMPUTED_VALUE\"\"\"),\"Reste\")","v":"Reste"}]
[{"$f":"IFERROR(__xludf.DUMMYFUNCTION(\"\"\"COMPUTED_VALUE\"\"\"),45305.0)","v":"2024-01-14"},{"$f":"IFERROR(__xludf.DUMMYFUNCTION(\"\"\"COMPUTED_VALUE\"\"\"),\"MAGNANT\")","v":"MAGNANT"},{"$f":"IFERROR(__xludf.DUMMYFUNCTION(\"\"\"COMPUTED_VALUE\"\"\"),\"Catherine\")","v":"Catherine"},{"$f":"IFERROR(__xludf.DUMMYFUNCTION(\"\"\"COMPUTED_VALUE\"\"\"),\"F\")","v":"F"},{"$f":"IFERROR(__xludf.DUMMYFUNCTION(\"\"\"COMPUTED_VALUE\"\"\"),49.0)","v":49},{"$f":"IFERROR(__xludf.DUMMYFUNCTION(\"\"\"COMPUTED_VALUE\"\"\"),\"catherine.magnant@orange.fr\")","v":"catherine.magnant@orange.fr"},{"$f":"IFERROR(__xludf.DUMMYFUNCTION(\"\"\"COMPUTED_VALUE\"\"\"),\"Catherine Magnant\")","v":"Catherine Magnant"},null,{"$f":"IFERROR(__xludf.DUMMYFUNCTION(\"\"\"COMPUTED_VALUE\"\"\"),\"PJ+PNJ\")","v":"PJ+PNJ"},{"$f":"IFERROR(__xludf.DUMMYFUNCTION(\"\"\"COMPUTED_VALUE\"\"\"),\"-\")","v":"-"},{"$f":"IFERROR(__xludf.DUMMYFUNCTION(\"\"\"COMPUTED_VALUE\"\"\"),\"Non précisé\")","v":"Non précisé"},{"$f":"IFERROR(__xludf.DUMMYFUNCTION(\"\"\"COMPUTED_VALUE\"\"\"),\"Peu importe\")","v":"Peu importe"},{"$f":"IFERROR(__xludf.DUMMYFUNCTION(\"\"\"COMPUTED_VALUE\"\"\"),\"OK\")","v":"OK"},{"$f":"IFERROR(__xludf.DUMMYFUNCTION(\"\"\"COMPUTED_VALUE\"\"\"),\"OK\")","v":"OK"},{"$f":"IFERROR(__xludf.DUMMYFUNCTION(\"\"\"COMPUTED_VALUE\"\"\"),\"juin\")","v":"juin"},{"$f":"IFERROR(__xludf.DUMMYFUNCTION(\"\"\"COMPUTED_VALUE\"\"\"),\"Navire & Fort\")","v":"Navire & Fort"},{"$f":"IFERROR(__xludf.DUMMYFUNCTION(\"\"\"COMPUTED_VALUE\"\"\"),400.5)","v":400.5},{"$f":"IFERROR(__xludf.DUMMYFUNCTION(\"\"\"COMPUTED_VALUE\"\"\"),\"PAF finalisée\")","v":"PAF finalisée"},{"$f":"IFERROR(__xludf.DUMMYFUNCTION(\"\"\"COMPUTED_VALUE\"\"\"),\"non reçue\")","v":"non reçue"},{"$f":"IFERROR(__xludf.DUMMYFUNCTION(\"\"\"COMPUTED_VALUE\"\"\"),\"R.A.S.\")","v":"R.A.S."},{"$f":"IFERROR(__xludf.DUMMYFUNCTION(\"\"\"COMPUTED_VALUE\"\"\"),\"samedi\")","v":"samedi"},{"$f":"IFERROR(__xludf.DUMMYFUNCTION(\"\"\"COMPUTED_VALUE\"\"\"),\"Reste\")","v":"Reste"}]
[{"$f":"IFERROR(__xludf.DUMMYFUNCTION(\"\"\"COMPUTED_VALUE\"\"\"),45303.0)","v":"2024-01-12"},{"$f":"IFERROR(__xludf.DUMMYFUNCTION(\"\"\"COMPUTED_VALUE\"\"\"),\"MAILLOT\")","v":"MAILLOT"},{"$f":"IFERROR(__xludf.DUMMYFUNCTION(\"\"\"COMPUTED_VALUE\"\"\"),\"Roland\")","v":"Roland"},{"$f":"IFERROR(__xludf.DUMMYFUNCTION(\"\"\"COMPUTED_VALUE\"\"\"),\"H\")","v":"H"},{"$f":"IFERROR(__xludf.DUMMYFUNCTION(\"\"\"COMPUTED_VALUE\"\"\"),65.0)","v":65},{"$f":"IFERROR(__xludf.DUMMYFUNCTION(\"\"\"COMPUTED_VALUE\"\"\"),\"combatmedievalroland@hotmail.fr\")","v":"combatmedievalroland@hotmail.fr"},{"$f":"IFERROR(__xludf.DUMMYFUNCTION(\"\"\"COMPUTED_VALUE\"\"\"),\"Roland Maillot\")","v":"Roland Maillot"},{"$f":"IFERROR(__xludf.DUMMYFUNCTION(\"\"\"COMPUTED_VALUE\"\"\"),\"0660768099\")","v":"0660768099"},{"$f":"IFERROR(__xludf.DUMMYFUNCTION(\"\"\"COMPUTED_VALUE\"\"\"),\"PJ+PNJ\")","v":"PJ+PNJ"},{"$f":"IFERROR(__xludf.DUMMYFUNCTION(\"\"\"COMPUTED_VALUE\"\"\"),\"-\")","v":"-"},{"$f":"IFERROR(__xludf.DUMMYFUNCTION(\"\"\"COMPUTED_VALUE\"\"\"),\"Non précisé\")","v":"Non précisé"},{"$f":"IFERROR(__xludf.DUMMYFUNCTION(\"\"\"COMPUTED_VALUE\"\"\"),\"Navire et fort\")","v":"Navire et fort"},{"$f":"IFERROR(__xludf.DUMMYFUNCTION(\"\"\"COMPUTED_VALUE\"\"\"),\"OK\")","v":"OK"},{"$f":"IFERROR(__xludf.DUMMYFUNCTION(\"\"\"COMPUTED_VALUE\"\"\"),\"OK\")","v":"OK"},{"$f":"IFERROR(__xludf.DUMMYFUNCTION(\"\"\"COMPUTED_VALUE\"\"\"),\"juin\")","v":"juin"},{"$f":"IFERROR(__xludf.DUMMYFUNCTION(\"\"\"COMPUTED_VALUE\"\"\"),\"Fort seulement\")","v":"Fort seulement"},{"$f":"IFERROR(__xludf.DUMMYFUNCTION(\"\"\"COMPUTED_VALUE\"\"\"),138.4)","v":138.4},{"$f":"IFERROR(__xludf.DUMMYFUNCTION(\"\"\"COMPUTED_VALUE\"\"\"),\"PAF partielle\")","v":"PAF partielle"},{"$f":"IFERROR(__xludf.DUMMYFUNCTION(\"\"\"COMPUTED_VALUE\"\"\"),\"non reçue\")","v":"non reçue"},{"$f":"IFERROR(__xludf.DUMMYFUNCTION(\"\"\"COMPUTED_VALUE\"\"\"),\"R.A.S.\")","v":"R.A.S."},{"$f":"IFERROR(__xludf.DUMMYFUNCTION(\"\"\"COMPUTED_VALUE\"\"\"),\"samedi\")","v":"samedi"},{"$f":"IFERROR(__xludf.DUMMYFUNCTION(\"\"\"COMPUTED_VALUE\"\"\"),\"Reste\")","v":"Reste"}]
[{"$f":"IFERROR(__xludf.DUMMYFUNCTION(\"\"\"COMPUTED_VALUE\"\"\"),45303.0)","v":"2024-01-12"},{"$f":"IFERROR(__xludf.DUMMYFUNCTION(\"\"\"COMPUTED_VALUE\"\"\"),\"PHILBERT\")","v":"PHILBERT"},{"$f":"IFERROR(__xludf.DUMMYFUNCTION(\"\"\"COMPUTED_VALUE\"\"\"),\"Charles\")","v":"Charles"},{"$f":"IFERROR(__xludf.DUMMYFUNCTION(\"\"\"COMPUTED_VALUE\"\"\"),\"H\")","v":"H"},{"$f":"IFERROR(__xludf.DUMMYFUNCTION(\"\"\"COMPUTED_VALUE\"\"\"),42.0)","v":42},{"$f":"IFERROR(__xludf.DUMMYFUNCTION(\"\"\"COMPUTED_VALUE\"\"\"),\"Philbert.charles@neuf.fr\")","v":"Philbert.charles@neuf.fr"},{"$f":"IFERROR(__xludf.DUMMYFUNCTION(\"\"\"COMPUTED_VALUE\"\"\"),\"charles PHILBERT\")","v":"charles PHILBERT"},{"$f":"IFERROR(__xludf.DUMMYFUNCTION(\"\"\"COMPUTED_VALUE\"\"\"),\"0688981791\")","v":"0688981791"},{"$f":"IFERROR(__xludf.DUMMYFUNCTION(\"\"\"COMPUTED_VALUE\"\"\"),\"PJ+PNJ\")","v":"PJ+PNJ"},{"$f":"IFERROR(__xludf.DUMMYFUNCTION(\"\"\"COMPUTED_VALUE\"\"\"),\"-\")","v":"-"},{"$f":"IFERROR(__xludf.DUMMYFUNCTION(\"\"\"COMPUTED_VALUE\"\"\"),\"Non précisé\")","v":"Non précisé"},{"$f":"IFERROR(__xludf.DUMMYFUNCTION(\"\"\"COMPUTED_VALUE\"\"\"),\"Navire et fort\")","v":"Navire et fort"},{"$f":"IFERROR(__xludf.DUMMYFUNCTION(\"\"\"COMPUTED_VALUE\"\"\"),\"OK\")","v":"OK"},{"$f":"IFERROR(__xludf.DUMMYFUNCTION(\"\"\"COMPUTED_VALUE\"\"\"),\"OK\")","v":"OK"},{"$f":"IFERROR(__xludf.DUMMYFUNCTION(\"\"\"COMPUTED_VALUE\"\"\"),\"juin\")","v":"juin"},{"$f":"IFERROR(__xludf.DUMMYFUNCTION(\"\"\"COMPUTED_VALUE\"\"\"),\"Navire & Fort\")","v":"Navire & Fort"},{"$f":"IFERROR(__xludf.DUMMYFUNCTION(\"\"\"COMPUTED_VALUE\"\"\"),400.5)","v":400.5},{"$f":"IFERROR(__xludf.DUMMYFUNCTION(\"\"\"COMPUTED_VALUE\"\"\"),\"PAF finalisée\")","v":"PAF finalisée"},{"$f":"IFERROR(__xludf.DUMMYFUNCTION(\"\"\"COMPUTED_VALUE\"\"\"),\"non reçue\")","v":"non reçue"},{"$f":"IFERROR(__xludf.DUMMYFUNCTION(\"\"\"COMPUTED_VALUE\"\"\"),\"R.A.S.\")","v":"R.A.S."},{"$f":"IFERROR(__xludf.DUMMYFUNCTION(\"\"\"COMPUTED_VALUE\"\"\"),\"samedi\")","v":"samedi"},{"$f":"IFERROR(__xludf.DUMMYFUNCTION(\"\"\"COMPUTED_VALUE\"\"\"),\"Reste\")","v":"Reste"}]
[{"$f":"IFERROR(__xludf.DUMMYFUNCTION(\"\"\"COMPUTED_VALUE\"\"\"),45303.0)","v":"2024-01-12"},{"$f":"IFERROR(__xludf.DUMMYFUNCTION(\"\"\"COMPUTED_VALUE\"\"\"),\"Richard\")","v":"Richard"},{"$f":"IFERROR(__xludf.DUMMYFUNCTION(\"\"\"COMPUTED_VALUE\"\"\"),\"Marion\")","v":"Marion"},{"$f":"IFERROR(__xludf.DUMMYFUNCTION(\"\"\"COMPUTED_VALUE\"\"\"),\"F\")","v":"F"},{"$f":"IFERROR(__xludf.DUMMYFUNCTION(\"\"\"COMPUTED_VALUE\"\"\"),36.0)","v":36},{"$f":"IFERROR(__xludf.DUMMYFUNCTION(\"\"\"COMPUTED_VALUE\"\"\"),\"marionjsphand@yahoo.fr\")","v":"marionjsphand@yahoo.fr"},{"$f":"IFERROR(__xludf.DUMMYFUNCTION(\"\"\"COMPUTED_VALUE\"\"\"),\"Handmar\")","v":"Handmar"},{"$f":"IFERROR(__xludf.DUMMYFUNCTION(\"\"\"COMPUTED_VALUE\"\"\"),\"781107844\")","v":"781107844"},{"$f":"IFERROR(__xludf.DUMMYFUNCTION(\"\"\"COMPUTED_VALUE\"\"\"),\"Pur PJ\")","v":"Pur PJ"},{"$f":"IFERROR(__xludf.DUMMYFUNCTION(\"\"\"COMPUTED_VALUE\"\"\"),\"-\")","v":"-"},{"$f":"IFERROR(__xludf.DUMMYFUNCTION(\"\"\"COMPUTED_VALUE\"\"\"),\"juin\")","v":"juin"},{"$f":"IFERROR(__xludf.DUMMYFUNCTION(\"\"\"COMPUTED_VALUE\"\"\"),\"Navire et fort\")","v":"Navire et fort"},{"$f":"IFERROR(__xludf.DUMMYFUNCTION(\"\"\"COMPUTED_VALUE\"\"\"),\"OK\")","v":"OK"},{"$f":"IFERROR(__xludf.DUMMYFUNCTION(\"\"\"COMPUTED_VALUE\"\"\"),\"OK\")","v":"OK"},{"$f":"IFERROR(__xludf.DUMMYFUNCTION(\"\"\"COMPUTED_VALUE\"\"\"),\"juin\")","v":"juin"},{"$f":"IFERROR(__xludf.DUMMYFUNCTION(\"\"\"COMPUTED_VALUE\"\"\"),\"Navire & Fort\")","v":"Navire & Fort"},{"$f":"IFERROR(__xludf.DUMMYFUNCTION(\"\"\"COMPUTED_VALUE\"\"\"),800.0)","v":800},{"$f":"IFERROR(__xludf.DUMMYFUNCTION(\"\"\"COMPUTED_VALUE\"\"\"),\"PAF finalisée\")","v":"PAF finalisée"},{"$f":"IFERROR(__xludf.DUMMYFUNCTION(\"\"\"COMPUTED_VALUE\"\"\"),\"non reçue\")","v":"non reçue"},{"$f":"IFERROR(__xludf.DUMMYFUNCTION(\"\"\"COMPUTED_VALUE\"\"\"),\"R.A.S.\")","v":"R.A.S."},{"$f":"IFERROR(__xludf.DUMMYFUNCTION(\"\"\"COMPUTED_VALUE\"\"\"),\"samedi\")","v":"samedi"},{"$f":"IFERROR(__xludf.DUMMYFUNCTION(\"\"\"COMPUTED_VALUE\"\"\"),\"Reste\")","v":"Reste"}]
[{"$f":"IFERROR(__xludf.DUMMYFUNCTION(\"\"\"COMPUTED_VALUE\"\"\"),45332.0)","v":"2024-02-10"},{"$f":"IFERROR(__xludf.DUMMYFUNCTION(\"\"\"COMPUTED_VALUE\"\"\"),\"Hurel\")","v":"Hurel"},{"$f":"IFERROR(__xludf.DUMMYFUNCTION(\"\"\"COMPUTED_VALUE\"\"\"),\"Marcouf\")","v":"Marcouf"},{"$f":"IFERROR(__xludf.DUMMYFUNCTION(\"\"\"COMPUTED_VALUE\"\"\"),\"H\")","v":"H"},{"$f":"IFERROR(__xludf.DUMMYFUNCTION(\"\"\"COMPUTED_VALUE\"\"\"),37.0)","v":37},{"$f":"IFERROR(__xludf.DUMMYFUNCTION(\"\"\"COMPUTED_VALUE\"\"\"),\"marcouf.hurel@gmail.com\")","v":"marcouf.hurel@gmail.com"},{"$f":"IFERROR(__xludf.DUMMYFUNCTION(\"\"\"COMPUTED_VALUE\"\"\"),\"Dagoth Pat\")","v":"Dagoth Pat"},{"$f":"IFERROR(__xludf.DUMMYFUNCTION(\"\"\"COMPUTED_VALUE\"\"\"),\"+33619763483\")","v":"+33619763483"},{"$f":"IFERROR(__xludf.DUMMYFUNCTION(\"\"\"COMPUTED_VALUE\"\"\"),\"Pur PJ\")","v":"Pur PJ"},{"$f":"IFERROR(__xludf.DUMMYFUNCTION(\"\"\"COMPUTED_VALUE\"\"\"),\"-\")","v":"-"},{"$f":"IFERROR(__xludf.DUMMYFUNCTION(\"\"\"COMPUTED_VALUE\"\"\"),\"juin\")","v":"juin"},{"$f":"IFERROR(__xludf.DUMMYFUNCTION(\"\"\"COMPUTED_VALUE\"\"\"),\"Navire et fort\")","v":"Navire et fort"},{"$f":"IFERROR(__xludf.DUMMYFUNCTION(\"\"\"COMPUTED_VALUE\"\"\"),\"OK\")","v":"OK"},{"$f":"IFERROR(__xludf.DUMMYFUNCTION(\"\"\"COMPUTED_VALUE\"\"\"),\"OK\")","v":"OK"},{"$f":"IFERROR(__xludf.DUMMYFUNCTION(\"\"\"COMPUTED_VALUE\"\"\"),\"juin\")","v":"juin"},{"$f":"IFERROR(__xludf.DUMMYFUNCTION(\"\"\"COMPUTED_VALUE\"\"\"),\"Navire & Fort\")","v":"Navire & Fort"},{"$f":"IFERROR(__xludf.DUMMYFUNCTION(\"\"\"COMPUTED_VALUE\"\"\"),400.5)","v":400.5},{"$f":"IFERROR(__xludf.DUMMYFUNCTION(\"\"\"COMPUTED_VALUE\"\"\"),\"PAF finalisée\")","v":"PAF finalisée"},{"$f":"IFERROR(__xludf.DUMMYFUNCTION(\"\"\"COMPUTED_VALUE\"\"\"),\"non reçue\")","v":"non reçue"},{"$f":"IFERROR(__xludf.DUMMYFUNCTION(\"\"\"COMPUTED_VALUE\"\"\"),\"R.A.S.\")","v":"R.A.S."},{"$f":"IFERROR(__xludf.DUMMYFUNCTION(\"\"\"COMPUTED_VALUE\"\"\"),\"samedi\")","v":"samedi"},{"$f":"IFERROR(__xludf.DUMMYFUNCTION(\"\"\"COMPUTED_VALUE\"\"\"),\"Reste\")","v":"Reste"}]
[{"$f":"IFERROR(__xludf.DUMMYFUNCTION(\"\"\"COMPUTED_VALUE\"\"\"),45310.0)","v":"2024-01-19"},{"$f":"IFERROR(__xludf.DUMMYFUNCTION(\"\"\"COMPUTED_VALUE\"\"\"),\"Jallet\")","v":"Jallet"},{"$f":"IFERROR(__xludf.DUMMYFUNCTION(\"\"\"COMPUTED_VALUE\"\"\"),\"Benoit\")","v":"Benoit"},{"$f":"IFERROR(__xludf.DUMMYFUNCTION(\"\"\"COMPUTED_VALUE\"\"\"),\"H\")","v":"H"},{"$f":"IFERROR(__xludf.DUMMYFUNCTION(\"\"\"COMPUTED_VALUE\"\"\"),39.0)","v":39},{"$f":"IFERROR(__xludf.DUMMYFUNCTION(\"\"\"COMPUTED_VALUE\"\"\"),\"bjallet@gmail.com\")","v":"bjallet@gmail.com"},{"$f":"IFERROR(__xludf.DUMMYFUNCTION(\"\"\"COMPUTED_VALUE\"\"\"),\"Benoit Jallet\")","v":"Benoit Jallet"},{"$f":"IFERROR(__xludf.DUMMYFUNCTION(\"\"\"COMPUTED_VALUE\"\"\"),\"0674223846\")","v":"0674223846"},{"$f":"IFERROR(__xludf.DUMMYFUNCTION(\"\"\"COMPUTED_VALUE\"\"\"),\"Pur PJ\")","v":"Pur PJ"},{"$f":"IFERROR(__xludf.DUMMYFUNCTION(\"\"\"COMPUTED_VALUE\"\"\"),\"-\")","v":"-"},{"$f":"IFERROR(__xludf.DUMMYFUNCTION(\"\"\"COMPUTED_VALUE\"\"\"),\"juin\")","v":"juin"},{"$f":"IFERROR(__xludf.DUMMYFUNCTION(\"\"\"COMPUTED_VALUE\"\"\"),\"Peu importe\")","v":"Peu importe"},{"$f":"IFERROR(__xludf.DUMMYFUNCTION(\"\"\"COMPUTED_VALUE\"\"\"),\"OK\")","v":"OK"},{"$f":"IFERROR(__xludf.DUMMYFUNCTION(\"\"\"COMPUTED_VALUE\"\"\"),\"OK\")","v":"OK"},{"$f":"IFERROR(__xludf.DUMMYFUNCTION(\"\"\"COMPUTED_VALUE\"\"\"),\"juin\")","v":"juin"},{"$f":"IFERROR(__xludf.DUMMYFUNCTION(\"\"\"COMPUTED_VALUE\"\"\"),\"Navire & Fort\")","v":"Navire & Fort"},{"$f":"IFERROR(__xludf.DUMMYFUNCTION(\"\"\"COMPUTED_VALUE\"\"\"),400.0)","v":400},{"$f":"IFERROR(__xludf.DUMMYFUNCTION(\"\"\"COMPUTED_VALUE\"\"\"),\"PAF finalisée\")","v":"PAF finalisée"},{"$f":"IFERROR(__xludf.DUMMYFUNCTION(\"\"\"COMPUTED_VALUE\"\"\"),\"non reçue\")","v":"non reçue"},{"$f":"IFERROR(__xludf.DUMMYFUNCTION(\"\"\"COMPUTED_VALUE\"\"\"),\"R.A.S.\")","v":"R.A.S."},{"$f":"IFERROR(__xludf.DUMMYFUNCTION(\"\"\"COMPUTED_VALUE\"\"\"),\"samedi\")","v":"samedi"},{"$f":"IFERROR(__xludf.DUMMYFUNCTION(\"\"\"COMPUTED_VALUE\"\"\"),\"Reste\")","v":"Reste"}]
[{"$f":"IFERROR(__xludf.DUMMYFUNCTION(\"\"\"COMPUTED_VALUE\"\"\"),45304.0)","v":"2024-01-13"},{"$f":"IFERROR(__xludf.DUMMYFUNCTION(\"\"\"COMPUTED_VALUE\"\"\"),\"Raimbault \")","v":"Raimbault "},{"$f":"IFERROR(__xludf.DUMMYFUNCTION(\"\"\"COMPUTED_VALUE\"\"\"),\"Cécile\")","v":"Cécile"},{"$f":"IFERROR(__xludf.DUMMYFUNCTION(\"\"\"COMPUTED_VALUE\"\"\"),\"F\")","v":"F"},{"$f":"IFERROR(__xludf.DUMMYFUNCTION(\"\"\"COMPUTED_VALUE\"\"\"),44.0)","v":44},{"$f":"IFERROR(__xludf.DUMMYFUNCTION(\"\"\"COMPUTED_VALUE\"\"\"),\"llialn@gmail.com\")","v":"llialn@gmail.com"},{"$f":"IFERROR(__xludf.DUMMYFUNCTION(\"\"\"COMPUTED_VALUE\"\"\"),\"Llialn di Maluisien\")","v":"Llialn di Maluisien"},{"$f":"IFERROR(__xludf.DUMMYFUNCTION(\"\"\"COMPUTED_VALUE\"\"\"),\"0620226425\")","v":"0620226425"},{"$f":"IFERROR(__xludf.DUMMYFUNCTION(\"\"\"COMPUTED_VALUE\"\"\"),\"Pur PJ\")","v":"Pur PJ"},{"$f":"IFERROR(__xludf.DUMMYFUNCTION(\"\"\"COMPUTED_VALUE\"\"\"),\"-\")","v":"-"},{"$f":"IFERROR(__xludf.DUMMYFUNCTION(\"\"\"COMPUTED_VALUE\"\"\"),\"juin\")","v":"juin"},{"$f":"IFERROR(__xludf.DUMMYFUNCTION(\"\"\"COMPUTED_VALUE\"\"\"),\"Navire et fort\")","v":"Navire et fort"},{"$f":"IFERROR(__xludf.DUMMYFUNCTION(\"\"\"COMPUTED_VALUE\"\"\"),\"OK\")","v":"OK"},{"$f":"IFERROR(__xludf.DUMMYFUNCTION(\"\"\"COMPUTED_VALUE\"\"\"),\"OK\")","v":"OK"},{"$f":"IFERROR(__xludf.DUMMYFUNCTION(\"\"\"COMPUTED_VALUE\"\"\"),\"juin\")","v":"juin"},{"$f":"IFERROR(__xludf.DUMMYFUNCTION(\"\"\"COMPUTED_VALUE\"\"\"),\"Navire & Fort\")","v":"Navire & Fort"},{"$f":"IFERROR(__xludf.DUMMYFUNCTION(\"\"\"COMPUTED_VALUE\"\"\"),0.0)","v":0},{"$f":"IFERROR(__xludf.DUMMYFUNCTION(\"\"\"COMPUTED_VALUE\"\"\"),\"PAF finalisée\")","v":"PAF finalisée"},{"$f":"IFERROR(__xludf.DUMMYFUNCTION(\"\"\"COMPUTED_VALUE\"\"\"),\"non reçue\")","v":"non reçue"},{"$f":"IFERROR(__xludf.DUMMYFUNCTION(\"\"\"COMPUTED_VALUE\"\"\"),\"R.A.S.\")","v":"R.A.S."},{"$f":"IFERROR(__xludf.DUMMYFUNCTION(\"\"\"COMPUTED_VALUE\"\"\"),\"samedi\")","v":"samedi"},{"$f":"IFERROR(__xludf.DUMMYFUNCTION(\"\"\"COMPUTED_VALUE\"\"\"),\"Reste\")","v":"Reste"}]
[{"$f":"IFERROR(__xludf.DUMMYFUNCTION(\"\"\"COMPUTED_VALUE\"\"\"),45303.0)","v":"2024-01-12"},{"$f":"IFERROR(__xludf.DUMMYFUNCTION(\"\"\"COMPUTED_VALUE\"\"\"),\"RICHARD\")","v":"RICHARD"},{"$f":"IFERROR(__xludf.DUMMYFUNCTION(\"\"\"COMPUTED_VALUE\"\"\"),\"Patrice\")","v":"Patrice"},{"$f":"IFERROR(__xludf.DUMMYFUNCTION(\"\"\"COMPUTED_VALUE\"\"\"),\"H\")","v":"H"},{"$f":"IFERROR(__xludf.DUMMYFUNCTION(\"\"\"COMPUTED_VALUE\"\"\"),47.0)","v":47},{"$f":"IFERROR(__xludf.DUMMYFUNCTION(\"\"\"COMPUTED_VALUE\"\"\"),\"pastbug@msn.com\")","v":"pastbug@msn.com"},{"$f":"IFERROR(__xludf.DUMMYFUNCTION(\"\"\"COMPUTED_VALUE\"\"\"),\"Patrice rich\")","v":"Patrice rich"},{"$f":"IFERROR(__xludf.DUMMYFUNCTION(\"\"\"COMPUTED_VALUE\"\"\"),\"0781481945\")","v":"0781481945"},{"$f":"IFERROR(__xludf.DUMMYFUNCTION(\"\"\"COMPUTED_VALUE\"\"\"),\"Pur PJ\")","v":"Pur PJ"},{"$f":"IFERROR(__xludf.DUMMYFUNCTION(\"\"\"COMPUTED_VALUE\"\"\"),\"-\")","v":"-"},{"$f":"IFERROR(__xludf.DUMMYFUNCTION(\"\"\"COMPUTED_VALUE\"\"\"),\"juin\")","v":"juin"},{"$f":"IFERROR(__xludf.DUMMYFUNCTION(\"\"\"COMPUTED_VALUE\"\"\"),\"Navire et fort\")","v":"Navire et fort"},{"$f":"IFERROR(__xludf.DUMMYFUNCTION(\"\"\"COMPUTED_VALUE\"\"\"),\"OK\")","v":"OK"},{"$f":"IFERROR(__xludf.DUMMYFUNCTION(\"\"\"COMPUTED_VALUE\"\"\"),\"OK\")","v":"OK"},{"$f":"IFERROR(__xludf.DUMMYFUNCTION(\"\"\"COMPUTED_VALUE\"\"\"),\"juin\")","v":"juin"},{"$f":"IFERROR(__xludf.DUMMYFUNCTION(\"\"\"COMPUTED_VALUE\"\"\"),\"Navire & Fort\")","v":"Navire & Fort"},{"$f":"IFERROR(__xludf.DUMMYFUNCTION(\"\"\"COMPUTED_VALUE\"\"\"),0.0)","v":0},{"$f":"IFERROR(__xludf.DUMMYFUNCTION(\"\"\"COMPUTED_VALUE\"\"\"),\"PAF finalisée\")","v":"PAF finalisée"},{"$f":"IFERROR(__xludf.DUMMYFUNCTION(\"\"\"COMPUTED_VALUE\"\"\"),\"non reçue\")","v":"non reçue"},{"$f":"IFERROR(__xludf.DUMMYFUNCTION(\"\"\"COMPUTED_VALUE\"\"\"),\"R.A.S.\")","v":"R.A.S."},{"$f":"IFERROR(__xludf.DUMMYFUNCTION(\"\"\"COMPUTED_VALUE\"\"\"),\"samedi\")","v":"samedi"},{"$f":"IFERROR(__xludf.DUMMYFUNCTION(\"\"\"COMPUTED_VALUE\"\"\"),\"Reste\")","v":"Reste"}]
[{"$f":"IFERROR(__xludf.DUMMYFUNCTION(\"\"\"COMPUTED_VALUE\"\"\"),45303.0)","v":"2024-01-12"},{"$f":"IFERROR(__xludf.DUMMYFUNCTION(\"\"\"COMPUTED_VALUE\"\"\"),\"RIGAUD\")","v":"RIGAUD"},{"$f":"IFERROR(__xludf.DUMMYFUNCTION(\"\"\"COMPUTED_VALUE\"\"\"),\"Véronique\")","v":"Véronique"},{"$f":"IFERROR(__xludf.DUMMYFUNCTION(\"\"\"COMPUTED_VALUE\"\"\"),\"F\")","v":"F"},{"$f":"IFERROR(__xludf.DUMMYFUNCTION(\"\"\"COMPUTED_VALUE\"\"\"),60.0)","v":60},{"$f":"IFERROR(__xludf.DUMMYFUNCTION(\"\"\"COMPUTED_VALUE\"\"\"),\"rigaudvero@yahoo.fr\")","v":"rigaudvero@yahoo.fr"},{"$f":"IFERROR(__xludf.DUMMYFUNCTION(\"\"\"COMPUTED_VALUE\"\"\"),\"Véronique RiZa\")","v":"Véronique RiZa"},{"$f":"IFERROR(__xludf.DUMMYFUNCTION(\"\"\"COMPUTED_VALUE\"\"\"),\"0613792264\")","v":"0613792264"},{"$f":"IFERROR(__xludf.DUMMYFUNCTION(\"\"\"COMPUTED_VALUE\"\"\"),\"Pur PJ\")","v":"Pur PJ"},{"$f":"IFERROR(__xludf.DUMMYFUNCTION(\"\"\"COMPUTED_VALUE\"\"\"),\"-\")","v":"-"},{"$f":"IFERROR(__xludf.DUMMYFUNCTION(\"\"\"COMPUTED_VALUE\"\"\"),\"juin\")","v":"juin"},{"$f":"IFERROR(__xludf.DUMMYFUNCTION(\"\"\"COMPUTED_VALUE\"\"\"),\"Navire et fort\")","v":"Navire et fort"},{"$f":"IFERROR(__xludf.DUMMYFUNCTION(\"\"\"COMPUTED_VALUE\"\"\"),\"OK\")","v":"OK"},{"$f":"IFERROR(__xludf.DUMMYFUNCTION(\"\"\"COMPUTED_VALUE\"\"\"),\"OK\")","v":"OK"},{"$f":"IFERROR(__xludf.DUMMYFUNCTION(\"\"\"COMPUTED_VALUE\"\"\"),\"juin\")","v":"juin"},{"$f":"IFERROR(__xludf.DUMMYFUNCTION(\"\"\"COMPUTED_VALUE\"\"\"),\"Navire & Fort\")","v":"Navire & Fort"},{"$f":"IFERROR(__xludf.DUMMYFUNCTION(\"\"\"COMPUTED_VALUE\"\"\"),400.5)","v":400.5},{"$f":"IFERROR(__xludf.DUMMYFUNCTION(\"\"\"COMPUTED_VALUE\"\"\"),\"PAF finalisée\")","v":"PAF finalisée"},{"$f":"IFERROR(__xludf.DUMMYFUNCTION(\"\"\"COMPUTED_VALUE\"\"\"),\"non reçue\")","v":"non reçue"},{"$f":"IFERROR(__xludf.DUMMYFUNCTION(\"\"\"COMPUTED_VALUE\"\"\"),\"R.A.S.\")","v":"R.A.S."},{"$f":"IFERROR(__xludf.DUMMYFUNCTION(\"\"\"COMPUTED_VALUE\"\"\"),\"samedi\")","v":"samedi"},{"$f":"IFERROR(__xludf.DUMMYFUNCTION(\"\"\"COMPUTED_VALUE\"\"\"),\"Reste\")","v":"Reste"}]
[{"$f":"IFERROR(__xludf.DUMMYFUNCTION(\"\"\"COMPUTED_VALUE\"\"\"),45304.0)","v":"2024-01-13"},{"$f":"IFERROR(__xludf.DUMMYFUNCTION(\"\"\"COMPUTED_VALUE\"\"\"),\"VIGIER \")","v":"VIGIER "},{"$f":"IFERROR(__xludf.DUMMYFUNCTION(\"\"\"COMPUTED_VALUE\"\"\"),\"Yann\")","v":"Yann"},{"$f":"IFERROR(__xludf.DUMMYFUNCTION(\"\"\"COMPUTED_VALUE\"\"\"),\"H\")","v":"H"},{"$f":"IFERROR(__xludf.DUMMYFUNCTION(\"\"\"COMPUTED_VALUE\"\"\"),48.0)","v":48},{"$f":"IFERROR(__xludf.DUMMYFUNCTION(\"\"\"COMPUTED_VALUE\"\"\"),\"yanvigier63@gmail.com\")","v":"yanvigier63@gmail.com"},{"$f":"IFERROR(__xludf.DUMMYFUNCTION(\"\"\"COMPUTED_VALUE\"\"\"),\"Lialn Di Maluisien\")","v":"Lialn Di Maluisien"},{"$f":"IFERROR(__xludf.DUMMYFUNCTION(\"\"\"COMPUTED_VALUE\"\"\"),\"0634991751\")","v":"0634991751"},{"$f":"IFERROR(__xludf.DUMMYFUNCTION(\"\"\"COMPUTED_VALUE\"\"\"),\"PJ+PNJ\")","v":"PJ+PNJ"},{"$f":"IFERROR(__xludf.DUMMYFUNCTION(\"\"\"COMPUTED_VALUE\"\"\"),\"-\")","v":"-"},{"$f":"IFERROR(__xludf.DUMMYFUNCTION(\"\"\"COMPUTED_VALUE\"\"\"),\"juin\")","v":"juin"},{"$f":"IFERROR(__xludf.DUMMYFUNCTION(\"\"\"COMPUTED_VALUE\"\"\"),\"Navire et fort\")","v":"Navire et fort"},{"$f":"IFERROR(__xludf.DUMMYFUNCTION(\"\"\"COMPUTED_VALUE\"\"\"),\"OK\")","v":"OK"},{"$f":"IFERROR(__xludf.DUMMYFUNCTION(\"\"\"COMPUTED_VALUE\"\"\"),\"OK\")","v":"OK"},{"$f":"IFERROR(__xludf.DUMMYFUNCTION(\"\"\"COMPUTED_VALUE\"\"\"),\"juin\")","v":"juin"},{"$f":"IFERROR(__xludf.DUMMYFUNCTION(\"\"\"COMPUTED_VALUE\"\"\"),\"Navire & Fort\")","v":"Navire & Fort"},{"$f":"IFERROR(__xludf.DUMMYFUNCTION(\"\"\"COMPUTED_VALUE\"\"\"),801.0)","v":801},{"$f":"IFERROR(__xludf.DUMMYFUNCTION(\"\"\"COMPUTED_VALUE\"\"\"),\"PAF finalisée\")","v":"PAF finalisée"},{"$f":"IFERROR(__xludf.DUMMYFUNCTION(\"\"\"COMPUTED_VALUE\"\"\"),\"non reçue\")","v":"non reçue"},{"$f":"IFERROR(__xludf.DUMMYFUNCTION(\"\"\"COMPUTED_VALUE\"\"\"),\"R.A.S.\")","v":"R.A.S."},{"$f":"IFERROR(__xludf.DUMMYFUNCTION(\"\"\"COMPUTED_VALUE\"\"\"),\"samedi\")","v":"samedi"},{"$f":"IFERROR(__xludf.DUMMYFUNCTION(\"\"\"COMPUTED_VALUE\"\"\"),\"Reste\")","v":"Reste"}]
[{"$f":"IFERROR(__xludf.DUMMYFUNCTION(\"\"\"COMPUTED_VALUE\"\"\"),45306.0)","v":"2024-01-15"},{"$f":"IFERROR(__xludf.DUMMYFUNCTION(\"\"\"COMPUTED_VALUE\"\"\"),\"Vignier\")","v":"Vignier"},{"$f":"IFERROR(__xludf.DUMMYFUNCTION(\"\"\"COMPUTED_VALUE\"\"\"),\"Fanny\")","v":"Fanny"},{"$f":"IFERROR(__xludf.DUMMYFUNCTION(\"\"\"COMPUTED_VALUE\"\"\"),\"F\")","v":"F"},null,{"$f":"IFERROR(__xludf.DUMMYFUNCTION(\"\"\"COMPUTED_VALUE\"\"\"),\"fannyvignier@hotmail.fr\")","v":"fannyvignier@hotmail.fr"},{"$f":"IFERROR(__xludf.DUMMYFUNCTION(\"\"\"COMPUTED_VALUE\"\"\"),\"Fanny Vgn\")","v":"Fanny Vgn"},null,{"$f":"IFERROR(__xludf.DUMMYFUNCTION(\"\"\"COMPUTED_VALUE\"\"\"),\"Pur PJ\")","v":"Pur PJ"},{"$f":"IFERROR(__xludf.DUMMYFUNCTION(\"\"\"COMPUTED_VALUE\"\"\"),\"-\")","v":"-"},{"$f":"IFERROR(__xludf.DUMMYFUNCTION(\"\"\"COMPUTED_VALUE\"\"\"),\"Les deux\")","v":"Les deux"},{"$f":"IFERROR(__xludf.DUMMYFUNCTION(\"\"\"COMPUTED_VALUE\"\"\"),\"Navire et fort\")","v":"Navire et fort"},{"$f":"IFERROR(__xludf.DUMMYFUNCTION(\"\"\"COMPUTED_VALUE\"\"\"),\"OK\")","v":"OK"},{"$f":"IFERROR(__xludf.DUMMYFUNCTION(\"\"\"COMPUTED_VALUE\"\"\"),\"OK\")","v":"OK"},{"$f":"IFERROR(__xludf.DUMMYFUNCTION(\"\"\"COMPUTED_VALUE\"\"\"),\"juin\")","v":"juin"},{"$f":"IFERROR(__xludf.DUMMYFUNCTION(\"\"\"COMPUTED_VALUE\"\"\"),\"Navire & Fort\")","v":"Navire & Fort"},{"$f":"IFERROR(__xludf.DUMMYFUNCTION(\"\"\"COMPUTED_VALUE\"\"\"),400.5)","v":400.5},{"$f":"IFERROR(__xludf.DUMMYFUNCTION(\"\"\"COMPUTED_VALUE\"\"\"),\"PAF finalisée\")","v":"PAF finalisée"},{"$f":"IFERROR(__xludf.DUMMYFUNCTION(\"\"\"COMPUTED_VALUE\"\"\"),\"non reçue\")","v":"non reçue"},{"$f":"IFERROR(__xludf.DUMMYFUNCTION(\"\"\"COMPUTED_VALUE\"\"\"),\"R.A.S.\")","v":"R.A.S."},{"$f":"IFERROR(__xludf.DUMMYFUNCTION(\"\"\"COMPUTED_VALUE\"\"\"),\"samedi\")","v":"samedi"},{"$f":"IFERROR(__xludf.DUMMYFUNCTION(\"\"\"COMPUTED_VALUE\"\"\"),\"Reste\")","v":"Reste"}]
[{"$f":"IFERROR(__xludf.DUMMYFUNCTION(\"\"\"COMPUTED_VALUE\"\"\"),45341.0)","v":"2024-02-19"},{"$f":"IFERROR(__xludf.DUMMYFUNCTION(\"\"\"COMPUTED_VALUE\"\"\"),\"Vaes\")","v":"Vaes"},{"$f":"IFERROR(__xludf.DUMMYFUNCTION(\"\"\"COMPUTED_VALUE\"\"\"),\"Thomas\")","v":"Thomas"},{"$f":"IFERROR(__xludf.DUMMYFUNCTION(\"\"\"COMPUTED_VALUE\"\"\"),\"H\")","v":"H"},{"$f":"IFERROR(__xludf.DUMMYFUNCTION(\"\"\"COMPUTED_VALUE\"\"\"),31.0)","v":31},{"$f":"IFERROR(__xludf.DUMMYFUNCTION(\"\"\"COMPUTED_VALUE\"\"\"),\"thomas.vaes@hotmail.com\")","v":"thomas.vaes@hotmail.com"},{"$f":"IFERROR(__xludf.DUMMYFUNCTION(\"\"\"COMPUTED_VALUE\"\"\"),\"Vaes Thomas\")","v":"Vaes Thomas"},{"$f":"IFERROR(__xludf.DUMMYFUNCTION(\"\"\"COMPUTED_VALUE\"\"\"),\"0471502173\")","v":"0471502173"},{"$f":"IFERROR(__xludf.DUMMYFUNCTION(\"\"\"COMPUTED_VALUE\"\"\"),\"PJ+PNJ\")","v":"PJ+PNJ"},{"$f":"IFERROR(__xludf.DUMMYFUNCTION(\"\"\"COMPUTED_VALUE\"\"\"),\"-\")","v":"-"},{"$f":"IFERROR(__xludf.DUMMYFUNCTION(\"\"\"COMPUTED_VALUE\"\"\"),\"Les deux\")","v":"Les deux"},{"$f":"IFERROR(__xludf.DUMMYFUNCTION(\"\"\"COMPUTED_VALUE\"\"\"),\"Navire et fort\")","v":"Navire et fort"},{"$f":"IFERROR(__xludf.DUMMYFUNCTION(\"\"\"COMPUTED_VALUE\"\"\"),\"OK\")","v":"OK"},{"$f":"IFERROR(__xludf.DUMMYFUNCTION(\"\"\"COMPUTED_VALUE\"\"\"),\"OK\")","v":"OK"},{"$f":"IFERROR(__xludf.DUMMYFUNCTION(\"\"\"COMPUTED_VALUE\"\"\"),\"juin\")","v":"juin"},{"$f":"IFERROR(__xludf.DUMMYFUNCTION(\"\"\"COMPUTED_VALUE\"\"\"),\"Navire & Fort\")","v":"Navire & Fort"},{"$f":"IFERROR(__xludf.DUMMYFUNCTION(\"\"\"COMPUTED_VALUE\"\"\"),400.5)","v":400.5},{"$f":"IFERROR(__xludf.DUMMYFUNCTION(\"\"\"COMPUTED_VALUE\"\"\"),\"PAF finalisée\")","v":"PAF finalisée"},{"$f":"IFERROR(__xludf.DUMMYFUNCTION(\"\"\"COMPUTED_VALUE\"\"\"),\"non reçue\")","v":"non reçue"},{"$f":"IFERROR(__xludf.DUMMYFUNCTION(\"\"\"COMPUTED_VALUE\"\"\"),\"R.A.S.\")","v":"R.A.S."},{"$f":"IFERROR(__xludf.DUMMYFUNCTION(\"\"\"COMPUTED_VALUE\"\"\"),\"samedi\")","v":"samedi"},{"$f":"IFERROR(__xludf.DUMMYFUNCTION(\"\"\"COMPUTED_VALUE\"\"\"),\"NON\")","v":"NON"}]
[{"$f":"IFERROR(__xludf.DUMMYFUNCTION(\"\"\"COMPUTED_VALUE\"\"\"),45305.0)","v":"2024-01-14"},{"$f":"IFERROR(__xludf.DUMMYFUNCTION(\"\"\"COMPUTED_VALUE\"\"\"),\"Bouroumeau\")","v":"Bouroumeau"},{"$f":"IFERROR(__xludf.DUMMYFUNCTION(\"\"\"COMPUTED_VALUE\"\"\"),\"Kevin\")","v":"Kevin"},{"$f":"IFERROR(__xludf.DUMMYFUNCTION(\"\"\"COMPUTED_VALUE\"\"\"),\"H\")","v":"H"},{"$f":"IFERROR(__xludf.DUMMYFUNCTION(\"\"\"COMPUTED_VALUE\"\"\"),39.0)","v":39},{"$f":"IFERROR(__xludf.DUMMYFUNCTION(\"\"\"COMPUTED_VALUE\"\"\"),\"kevinbouroumeau@gmail.com\")","v":"kevinbouroumeau@gmail.com"},{"$f":"IFERROR(__xludf.DUMMYFUNCTION(\"\"\"COMPUTED_VALUE\"\"\"),\"Kevin Caoimhin\")","v":"Kevin Caoimhin"},{"$f":"IFERROR(__xludf.DUMMYFUNCTION(\"\"\"COMPUTED_VALUE\"\"\"),\"0688492254\")","v":"0688492254"},{"$f":"IFERROR(__xludf.DUMMYFUNCTION(\"\"\"COMPUTED_VALUE\"\"\"),\"PJ+PNJ\")","v":"PJ+PNJ"},{"$f":"IFERROR(__xludf.DUMMYFUNCTION(\"\"\"COMPUTED_VALUE\"\"\"),\"-\")","v":"-"},{"$f":"IFERROR(__xludf.DUMMYFUNCTION(\"\"\"COMPUTED_VALUE\"\"\"),\"juin\")","v":"juin"},{"$f":"IFERROR(__xludf.DUMMYFUNCTION(\"\"\"COMPUTED_VALUE\"\"\"),\"Navire et fort\")","v":"Navire et fort"},{"$f":"IFERROR(__xludf.DUMMYFUNCTION(\"\"\"COMPUTED_VALUE\"\"\"),\"OK\")","v":"OK"},{"$f":"IFERROR(__xludf.DUMMYFUNCTION(\"\"\"COMPUTED_VALUE\"\"\"),\"OK\")","v":"OK"},{"$f":"IFERROR(__xludf.DUMMYFUNCTION(\"\"\"COMPUTED_VALUE\"\"\"),\"juin\")","v":"juin"},{"$f":"IFERROR(__xludf.DUMMYFUNCTION(\"\"\"COMPUTED_VALUE\"\"\"),\"Navire & Fort\")","v":"Navire & Fort"},{"$f":"IFERROR(__xludf.DUMMYFUNCTION(\"\"\"COMPUTED_VALUE\"\"\"),267.0)","v":267},{"$f":"IFERROR(__xludf.DUMMYFUNCTION(\"\"\"COMPUTED_VALUE\"\"\"),\"PAF partielle\")","v":"PAF partielle"},{"$f":"IFERROR(__xludf.DUMMYFUNCTION(\"\"\"COMPUTED_VALUE\"\"\"),\"non reçue\")","v":"non reçue"},{"$f":"IFERROR(__xludf.DUMMYFUNCTION(\"\"\"COMPUTED_VALUE\"\"\"),\"R.A.S.\")","v":"R.A.S."},{"$f":"IFERROR(__xludf.DUMMYFUNCTION(\"\"\"COMPUTED_VALUE\"\"\"),\"samedi\")","v":"samedi"},{"$f":"IFERROR(__xludf.DUMMYFUNCTION(\"\"\"COMPUTED_VALUE\"\"\"),\"Reste\")","v":"Reste"}]
[{"$f":"IFERROR(__xludf.DUMMYFUNCTION(\"\"\"COMPUTED_VALUE\"\"\"),45303.0)","v":"2024-01-12"},{"$f":"IFERROR(__xludf.DUMMYFUNCTION(\"\"\"COMPUTED_VALUE\"\"\"),\"Chasserat\")","v":"Chasserat"},{"$f":"IFERROR(__xludf.DUMMYFUNCTION(\"\"\"COMPUTED_VALUE\"\"\"),\"Emmanuel\")","v":"Emmanuel"},{"$f":"IFERROR(__xludf.DUMMYFUNCTION(\"\"\"COMPUTED_VALUE\"\"\"),\"H\")","v":"H"},{"$f":"IFERROR(__xludf.DUMMYFUNCTION(\"\"\"COMPUTED_VALUE\"\"\"),39.0)","v":39},{"$f":"IFERROR(__xludf.DUMMYFUNCTION(\"\"\"COMPUTED_VALUE\"\"\"),\"chasserat@yahoo.fr\")","v":"chasserat@yahoo.fr"},{"$f":"IFERROR(__xludf.DUMMYFUNCTION(\"\"\"COMPUTED_VALUE\"\"\"),\"Manu Rathunter\")","v":"Manu Rathunter"},{"$f":"IFERROR(__xludf.DUMMYFUNCTION(\"\"\"COMPUTED_VALUE\"\"\"),\"0613517679\")","v":"0613517679"},{"$f":"IFERROR(__xludf.DUMMYFUNCTION(\"\"\"COMPUTED_VALUE\"\"\"),\"Pur PJ\")","v":"Pur PJ"},{"$f":"IFERROR(__xludf.DUMMYFUNCTION(\"\"\"COMPUTED_VALUE\"\"\"),\"-\")","v":"-"},{"$f":"IFERROR(__xludf.DUMMYFUNCTION(\"\"\"COMPUTED_VALUE\"\"\"),\"juin\")","v":"juin"},{"$f":"IFERROR(__xludf.DUMMYFUNCTION(\"\"\"COMPUTED_VALUE\"\"\"),\"Navire et fort\")","v":"Navire et fort"},{"$f":"IFERROR(__xludf.DUMMYFUNCTION(\"\"\"COMPUTED_VALUE\"\"\"),\"OK\")","v":"OK"},{"$f":"IFERROR(__xludf.DUMMYFUNCTION(\"\"\"COMPUTED_VALUE\"\"\"),\"OK\")","v":"OK"},{"$f":"IFERROR(__xludf.DUMMYFUNCTION(\"\"\"COMPUTED_VALUE\"\"\"),\"juin\")","v":"juin"},{"$f":"IFERROR(__xludf.DUMMYFUNCTION(\"\"\"COMPUTED_VALUE\"\"\"),\"Navire & Fort\")","v":"Navire & Fort"},{"$f":"IFERROR(__xludf.DUMMYFUNCTION(\"\"\"COMPUTED_VALUE\"\"\"),267.0)","v":267},{"$f":"IFERROR(__xludf.DUMMYFUNCTION(\"\"\"COMPUTED_VALUE\"\"\"),\"PAF partielle\")","v":"PAF partielle"},{"$f":"IFERROR(__xludf.DUMMYFUNCTION(\"\"\"COMPUTED_VALUE\"\"\"),\"non reçue\")","v":"non reçue"},{"$f":"IFERROR(__xludf.DUMMYFUNCTION(\"\"\"COMPUTED_VALUE\"\"\"),\"R.A.S.\")","v":"R.A.S."},{"$f":"IFERROR(__xludf.DUMMYFUNCTION(\"\"\"COMPUTED_VALUE\"\"\"),\"samedi\")","v":"samedi"},{"$f":"IFERROR(__xludf.DUMMYFUNCTION(\"\"\"COMPUTED_VALUE\"\"\"),\"Reste\")","v":"Reste"}]
[{"$f":"IFERROR(__xludf.DUMMYFUNCTION(\"\"\"COMPUTED_VALUE\"\"\"),45315.0)","v":"2024-01-24"},{"$f":"IFERROR(__xludf.DUMMYFUNCTION(\"\"\"COMPUTED_VALUE\"\"\"),\"EUVE\")","v":"EUVE"},{"$f":"IFERROR(__xludf.DUMMYFUNCTION(\"\"\"COMPUTED_VALUE\"\"\"),\"MAXIME\")","v":"MAXIME"},{"$f":"IFERROR(__xludf.DUMMYFUNCTION(\"\"\"COMPUTED_VALUE\"\"\"),\"H\")","v":"H"},{"$f":"IFERROR(__xludf.DUMMYFUNCTION(\"\"\"COMPUTED_VALUE\"\"\"),42.0)","v":42},{"$f":"IFERROR(__xludf.DUMMYFUNCTION(\"\"\"COMPUTED_VALUE\"\"\"),\"maxime.euve@gmail.com\")","v":"maxime.euve@gmail.com"},{"$f":"IFERROR(__xludf.DUMMYFUNCTION(\"\"\"COMPUTED_VALUE\"\"\"),\"max_ev\")","v":"max_ev"},{"$f":"IFERROR(__xludf.DUMMYFUNCTION(\"\"\"COMPUTED_VALUE\"\"\"),\"671542820\")","v":"671542820"},{"$f":"IFERROR(__xludf.DUMMYFUNCTION(\"\"\"COMPUTED_VALUE\"\"\"),\"PJ+PNJ\")","v":"PJ+PNJ"},{"$f":"IFERROR(__xludf.DUMMYFUNCTION(\"\"\"COMPUTED_VALUE\"\"\"),\"-\")","v":"-"},{"$f":"IFERROR(__xludf.DUMMYFUNCTION(\"\"\"COMPUTED_VALUE\"\"\"),\"juin\")","v":"juin"},{"$f":"IFERROR(__xludf.DUMMYFUNCTION(\"\"\"COMPUTED_VALUE\"\"\"),\"Navire et fort\")","v":"Navire et fort"},{"$f":"IFERROR(__xludf.DUMMYFUNCTION(\"\"\"COMPUTED_VALUE\"\"\"),\"OK\")","v":"OK"},{"$f":"IFERROR(__xludf.DUMMYFUNCTION(\"\"\"COMPUTED_VALUE\"\"\"),\"OK\")","v":"OK"},{"$f":"IFERROR(__xludf.DUMMYFUNCTION(\"\"\"COMPUTED_VALUE\"\"\"),\"juin\")","v":"juin"},{"$f":"IFERROR(__xludf.DUMMYFUNCTION(\"\"\"COMPUTED_VALUE\"\"\"),\"Navire & Fort\")","v":"Navire & Fort"},{"$f":"IFERROR(__xludf.DUMMYFUNCTION(\"\"\"COMPUTED_VALUE\"\"\"),400.0)","v":400},{"$f":"IFERROR(__xludf.DUMMYFUNCTION(\"\"\"COMPUTED_VALUE\"\"\"),\"PAF finalisée\")","v":"PAF finalisée"},{"$f":"IFERROR(__xludf.DUMMYFUNCTION(\"\"\"COMPUTED_VALUE\"\"\"),\"non reçue\")","v":"non reçue"},{"$f":"IFERROR(__xludf.DUMMYFUNCTION(\"\"\"COMPUTED_VALUE\"\"\"),\"R.A.S.\")","v":"R.A.S."},{"$f":"IFERROR(__xludf.DUMMYFUNCTION(\"\"\"COMPUTED_VALUE\"\"\"),\"samedi\")","v":"samedi"},{"$f":"IFERROR(__xludf.DUMMYFUNCTION(\"\"\"COMPUTED_VALUE\"\"\"),\"Reste\")","v":"Reste"}]
[{"$f":"IFERROR(__xludf.DUMMYFUNCTION(\"\"\"COMPUTED_VALUE\"\"\"),45303.0)","v":"2024-01-12"},{"$f":"IFERROR(__xludf.DUMMYFUNCTION(\"\"\"COMPUTED_VALUE\"\"\"),\"Goury\")","v":"Goury"},{"$f":"IFERROR(__xludf.DUMMYFUNCTION(\"\"\"COMPUTED_VALUE\"\"\"),\"Fabien\")","v":"Fabien"},{"$f":"IFERROR(__xludf.DUMMYFUNCTION(\"\"\"COMPUTED_VALUE\"\"\"),\"H\")","v":"H"},{"$f":"IFERROR(__xludf.DUMMYFUNCTION(\"\"\"COMPUTED_VALUE\"\"\"),33.0)","v":33},{"$f":"IFERROR(__xludf.DUMMYFUNCTION(\"\"\"COMPUTED_VALUE\"\"\"),\"gouryfabien@gmail.com\")","v":"gouryfabien@gmail.com"},{"$f":"IFERROR(__xludf.DUMMYFUNCTION(\"\"\"COMPUTED_VALUE\"\"\"),\"Fabien Laerin\")","v":"Fabien Laerin"},{"$f":"IFERROR(__xludf.DUMMYFUNCTION(\"\"\"COMPUTED_VALUE\"\"\"),\"0623498552\")","v":"0623498552"},{"$f":"IFERROR(__xludf.DUMMYFUNCTION(\"\"\"COMPUTED_VALUE\"\"\"),\"Pur PJ\")","v":"Pur PJ"},{"$f":"IFERROR(__xludf.DUMMYFUNCTION(\"\"\"COMPUTED_VALUE\"\"\"),\"-\")","v":"-"},{"$f":"IFERROR(__xludf.DUMMYFUNCTION(\"\"\"COMPUTED_VALUE\"\"\"),\"Non précisé\")","v":"Non précisé"},{"$f":"IFERROR(__xludf.DUMMYFUNCTION(\"\"\"COMPUTED_VALUE\"\"\"),\"Navire et fort\")","v":"Navire et fort"},{"$f":"IFERROR(__xludf.DUMMYFUNCTION(\"\"\"COMPUTED_VALUE\"\"\"),\"OK\")","v":"OK"},{"$f":"IFERROR(__xludf.DUMMYFUNCTION(\"\"\"COMPUTED_VALUE\"\"\"),\"OK\")","v":"OK"},{"$f":"IFERROR(__xludf.DUMMYFUNCTION(\"\"\"COMPUTED_VALUE\"\"\"),\"juin\")","v":"juin"},{"$f":"IFERROR(__xludf.DUMMYFUNCTION(\"\"\"COMPUTED_VALUE\"\"\"),\"Navire & Fort\")","v":"Navire & Fort"},{"$f":"IFERROR(__xludf.DUMMYFUNCTION(\"\"\"COMPUTED_VALUE\"\"\"),133.5)","v":133.5},{"$f":"IFERROR(__xludf.DUMMYFUNCTION(\"\"\"COMPUTED_VALUE\"\"\"),\"PAF partielle\")","v":"PAF partielle"},{"$f":"IFERROR(__xludf.DUMMYFUNCTION(\"\"\"COMPUTED_VALUE\"\"\"),\"non reçue\")","v":"non reçue"},{"$f":"IFERROR(__xludf.DUMMYFUNCTION(\"\"\"COMPUTED_VALUE\"\"\"),\"R.A.S.\")","v":"R.A.S."},{"$f":"IFERROR(__xludf.DUMMYFUNCTION(\"\"\"COMPUTED_VALUE\"\"\"),\"samedi\")","v":"samedi"},{"$f":"IFERROR(__xludf.DUMMYFUNCTION(\"\"\"COMPUTED_VALUE\"\"\"),\"Reste\")","v":"Reste"}]
[{"$f":"IFERROR(__xludf.DUMMYFUNCTION(\"\"\"COMPUTED_VALUE\"\"\"),45303.0)","v":"2024-01-12"},{"$f":"IFERROR(__xludf.DUMMYFUNCTION(\"\"\"COMPUTED_VALUE\"\"\"),\"Lucarelli\")","v":"Lucarelli"},{"$f":"IFERROR(__xludf.DUMMYFUNCTION(\"\"\"COMPUTED_VALUE\"\"\"),\"Jean-Yves\")","v":"Jean-Yves"},{"$f":"IFERROR(__xludf.DUMMYFUNCTION(\"\"\"COMPUTED_VALUE\"\"\"),\"H\")","v":"H"},{"$f":"IFERROR(__xludf.DUMMYFUNCTION(\"\"\"COMPUTED_VALUE\"\"\"),39.0)","v":39},{"$f":"IFERROR(__xludf.DUMMYFUNCTION(\"\"\"COMPUTED_VALUE\"\"\"),\"lucarelli.jy@gmail.com\")","v":"lucarelli.jy@gmail.com"},{"$f":"IFERROR(__xludf.DUMMYFUNCTION(\"\"\"COMPUTED_VALUE\"\"\"),\"Jean-Yves LC\")","v":"Jean-Yves LC"},{"$f":"IFERROR(__xludf.DUMMYFUNCTION(\"\"\"COMPUTED_VALUE\"\"\"),\"0667748530\")","v":"0667748530"},{"$f":"IFERROR(__xludf.DUMMYFUNCTION(\"\"\"COMPUTED_VALUE\"\"\"),\"Pur PJ\")","v":"Pur PJ"},{"$f":"IFERROR(__xludf.DUMMYFUNCTION(\"\"\"COMPUTED_VALUE\"\"\"),\"-\")","v":"-"},{"$f":"IFERROR(__xludf.DUMMYFUNCTION(\"\"\"COMPUTED_VALUE\"\"\"),\"juin\")","v":"juin"},{"$f":"IFERROR(__xludf.DUMMYFUNCTION(\"\"\"COMPUTED_VALUE\"\"\"),\"Navire et fort\")","v":"Navire et fort"},{"$f":"IFERROR(__xludf.DUMMYFUNCTION(\"\"\"COMPUTED_VALUE\"\"\"),\"OK\")","v":"OK"},{"$f":"IFERROR(__xludf.DUMMYFUNCTION(\"\"\"COMPUTED_VALUE\"\"\"),\"OK\")","v":"OK"},{"$f":"IFERROR(__xludf.DUMMYFUNCTION(\"\"\"COMPUTED_VALUE\"\"\"),\"juin\")","v":"juin"},{"$f":"IFERROR(__xludf.DUMMYFUNCTION(\"\"\"COMPUTED_VALUE\"\"\"),\"Navire & Fort\")","v":"Navire & Fort"},{"$f":"IFERROR(__xludf.DUMMYFUNCTION(\"\"\"COMPUTED_VALUE\"\"\"),400.0)","v":400},{"$f":"IFERROR(__xludf.DUMMYFUNCTION(\"\"\"COMPUTED_VALUE\"\"\"),\"PAF finalisée\")","v":"PAF finalisée"},{"$f":"IFERROR(__xludf.DUMMYFUNCTION(\"\"\"COMPUTED_VALUE\"\"\"),\"non reçue\")","v":"non reçue"},{"$f":"IFERROR(__xludf.DUMMYFUNCTION(\"\"\"COMPUTED_VALUE\"\"\"),\"R.A.S.\")","v":"R.A.S."},{"$f":"IFERROR(__xludf.DUMMYFUNCTION(\"\"\"COMPUTED_VALUE\"\"\"),\"samedi\")","v":"samedi"},{"$f":"IFERROR(__xludf.DUMMYFUNCTION(\"\"\"COMPUTED_VALUE\"\"\"),\"Reste\")","v":"Reste"}]
[{"$f":"IFERROR(__xludf.DUMMYFUNCTION(\"\"\"COMPUTED_VALUE\"\"\"),45332.0)","v":"2024-02-10"},{"$f":"IFERROR(__xludf.DUMMYFUNCTION(\"\"\"COMPUTED_VALUE\"\"\"),\"Piodella\")","v":"Piodella"},{"$f":"IFERROR(__xludf.DUMMYFUNCTION(\"\"\"COMPUTED_VALUE\"\"\"),\"Geoffrey\")","v":"Geoffrey"},{"$f":"IFERROR(__xludf.DUMMYFUNCTION(\"\"\"COMPUTED_VALUE\"\"\"),\"H\")","v":"H"},{"$f":"IFERROR(__xludf.DUMMYFUNCTION(\"\"\"COMPUTED_VALUE\"\"\"),34.0)","v":34},{"$f":"IFERROR(__xludf.DUMMYFUNCTION(\"\"\"COMPUTED_VALUE\"\"\"),\"piodella-geoffrey@hotmail.fr\")","v":"piodella-geoffrey@hotmail.fr"},{"$f":"IFERROR(__xludf.DUMMYFUNCTION(\"\"\"COMPUTED_VALUE\"\"\"),\"Geoffrey piodella\")","v":"Geoffrey piodella"},{"$f":"IFERROR(__xludf.DUMMYFUNCTION(\"\"\"COMPUTED_VALUE\"\"\"),\"0670631495\")","v":"0670631495"},{"$f":"IFERROR(__xludf.DUMMYFUNCTION(\"\"\"COMPUTED_VALUE\"\"\"),\"PJ+PNJ\")","v":"PJ+PNJ"},{"$f":"IFERROR(__xludf.DUMMYFUNCTION(\"\"\"COMPUTED_VALUE\"\"\"),\"-\")","v":"-"},{"$f":"IFERROR(__xludf.DUMMYFUNCTION(\"\"\"COMPUTED_VALUE\"\"\"),\"Non précisé\")","v":"Non précisé"},{"$f":"IFERROR(__xludf.DUMMYFUNCTION(\"\"\"COMPUTED_VALUE\"\"\"),\"Navire et fort\")","v":"Navire et fort"},{"$f":"IFERROR(__xludf.DUMMYFUNCTION(\"\"\"COMPUTED_VALUE\"\"\"),\"OK\")","v":"OK"},{"$f":"IFERROR(__xludf.DUMMYFUNCTION(\"\"\"COMPUTED_VALUE\"\"\"),\"OK\")","v":"OK"},{"$f":"IFERROR(__xludf.DUMMYFUNCTION(\"\"\"COMPUTED_VALUE\"\"\"),\"juin\")","v":"juin"},{"$f":"IFERROR(__xludf.DUMMYFUNCTION(\"\"\"COMPUTED_VALUE\"\"\"),\"Navire & Fort\")","v":"Navire & Fort"},{"$f":"IFERROR(__xludf.DUMMYFUNCTION(\"\"\"COMPUTED_VALUE\"\"\"),0.0)","v":0},{"$f":"IFERROR(__xludf.DUMMYFUNCTION(\"\"\"COMPUTED_VALUE\"\"\"),\"gratuit\")","v":"gratuit"},{"$f":"IFERROR(__xludf.DUMMYFUNCTION(\"\"\"COMPUTED_VALUE\"\"\"),\"non reçue\")","v":"non reçue"},{"$f":"IFERROR(__xludf.DUMMYFUNCTION(\"\"\"COMPUTED_VALUE\"\"\"),\"R.A.S.\")","v":"R.A.S."},{"$f":"IFERROR(__xludf.DUMMYFUNCTION(\"\"\"COMPUTED_VALUE\"\"\"),\"samedi\")","v":"samedi"},{"$f":"IFERROR(__xludf.DUMMYFUNCTION(\"\"\"COMPUTED_VALUE\"\"\"),\"Reste\")","v":"Reste"}]
[{"$f":"IFERROR(__xludf.DUMMYFUNCTION(\"\"\"COMPUTED_VALUE\"\"\"),45332.0)","v":"2024-02-10"},{"$f":"IFERROR(__xludf.DUMMYFUNCTION(\"\"\"COMPUTED_VALUE\"\"\"),\"Trocquet\")","v":"Trocquet"},{"$f":"IFERROR(__xludf.DUMMYFUNCTION(\"\"\"COMPUTED_VALUE\"\"\"),\"Daniel\")","v":"Daniel"},{"$f":"IFERROR(__xludf.DUMMYFUNCTION(\"\"\"COMPUTED_VALUE\"\"\"),\"H\")","v":"H"},{"$f":"IFERROR(__xludf.DUMMYFUNCTION(\"\"\"COMPUTED_VALUE\"\"\"),74.0)","v":74},{"$f":"IFERROR(__xludf.DUMMYFUNCTION(\"\"\"COMPUTED_VALUE\"\"\"),\"trocquetdaniel@gmail.com\")","v":"trocquetdaniel@gmail.com"},{"$f":"IFERROR(__xludf.DUMMYFUNCTION(\"\"\"COMPUTED_VALUE\"\"\"),\"Cui-cui\")","v":"Cui-cui"},{"$f":"IFERROR(__xludf.DUMMYFUNCTION(\"\"\"COMPUTED_VALUE\"\"\"),\"0762920768\")","v":"0762920768"},{"$f":"IFERROR(__xludf.DUMMYFUNCTION(\"\"\"COMPUTED_VALUE\"\"\"),\"PJ+PNJ\")","v":"PJ+PNJ"},{"$f":"IFERROR(__xludf.DUMMYFUNCTION(\"\"\"COMPUTED_VALUE\"\"\"),\"-\")","v":"-"},{"$f":"IFERROR(__xludf.DUMMYFUNCTION(\"\"\"COMPUTED_VALUE\"\"\"),\"juin\")","v":"juin"},{"$f":"IFERROR(__xludf.DUMMYFUNCTION(\"\"\"COMPUTED_VALUE\"\"\"),\"Navire et fort\")","v":"Navire et fort"},{"$f":"IFERROR(__xludf.DUMMYFUNCTION(\"\"\"COMPUTED_VALUE\"\"\"),\"OK\")","v":"OK"},{"$f":"IFERROR(__xludf.DUMMYFUNCTION(\"\"\"COMPUTED_VALUE\"\"\"),\"OK\")","v":"OK"},{"$f":"IFERROR(__xludf.DUMMYFUNCTION(\"\"\"COMPUTED_VALUE\"\"\"),\"juin\")","v":"juin"},{"$f":"IFERROR(__xludf.DUMMYFUNCTION(\"\"\"COMPUTED_VALUE\"\"\"),\"Navire & Fort\")","v":"Navire & Fort"},{"$f":"IFERROR(__xludf.DUMMYFUNCTION(\"\"\"COMPUTED_VALUE\"\"\"),400.0)","v":400},{"$f":"IFERROR(__xludf.DUMMYFUNCTION(\"\"\"COMPUTED_VALUE\"\"\"),\"PAF finalisée\")","v":"PAF finalisée"},{"$f":"IFERROR(__xludf.DUMMYFUNCTION(\"\"\"COMPUTED_VALUE\"\"\"),\"non reçue\")","v":"non reçue"},{"$f":"IFERROR(__xludf.DUMMYFUNCTION(\"\"\"COMPUTED_VALUE\"\"\"),\"R.A.S.\")","v":"R.A.S."},{"$f":"IFERROR(__xludf.DUMMYFUNCTION(\"\"\"COMPUTED_VALUE\"\"\"),\"samedi\")","v":"samedi"},{"$f":"IFERROR(__xludf.DUMMYFUNCTION(\"\"\"COMPUTED_VALUE\"\"\"),\"Reste\")","v":"Reste"}]
[{"$f":"IFERROR(__xludf.DUMMYFUNCTION(\"\"\"COMPUTED_VALUE\"\"\"),45494.0)","v":"2024-07-21"},{"$f":"IFERROR(__xludf.DUMMYFUNCTION(\"\"\"COMPUTED_VALUE\"\"\"),\"Lallier \")","v":"Lallier "},{"$f":"IFERROR(__xludf.DUMMYFUNCTION(\"\"\"COMPUTED_VALUE\"\"\"),\"Frédéric \")","v":"Frédéric "},{"$f":"IFERROR(__xludf.DUMMYFUNCTION(\"\"\"COMPUTED_VALUE\"\"\"),\"H\")","v":"H"},{"$f":"IFERROR(__xludf.DUMMYFUNCTION(\"\"\"COMPUTED_VALUE\"\"\"),54.0)","v":54},{"$f":"IFERROR(__xludf.DUMMYFUNCTION(\"\"\"COMPUTED_VALUE\"\"\"),\"lallierf@gmail.com\")","v":"lallierf@gmail.com"},{"$f":"IFERROR(__xludf.DUMMYFUNCTION(\"\"\"COMPUTED_VALUE\"\"\"),\"Fred lorelyn loretoile\")","v":"Fred lorelyn loretoile"},{"$f":"IFERROR(__xludf.DUMMYFUNCTION(\"\"\"COMPUTED_VALUE\"\"\"),\"0611029361\")","v":"0611029361"},{"$f":"IFERROR(__xludf.DUMMYFUNCTION(\"\"\"COMPUTED_VALUE\"\"\"),\"Pur PJ\")","v":"Pur PJ"},{"$f":"IFERROR(__xludf.DUMMYFUNCTION(\"\"\"COMPUTED_VALUE\"\"\"),\"-\")","v":"-"},{"$f":"IFERROR(__xludf.DUMMYFUNCTION(\"\"\"COMPUTED_VALUE\"\"\"),\"juin\")","v":"juin"},{"$f":"IFERROR(__xludf.DUMMYFUNCTION(\"\"\"COMPUTED_VALUE\"\"\"),\"Navire et fort\")","v":"Navire et fort"},{"$f":"IFERROR(__xludf.DUMMYFUNCTION(\"\"\"COMPUTED_VALUE\"\"\"),\"OK\")","v":"OK"},{"$f":"IFERROR(__xludf.DUMMYFUNCTION(\"\"\"COMPUTED_VALUE\"\"\"),\"OK\")","v":"OK"},{"$f":"IFERROR(__xludf.DUMMYFUNCTION(\"\"\"COMPUTED_VALUE\"\"\"),\"juin\")","v":"juin"},{"$f":"IFERROR(__xludf.DUMMYFUNCTION(\"\"\"COMPUTED_VALUE\"\"\"),\"Navire & Fort\")","v":"Navire & Fort"},{"$f":"IFERROR(__xludf.DUMMYFUNCTION(\"\"\"COMPUTED_VALUE\"\"\"),400.0)","v":400},{"$f":"IFERROR(__xludf.DUMMYFUNCTION(\"\"\"COMPUTED_VALUE\"\"\"),\"PAF finalisée\")","v":"PAF finalisée"},{"$f":"IFERROR(__xludf.DUMMYFUNCTION(\"\"\"COMPUTED_VALUE\"\"\"),\"non reçue\")","v":"non reçue"},{"$f":"IFERROR(__xludf.DUMMYFUNCTION(\"\"\"COMPUTED_VALUE\"\"\"),\"R.A.S.\")","v":"R.A.S."},{"$f":"IFERROR(__xludf.DUMMYFUNCTION(\"\"\"COMPUTED_VALUE\"\"\"),\"samedi\")","v":"samedi"},{"$f":"IFERROR(__xludf.DUMMYFUNCTION(\"\"\"COMPUTED_VALUE\"\"\"),\"Reste\")","v":"Reste"}]
[{"$f":"IFERROR(__xludf.DUMMYFUNCTION(\"\"\"COMPUTED_VALUE\"\"\"),45494.0)","v":"2024-07-21"},{"$f":"IFERROR(__xludf.DUMMYFUNCTION(\"\"\"COMPUTED_VALUE\"\"\"),\"Brule\")","v":"Brule"},{"$f":"IFERROR(__xludf.DUMMYFUNCTION(\"\"\"COMPUTED_VALUE\"\"\"),\"Mélanie \")","v":"Mélanie "},{"$f":"IFERROR(__xludf.DUMMYFUNCTION(\"\"\"COMPUTED_VALUE\"\"\"),\"F\")","v":"F"},{"$f":"IFERROR(__xludf.DUMMYFUNCTION(\"\"\"COMPUTED_VALUE\"\"\"),23.0)","v":23},{"$f":"IFERROR(__xludf.DUMMYFUNCTION(\"\"\"COMPUTED_VALUE\"\"\"),\"melanie.brule1906@orange.fr\")","v":"melanie.brule1906@orange.fr"},{"$f":"IFERROR(__xludf.DUMMYFUNCTION(\"\"\"COMPUTED_VALUE\"\"\"),\"Mélanie BRULE \")","v":"Mélanie BRULE "},{"$f":"IFERROR(__xludf.DUMMYFUNCTION(\"\"\"COMPUTED_VALUE\"\"\"),\"0762198427\")","v":"0762198427"},{"$f":"IFERROR(__xludf.DUMMYFUNCTION(\"\"\"COMPUTED_VALUE\"\"\"),\"PJ+PNJ\")","v":"PJ+PNJ"},{"$f":"IFERROR(__xludf.DUMMYFUNCTION(\"\"\"COMPUTED_VALUE\"\"\"),\"-\")","v":"-"},{"$f":"IFERROR(__xludf.DUMMYFUNCTION(\"\"\"COMPUTED_VALUE\"\"\"),\"Non précisé\")","v":"Non précisé"},{"$f":"IFERROR(__xludf.DUMMYFUNCTION(\"\"\"COMPUTED_VALUE\"\"\"),\"Navire et fort\")","v":"Navire et fort"},{"$f":"IFERROR(__xludf.DUMMYFUNCTION(\"\"\"COMPUTED_VALUE\"\"\"),\"OK\")","v":"OK"},{"$f":"IFERROR(__xludf.DUMMYFUNCTION(\"\"\"COMPUTED_VALUE\"\"\"),\"OK\")","v":"OK"},{"$f":"IFERROR(__xludf.DUMMYFUNCTION(\"\"\"COMPUTED_VALUE\"\"\"),\"juin\")","v":"juin"},{"$f":"IFERROR(__xludf.DUMMYFUNCTION(\"\"\"COMPUTED_VALUE\"\"\"),\"Navire & Fort\")","v":"Navire & Fort"},{"$f":"IFERROR(__xludf.DUMMYFUNCTION(\"\"\"COMPUTED_VALUE\"\"\"),400.0)","v":400},{"$f":"IFERROR(__xludf.DUMMYFUNCTION(\"\"\"COMPUTED_VALUE\"\"\"),\"PAF finalisée\")","v":"PAF finalisée"},{"$f":"IFERROR(__xludf.DUMMYFUNCTION(\"\"\"COMPUTED_VALUE\"\"\"),\"non reçue\")","v":"non reçue"},{"$f":"IFERROR(__xludf.DUMMYFUNCTION(\"\"\"COMPUTED_VALUE\"\"\"),\"R.A.S.\")","v":"R.A.S."},{"$f":"IFERROR(__xludf.DUMMYFUNCTION(\"\"\"COMPUTED_VALUE\"\"\"),\"samedi\")","v":"samedi"},{"$f":"IFERROR(__xludf.DUMMYFUNCTION(\"\"\"COMPUTED_VALUE\"\"\"),\"Reste\")","v":"Reste"}]
[{"$f":"IFERROR(__xludf.DUMMYFUNCTION(\"\"\"COMPUTED_VALUE\"\"\"),45495.0)","v":"2024-07-22"},{"$f":"IFERROR(__xludf.DUMMYFUNCTION(\"\"\"COMPUTED_VALUE\"\"\"),\"le merdy\")","v":"le merdy"},{"$f":"IFERROR(__xludf.DUMMYFUNCTION(\"\"\"COMPUTED_VALUE\"\"\"),\"claire\")","v":"claire"},{"$f":"IFERROR(__xludf.DUMMYFUNCTION(\"\"\"COMPUTED_VALUE\"\"\"),\"F\")","v":"F"},{"$f":"IFERROR(__xludf.DUMMYFUNCTION(\"\"\"COMPUTED_VALUE\"\"\"),32.0)","v":32},{"$f":"IFERROR(__xludf.DUMMYFUNCTION(\"\"\"COMPUTED_VALUE\"\"\"),\"claire.lem@hotmail.fr\")","v":"claire.lem@hotmail.fr"},{"$f":"IFERROR(__xludf.DUMMYFUNCTION(\"\"\"COMPUTED_VALUE\"\"\"),\"claire LM\")","v":"claire LM"},{"$f":"IFERROR(__xludf.DUMMYFUNCTION(\"\"\"COMPUTED_VALUE\"\"\"),\"674802559\")","v":"674802559"},{"$f":"IFERROR(__xludf.DUMMYFUNCTION(\"\"\"COMPUTED_VALUE\"\"\"),\"PNJ\")","v":"PNJ"},{"$f":"IFERROR(__xludf.DUMMYFUNCTION(\"\"\"COMPUTED_VALUE\"\"\"),\"-\")","v":"-"},{"$f":"IFERROR(__xludf.DUMMYFUNCTION(\"\"\"COMPUTED_VALUE\"\"\"),\"Les deux\")","v":"Les deux"},{"$f":"IFERROR(__xludf.DUMMYFUNCTION(\"\"\"COMPUTED_VALUE\"\"\"),\"Peu importe\")","v":"Peu importe"},{"$f":"IFERROR(__xludf.DUMMYFUNCTION(\"\"\"COMPUTED_VALUE\"\"\"),\"OK\")","v":"OK"},{"$f":"IFERROR(__xludf.DUMMYFUNCTION(\"\"\"COMPUTED_VALUE\"\"\"),\"OK\")","v":"OK"},{"$f":"IFERROR(__xludf.DUMMYFUNCTION(\"\"\"COMPUTED_VALUE\"\"\"),\"juin\")","v":"juin"},{"$f":"IFERROR(__xludf.DUMMYFUNCTION(\"\"\"COMPUTED_VALUE\"\"\"),\"Fort seulement\")","v":"Fort seulement"},null,{"$f":"IFERROR(__xludf.DUMMYFUNCTION(\"\"\"COMPUTED_VALUE\"\"\"),\"PAF non reçue\")","v":"PAF non reçue"},{"$f":"IFERROR(__xludf.DUMMYFUNCTION(\"\"\"COMPUTED_VALUE\"\"\"),\"non reçue\")","v":"non reçue"},{"$f":"IFERROR(__xludf.DUMMYFUNCTION(\"\"\"COMPUTED_VALUE\"\"\"),\"R.A.S.\")","v":"R.A.S."},{"$f":"IFERROR(__xludf.DUMMYFUNCTION(\"\"\"COMPUTED_VALUE\"\"\"),\"samedi\")","v":"samedi"},{"$f":"IFERROR(__xludf.DUMMYFUNCTION(\"\"\"COMPUTED_VALUE\"\"\"),\"Reste\")","v":"Reste"}]
[{"$f":"IFERROR(__xludf.DUMMYFUNCTION(\"\"\"COMPUTED_VALUE\"\"\"),45495.0)","v":"2024-07-22"},{"$f":"IFERROR(__xludf.DUMMYFUNCTION(\"\"\"COMPUTED_VALUE\"\"\"),\"Gayot\")","v":"Gayot"},{"$f":"IFERROR(__xludf.DUMMYFUNCTION(\"\"\"COMPUTED_VALUE\"\"\"),\"Eléna\")","v":"Eléna"},{"$f":"IFERROR(__xludf.DUMMYFUNCTION(\"\"\"COMPUTED_VALUE\"\"\"),\"F\")","v":"F"},{"$f":"IFERROR(__xludf.DUMMYFUNCTION(\"\"\"COMPUTED_VALUE\"\"\"),25.0)","v":25},{"$f":"IFERROR(__xludf.DUMMYFUNCTION(\"\"\"COMPUTED_VALUE\"\"\"),\"elena.gayot@gmail.com\")","v":"elena.gayot@gmail.com"},{"$f":"IFERROR(__xludf.DUMMYFUNCTION(\"\"\"COMPUTED_VALUE\"\"\"),\"Eléna Gayot\")","v":"Eléna Gayot"},{"$f":"IFERROR(__xludf.DUMMYFUNCTION(\"\"\"COMPUTED_VALUE\"\"\"),\"0750498366\")","v":"0750498366"},{"$f":"IFERROR(__xludf.DUMMYFUNCTION(\"\"\"COMPUTED_VALUE\"\"\"),\"Pur PJ\")","v":"Pur PJ"},{"$f":"IFERROR(__xludf.DUMMYFUNCTION(\"\"\"COMPUTED_VALUE\"\"\"),\"-\")","v":"-"},{"$f":"IFERROR(__xludf.DUMMYFUNCTION(\"\"\"COMPUTED_VALUE\"\"\"),\"juin\")","v":"juin"},{"$f":"IFERROR(__xludf.DUMMYFUNCTION(\"\"\"COMPUTED_VALUE\"\"\"),\"Navire et fort\")","v":"Navire et fort"},{"$f":"IFERROR(__xludf.DUMMYFUNCTION(\"\"\"COMPUTED_VALUE\"\"\"),\"OK\")","v":"OK"},{"$f":"IFERROR(__xludf.DUMMYFUNCTION(\"\"\"COMPUTED_VALUE\"\"\"),\"OK\")","v":"OK"},{"$f":"IFERROR(__xludf.DUMMYFUNCTION(\"\"\"COMPUTED_VALUE\"\"\"),\"juin\")","v":"juin"},{"$f":"IFERROR(__xludf.DUMMYFUNCTION(\"\"\"COMPUTED_VALUE\"\"\"),\"Navire & Fort\")","v":"Navire & Fort"},{"$f":"IFERROR(__xludf.DUMMYFUNCTION(\"\"\"COMPUTED_VALUE\"\"\"),267.0)","v":267},{"$f":"IFERROR(__xludf.DUMMYFUNCTION(\"\"\"COMPUTED_VALUE\"\"\"),\"PAF partielle\")","v":"PAF partielle"},{"$f":"IFERROR(__xludf.DUMMYFUNCTION(\"\"\"COMPUTED_VALUE\"\"\"),\"non reçue\")","v":"non reçue"},{"$f":"IFERROR(__xludf.DUMMYFUNCTION(\"\"\"COMPUTED_VALUE\"\"\"),\"R.A.S.\")","v":"R.A.S."},{"$f":"IFERROR(__xludf.DUMMYFUNCTION(\"\"\"COMPUTED_VALUE\"\"\"),\"samedi\")","v":"samedi"},{"$f":"IFERROR(__xludf.DUMMYFUNCTION(\"\"\"COMPUTED_VALUE\"\"\"),\"Reste\")","v":"Reste"}]
[{"$f":"IFERROR(__xludf.DUMMYFUNCTION(\"\"\"COMPUTED_VALUE\"\"\"),45495.0)","v":"2024-07-22"},{"$f":"IFERROR(__xludf.DUMMYFUNCTION(\"\"\"COMPUTED_VALUE\"\"\"),\"cornu\")","v":"cornu"},{"$f":"IFERROR(__xludf.DUMMYFUNCTION(\"\"\"COMPUTED_VALUE\"\"\"),\"FRANCOISE\")","v":"FRANCOISE"},{"$f":"IFERROR(__xludf.DUMMYFUNCTION(\"\"\"COMPUTED_VALUE\"\"\"),\"F\")","v":"F"},{"$f":"IFERROR(__xludf.DUMMYFUNCTION(\"\"\"COMPUTED_VALUE\"\"\"),64.0)","v":64},{"$f":"IFERROR(__xludf.DUMMYFUNCTION(\"\"\"COMPUTED_VALUE\"\"\"),\"wamael@aol.com\")","v":"wamael@aol.com"},{"$f":"IFERROR(__xludf.DUMMYFUNCTION(\"\"\"COMPUTED_VALUE\"\"\"),\"Mamie Soaz\")","v":"Mamie Soaz"},{"$f":"IFERROR(__xludf.DUMMYFUNCTION(\"\"\"COMPUTED_VALUE\"\"\"),\"0681186863\")","v":"0681186863"},{"$f":"IFERROR(__xludf.DUMMYFUNCTION(\"\"\"COMPUTED_VALUE\"\"\"),\"PNJ\")","v":"PNJ"},{"$f":"IFERROR(__xludf.DUMMYFUNCTION(\"\"\"COMPUTED_VALUE\"\"\"),\"-\")","v":"-"},{"$f":"IFERROR(__xludf.DUMMYFUNCTION(\"\"\"COMPUTED_VALUE\"\"\"),\"Les deux\")","v":"Les deux"},{"$f":"IFERROR(__xludf.DUMMYFUNCTION(\"\"\"COMPUTED_VALUE\"\"\"),\"Navire et fort\")","v":"Navire et fort"},{"$f":"IFERROR(__xludf.DUMMYFUNCTION(\"\"\"COMPUTED_VALUE\"\"\"),\"OK\")","v":"OK"},{"$f":"IFERROR(__xludf.DUMMYFUNCTION(\"\"\"COMPUTED_VALUE\"\"\"),\"OK\")","v":"OK"},{"$f":"IFERROR(__xludf.DUMMYFUNCTION(\"\"\"COMPUTED_VALUE\"\"\"),\"juin\")","v":"juin"},{"$f":"IFERROR(__xludf.DUMMYFUNCTION(\"\"\"COMPUTED_VALUE\"\"\"),\"Fort seulement\")","v":"Fort seulement"},{"$f":"IFERROR(__xludf.DUMMYFUNCTION(\"\"\"COMPUTED_VALUE\"\"\"),66.7)","v":66.7},{"$f":"IFERROR(__xludf.DUMMYFUNCTION(\"\"\"COMPUTED_VALUE\"\"\"),\"PAF partielle + erreur\")","v":"PAF partielle + erreur"},{"$f":"IFERROR(__xludf.DUMMYFUNCTION(\"\"\"COMPUTED_VALUE\"\"\"),\"non reçue\")","v":"non reçue"},{"$f":"IFERROR(__xludf.DUMMYFUNCTION(\"\"\"COMPUTED_VALUE\"\"\"),\"R.A.S.\")","v":"R.A.S."},{"$f":"IFERROR(__xludf.DUMMYFUNCTION(\"\"\"COMPUTED_VALUE\"\"\"),\"samedi\")","v":"samedi"},{"$f":"IFERROR(__xludf.DUMMYFUNCTION(\"\"\"COMPUTED_VALUE\"\"\"),\"Reste\")","v":"Reste"}]
[{"$f":"IFERROR(__xludf.DUMMYFUNCTION(\"\"\"COMPUTED_VALUE\"\"\"),45496.0)","v":"2024-07-23"},{"$f":"IFERROR(__xludf.DUMMYFUNCTION(\"\"\"COMPUTED_VALUE\"\"\"),\"battung\")","v":"battung"},{"$f":"IFERROR(__xludf.DUMMYFUNCTION(\"\"\"COMPUTED_VALUE\"\"\"),\"coralie\")","v":"coralie"},{"$f":"IFERROR(__xludf.DUMMYFUNCTION(\"\"\"COMPUTED_VALUE\"\"\"),\"F\")","v":"F"},{"$f":"IFERROR(__xludf.DUMMYFUNCTION(\"\"\"COMPUTED_VALUE\"\"\"),34.0)","v":34},{"$f":"IFERROR(__xludf.DUMMYFUNCTION(\"\"\"COMPUTED_VALUE\"\"\"),\"corabattung@gmail.com\")","v":"corabattung@gmail.com"},{"$f":"IFERROR(__xludf.DUMMYFUNCTION(\"\"\"COMPUTED_VALUE\"\"\"),\"Cora la rousse\")","v":"Cora la rousse"},{"$f":"IFERROR(__xludf.DUMMYFUNCTION(\"\"\"COMPUTED_VALUE\"\"\"),\"0611246957\")","v":"0611246957"},{"$f":"IFERROR(__xludf.DUMMYFUNCTION(\"\"\"COMPUTED_VALUE\"\"\"),\"Pur PJ\")","v":"Pur PJ"},{"$f":"IFERROR(__xludf.DUMMYFUNCTION(\"\"\"COMPUTED_VALUE\"\"\"),\"-\")","v":"-"},{"$f":"IFERROR(__xludf.DUMMYFUNCTION(\"\"\"COMPUTED_VALUE\"\"\"),\"juin\")","v":"juin"},{"$f":"IFERROR(__xludf.DUMMYFUNCTION(\"\"\"COMPUTED_VALUE\"\"\"),\"Navire et fort\")","v":"Navire et fort"},{"$f":"IFERROR(__xludf.DUMMYFUNCTION(\"\"\"COMPUTED_VALUE\"\"\"),\"OK\")","v":"OK"},{"$f":"IFERROR(__xludf.DUMMYFUNCTION(\"\"\"COMPUTED_VALUE\"\"\"),\"OK\")","v":"OK"},{"$f":"IFERROR(__xludf.DUMMYFUNCTION(\"\"\"COMPUTED_VALUE\"\"\"),\"juin\")","v":"juin"},{"$f":"IFERROR(__xludf.DUMMYFUNCTION(\"\"\"COMPUTED_VALUE\"\"\"),\"Navire & Fort\")","v":"Navire & Fort"},{"$f":"IFERROR(__xludf.DUMMYFUNCTION(\"\"\"COMPUTED_VALUE\"\"\"),267.0)","v":267},{"$f":"IFERROR(__xludf.DUMMYFUNCTION(\"\"\"COMPUTED_VALUE\"\"\"),\"PAF partielle\")","v":"PAF partielle"},{"$f":"IFERROR(__xludf.DUMMYFUNCTION(\"\"\"COMPUTED_VALUE\"\"\"),\"non reçue\")","v":"non reçue"},{"$f":"IFERROR(__xludf.DUMMYFUNCTION(\"\"\"COMPUTED_VALUE\"\"\"),\"R.A.S.\")","v":"R.A.S."},{"$f":"IFERROR(__xludf.DUMMYFUNCTION(\"\"\"COMPUTED_VALUE\"\"\"),\"samedi\")","v":"samedi"},{"$f":"IFERROR(__xludf.DUMMYFUNCTION(\"\"\"COMPUTED_VALUE\"\"\"),\"Reste\")","v":"Reste"}]
[{"$f":"IFERROR(__xludf.DUMMYFUNCTION(\"\"\"COMPUTED_VALUE\"\"\"),45496.0)","v":"2024-07-23"},{"$f":"IFERROR(__xludf.DUMMYFUNCTION(\"\"\"COMPUTED_VALUE\"\"\"),\"FRACHON\")","v":"FRACHON"},{"$f":"IFERROR(__xludf.DUMMYFUNCTION(\"\"\"COMPUTED_VALUE\"\"\"),\"Aurélia\")","v":"Aurélia"},{"$f":"IFERROR(__xludf.DUMMYFUNCTION(\"\"\"COMPUTED_VALUE\"\"\"),\"F\")","v":"F"},{"$f":"IFERROR(__xludf.DUMMYFUNCTION(\"\"\"COMPUTED_VALUE\"\"\"),119.0)","v":119},{"$f":"IFERROR(__xludf.DUMMYFUNCTION(\"\"\"COMPUTED_VALUE\"\"\"),\"aureliafrachon@gmail.com\")","v":"aureliafrachon@gmail.com"},{"$f":"IFERROR(__xludf.DUMMYFUNCTION(\"\"\"COMPUTED_VALUE\"\"\"),\"Aurélia Frachon\")","v":"Aurélia Frachon"},{"$f":"IFERROR(__xludf.DUMMYFUNCTION(\"\"\"COMPUTED_VALUE\"\"\"),\"0643592580\")","v":"0643592580"},{"$f":"IFERROR(__xludf.DUMMYFUNCTION(\"\"\"COMPUTED_VALUE\"\"\"),\"PJ+PNJ\")","v":"PJ+PNJ"},{"$f":"IFERROR(__xludf.DUMMYFUNCTION(\"\"\"COMPUTED_VALUE\"\"\"),\"-\")","v":"-"},{"$f":"IFERROR(__xludf.DUMMYFUNCTION(\"\"\"COMPUTED_VALUE\"\"\"),\"juin\")","v":"juin"},{"$f":"IFERROR(__xludf.DUMMYFUNCTION(\"\"\"COMPUTED_VALUE\"\"\"),\"Navire et fort\")","v":"Navire et fort"},{"$f":"IFERROR(__xludf.DUMMYFUNCTION(\"\"\"COMPUTED_VALUE\"\"\"),\"OK\")","v":"OK"},{"$f":"IFERROR(__xludf.DUMMYFUNCTION(\"\"\"COMPUTED_VALUE\"\"\"),\"OK\")","v":"OK"},{"$f":"IFERROR(__xludf.DUMMYFUNCTION(\"\"\"COMPUTED_VALUE\"\"\"),\"juin\")","v":"juin"},{"$f":"IFERROR(__xludf.DUMMYFUNCTION(\"\"\"COMPUTED_VALUE\"\"\"),\"Navire & Fort\")","v":"Navire & Fort"},{"$f":"IFERROR(__xludf.DUMMYFUNCTION(\"\"\"COMPUTED_VALUE\"\"\"),267.0)","v":267},{"$f":"IFERROR(__xludf.DUMMYFUNCTION(\"\"\"COMPUTED_VALUE\"\"\"),\"PAF partielle\")","v":"PAF partielle"},{"$f":"IFERROR(__xludf.DUMMYFUNCTION(\"\"\"COMPUTED_VALUE\"\"\"),\"non reçue\")","v":"non reçue"},{"$f":"IFERROR(__xludf.DUMMYFUNCTION(\"\"\"COMPUTED_VALUE\"\"\"),\"R.A.S.\")","v":"R.A.S."},{"$f":"IFERROR(__xludf.DUMMYFUNCTION(\"\"\"COMPUTED_VALUE\"\"\"),\"samedi\")","v":"samedi"},{"$f":"IFERROR(__xludf.DUMMYFUNCTION(\"\"\"COMPUTED_VALUE\"\"\"),\"NON\")","v":"NON"}]
[{"$f":"IFERROR(__xludf.DUMMYFUNCTION(\"\"\"COMPUTED_VALUE\"\"\"),45496.0)","v":"2024-07-23"},{"$f":"IFERROR(__xludf.DUMMYFUNCTION(\"\"\"COMPUTED_VALUE\"\"\"),\"Cornu \")","v":"Cornu "},{"$f":"IFERROR(__xludf.DUMMYFUNCTION(\"\"\"COMPUTED_VALUE\"\"\"),\"Nathan\")","v":"Nathan"},{"$f":"IFERROR(__xludf.DUMMYFUNCTION(\"\"\"COMPUTED_VALUE\"\"\"),\"H\")","v":"H"},{"$f":"IFERROR(__xludf.DUMMYFUNCTION(\"\"\"COMPUTED_VALUE\"\"\"),30.0)","v":30},{"$f":"IFERROR(__xludf.DUMMYFUNCTION(\"\"\"COMPUTED_VALUE\"\"\"),\"nathancornu@gmail.com\")","v":"nathancornu@gmail.com"},{"$f":"IFERROR(__xludf.DUMMYFUNCTION(\"\"\"COMPUTED_VALUE\"\"\"),\"Nathan cornu\")","v":"Nathan cornu"},{"$f":"IFERROR(__xludf.DUMMYFUNCTION(\"\"\"COMPUTED_VALUE\"\"\"),\"0646031612\")","v":"0646031612"},{"$f":"IFERROR(__xludf.DUMMYFUNCTION(\"\"\"COMPUTED_VALUE\"\"\"),\"PNJ\")","v":"PNJ"},{"$f":"IFERROR(__xludf.DUMMYFUNCTION(\"\"\"COMPUTED_VALUE\"\"\"),\"-\")","v":"-"},{"$f":"IFERROR(__xludf.DUMMYFUNCTION(\"\"\"COMPUTED_VALUE\"\"\"),\"Les deux\")","v":"Les deux"},{"$f":"IFERROR(__xludf.DUMMYFUNCTION(\"\"\"COMPUTED_VALUE\"\"\"),\"Peu importe\")","v":"Peu importe"},{"$f":"IFERROR(__xludf.DUMMYFUNCTION(\"\"\"COMPUTED_VALUE\"\"\"),\"OK\")","v":"OK"},{"$f":"IFERROR(__xludf.DUMMYFUNCTION(\"\"\"COMPUTED_VALUE\"\"\"),\"OK\")","v":"OK"},{"$f":"IFERROR(__xludf.DUMMYFUNCTION(\"\"\"COMPUTED_VALUE\"\"\"),\"juin\")","v":"juin"},{"$f":"IFERROR(__xludf.DUMMYFUNCTION(\"\"\"COMPUTED_VALUE\"\"\"),\"Fort seulement\")","v":"Fort seulement"},null,{"$f":"IFERROR(__xludf.DUMMYFUNCTION(\"\"\"COMPUTED_VALUE\"\"\"),\"PAF non reçue\")","v":"PAF non reçue"},{"$f":"IFERROR(__xludf.DUMMYFUNCTION(\"\"\"COMPUTED_VALUE\"\"\"),\"non reçue\")","v":"non reçue"},{"$f":"IFERROR(__xludf.DUMMYFUNCTION(\"\"\"COMPUTED_VALUE\"\"\"),\"R.A.S.\")","v":"R.A.S."},{"$f":"IFERROR(__xludf.DUMMYFUNCTION(\"\"\"COMPUTED_VALUE\"\"\"),\"samedi\")","v":"samedi"},{"$f":"IFERROR(__xludf.DUMMYFUNCTION(\"\"\"COMPUTED_VALUE\"\"\"),\"Reste\")","v":"Reste"}]
[{"$f":"IFERROR(__xludf.DUMMYFUNCTION(\"\"\"COMPUTED_VALUE\"\"\"),45498.0)","v":"2024-07-25"},{"$f":"IFERROR(__xludf.DUMMYFUNCTION(\"\"\"COMPUTED_VALUE\"\"\"),\"BRANDELY\")","v":"BRANDELY"},{"$f":"IFERROR(__xludf.DUMMYFUNCTION(\"\"\"COMPUTED_VALUE\"\"\"),\"Guillaume\")","v":"Guillaume"},{"$f":"IFERROR(__xludf.DUMMYFUNCTION(\"\"\"COMPUTED_VALUE\"\"\"),\"H\")","v":"H"},{"$f":"IFERROR(__xludf.DUMMYFUNCTION(\"\"\"COMPUTED_VALUE\"\"\"),51.0)","v":51},{"$f":"IFERROR(__xludf.DUMMYFUNCTION(\"\"\"COMPUTED_VALUE\"\"\"),\"yom@mythoz.org\")","v":"yom@mythoz.org"},{"$f":"IFERROR(__xludf.DUMMYFUNCTION(\"\"\"COMPUTED_VALUE\"\"\"),\"Guillaume BRANDELY\")","v":"Guillaume BRANDELY"},{"$f":"IFERROR(__xludf.DUMMYFUNCTION(\"\"\"COMPUTED_VALUE\"\"\"),\"+33661799673\")","v":"+33661799673"},{"$f":"IFERROR(__xludf.DUMMYFUNCTION(\"\"\"COMPUTED_VALUE\"\"\"),\"Pur PJ\")","v":"Pur PJ"},{"$f":"IFERROR(__xludf.DUMMYFUNCTION(\"\"\"COMPUTED_VALUE\"\"\"),\"-\")","v":"-"},{"$f":"IFERROR(__xludf.DUMMYFUNCTION(\"\"\"COMPUTED_VALUE\"\"\"),\"Non précisé\")","v":"Non précisé"},{"$f":"IFERROR(__xludf.DUMMYFUNCTION(\"\"\"COMPUTED_VALUE\"\"\"),\"Navire et fort\")","v":"Navire et fort"},{"$f":"IFERROR(__xludf.DUMMYFUNCTION(\"\"\"COMPUTED_VALUE\"\"\"),\"OK\")","v":"OK"},{"$f":"IFERROR(__xludf.DUMMYFUNCTION(\"\"\"COMPUTED_VALUE\"\"\"),\"OK\")","v":"OK"},{"$f":"IFERROR(__xludf.DUMMYFUNCTION(\"\"\"COMPUTED_VALUE\"\"\"),\"juin\")","v":"juin"},{"$f":"IFERROR(__xludf.DUMMYFUNCTION(\"\"\"COMPUTED_VALUE\"\"\"),\"Navire & Fort\")","v":"Navire & Fort"},{"$f":"IFERROR(__xludf.DUMMYFUNCTION(\"\"\"COMPUTED_VALUE\"\"\"),272.0)","v":272},{"$f":"IFERROR(__xludf.DUMMYFUNCTION(\"\"\"COMPUTED_VALUE\"\"\"),\"PAF partielle\")","v":"PAF partielle"},{"$f":"IFERROR(__xludf.DUMMYFUNCTION(\"\"\"COMPUTED_VALUE\"\"\"),\"non reçue\")","v":"non reçue"},{"$f":"IFERROR(__xludf.DUMMYFUNCTION(\"\"\"COMPUTED_VALUE\"\"\"),\"R.A.S.\")","v":"R.A.S."},{"$f":"IFERROR(__xludf.DUMMYFUNCTION(\"\"\"COMPUTED_VALUE\"\"\"),\"samedi\")","v":"samedi"},{"$f":"IFERROR(__xludf.DUMMYFUNCTION(\"\"\"COMPUTED_VALUE\"\"\"),\"NON\")","v":"NON"}]
[{"$f":"IFERROR(__xludf.DUMMYFUNCTION(\"\"\"COMPUTED_VALUE\"\"\"),45499.0)","v":"2024-07-26"},{"$f":"IFERROR(__xludf.DUMMYFUNCTION(\"\"\"COMPUTED_VALUE\"\"\"),\"Birat \")","v":"Birat "},{"$f":"IFERROR(__xludf.DUMMYFUNCTION(\"\"\"COMPUTED_VALUE\"\"\"),\"Stéphanie \")","v":"Stéphanie "},{"$f":"IFERROR(__xludf.DUMMYFUNCTION(\"\"\"COMPUTED_VALUE\"\"\"),\"F\")","v":"F"},{"$f":"IFERROR(__xludf.DUMMYFUNCTION(\"\"\"COMPUTED_VALUE\"\"\"),35.0)","v":35},{"$f":"IFERROR(__xludf.DUMMYFUNCTION(\"\"\"COMPUTED_VALUE\"\"\"),\"birat.stephanie@gmail.com\")","v":"birat.stephanie@gmail.com"},{"$f":"IFERROR(__xludf.DUMMYFUNCTION(\"\"\"COMPUTED_VALUE\"\"\"),\"Steph birat\")","v":"Steph birat"},{"$f":"IFERROR(__xludf.DUMMYFUNCTION(\"\"\"COMPUTED_VALUE\"\"\"),\"695850677\")","v":"695850677"},{"$f":"IFERROR(__xludf.DUMMYFUNCTION(\"\"\"COMPUTED_VALUE\"\"\"),\"PJ+PNJ\")","v":"PJ+PNJ"},{"$f":"IFERROR(__xludf.DUMMYFUNCTION(\"\"\"COMPUTED_VALUE\"\"\"),\"-\")","v":"-"},{"$f":"IFERROR(__xludf.DUMMYFUNCTION(\"\"\"COMPUTED_VALUE\"\"\"),\"septembre\")","v":"septembre"},{"$f":"IFERROR(__xludf.DUMMYFUNCTION(\"\"\"COMPUTED_VALUE\"\"\"),\"Navire et fort\")","v":"Navire et fort"},{"$f":"IFERROR(__xludf.DUMMYFUNCTION(\"\"\"COMPUTED_VALUE\"\"\"),\"OK\")","v":"OK"},{"$f":"IFERROR(__xludf.DUMMYFUNCTION(\"\"\"COMPUTED_VALUE\"\"\"),\"OK\")","v":"OK"},{"$f":"IFERROR(__xludf.DUMMYFUNCTION(\"\"\"COMPUTED_VALUE\"\"\"),\"juin\")","v":"juin"},{"$f":"IFERROR(__xludf.DUMMYFUNCTION(\"\"\"COMPUTED_VALUE\"\"\"),\"Navire & Fort\")","v":"Navire & Fort"},{"$f":"IFERROR(__xludf.DUMMYFUNCTION(\"\"\"COMPUTED_VALUE\"\"\"),400.0)","v":400},{"$f":"IFERROR(__xludf.DUMMYFUNCTION(\"\"\"COMPUTED_VALUE\"\"\"),\"PAF finalisée\")","v":"PAF finalisée"},{"$f":"IFERROR(__xludf.DUMMYFUNCTION(\"\"\"COMPUTED_VALUE\"\"\"),\"non reçue\")","v":"non reçue"},{"$f":"IFERROR(__xludf.DUMMYFUNCTION(\"\"\"COMPUTED_VALUE\"\"\"),\"R.A.S.\")","v":"R.A.S."},{"$f":"IFERROR(__xludf.DUMMYFUNCTION(\"\"\"COMPUTED_VALUE\"\"\"),\"samedi\")","v":"samedi"},{"$f":"IFERROR(__xludf.DUMMYFUNCTION(\"\"\"COMPUTED_VALUE\"\"\"),\"Reste\")","v":"Reste"}]
[{"$f":"IFERROR(__xludf.DUMMYFUNCTION(\"\"\"COMPUTED_VALUE\"\"\"),45540.0)","v":"2024-09-05"},{"$f":"IFERROR(__xludf.DUMMYFUNCTION(\"\"\"COMPUTED_VALUE\"\"\"),\"Lallier\")","v":"Lallier"},{"$f":"IFERROR(__xludf.DUMMYFUNCTION(\"\"\"COMPUTED_VALUE\"\"\"),\"Olivier\")","v":"Olivier"},{"$f":"IFERROR(__xludf.DUMMYFUNCTION(\"\"\"COMPUTED_VALUE\"\"\"),\"H\")","v":"H"},{"$f":"IFERROR(__xludf.DUMMYFUNCTION(\"\"\"COMPUTED_VALUE\"\"\"),51.0)","v":51},{"$f":"IFERROR(__xludf.DUMMYFUNCTION(\"\"\"COMPUTED_VALUE\"\"\"),\"olivier.lallier@gmail.com\")","v":"olivier.lallier@gmail.com"},{"$f":"IFERROR(__xludf.DUMMYFUNCTION(\"\"\"COMPUTED_VALUE\"\"\"),\"Olivier sailoff\")","v":"Olivier sailoff"},{"$f":"IFERROR(__xludf.DUMMYFUNCTION(\"\"\"COMPUTED_VALUE\"\"\"),\"0627213127\")","v":"0627213127"},{"$f":"IFERROR(__xludf.DUMMYFUNCTION(\"\"\"COMPUTED_VALUE\"\"\"),\"PJ+PNJ\")","v":"PJ+PNJ"},{"$f":"IFERROR(__xludf.DUMMYFUNCTION(\"\"\"COMPUTED_VALUE\"\"\"),\"-\")","v":"-"},{"$f":"IFERROR(__xludf.DUMMYFUNCTION(\"\"\"COMPUTED_VALUE\"\"\"),\"juin\")","v":"juin"},{"$f":"IFERROR(__xludf.DUMMYFUNCTION(\"\"\"COMPUTED_VALUE\"\"\"),\"Peu importe\")","v":"Peu importe"},{"$f":"IFERROR(__xludf.DUMMYFUNCTION(\"\"\"COMPUTED_VALUE\"\"\"),\"OK\")","v":"OK"},{"$f":"IFERROR(__xludf.DUMMYFUNCTION(\"\"\"COMPUTED_VALUE\"\"\"),\"OK\")","v":"OK"},{"$f":"IFERROR(__xludf.DUMMYFUNCTION(\"\"\"COMPUTED_VALUE\"\"\"),\"juin\")","v":"juin"},{"$f":"IFERROR(__xludf.DUMMYFUNCTION(\"\"\"COMPUTED_VALUE\"\"\"),\"Navire & Fort\")","v":"Navire & Fort"},{"$f":"IFERROR(__xludf.DUMMYFUNCTION(\"\"\"COMPUTED_VALUE\"\"\"),267.0)","v":267},{"$f":"IFERROR(__xludf.DUMMYFUNCTION(\"\"\"COMPUTED_VALUE\"\"\"),\"PAF partielle\")","v":"PAF partielle"},{"$f":"IFERROR(__xludf.DUMMYFUNCTION(\"\"\"COMPUTED_VALUE\"\"\"),\"non reçue\")","v":"non reçue"},{"$f":"IFERROR(__xludf.DUMMYFUNCTION(\"\"\"COMPUTED_VALUE\"\"\"),\"R.A.S.\")","v":"R.A.S."},{"$f":"IFERROR(__xludf.DUMMYFUNCTION(\"\"\"COMPUTED_VALUE\"\"\"),\"samedi\")","v":"samedi"},{"$f":"IFERROR(__xludf.DUMMYFUNCTION(\"\"\"COMPUTED_VALUE\"\"\"),\"Reste\")","v":"Reste"}]
[{"$f":"IFERROR(__xludf.DUMMYFUNCTION(\"\"\"COMPUTED_VALUE\"\"\"),45540.0)","v":"2024-09-05"},{"$f":"IFERROR(__xludf.DUMMYFUNCTION(\"\"\"COMPUTED_VALUE\"\"\"),\"Lefebvre \")","v":"Lefebvre "},{"$f":"IFERROR(__xludf.DUMMYFUNCTION(\"\"\"COMPUTED_VALUE\"\"\"),\"Gregoire \")","v":"Gregoire "},{"$f":"IFERROR(__xludf.DUMMYFUNCTION(\"\"\"COMPUTED_VALUE\"\"\"),\"H\")","v":"H"},{"$f":"IFERROR(__xludf.DUMMYFUNCTION(\"\"\"COMPUTED_VALUE\"\"\"),51.0)","v":51},{"$f":"IFERROR(__xludf.DUMMYFUNCTION(\"\"\"COMPUTED_VALUE\"\"\"),\"gregoire.lefebvre38@gmail.com\")","v":"gregoire.lefebvre38@gmail.com"},{"$f":"IFERROR(__xludf.DUMMYFUNCTION(\"\"\"COMPUTED_VALUE\"\"\"),\"Grégoire Lefebvre \")","v":"Grégoire Lefebvre "},{"$f":"IFERROR(__xludf.DUMMYFUNCTION(\"\"\"COMPUTED_VALUE\"\"\"),\"0615337655\")","v":"0615337655"},{"$f":"IFERROR(__xludf.DUMMYFUNCTION(\"\"\"COMPUTED_VALUE\"\"\"),\"PJ+PNJ\")","v":"PJ+PNJ"},null,{"$f":"IFERROR(__xludf.DUMMYFUNCTION(\"\"\"COMPUTED_VALUE\"\"\"),\"juin\")","v":"juin"},{"$f":"IFERROR(__xludf.DUMMYFUNCTION(\"\"\"COMPUTED_VALUE\"\"\"),\"Peu importe\")","v":"Peu importe"},{"$f":"IFERROR(__xludf.DUMMYFUNCTION(\"\"\"COMPUTED_VALUE\"\"\"),\"OK\")","v":"OK"},{"$f":"IFERROR(__xludf.DUMMYFUNCTION(\"\"\"COMPUTED_VALUE\"\"\"),\"KO\")","v":"KO"},{"$f":"IFERROR(__xludf.DUMMYFUNCTION(\"\"\"COMPUTED_VALUE\"\"\"),\"juin\")","v":"juin"},{"$f":"IFERROR(__xludf.DUMMYFUNCTION(\"\"\"COMPUTED_VALUE\"\"\"),\"Fort seulement\")","v":"Fort seulement"},null,{"$f":"IFERROR(__xludf.DUMMYFUNCTION(\"\"\"COMPUTED_VALUE\"\"\"),\"PAF non reçue\")","v":"PAF non reçue"},{"$f":"IFERROR(__xludf.DUMMYFUNCTION(\"\"\"COMPUTED_VALUE\"\"\"),\"non reçue\")","v":"non reçue"},{"$f":"IFERROR(__xludf.DUMMYFUNCTION(\"\"\"COMPUTED_VALUE\"\"\"),\"R.A.S.\")","v":"R.A.S."},{"$f":"IFERROR(__xludf.DUMMYFUNCTION(\"\"\"COMPUTED_VALUE\"\"\"),\"samedi\")","v":"samedi"},{"$f":"IFERROR(__xludf.DUMMYFUNCTION(\"\"\"COMPUTED_VALUE\"\"\"),\"Reste\")","v":"Reste"}]
[{"$f":"IFERROR(__xludf.DUMMYFUNCTION(\"\"\"COMPUTED_VALUE\"\"\"),45542.0)","v":"2024-09-07"},{"$f":"IFERROR(__xludf.DUMMYFUNCTION(\"\"\"COMPUTED_VALUE\"\"\"),\"Abbé\")","v":"Abbé"},{"$f":"IFERROR(__xludf.DUMMYFUNCTION(\"\"\"COMPUTED_VALUE\"\"\"),\"Valentin \")","v":"Valentin "},{"$f":"IFERROR(__xludf.DUMMYFUNCTION(\"\"\"COMPUTED_VALUE\"\"\"),\"H\")","v":"H"},{"$f":"IFERROR(__xludf.DUMMYFUNCTION(\"\"\"COMPUTED_VALUE\"\"\"),31.0)","v":31},{"$f":"IFERROR(__xludf.DUMMYFUNCTION(\"\"\"COMPUTED_VALUE\"\"\"),\"abbe.valentin@gmail.com\")","v":"abbe.valentin@gmail.com"},{"$f":"IFERROR(__xludf.DUMMYFUNCTION(\"\"\"COMPUTED_VALUE\"\"\"),\"Abbé Valentin\")","v":"Abbé Valentin"},{"$f":"IFERROR(__xludf.DUMMYFUNCTION(\"\"\"COMPUTED_VALUE\"\"\"),\"0621641087\")","v":"0621641087"},{"$f":"IFERROR(__xludf.DUMMYFUNCTION(\"\"\"COMPUTED_VALUE\"\"\"),\"Pur PJ\")","v":"Pur PJ"},{"$f":"IFERROR(__xludf.DUMMYFUNCTION(\"\"\"COMPUTED_VALUE\"\"\"),\"-\")","v":"-"},{"$f":"IFERROR(__xludf.DUMMYFUNCTION(\"\"\"COMPUTED_VALUE\"\"\"),\"juin\")","v":"juin"},{"$f":"IFERROR(__xludf.DUMMYFUNCTION(\"\"\"COMPUTED_VALUE\"\"\"),\"Seulement au fort\")","v":"Seulement au fort"},{"$f":"IFERROR(__xludf.DUMMYFUNCTION(\"\"\"COMPUTED_VALUE\"\"\"),\"OK\")","v":"OK"},{"$f":"IFERROR(__xludf.DUMMYFUNCTION(\"\"\"COMPUTED_VALUE\"\"\"),\"OK\")","v":"OK"},{"$f":"IFERROR(__xludf.DUMMYFUNCTION(\"\"\"COMPUTED_VALUE\"\"\"),\"juin\")","v":"juin"},{"$f":"IFERROR(__xludf.DUMMYFUNCTION(\"\"\"COMPUTED_VALUE\"\"\"),\"Fort seulement\")","v":"Fort seulement"},{"$f":"IFERROR(__xludf.DUMMYFUNCTION(\"\"\"COMPUTED_VALUE\"\"\"),0.0)","v":0},{"$f":"IFERROR(__xludf.DUMMYFUNCTION(\"\"\"COMPUTED_VALUE\"\"\"),\"gratuit\")","v":"gratuit"},{"$f":"IFERROR(__xludf.DUMMYFUNCTION(\"\"\"COMPUTED_VALUE\"\"\"),\"non reçue\")","v":"non reçue"},{"$f":"IFERROR(__xludf.DUMMYFUNCTION(\"\"\"COMPUTED_VALUE\"\"\"),\"R.A.S.\")","v":"R.A.S."},{"$f":"IFERROR(__xludf.DUMMYFUNCTION(\"\"\"COMPUTED_VALUE\"\"\"),\"samedi\")","v":"samedi"},{"$f":"IFERROR(__xludf.DUMMYFUNCTION(\"\"\"COMPUTED_VALUE\"\"\"),\"Reste\")","v":"Reste"}]
[{"$f":"IFERROR(__xludf.DUMMYFUNCTION(\"\"\"COMPUTED_VALUE\"\"\"),45544.0)","v":"2024-09-09"},{"$f":"IFERROR(__xludf.DUMMYFUNCTION(\"\"\"COMPUTED_VALUE\"\"\"),\"Nicolet\")","v":"Nicolet"},{"$f":"IFERROR(__xludf.DUMMYFUNCTION(\"\"\"COMPUTED_VALUE\"\"\"),\"Robin\")","v":"Robin"},{"$f":"IFERROR(__xludf.DUMMYFUNCTION(\"\"\"COMPUTED_VALUE\"\"\"),\"H\")","v":"H"},{"$f":"IFERROR(__xludf.DUMMYFUNCTION(\"\"\"COMPUTED_VALUE\"\"\"),34.0)","v":34},{"$f":"IFERROR(__xludf.DUMMYFUNCTION(\"\"\"COMPUTED_VALUE\"\"\"),\"robin.nicolet@gadz.org\")","v":"robin.nicolet@gadz.org"},{"$f":"IFERROR(__xludf.DUMMYFUNCTION(\"\"\"COMPUTED_VALUE\"\"\"),\"Robin NCLT\")","v":"Robin NCLT"},{"$f":"IFERROR(__xludf.DUMMYFUNCTION(\"\"\"COMPUTED_VALUE\"\"\"),\"0615493964\")","v":"0615493964"},{"$f":"IFERROR(__xludf.DUMMYFUNCTION(\"\"\"COMPUTED_VALUE\"\"\"),\"Pur PJ\")","v":"Pur PJ"},{"$f":"IFERROR(__xludf.DUMMYFUNCTION(\"\"\"COMPUTED_VALUE\"\"\"),\"-\")","v":"-"},{"$f":"IFERROR(__xludf.DUMMYFUNCTION(\"\"\"COMPUTED_VALUE\"\"\"),\"juin\")","v":"juin"},{"$f":"IFERROR(__xludf.DUMMYFUNCTION(\"\"\"COMPUTED_VALUE\"\"\"),\"Navire et fort\")","v":"Navire et fort"},{"$f":"IFERROR(__xludf.DUMMYFUNCTION(\"\"\"COMPUTED_VALUE\"\"\"),\"OK\")","v":"OK"},{"$f":"IFERROR(__xludf.DUMMYFUNCTION(\"\"\"COMPUTED_VALUE\"\"\"),\"OK\")","v":"OK"},{"$f":"IFERROR(__xludf.DUMMYFUNCTION(\"\"\"COMPUTED_VALUE\"\"\"),\"juin\")","v":"juin"},{"$f":"IFERROR(__xludf.DUMMYFUNCTION(\"\"\"COMPUTED_VALUE\"\"\"),\"Navire & Fort\")","v":"Navire & Fort"},{"$f":"IFERROR(__xludf.DUMMYFUNCTION(\"\"\"COMPUTED_VALUE\"\"\"),400.0)","v":400},{"$f":"IFERROR(__xludf.DUMMYFUNCTION(\"\"\"COMPUTED_VALUE\"\"\"),\"PAF finalisée\")","v":"PAF finalisée"},{"$f":"IFERROR(__xludf.DUMMYFUNCTION(\"\"\"COMPUTED_VALUE\"\"\"),\"non reçue\")","v":"non reçue"},{"$f":"IFERROR(__xludf.DUMMYFUNCTION(\"\"\"COMPUTED_VALUE\"\"\"),\"R.A.S.\")","v":"R.A.S."},{"$f":"IFERROR(__xludf.DUMMYFUNCTION(\"\"\"COMPUTED_VALUE\"\"\"),\"samedi\")","v":"samedi"},{"$f":"IFERROR(__xludf.DUMMYFUNCTION(\"\"\"COMPUTED_VALUE\"\"\"),\"Reste\")","v":"Reste"}]
[{"$f":"IFERROR(__xludf.DUMMYFUNCTION(\"\"\"COMPUTED_VALUE\"\"\"),45544.0)","v":"2024-09-09"},{"$f":"IFERROR(__xludf.DUMMYFUNCTION(\"\"\"COMPUTED_VALUE\"\"\"),\"Guex\")","v":"Guex"},{"$f":"IFERROR(__xludf.DUMMYFUNCTION(\"\"\"COMPUTED_VALUE\"\"\"),\"Benjamin\")","v":"Benjamin"},{"$f":"IFERROR(__xludf.DUMMYFUNCTION(\"\"\"COMPUTED_VALUE\"\"\"),\"H\")","v":"H"},{"$f":"IFERROR(__xludf.DUMMYFUNCTION(\"\"\"COMPUTED_VALUE\"\"\"),33.0)","v":33},{"$f":"IFERROR(__xludf.DUMMYFUNCTION(\"\"\"COMPUTED_VALUE\"\"\"),\"benji91@netplus.ch\")","v":"benji91@netplus.ch"},{"$f":"IFERROR(__xludf.DUMMYFUNCTION(\"\"\"COMPUTED_VALUE\"\"\"),\"benjamin.guex\")","v":"benjamin.guex"},{"$f":"IFERROR(__xludf.DUMMYFUNCTION(\"\"\"COMPUTED_VALUE\"\"\"),\"+41792687562\")","v":"+41792687562"},{"$f":"IFERROR(__xludf.DUMMYFUNCTION(\"\"\"COMPUTED_VALUE\"\"\"),\"PJ+PNJ\")","v":"PJ+PNJ"},{"$f":"IFERROR(__xludf.DUMMYFUNCTION(\"\"\"COMPUTED_VALUE\"\"\"),\"-\")","v":"-"},{"$f":"IFERROR(__xludf.DUMMYFUNCTION(\"\"\"COMPUTED_VALUE\"\"\"),\"juin\")","v":"juin"},{"$f":"IFERROR(__xludf.DUMMYFUNCTION(\"\"\"COMPUTED_VALUE\"\"\"),\"Navire et fort\")","v":"Navire et fort"},{"$f":"IFERROR(__xludf.DUMMYFUNCTION(\"\"\"COMPUTED_VALUE\"\"\"),\"OK\")","v":"OK"},{"$f":"IFERROR(__xludf.DUMMYFUNCTION(\"\"\"COMPUTED_VALUE\"\"\"),\"OK\")","v":"OK"},{"$f":"IFERROR(__xludf.DUMMYFUNCTION(\"\"\"COMPUTED_VALUE\"\"\"),\"juin\")","v":"juin"},{"$f":"IFERROR(__xludf.DUMMYFUNCTION(\"\"\"COMPUTED_VALUE\"\"\"),\"Navire & Fort\")","v":"Navire & Fort"},{"$f":"IFERROR(__xludf.DUMMYFUNCTION(\"\"\"COMPUTED_VALUE\"\"\"),400.0)","v":400},{"$f":"IFERROR(__xludf.DUMMYFUNCTION(\"\"\"COMPUTED_VALUE\"\"\"),\"PAF finalisée\")","v":"PAF finalisée"},{"$f":"IFERROR(__xludf.DUMMYFUNCTION(\"\"\"COMPUTED_VALUE\"\"\"),\"non reçue\")","v":"non reçue"},{"$f":"IFERROR(__xludf.DUMMYFUNCTION(\"\"\"COMPUTED_VALUE\"\"\"),\"R.A.S.\")","v":"R.A.S."},{"$f":"IFERROR(__xludf.DUMMYFUNCTION(\"\"\"COMPUTED_VALUE\"\"\"),\"samedi\")","v":"samedi"},{"$f":"IFERROR(__xludf.DUMMYFUNCTION(\"\"\"COMPUTED_VALUE\"\"\"),\"NON\")","v":"NON"}]
[{"$f":"IFERROR(__xludf.DUMMYFUNCTION(\"\"\"COMPUTED_VALUE\"\"\"),45548.0)","v":"2024-09-13"},{"$f":"IFERROR(__xludf.DUMMYFUNCTION(\"\"\"COMPUTED_VALUE\"\"\"),\"Bouhedja \")","v":"Bouhedja "},{"$f":"IFERROR(__xludf.DUMMYFUNCTION(\"\"\"COMPUTED_VALUE\"\"\"),\"Nawel\")","v":"Nawel"},{"$f":"IFERROR(__xludf.DUMMYFUNCTION(\"\"\"COMPUTED_VALUE\"\"\"),\"F\")","v":"F"},{"$f":"IFERROR(__xludf.DUMMYFUNCTION(\"\"\"COMPUTED_VALUE\"\"\"),46.0)","v":46},{"$f":"IFERROR(__xludf.DUMMYFUNCTION(\"\"\"COMPUTED_VALUE\"\"\"),\"nawelbouhedja2000@gmail.com\")","v":"nawelbouhedja2000@gmail.com"},{"$f":"IFERROR(__xludf.DUMMYFUNCTION(\"\"\"COMPUTED_VALUE\"\"\"),\"Nawel Land\")","v":"Nawel Land"},{"$f":"IFERROR(__xludf.DUMMYFUNCTION(\"\"\"COMPUTED_VALUE\"\"\"),\"0650643633\")","v":"0650643633"},{"$f":"IFERROR(__xludf.DUMMYFUNCTION(\"\"\"COMPUTED_VALUE\"\"\"),\"Pur PJ\")","v":"Pur PJ"},{"$f":"IFERROR(__xludf.DUMMYFUNCTION(\"\"\"COMPUTED_VALUE\"\"\"),\"-\")","v":"-"},{"$f":"IFERROR(__xludf.DUMMYFUNCTION(\"\"\"COMPUTED_VALUE\"\"\"),\"juin\")","v":"juin"},{"$f":"IFERROR(__xludf.DUMMYFUNCTION(\"\"\"COMPUTED_VALUE\"\"\"),\"Navire et fort\")","v":"Navire et fort"},{"$f":"IFERROR(__xludf.DUMMYFUNCTION(\"\"\"COMPUTED_VALUE\"\"\"),\"OK\")","v":"OK"},{"$f":"IFERROR(__xludf.DUMMYFUNCTION(\"\"\"COMPUTED_VALUE\"\"\"),\"OK\")","v":"OK"},{"$f":"IFERROR(__xludf.DUMMYFUNCTION(\"\"\"COMPUTED_VALUE\"\"\"),\"juin\")","v":"juin"},{"$f":"IFERROR(__xludf.DUMMYFUNCTION(\"\"\"COMPUTED_VALUE\"\"\"),\"Navire & Fort\")","v":"Navire & Fort"},{"$f":"IFERROR(__xludf.DUMMYFUNCTION(\"\"\"COMPUTED_VALUE\"\"\"),267.0)","v":267},{"$f":"IFERROR(__xludf.DUMMYFUNCTION(\"\"\"COMPUTED_VALUE\"\"\"),\"PAF partielle\")","v":"PAF partielle"},{"$f":"IFERROR(__xludf.DUMMYFUNCTION(\"\"\"COMPUTED_VALUE\"\"\"),\"non reçue\")","v":"non reçue"},{"$f":"IFERROR(__xludf.DUMMYFUNCTION(\"\"\"COMPUTED_VALUE\"\"\"),\"R.A.S.\")","v":"R.A.S."},{"$f":"IFERROR(__xludf.DUMMYFUNCTION(\"\"\"COMPUTED_VALUE\"\"\"),\"samedi\")","v":"samedi"},{"$f":"IFERROR(__xludf.DUMMYFUNCTION(\"\"\"COMPUTED_VALUE\"\"\"),\"Reste\")","v":"Reste"}]
[{"$f":"IFERROR(__xludf.DUMMYFUNCTION(\"\"\"COMPUTED_VALUE\"\"\"),45551.0)","v":"2024-09-16"},{"$f":"IFERROR(__xludf.DUMMYFUNCTION(\"\"\"COMPUTED_VALUE\"\"\"),\"Picq\")","v":"Picq"},{"$f":"IFERROR(__xludf.DUMMYFUNCTION(\"\"\"COMPUTED_VALUE\"\"\"),\"Dylan\")","v":"Dylan"},{"$f":"IFERROR(__xludf.DUMMYFUNCTION(\"\"\"COMPUTED_VALUE\"\"\"),\"H\")","v":"H"},{"$f":"IFERROR(__xludf.DUMMYFUNCTION(\"\"\"COMPUTED_VALUE\"\"\"),34.0)","v":34},{"$f":"IFERROR(__xludf.DUMMYFUNCTION(\"\"\"COMPUTED_VALUE\"\"\"),\"dylanp.yg@live.fr\")","v":"dylanp.yg@live.fr"},{"$f":"IFERROR(__xludf.DUMMYFUNCTION(\"\"\"COMPUTED_VALUE\"\"\"),\"Dylan Picq\")","v":"Dylan Picq"},{"$f":"IFERROR(__xludf.DUMMYFUNCTION(\"\"\"COMPUTED_VALUE\"\"\"),\"0680536919\")","v":"0680536919"},{"$f":"IFERROR(__xludf.DUMMYFUNCTION(\"\"\"COMPUTED_VALUE\"\"\"),\"PJ+PNJ\")","v":"PJ+PNJ"},{"$f":"IFERROR(__xludf.DUMMYFUNCTION(\"\"\"COMPUTED_VALUE\"\"\"),\"-\")","v":"-"},{"$f":"IFERROR(__xludf.DUMMYFUNCTION(\"\"\"COMPUTED_VALUE\"\"\"),\"juin\")","v":"juin"},{"$f":"IFERROR(__xludf.DUMMYFUNCTION(\"\"\"COMPUTED_VALUE\"\"\"),\"Seulement au fort\")","v":"Seulement au fort"},{"$f":"IFERROR(__xludf.DUMMYFUNCTION(\"\"\"COMPUTED_VALUE\"\"\"),\"OK\")","v":"OK"},{"$f":"IFERROR(__xludf.DUMMYFUNCTION(\"\"\"COMPUTED_VALUE\"\"\"),\"OK\")","v":"OK"},{"$f":"IFERROR(__xludf.DUMMYFUNCTION(\"\"\"COMPUTED_VALUE\"\"\"),\"juin\")","v":"juin"},{"$f":"IFERROR(__xludf.DUMMYFUNCTION(\"\"\"COMPUTED_VALUE\"\"\"),\"Fort seulement\")","v":"Fort seulement"},{"$f":"IFERROR(__xludf.DUMMYFUNCTION(\"\"\"COMPUTED_VALUE\"\"\"),133.4)","v":133.4},{"$f":"IFERROR(__xludf.DUMMYFUNCTION(\"\"\"COMPUTED_VALUE\"\"\"),\"PAF partielle\")","v":"PAF partielle"},{"$f":"IFERROR(__xludf.DUMMYFUNCTION(\"\"\"COMPUTED_VALUE\"\"\"),\"non reçue\")","v":"non reçue"},{"$f":"IFERROR(__xludf.DUMMYFUNCTION(\"\"\"COMPUTED_VALUE\"\"\"),\"R.A.S.\")","v":"R.A.S."},{"$f":"IFERROR(__xludf.DUMMYFUNCTION(\"\"\"COMPUTED_VALUE\"\"\"),\"samedi\")","v":"samedi"},{"$f":"IFERROR(__xludf.DUMMYFUNCTION(\"\"\"COMPUTED_VALUE\"\"\"),\"Reste\")","v":"Reste"}]
[{"$f":"IFERROR(__xludf.DUMMYFUNCTION(\"\"\"COMPUTED_VALUE\"\"\"),45551.0)","v":"2024-09-16"},{"$f":"IFERROR(__xludf.DUMMYFUNCTION(\"\"\"COMPUTED_VALUE\"\"\"),\"Dejarnac \")","v":"Dejarnac "},{"$f":"IFERROR(__xludf.DUMMYFUNCTION(\"\"\"COMPUTED_VALUE\"\"\"),\"Pierre \")","v":"Pierre "},{"$f":"IFERROR(__xludf.DUMMYFUNCTION(\"\"\"COMPUTED_VALUE\"\"\"),\"H\")","v":"H"},{"$f":"IFERROR(__xludf.DUMMYFUNCTION(\"\"\"COMPUTED_VALUE\"\"\"),37.0)","v":37},{"$f":"IFERROR(__xludf.DUMMYFUNCTION(\"\"\"COMPUTED_VALUE\"\"\"),\"pierre.dejarnac@gmail.com\")","v":"pierre.dejarnac@gmail.com"},{"$f":"IFERROR(__xludf.DUMMYFUNCTION(\"\"\"COMPUTED_VALUE\"\"\"),\"Pierre Dejarnac \")","v":"Pierre Dejarnac "},{"$f":"IFERROR(__xludf.DUMMYFUNCTION(\"\"\"COMPUTED_VALUE\"\"\"),\"0610366894\")","v":"0610366894"},{"$f":"IFERROR(__xludf.DUMMYFUNCTION(\"\"\"COMPUTED_VALUE\"\"\"),\"Pur PJ\")","v":"Pur PJ"},{"$f":"IFERROR(__xludf.DUMMYFUNCTION(\"\"\"COMPUTED_VALUE\"\"\"),\"-\")","v":"-"},{"$f":"IFERROR(__xludf.DUMMYFUNCTION(\"\"\"COMPUTED_VALUE\"\"\"),\"juin\")","v":"juin"},{"$f":"IFERROR(__xludf.DUMMYFUNCTION(\"\"\"COMPUTED_VALUE\"\"\"),\"Peu importe\")","v":"Peu importe"},{"$f":"IFERROR(__xludf.DUMMYFUNCTION(\"\"\"COMPUTED_VALUE\"\"\"),\"OK\")","v":"OK"},{"$f":"IFERROR(__xludf.DUMMYFUNCTION(\"\"\"COMPUTED_VALUE\"\"\"),\"OK\")","v":"OK"},{"$f":"IFERROR(__xludf.DUMMYFUNCTION(\"\"\"COMPUTED_VALUE\"\"\"),\"juin\")","v":"juin"},{"$f":"IFERROR(__xludf.DUMMYFUNCTION(\"\"\"COMPUTED_VALUE\"\"\"),\"Fort seulement\")","v":"Fort seulement"},{"$f":"IFERROR(__xludf.DUMMYFUNCTION(\"\"\"COMPUTED_VALUE\"\"\"),200.0)","v":200},{"$f":"IFERROR(__xludf.DUMMYFUNCTION(\"\"\"COMPUTED_VALUE\"\"\"),\"PAF finalisée\")","v":"PAF finalisée"},{"$f":"IFERROR(__xludf.DUMMYFUNCTION(\"\"\"COMPUTED_VALUE\"\"\"),\"non reçue\")","v":"non reçue"},{"$f":"IFERROR(__xludf.DUMMYFUNCTION(\"\"\"COMPUTED_VALUE\"\"\"),\"R.A.S.\")","v":"R.A.S."},{"$f":"IFERROR(__xludf.DUMMYFUNCTION(\"\"\"COMPUTED_VALUE\"\"\"),\"samedi\")","v":"samedi"},{"$f":"IFERROR(__xludf.DUMMYFUNCTION(\"\"\"COMPUTED_VALUE\"\"\"),\"Reste\")","v":"Reste"}]
[{"$f":"IFERROR(__xludf.DUMMYFUNCTION(\"\"\"COMPUTED_VALUE\"\"\"),45551.0)","v":"2024-09-16"},{"$f":"IFERROR(__xludf.DUMMYFUNCTION(\"\"\"COMPUTED_VALUE\"\"\"),\"Sempéré\")","v":"Sempéré"},{"$f":"IFERROR(__xludf.DUMMYFUNCTION(\"\"\"COMPUTED_VALUE\"\"\"),\"Lionel\")","v":"Lionel"},{"$f":"IFERROR(__xludf.DUMMYFUNCTION(\"\"\"COMPUTED_VALUE\"\"\"),\"H\")","v":"H"},{"$f":"IFERROR(__xludf.DUMMYFUNCTION(\"\"\"COMPUTED_VALUE\"\"\"),36.0)","v":36},{"$f":"IFERROR(__xludf.DUMMYFUNCTION(\"\"\"COMPUTED_VALUE\"\"\"),\"semplio@hotmail.fr\")","v":"semplio@hotmail.fr"},{"$f":"IFERROR(__xludf.DUMMYFUNCTION(\"\"\"COMPUTED_VALUE\"\"\"),\"Lio Nel\")","v":"Lio Nel"},{"$f":"IFERROR(__xludf.DUMMYFUNCTION(\"\"\"COMPUTED_VALUE\"\"\"),\"0687966454\")","v":"0687966454"},{"$f":"IFERROR(__xludf.DUMMYFUNCTION(\"\"\"COMPUTED_VALUE\"\"\"),\"PJ+PNJ\")","v":"PJ+PNJ"},{"$f":"IFERROR(__xludf.DUMMYFUNCTION(\"\"\"COMPUTED_VALUE\"\"\"),\"-\")","v":"-"},{"$f":"IFERROR(__xludf.DUMMYFUNCTION(\"\"\"COMPUTED_VALUE\"\"\"),\"juin\")","v":"juin"},{"$f":"IFERROR(__xludf.DUMMYFUNCTION(\"\"\"COMPUTED_VALUE\"\"\"),\"Seulement au fort\")","v":"Seulement au fort"},{"$f":"IFERROR(__xludf.DUMMYFUNCTION(\"\"\"COMPUTED_VALUE\"\"\"),\"OK\")","v":"OK"},{"$f":"IFERROR(__xludf.DUMMYFUNCTION(\"\"\"COMPUTED_VALUE\"\"\"),\"OK\")","v":"OK"},{"$f":"IFERROR(__xludf.DUMMYFUNCTION(\"\"\"COMPUTED_VALUE\"\"\"),\"juin\")","v":"juin"},{"$f":"IFERROR(__xludf.DUMMYFUNCTION(\"\"\"COMPUTED_VALUE\"\"\"),\"Fort seulement\")","v":"Fort seulement"},{"$f":"IFERROR(__xludf.DUMMYFUNCTION(\"\"\"COMPUTED_VALUE\"\"\"),200.0)","v":200},{"$f":"IFERROR(__xludf.DUMMYFUNCTION(\"\"\"COMPUTED_VALUE\"\"\"),\"PAF finalisée\")","v":"PAF finalisée"},{"$f":"IFERROR(__xludf.DUMMYFUNCTION(\"\"\"COMPUTED_VALUE\"\"\"),\"non reçue\")","v":"non reçue"},{"$f":"IFERROR(__xludf.DUMMYFUNCTION(\"\"\"COMPUTED_VALUE\"\"\"),\"R.A.S.\")","v":"R.A.S."},{"$f":"IFERROR(__xludf.DUMMYFUNCTION(\"\"\"COMPUTED_VALUE\"\"\"),\"samedi\")","v":"samedi"},{"$f":"IFERROR(__xludf.DUMMYFUNCTION(\"\"\"COMPUTED_VALUE\"\"\"),\"Reste\")","v":"Reste"}]
[{"$f":"IFERROR(__xludf.DUMMYFUNCTION(\"\"\"COMPUTED_VALUE\"\"\"),45553.0)","v":"2024-09-18"},{"$f":"IFERROR(__xludf.DUMMYFUNCTION(\"\"\"COMPUTED_VALUE\"\"\"),\"Testard \")","v":"Testard "},{"$f":"IFERROR(__xludf.DUMMYFUNCTION(\"\"\"COMPUTED_VALUE\"\"\"),\"Soline \")","v":"Soline "},{"$f":"IFERROR(__xludf.DUMMYFUNCTION(\"\"\"COMPUTED_VALUE\"\"\"),\"F\")","v":"F"},{"$f":"IFERROR(__xludf.DUMMYFUNCTION(\"\"\"COMPUTED_VALUE\"\"\"),34.0)","v":34},{"$f":"IFERROR(__xludf.DUMMYFUNCTION(\"\"\"COMPUTED_VALUE\"\"\"),\"tsoline30@gmail.com\")","v":"tsoline30@gmail.com"},{"$f":"IFERROR(__xludf.DUMMYFUNCTION(\"\"\"COMPUTED_VALUE\"\"\"),\"Soline Yggdrasil \")","v":"Soline Yggdrasil "},{"$f":"IFERROR(__xludf.DUMMYFUNCTION(\"\"\"COMPUTED_VALUE\"\"\"),\"760113818\")","v":"760113818"},{"$f":"IFERROR(__xludf.DUMMYFUNCTION(\"\"\"COMPUTED_VALUE\"\"\"),\"PJ+PNJ\")","v":"PJ+PNJ"},{"$f":"IFERROR(__xludf.DUMMYFUNCTION(\"\"\"COMPUTED_VALUE\"\"\"),\"-\")","v":"-"},{"$f":"IFERROR(__xludf.DUMMYFUNCTION(\"\"\"COMPUTED_VALUE\"\"\"),\"Les deux\")","v":"Les deux"},{"$f":"IFERROR(__xludf.DUMMYFUNCTION(\"\"\"COMPUTED_VALUE\"\"\"),\"Navire et fort\")","v":"Navire et fort"},{"$f":"IFERROR(__xludf.DUMMYFUNCTION(\"\"\"COMPUTED_VALUE\"\"\"),\"OK\")","v":"OK"},{"$f":"IFERROR(__xludf.DUMMYFUNCTION(\"\"\"COMPUTED_VALUE\"\"\"),\"OK\")","v":"OK"},{"$f":"IFERROR(__xludf.DUMMYFUNCTION(\"\"\"COMPUTED_VALUE\"\"\"),\"juin\")","v":"juin"},{"$f":"IFERROR(__xludf.DUMMYFUNCTION(\"\"\"COMPUTED_VALUE\"\"\"),\"Navire & Fort\")","v":"Navire & Fort"},{"$f":"IFERROR(__xludf.DUMMYFUNCTION(\"\"\"COMPUTED_VALUE\"\"\"),400.0)","v":400},{"$f":"IFERROR(__xludf.DUMMYFUNCTION(\"\"\"COMPUTED_VALUE\"\"\"),\"PAF finalisée\")","v":"PAF finalisée"},{"$f":"IFERROR(__xludf.DUMMYFUNCTION(\"\"\"COMPUTED_VALUE\"\"\"),\"non reçue\")","v":"non reçue"},{"$f":"IFERROR(__xludf.DUMMYFUNCTION(\"\"\"COMPUTED_VALUE\"\"\"),\"R.A.S.\")","v":"R.A.S."},{"$f":"IFERROR(__xludf.DUMMYFUNCTION(\"\"\"COMPUTED_VALUE\"\"\"),\"samedi\")","v":"samedi"},{"$f":"IFERROR(__xludf.DUMMYFUNCTION(\"\"\"COMPUTED_VALUE\"\"\"),\"Reste\")","v":"Reste"}]
[{"$f":"IFERROR(__xludf.DUMMYFUNCTION(\"\"\"COMPUTED_VALUE\"\"\"),45553.0)","v":"2024-09-18"},{"$f":"IFERROR(__xludf.DUMMYFUNCTION(\"\"\"COMPUTED_VALUE\"\"\"),\"Chapelon \")","v":"Chapelon "},{"$f":"IFERROR(__xludf.DUMMYFUNCTION(\"\"\"COMPUTED_VALUE\"\"\"),\"Romain \")","v":"Romain "},{"$f":"IFERROR(__xludf.DUMMYFUNCTION(\"\"\"COMPUTED_VALUE\"\"\"),\"H\")","v":"H"},{"$f":"IFERROR(__xludf.DUMMYFUNCTION(\"\"\"COMPUTED_VALUE\"\"\"),30.0)","v":30},{"$f":"IFERROR(__xludf.DUMMYFUNCTION(\"\"\"COMPUTED_VALUE\"\"\"),\"romain.chapelon@gmail.com\")","v":"romain.chapelon@gmail.com"},{"$f":"IFERROR(__xludf.DUMMYFUNCTION(\"\"\"COMPUTED_VALUE\"\"\"),\"Romain Chapelon \")","v":"Romain Chapelon "},{"$f":"IFERROR(__xludf.DUMMYFUNCTION(\"\"\"COMPUTED_VALUE\"\"\"),\"632456597\")","v":"632456597"},{"$f":"IFERROR(__xludf.DUMMYFUNCTION(\"\"\"COMPUTED_VALUE\"\"\"),\"Pur PJ\")","v":"Pur PJ"},{"$f":"IFERROR(__xludf.DUMMYFUNCTION(\"\"\"COMPUTED_VALUE\"\"\"),\"-\")","v":"-"},{"$f":"IFERROR(__xludf.DUMMYFUNCTION(\"\"\"COMPUTED_VALUE\"\"\"),\"Les deux\")","v":"Les deux"},{"$f":"IFERROR(__xludf.DUMMYFUNCTION(\"\"\"COMPUTED_VALUE\"\"\"),\"Peu importe\")","v":"Peu importe"},{"$f":"IFERROR(__xludf.DUMMYFUNCTION(\"\"\"COMPUTED_VALUE\"\"\"),\"OK\")","v":"OK"},{"$f":"IFERROR(__xludf.DUMMYFUNCTION(\"\"\"COMPUTED_VALUE\"\"\"),\"OK\")","v":"OK"},{"$f":"IFERROR(__xludf.DUMMYFUNCTION(\"\"\"COMPUTED_VALUE\"\"\"),\"juin\")","v":"juin"},{"$f":"IFERROR(__xludf.DUMMYFUNCTION(\"\"\"COMPUTED_VALUE\"\"\"),\"Navire & Fort\")","v":"Navire & Fort"},{"$f":"IFERROR(__xludf.DUMMYFUNCTION(\"\"\"COMPUTED_VALUE\"\"\"),267.0)","v":267},{"$f":"IFERROR(__xludf.DUMMYFUNCTION(\"\"\"COMPUTED_VALUE\"\"\"),\"PAF partielle\")","v":"PAF partielle"},{"$f":"IFERROR(__xludf.DUMMYFUNCTION(\"\"\"COMPUTED_VALUE\"\"\"),\"non reçue\")","v":"non reçue"},{"$f":"IFERROR(__xludf.DUMMYFUNCTION(\"\"\"COMPUTED_VALUE\"\"\"),\"R.A.S.\")","v":"R.A.S."},{"$f":"IFERROR(__xludf.DUMMYFUNCTION(\"\"\"COMPUTED_VALUE\"\"\"),\"samedi\")","v":"samedi"},{"$f":"IFERROR(__xludf.DUMMYFUNCTION(\"\"\"COMPUTED_VALUE\"\"\"),\"Reste\")","v":"Reste"}]
[{"$f":"IFERROR(__xludf.DUMMYFUNCTION(\"\"\"COMPUTED_VALUE\"\"\"),45553.0)","v":"2024-09-18"},{"$f":"IFERROR(__xludf.DUMMYFUNCTION(\"\"\"COMPUTED_VALUE\"\"\"),\"Jegonday \")","v":"Jegonday "},{"$f":"IFERROR(__xludf.DUMMYFUNCTION(\"\"\"COMPUTED_VALUE\"\"\"),\"Xavier\")","v":"Xavier"},{"$f":"IFERROR(__xludf.DUMMYFUNCTION(\"\"\"COMPUTED_VALUE\"\"\"),\"H\")","v":"H"},{"$f":"IFERROR(__xludf.DUMMYFUNCTION(\"\"\"COMPUTED_VALUE\"\"\"),32.0)","v":32},{"$f":"IFERROR(__xludf.DUMMYFUNCTION(\"\"\"COMPUTED_VALUE\"\"\"),\"Xavier.jegonday@hotmail.fr\")","v":"Xavier.jegonday@hotmail.fr"},{"$f":"IFERROR(__xludf.DUMMYFUNCTION(\"\"\"COMPUTED_VALUE\"\"\"),\"Kurai Ketsurui\")","v":"Kurai Ketsurui"},{"$f":"IFERROR(__xludf.DUMMYFUNCTION(\"\"\"COMPUTED_VALUE\"\"\"),\"0786189956\")","v":"0786189956"},{"$f":"IFERROR(__xludf.DUMMYFUNCTION(\"\"\"COMPUTED_VALUE\"\"\"),\"Pur PJ\")","v":"Pur PJ"},{"$f":"IFERROR(__xludf.DUMMYFUNCTION(\"\"\"COMPUTED_VALUE\"\"\"),\"-\")","v":"-"},{"$f":"IFERROR(__xludf.DUMMYFUNCTION(\"\"\"COMPUTED_VALUE\"\"\"),\"Les deux\")","v":"Les deux"},{"$f":"IFERROR(__xludf.DUMMYFUNCTION(\"\"\"COMPUTED_VALUE\"\"\"),\"Navire et fort\")","v":"Navire et fort"},{"$f":"IFERROR(__xludf.DUMMYFUNCTION(\"\"\"COMPUTED_VALUE\"\"\"),\"OK\")","v":"OK"},{"$f":"IFERROR(__xludf.DUMMYFUNCTION(\"\"\"COMPUTED_VALUE\"\"\"),\"OK\")","v":"OK"},{"$f":"IFERROR(__xludf.DUMMYFUNCTION(\"\"\"COMPUTED_VALUE\"\"\"),\"juin\")","v":"juin"},{"$f":"IFERROR(__xludf.DUMMYFUNCTION(\"\"\"COMPUTED_VALUE\"\"\"),\"Navire & Fort\")","v":"Navire & Fort"},{"$f":"IFERROR(__xludf.DUMMYFUNCTION(\"\"\"COMPUTED_VALUE\"\"\"),133.5)","v":133.5},{"$f":"IFERROR(__xludf.DUMMYFUNCTION(\"\"\"COMPUTED_VALUE\"\"\"),\"PAF partielle\")","v":"PAF partielle"},{"$f":"IFERROR(__xludf.DUMMYFUNCTION(\"\"\"COMPUTED_VALUE\"\"\"),\"non reçue\")","v":"non reçue"},{"$f":"IFERROR(__xludf.DUMMYFUNCTION(\"\"\"COMPUTED_VALUE\"\"\"),\"R.A.S.\")","v":"R.A.S."},{"$f":"IFERROR(__xludf.DUMMYFUNCTION(\"\"\"COMPUTED_VALUE\"\"\"),\"samedi\")","v":"samedi"},{"$f":"IFERROR(__xludf.DUMMYFUNCTION(\"\"\"COMPUTED_VALUE\"\"\"),\"Reste\")","v":"Reste"}]
[{"$f":"IFERROR(__xludf.DUMMYFUNCTION(\"\"\"COMPUTED_VALUE\"\"\"),45553.0)","v":"2024-09-18"},{"$f":"IFERROR(__xludf.DUMMYFUNCTION(\"\"\"COMPUTED_VALUE\"\"\"),\"Bonfy\")","v":"Bonfy"},{"$f":"IFERROR(__xludf.DUMMYFUNCTION(\"\"\"COMPUTED_VALUE\"\"\"),\"Amélia \")","v":"Amélia "},{"$f":"IFERROR(__xludf.DUMMYFUNCTION(\"\"\"COMPUTED_VALUE\"\"\"),\"F\")","v":"F"},{"$f":"IFERROR(__xludf.DUMMYFUNCTION(\"\"\"COMPUTED_VALUE\"\"\"),31.0)","v":31},{"$f":"IFERROR(__xludf.DUMMYFUNCTION(\"\"\"COMPUTED_VALUE\"\"\"),\"Amelia.Bonfy@gmail.com\")","v":"Amelia.Bonfy@gmail.com"},{"$f":"IFERROR(__xludf.DUMMYFUNCTION(\"\"\"COMPUTED_VALUE\"\"\"),\"Bonfy Amélia\")","v":"Bonfy Amélia"},{"$f":"IFERROR(__xludf.DUMMYFUNCTION(\"\"\"COMPUTED_VALUE\"\"\"),\"681619704\")","v":"681619704"},{"$f":"IFERROR(__xludf.DUMMYFUNCTION(\"\"\"COMPUTED_VALUE\"\"\"),\"Pur PJ\")","v":"Pur PJ"},{"$f":"IFERROR(__xludf.DUMMYFUNCTION(\"\"\"COMPUTED_VALUE\"\"\"),\"-\")","v":"-"},{"$f":"IFERROR(__xludf.DUMMYFUNCTION(\"\"\"COMPUTED_VALUE\"\"\"),\"Les deux\")","v":"Les deux"},{"$f":"IFERROR(__xludf.DUMMYFUNCTION(\"\"\"COMPUTED_VALUE\"\"\"),\"Navire et fort\")","v":"Navire et fort"},{"$f":"IFERROR(__xludf.DUMMYFUNCTION(\"\"\"COMPUTED_VALUE\"\"\"),\"OK\")","v":"OK"},{"$f":"IFERROR(__xludf.DUMMYFUNCTION(\"\"\"COMPUTED_VALUE\"\"\"),\"OK\")","v":"OK"},{"$f":"IFERROR(__xludf.DUMMYFUNCTION(\"\"\"COMPUTED_VALUE\"\"\"),\"juin\")","v":"juin"},{"$f":"IFERROR(__xludf.DUMMYFUNCTION(\"\"\"COMPUTED_VALUE\"\"\"),\"Navire & Fort\")","v":"Navire & Fort"},{"$f":"IFERROR(__xludf.DUMMYFUNCTION(\"\"\"COMPUTED_VALUE\"\"\"),267.0)","v":267},{"$f":"IFERROR(__xludf.DUMMYFUNCTION(\"\"\"COMPUTED_VALUE\"\"\"),\"PAF partielle\")","v":"PAF partielle"},{"$f":"IFERROR(__xludf.DUMMYFUNCTION(\"\"\"COMPUTED_VALUE\"\"\"),\"non reçue\")","v":"non reçue"},{"$f":"IFERROR(__xludf.DUMMYFUNCTION(\"\"\"COMPUTED_VALUE\"\"\"),\"R.A.S.\")","v":"R.A.S."},{"$f":"IFERROR(__xludf.DUMMYFUNCTION(\"\"\"COMPUTED_VALUE\"\"\"),\"samedi\")","v":"samedi"},{"$f":"IFERROR(__xludf.DUMMYFUNCTION(\"\"\"COMPUTED_VALUE\"\"\"),\"Reste\")","v":"Reste"}]
[{"$f":"IFERROR(__xludf.DUMMYFUNCTION(\"\"\"COMPUTED_VALUE\"\"\"),45553.0)","v":"2024-09-18"},{"$f":"IFERROR(__xludf.DUMMYFUNCTION(\"\"\"COMPUTED_VALUE\"\"\"),\"Chamontin\")","v":"Chamontin"},{"$f":"IFERROR(__xludf.DUMMYFUNCTION(\"\"\"COMPUTED_VALUE\"\"\"),\"Florian\")","v":"Florian"},{"$f":"IFERROR(__xludf.DUMMYFUNCTION(\"\"\"COMPUTED_VALUE\"\"\"),\"H\")","v":"H"},{"$f":"IFERROR(__xludf.DUMMYFUNCTION(\"\"\"COMPUTED_VALUE\"\"\"),29.0)","v":29},{"$f":"IFERROR(__xludf.DUMMYFUNCTION(\"\"\"COMPUTED_VALUE\"\"\"),\"chamontinflorian@hotmail.fr\")","v":"chamontinflorian@hotmail.fr"},{"$f":"IFERROR(__xludf.DUMMYFUNCTION(\"\"\"COMPUTED_VALUE\"\"\"),\"Florian Chamontin\")","v":"Florian Chamontin"},{"$f":"IFERROR(__xludf.DUMMYFUNCTION(\"\"\"COMPUTED_VALUE\"\"\"),\"0604422064\")","v":"0604422064"},{"$f":"IFERROR(__xludf.DUMMYFUNCTION(\"\"\"COMPUTED_VALUE\"\"\"),\"Pur PJ\")","v":"Pur PJ"},{"$f":"IFERROR(__xludf.DUMMYFUNCTION(\"\"\"COMPUTED_VALUE\"\"\"),\"-\")","v":"-"},{"$f":"IFERROR(__xludf.DUMMYFUNCTION(\"\"\"COMPUTED_VALUE\"\"\"),\"Les deux\")","v":"Les deux"},{"$f":"IFERROR(__xludf.DUMMYFUNCTION(\"\"\"COMPUTED_VALUE\"\"\"),\"Navire et fort\")","v":"Navire et fort"},{"$f":"IFERROR(__xludf.DUMMYFUNCTION(\"\"\"COMPUTED_VALUE\"\"\"),\"OK\")","v":"OK"},{"$f":"IFERROR(__xludf.DUMMYFUNCTION(\"\"\"COMPUTED_VALUE\"\"\"),\"OK\")","v":"OK"},{"$f":"IFERROR(__xludf.DUMMYFUNCTION(\"\"\"COMPUTED_VALUE\"\"\"),\"juin\")","v":"juin"},{"$f":"IFERROR(__xludf.DUMMYFUNCTION(\"\"\"COMPUTED_VALUE\"\"\"),\"Navire & Fort\")","v":"Navire & Fort"},{"$f":"IFERROR(__xludf.DUMMYFUNCTION(\"\"\"COMPUTED_VALUE\"\"\"),133.5)","v":133.5},{"$f":"IFERROR(__xludf.DUMMYFUNCTION(\"\"\"COMPUTED_VALUE\"\"\"),\"PAF partielle\")","v":"PAF partielle"},{"$f":"IFERROR(__xludf.DUMMYFUNCTION(\"\"\"COMPUTED_VALUE\"\"\"),\"non reçue\")","v":"non reçue"},{"$f":"IFERROR(__xludf.DUMMYFUNCTION(\"\"\"COMPUTED_VALUE\"\"\"),\"R.A.S.\")","v":"R.A.S."},{"$f":"IFERROR(__xludf.DUMMYFUNCTION(\"\"\"COMPUTED_VALUE\"\"\"),\"samedi\")","v":"samedi"},{"$f":"IFERROR(__xludf.DUMMYFUNCTION(\"\"\"COMPUTED_VALUE\"\"\"),\"Reste\")","v":"Reste"}]
[{"$f":"IFERROR(__xludf.DUMMYFUNCTION(\"\"\"COMPUTED_VALUE\"\"\"),45555.0)","v":"2024-09-20"},{"$f":"IFERROR(__xludf.DUMMYFUNCTION(\"\"\"COMPUTED_VALUE\"\"\"),\"Mayor \")","v":"Mayor "},{"$f":"IFERROR(__xludf.DUMMYFUNCTION(\"\"\"COMPUTED_VALUE\"\"\"),\"Tom Bonaventure \")","v":"Tom Bonaventure "},{"$f":"IFERROR(__xludf.DUMMYFUNCTION(\"\"\"COMPUTED_VALUE\"\"\"),\"H\")","v":"H"},{"$f":"IFERROR(__xludf.DUMMYFUNCTION(\"\"\"COMPUTED_VALUE\"\"\"),27.0)","v":27},{"$f":"IFERROR(__xludf.DUMMYFUNCTION(\"\"\"COMPUTED_VALUE\"\"\"),\"tom.bonaventure.mayor@gmail.com\")","v":"tom.bonaventure.mayor@gmail.com"},{"$f":"IFERROR(__xludf.DUMMYFUNCTION(\"\"\"COMPUTED_VALUE\"\"\"),\"Tom Bonaventure \")","v":"Tom Bonaventure "},{"$f":"IFERROR(__xludf.DUMMYFUNCTION(\"\"\"COMPUTED_VALUE\"\"\"),\"+41 77 268 19 97\")","v":"+41 77 268 19 97"},{"$f":"IFERROR(__xludf.DUMMYFUNCTION(\"\"\"COMPUTED_VALUE\"\"\"),\"Pur PJ\")","v":"Pur PJ"},{"$f":"IFERROR(__xludf.DUMMYFUNCTION(\"\"\"COMPUTED_VALUE\"\"\"),\"-\")","v":"-"},{"$f":"IFERROR(__xludf.DUMMYFUNCTION(\"\"\"COMPUTED_VALUE\"\"\"),\"Les deux\")","v":"Les deux"},{"$f":"IFERROR(__xludf.DUMMYFUNCTION(\"\"\"COMPUTED_VALUE\"\"\"),\"Navire et fort\")","v":"Navire et fort"},{"$f":"IFERROR(__xludf.DUMMYFUNCTION(\"\"\"COMPUTED_VALUE\"\"\"),\"OK\")","v":"OK"},{"$f":"IFERROR(__xludf.DUMMYFUNCTION(\"\"\"COMPUTED_VALUE\"\"\"),\"OK\")","v":"OK"},{"$f":"IFERROR(__xludf.DUMMYFUNCTION(\"\"\"COMPUTED_VALUE\"\"\"),\"juin\")","v":"juin"},{"$f":"IFERROR(__xludf.DUMMYFUNCTION(\"\"\"COMPUTED_VALUE\"\"\"),\"Navire & Fort\")","v":"Navire & Fort"},{"$f":"IFERROR(__xludf.DUMMYFUNCTION(\"\"\"COMPUTED_VALUE\"\"\"),400.0)","v":400},{"$f":"IFERROR(__xludf.DUMMYFUNCTION(\"\"\"COMPUTED_VALUE\"\"\"),\"PAF finalisée\")","v":"PAF finalisée"},{"$f":"IFERROR(__xludf.DUMMYFUNCTION(\"\"\"COMPUTED_VALUE\"\"\"),\"non reçue\")","v":"non reçue"},{"$f":"IFERROR(__xludf.DUMMYFUNCTION(\"\"\"COMPUTED_VALUE\"\"\"),\"R.A.S.\")","v":"R.A.S."},{"$f":"IFERROR(__xludf.DUMMYFUNCTION(\"\"\"COMPUTED_VALUE\"\"\"),\"samedi\")","v":"samedi"},{"$f":"IFERROR(__xludf.DUMMYFUNCTION(\"\"\"COMPUTED_VALUE\"\"\"),\"Reste\")","v":"Reste"}]
[{"$f":"IFERROR(__xludf.DUMMYFUNCTION(\"\"\"COMPUTED_VALUE\"\"\"),45555.0)","v":"2024-09-20"},{"$f":"IFERROR(__xludf.DUMMYFUNCTION(\"\"\"COMPUTED_VALUE\"\"\"),\"Tudoux\")","v":"Tudoux"},{"$f":"IFERROR(__xludf.DUMMYFUNCTION(\"\"\"COMPUTED_VALUE\"\"\"),\"Charly\")","v":"Charly"},{"$f":"IFERROR(__xludf.DUMMYFUNCTION(\"\"\"COMPUTED_VALUE\"\"\"),\"H\")","v":"H"},{"$f":"IFERROR(__xludf.DUMMYFUNCTION(\"\"\"COMPUTED_VALUE\"\"\"),50.0)","v":50},{"$f":"IFERROR(__xludf.DUMMYFUNCTION(\"\"\"COMPUTED_VALUE\"\"\"),\"cet49@wanadoo.fr\")","v":"cet49@wanadoo.fr"},{"$f":"IFERROR(__xludf.DUMMYFUNCTION(\"\"\"COMPUTED_VALUE\"\"\"),\"charlygn\")","v":"charlygn"},{"$f":"IFERROR(__xludf.DUMMYFUNCTION(\"\"\"COMPUTED_VALUE\"\"\"),\"0683159265\")","v":"0683159265"},{"$f":"IFERROR(__xludf.DUMMYFUNCTION(\"\"\"COMPUTED_VALUE\"\"\"),\"PJ+PNJ\")","v":"PJ+PNJ"},{"$f":"IFERROR(__xludf.DUMMYFUNCTION(\"\"\"COMPUTED_VALUE\"\"\"),\"-\")","v":"-"},{"$f":"IFERROR(__xludf.DUMMYFUNCTION(\"\"\"COMPUTED_VALUE\"\"\"),\"Les deux\")","v":"Les deux"},{"$f":"IFERROR(__xludf.DUMMYFUNCTION(\"\"\"COMPUTED_VALUE\"\"\"),\"Peu importe\")","v":"Peu importe"},{"$f":"IFERROR(__xludf.DUMMYFUNCTION(\"\"\"COMPUTED_VALUE\"\"\"),\"OK\")","v":"OK"},{"$f":"IFERROR(__xludf.DUMMYFUNCTION(\"\"\"COMPUTED_VALUE\"\"\"),\"OK\")","v":"OK"},{"$f":"IFERROR(__xludf.DUMMYFUNCTION(\"\"\"COMPUTED_VALUE\"\"\"),\"juin\")","v":"juin"},{"$f":"IFERROR(__xludf.DUMMYFUNCTION(\"\"\"COMPUTED_VALUE\"\"\"),\"Fort seulement\")","v":"Fort seulement"},null,{"$f":"IFERROR(__xludf.DUMMYFUNCTION(\"\"\"COMPUTED_VALUE\"\"\"),\"PAF non reçue\")","v":"PAF non reçue"},{"$f":"IFERROR(__xludf.DUMMYFUNCTION(\"\"\"COMPUTED_VALUE\"\"\"),\"non reçue\")","v":"non reçue"},{"$f":"IFERROR(__xludf.DUMMYFUNCTION(\"\"\"COMPUTED_VALUE\"\"\"),\"R.A.S.\")","v":"R.A.S."},{"$f":"IFERROR(__xludf.DUMMYFUNCTION(\"\"\"COMPUTED_VALUE\"\"\"),\"samedi\")","v":"samedi"},{"$f":"IFERROR(__xludf.DUMMYFUNCTION(\"\"\"COMPUTED_VALUE\"\"\"),\"Reste\")","v":"Reste"}]
[{"$f":"IFERROR(__xludf.DUMMYFUNCTION(\"\"\"COMPUTED_VALUE\"\"\"),45558.0)","v":"2024-09-23"},{"$f":"IFERROR(__xludf.DUMMYFUNCTION(\"\"\"COMPUTED_VALUE\"\"\"),\"Supiot\")","v":"Supiot"},{"$f":"IFERROR(__xludf.DUMMYFUNCTION(\"\"\"COMPUTED_VALUE\"\"\"),\"Lara\")","v":"Lara"},{"$f":"IFERROR(__xludf.DUMMYFUNCTION(\"\"\"COMPUTED_VALUE\"\"\"),\"F\")","v":"F"},{"$f":"IFERROR(__xludf.DUMMYFUNCTION(\"\"\"COMPUTED_VALUE\"\"\"),134.0)","v":134},{"$f":"IFERROR(__xludf.DUMMYFUNCTION(\"\"\"COMPUTED_VALUE\"\"\"),\"larasupiot@gmail.com\")","v":"larasupiot@gmail.com"},{"$f":"IFERROR(__xludf.DUMMYFUNCTION(\"\"\"COMPUTED_VALUE\"\"\"),\"Lara Lambada\")","v":"Lara Lambada"},{"$f":"IFERROR(__xludf.DUMMYFUNCTION(\"\"\"COMPUTED_VALUE\"\"\"),\"670468778\")","v":"670468778"},{"$f":"IFERROR(__xludf.DUMMYFUNCTION(\"\"\"COMPUTED_VALUE\"\"\"),\"PJ+PNJ\")","v":"PJ+PNJ"},{"$f":"IFERROR(__xludf.DUMMYFUNCTION(\"\"\"COMPUTED_VALUE\"\"\"),\"-\")","v":"-"},{"$f":"IFERROR(__xludf.DUMMYFUNCTION(\"\"\"COMPUTED_VALUE\"\"\"),\"Les deux\")","v":"Les deux"},{"$f":"IFERROR(__xludf.DUMMYFUNCTION(\"\"\"COMPUTED_VALUE\"\"\"),\"Navire et fort\")","v":"Navire et fort"},{"$f":"IFERROR(__xludf.DUMMYFUNCTION(\"\"\"COMPUTED_VALUE\"\"\"),\"OK\")","v":"OK"},{"$f":"IFERROR(__xludf.DUMMYFUNCTION(\"\"\"COMPUTED_VALUE\"\"\"),\"OK\")","v":"OK"},{"$f":"IFERROR(__xludf.DUMMYFUNCTION(\"\"\"COMPUTED_VALUE\"\"\"),\"juin\")","v":"juin"},{"$f":"IFERROR(__xludf.DUMMYFUNCTION(\"\"\"COMPUTED_VALUE\"\"\"),\"Fort seulement\")","v":"Fort seulement"},{"$f":"IFERROR(__xludf.DUMMYFUNCTION(\"\"\"COMPUTED_VALUE\"\"\"),133.4)","v":133.4},{"$f":"IFERROR(__xludf.DUMMYFUNCTION(\"\"\"COMPUTED_VALUE\"\"\"),\"PAF partielle\")","v":"PAF partielle"},{"$f":"IFERROR(__xludf.DUMMYFUNCTION(\"\"\"COMPUTED_VALUE\"\"\"),\"non reçue\")","v":"non reçue"},{"$f":"IFERROR(__xludf.DUMMYFUNCTION(\"\"\"COMPUTED_VALUE\"\"\"),\"R.A.S.\")","v":"R.A.S."},{"$f":"IFERROR(__xludf.DUMMYFUNCTION(\"\"\"COMPUTED_VALUE\"\"\"),\"samedi\")","v":"samedi"},{"$f":"IFERROR(__xludf.DUMMYFUNCTION(\"\"\"COMPUTED_VALUE\"\"\"),\"Reste\")","v":"Reste"},{"$f":"IFERROR(__xludf.DUMMYFUNCTION(\"\"\"COMPUTED_VALUE\"\"\"),\"*\")","v":"*"}]
[{"$f":"IFERROR(__xludf.DUMMYFUNCTION(\"\"\"COMPUTED_VALUE\"\"\"),45560.0)","v":"2024-09-25"},{"$f":"IFERROR(__xludf.DUMMYFUNCTION(\"\"\"COMPUTED_VALUE\"\"\"),\"Réveil\")","v":"Réveil"},{"$f":"IFERROR(__xludf.DUMMYFUNCTION(\"\"\"COMPUTED_VALUE\"\"\"),\"Jean Carly\")","v":"Jean Carly"},{"$f":"IFERROR(__xludf.DUMMYFUNCTION(\"\"\"COMPUTED_VALUE\"\"\"),\"H\")","v":"H"},{"$f":"IFERROR(__xludf.DUMMYFUNCTION(\"\"\"COMPUTED_VALUE\"\"\"),28.0)","v":28},{"$f":"IFERROR(__xludf.DUMMYFUNCTION(\"\"\"COMPUTED_VALUE\"\"\"),\"cest.ticaly@gmail.com\")","v":"cest.ticaly@gmail.com"},{"$f":"IFERROR(__xludf.DUMMYFUNCTION(\"\"\"COMPUTED_VALUE\"\"\"),\"Carly Réveil\")","v":"Carly Réveil"},{"$f":"IFERROR(__xludf.DUMMYFUNCTION(\"\"\"COMPUTED_VALUE\"\"\"),\"+41782687980\")","v":"+41782687980"},{"$f":"IFERROR(__xludf.DUMMYFUNCTION(\"\"\"COMPUTED_VALUE\"\"\"),\"Pur PJ\")","v":"Pur PJ"},{"$f":"IFERROR(__xludf.DUMMYFUNCTION(\"\"\"COMPUTED_VALUE\"\"\"),\"-\")","v":"-"},{"$f":"IFERROR(__xludf.DUMMYFUNCTION(\"\"\"COMPUTED_VALUE\"\"\"),\"Les deux\")","v":"Les deux"},{"$f":"IFERROR(__xludf.DUMMYFUNCTION(\"\"\"COMPUTED_VALUE\"\"\"),\"Navire et fort\")","v":"Navire et fort"},{"$f":"IFERROR(__xludf.DUMMYFUNCTION(\"\"\"COMPUTED_VALUE\"\"\"),\"OK\")","v":"OK"},{"$f":"IFERROR(__xludf.DUMMYFUNCTION(\"\"\"COMPUTED_VALUE\"\"\"),\"OK\")","v":"OK"},{"$f":"IFERROR(__xludf.DUMMYFUNCTION(\"\"\"COMPUTED_VALUE\"\"\"),\"juin\")","v":"juin"},{"$f":"IFERROR(__xludf.DUMMYFUNCTION(\"\"\"COMPUTED_VALUE\"\"\"),\"Navire & Fort\")","v":"Navire & Fort"},{"$f":"IFERROR(__xludf.DUMMYFUNCTION(\"\"\"COMPUTED_VALUE\"\"\"),400.0)","v":400},{"$f":"IFERROR(__xludf.DUMMYFUNCTION(\"\"\"COMPUTED_VALUE\"\"\"),\"PAF finalisée\")","v":"PAF finalisée"},{"$f":"IFERROR(__xludf.DUMMYFUNCTION(\"\"\"COMPUTED_VALUE\"\"\"),\"non reçue\")","v":"non reçue"},{"$f":"IFERROR(__xludf.DUMMYFUNCTION(\"\"\"COMPUTED_VALUE\"\"\"),\"R.A.S.\")","v":"R.A.S."},{"$f":"IFERROR(__xludf.DUMMYFUNCTION(\"\"\"COMPUTED_VALUE\"\"\"),\"samedi\")","v":"samedi"},{"$f":"IFERROR(__xludf.DUMMYFUNCTION(\"\"\"COMPUTED_VALUE\"\"\"),\"Reste\")","v":"Reste"}]
[{"$f":"IFERROR(__xludf.DUMMYFUNCTION(\"\"\"COMPUTED_VALUE\"\"\"),45564.0)","v":"2024-09-29"},{"$f":"IFERROR(__xludf.DUMMYFUNCTION(\"\"\"COMPUTED_VALUE\"\"\"),\"Maury\")","v":"Maury"},{"$f":"IFERROR(__xludf.DUMMYFUNCTION(\"\"\"COMPUTED_VALUE\"\"\"),\"Aurélie\")","v":"Aurélie"},{"$f":"IFERROR(__xludf.DUMMYFUNCTION(\"\"\"COMPUTED_VALUE\"\"\"),\"F\")","v":"F"},{"$f":"IFERROR(__xludf.DUMMYFUNCTION(\"\"\"COMPUTED_VALUE\"\"\"),29.0)","v":29},{"$f":"IFERROR(__xludf.DUMMYFUNCTION(\"\"\"COMPUTED_VALUE\"\"\"),\"riedweg.aurelie@gmail.com\")","v":"riedweg.aurelie@gmail.com"},{"$f":"IFERROR(__xludf.DUMMYFUNCTION(\"\"\"COMPUTED_VALUE\"\"\"),\"Aurélie Riedweg\")","v":"Aurélie Riedweg"},{"$f":"IFERROR(__xludf.DUMMYFUNCTION(\"\"\"COMPUTED_VALUE\"\"\"),\"+41797681703\")","v":"+41797681703"},{"$f":"IFERROR(__xludf.DUMMYFUNCTION(\"\"\"COMPUTED_VALUE\"\"\"),\"Pur PJ\")","v":"Pur PJ"},{"$f":"IFERROR(__xludf.DUMMYFUNCTION(\"\"\"COMPUTED_VALUE\"\"\"),\"-\")","v":"-"},{"$f":"IFERROR(__xludf.DUMMYFUNCTION(\"\"\"COMPUTED_VALUE\"\"\"),\"juin\")","v":"juin"},{"$f":"IFERROR(__xludf.DUMMYFUNCTION(\"\"\"COMPUTED_VALUE\"\"\"),\"Navire et fort\")","v":"Navire et fort"},{"$f":"IFERROR(__xludf.DUMMYFUNCTION(\"\"\"COMPUTED_VALUE\"\"\"),\"OK\")","v":"OK"},{"$f":"IFERROR(__xludf.DUMMYFUNCTION(\"\"\"COMPUTED_VALUE\"\"\"),\"OK\")","v":"OK"},{"$f":"IFERROR(__xludf.DUMMYFUNCTION(\"\"\"COMPUTED_VALUE\"\"\"),\"juin\")","v":"juin"},{"$f":"IFERROR(__xludf.DUMMYFUNCTION(\"\"\"COMPUTED_VALUE\"\"\"),\"Navire & Fort\")","v":"Navire & Fort"},{"$f":"IFERROR(__xludf.DUMMYFUNCTION(\"\"\"COMPUTED_VALUE\"\"\"),800.0)","v":800},{"$f":"IFERROR(__xludf.DUMMYFUNCTION(\"\"\"COMPUTED_VALUE\"\"\"),\"PAF finalisée\")","v":"PAF finalisée"},{"$f":"IFERROR(__xludf.DUMMYFUNCTION(\"\"\"COMPUTED_VALUE\"\"\"),\"non reçue\")","v":"non reçue"},{"$f":"IFERROR(__xludf.DUMMYFUNCTION(\"\"\"COMPUTED_VALUE\"\"\"),\"R.A.S.\")","v":"R.A.S."},{"$f":"IFERROR(__xludf.DUMMYFUNCTION(\"\"\"COMPUTED_VALUE\"\"\"),\"samedi\")","v":"samedi"},{"$f":"IFERROR(__xludf.DUMMYFUNCTION(\"\"\"COMPUTED_VALUE\"\"\"),\"Reste\")","v":"Reste"}]
[{"$f":"IFERROR(__xludf.DUMMYFUNCTION(\"\"\"COMPUTED_VALUE\"\"\"),45564.0)","v":"2024-09-29"},{"$f":"IFERROR(__xludf.DUMMYFUNCTION(\"\"\"COMPUTED_VALUE\"\"\"),\"Maury\")","v":"Maury"},{"$f":"IFERROR(__xludf.DUMMYFUNCTION(\"\"\"COMPUTED_VALUE\"\"\"),\"Raphael\")","v":"Raphael"},{"$f":"IFERROR(__xludf.DUMMYFUNCTION(\"\"\"COMPUTED_VALUE\"\"\"),\"H\")","v":"H"},{"$f":"IFERROR(__xludf.DUMMYFUNCTION(\"\"\"COMPUTED_VALUE\"\"\"),33.0)","v":33},{"$f":"IFERROR(__xludf.DUMMYFUNCTION(\"\"\"COMPUTED_VALUE\"\"\"),\"raphael.maury@hotmail.com\")","v":"raphael.maury@hotmail.com"},{"$f":"IFERROR(__xludf.DUMMYFUNCTION(\"\"\"COMPUTED_VALUE\"\"\"),\"Raphu Scargo\")","v":"Raphu Scargo"},{"$f":"IFERROR(__xludf.DUMMYFUNCTION(\"\"\"COMPUTED_VALUE\"\"\"),\"+41 76 496 31 79\")","v":"+41 76 496 31 79"},{"$f":"IFERROR(__xludf.DUMMYFUNCTION(\"\"\"COMPUTED_VALUE\"\"\"),\"Pur PJ\")","v":"Pur PJ"},{"$f":"IFERROR(__xludf.DUMMYFUNCTION(\"\"\"COMPUTED_VALUE\"\"\"),\"-\")","v":"-"},{"$f":"IFERROR(__xludf.DUMMYFUNCTION(\"\"\"COMPUTED_VALUE\"\"\"),\"juin\")","v":"juin"},{"$f":"IFERROR(__xludf.DUMMYFUNCTION(\"\"\"COMPUTED_VALUE\"\"\"),\"Navire et fort\")","v":"Navire et fort"},{"$f":"IFERROR(__xludf.DUMMYFUNCTION(\"\"\"COMPUTED_VALUE\"\"\"),\"OK\")","v":"OK"},{"$f":"IFERROR(__xludf.DUMMYFUNCTION(\"\"\"COMPUTED_VALUE\"\"\"),\"OK\")","v":"OK"},{"$f":"IFERROR(__xludf.DUMMYFUNCTION(\"\"\"COMPUTED_VALUE\"\"\"),\"juin\")","v":"juin"},{"$f":"IFERROR(__xludf.DUMMYFUNCTION(\"\"\"COMPUTED_VALUE\"\"\"),\"Navire & Fort\")","v":"Navire & Fort"},{"$f":"IFERROR(__xludf.DUMMYFUNCTION(\"\"\"COMPUTED_VALUE\"\"\"),0.0)","v":0},{"$f":"IFERROR(__xludf.DUMMYFUNCTION(\"\"\"COMPUTED_VALUE\"\"\"),\"PAF finalisée\")","v":"PAF finalisée"},{"$f":"IFERROR(__xludf.DUMMYFUNCTION(\"\"\"COMPUTED_VALUE\"\"\"),\"non reçue\")","v":"non reçue"},{"$f":"IFERROR(__xludf.DUMMYFUNCTION(\"\"\"COMPUTED_VALUE\"\"\"),\"R.A.S.\")","v":"R.A.S."},{"$f":"IFERROR(__xludf.DUMMYFUNCTION(\"\"\"COMPUTED_VALUE\"\"\"),\"samedi\")","v":"samedi"},{"$f":"IFERROR(__xludf.DUMMYFUNCTION(\"\"\"COMPUTED_VALUE\"\"\"),\"Reste\")","v":"Reste"}]
[{"$f":"IFERROR(__xludf.DUMMYFUNCTION(\"\"\"COMPUTED_VALUE\"\"\"),45564.0)","v":"2024-09-29"},{"$f":"IFERROR(__xludf.DUMMYFUNCTION(\"\"\"COMPUTED_VALUE\"\"\"),\"DANCOT \")","v":"DANCOT "},{"$f":"IFERROR(__xludf.DUMMYFUNCTION(\"\"\"COMPUTED_VALUE\"\"\"),\"Olivier \")","v":"Olivier "},{"$f":"IFERROR(__xludf.DUMMYFUNCTION(\"\"\"COMPUTED_VALUE\"\"\"),\"H\")","v":"H"},{"$f":"IFERROR(__xludf.DUMMYFUNCTION(\"\"\"COMPUTED_VALUE\"\"\"),44.0)","v":44},{"$f":"IFERROR(__xludf.DUMMYFUNCTION(\"\"\"COMPUTED_VALUE\"\"\"),\"olivier.dancot@hotmail.fr\")","v":"olivier.dancot@hotmail.fr"},{"$f":"IFERROR(__xludf.DUMMYFUNCTION(\"\"\"COMPUTED_VALUE\"\"\"),\"Olivier d-t\")","v":"Olivier d-t"},{"$f":"IFERROR(__xludf.DUMMYFUNCTION(\"\"\"COMPUTED_VALUE\"\"\"),\"0625484900\")","v":"0625484900"},{"$f":"IFERROR(__xludf.DUMMYFUNCTION(\"\"\"COMPUTED_VALUE\"\"\"),\"PJ+PNJ\")","v":"PJ+PNJ"},{"$f":"IFERROR(__xludf.DUMMYFUNCTION(\"\"\"COMPUTED_VALUE\"\"\"),\"-\")","v":"-"},{"$f":"IFERROR(__xludf.DUMMYFUNCTION(\"\"\"COMPUTED_VALUE\"\"\"),\"juin\")","v":"juin"},{"$f":"IFERROR(__xludf.DUMMYFUNCTION(\"\"\"COMPUTED_VALUE\"\"\"),\"Navire et fort\")","v":"Navire et fort"},{"$f":"IFERROR(__xludf.DUMMYFUNCTION(\"\"\"COMPUTED_VALUE\"\"\"),\"OK\")","v":"OK"},{"$f":"IFERROR(__xludf.DUMMYFUNCTION(\"\"\"COMPUTED_VALUE\"\"\"),\"OK\")","v":"OK"},{"$f":"IFERROR(__xludf.DUMMYFUNCTION(\"\"\"COMPUTED_VALUE\"\"\"),\"juin\")","v":"juin"},{"$f":"IFERROR(__xludf.DUMMYFUNCTION(\"\"\"COMPUTED_VALUE\"\"\"),\"Navire & Fort\")","v":"Navire & Fort"},{"$f":"IFERROR(__xludf.DUMMYFUNCTION(\"\"\"COMPUTED_VALUE\"\"\"),267.0)","v":267},{"$f":"IFERROR(__xludf.DUMMYFUNCTION(\"\"\"COMPUTED_VALUE\"\"\"),\"PAF partielle\")","v":"PAF partielle"},{"$f":"IFERROR(__xludf.DUMMYFUNCTION(\"\"\"COMPUTED_VALUE\"\"\"),\"non reçue\")","v":"non reçue"},{"$f":"IFERROR(__xludf.DUMMYFUNCTION(\"\"\"COMPUTED_VALUE\"\"\"),\"R.A.S.\")","v":"R.A.S."},{"$f":"IFERROR(__xludf.DUMMYFUNCTION(\"\"\"COMPUTED_VALUE\"\"\"),\"samedi\")","v":"samedi"},{"$f":"IFERROR(__xludf.DUMMYFUNCTION(\"\"\"COMPUTED_VALUE\"\"\"),\"Reste\")","v":"Reste"}]
[{"$f":"IFERROR(__xludf.DUMMYFUNCTION(\"\"\"COMPUTED_VALUE\"\"\"),45564.0)","v":"2024-09-29"},{"$f":"IFERROR(__xludf.DUMMYFUNCTION(\"\"\"COMPUTED_VALUE\"\"\"),\"Schmid \")","v":"Schmid "},{"$f":"IFERROR(__xludf.DUMMYFUNCTION(\"\"\"COMPUTED_VALUE\"\"\"),\"Priscillia \")","v":"Priscillia "},{"$f":"IFERROR(__xludf.DUMMYFUNCTION(\"\"\"COMPUTED_VALUE\"\"\"),\"F\")","v":"F"},{"$f":"IFERROR(__xludf.DUMMYFUNCTION(\"\"\"COMPUTED_VALUE\"\"\"),38.0)","v":38},{"$f":"IFERROR(__xludf.DUMMYFUNCTION(\"\"\"COMPUTED_VALUE\"\"\"),\"richerpriscillia@gmail.com\")","v":"richerpriscillia@gmail.com"},{"$f":"IFERROR(__xludf.DUMMYFUNCTION(\"\"\"COMPUTED_VALUE\"\"\"),\"Priscillia Schmid \")","v":"Priscillia Schmid "},{"$f":"IFERROR(__xludf.DUMMYFUNCTION(\"\"\"COMPUTED_VALUE\"\"\"),\"0663055621\")","v":"0663055621"},{"$f":"IFERROR(__xludf.DUMMYFUNCTION(\"\"\"COMPUTED_VALUE\"\"\"),\"PJ+PNJ\")","v":"PJ+PNJ"},{"$f":"IFERROR(__xludf.DUMMYFUNCTION(\"\"\"COMPUTED_VALUE\"\"\"),\"-\")","v":"-"},{"$f":"IFERROR(__xludf.DUMMYFUNCTION(\"\"\"COMPUTED_VALUE\"\"\"),\"juin\")","v":"juin"},{"$f":"IFERROR(__xludf.DUMMYFUNCTION(\"\"\"COMPUTED_VALUE\"\"\"),\"Navire et fort\")","v":"Navire et fort"},{"$f":"IFERROR(__xludf.DUMMYFUNCTION(\"\"\"COMPUTED_VALUE\"\"\"),\"OK\")","v":"OK"},{"$f":"IFERROR(__xludf.DUMMYFUNCTION(\"\"\"COMPUTED_VALUE\"\"\"),\"OK\")","v":"OK"},{"$f":"IFERROR(__xludf.DUMMYFUNCTION(\"\"\"COMPUTED_VALUE\"\"\"),\"juin\")","v":"juin"},{"$f":"IFERROR(__xludf.DUMMYFUNCTION(\"\"\"COMPUTED_VALUE\"\"\"),\"Navire & Fort\")","v":"Navire & Fort"},{"$f":"IFERROR(__xludf.DUMMYFUNCTION(\"\"\"COMPUTED_VALUE\"\"\"),0.0)","v":0},{"$f":"IFERROR(__xludf.DUMMYFUNCTION(\"\"\"COMPUTED_VALUE\"\"\"),\"PAF partielle\")","v":"PAF partielle"},{"$f":"IFERROR(__xludf.DUMMYFUNCTION(\"\"\"COMPUTED_VALUE\"\"\"),\"non reçue\")","v":"non reçue"},{"$f":"IFERROR(__xludf.DUMMYFUNCTION(\"\"\"COMPUTED_VALUE\"\"\"),\"R.A.S.\")","v":"R.A.S."},{"$f":"IFERROR(__xludf.DUMMYFUNCTION(\"\"\"COMPUTED_VALUE\"\"\"),\"samedi\")","v":"samedi"},{"$f":"IFERROR(__xludf.DUMMYFUNCTION(\"\"\"COMPUTED_VALUE\"\"\"),\"Reste\")","v":"Reste"}]
[{"$f":"IFERROR(__xludf.DUMMYFUNCTION(\"\"\"COMPUTED_VALUE\"\"\"),45574.0)","v":"2024-10-09"},{"$f":"IFERROR(__xludf.DUMMYFUNCTION(\"\"\"COMPUTED_VALUE\"\"\"),\"Mérand\")","v":"Mérand"},{"$f":"IFERROR(__xludf.DUMMYFUNCTION(\"\"\"COMPUTED_VALUE\"\"\"),\"Nicolas\")","v":"Nicolas"},{"$f":"IFERROR(__xludf.DUMMYFUNCTION(\"\"\"COMPUTED_VALUE\"\"\"),\"H\")","v":"H"},{"$f":"IFERROR(__xludf.DUMMYFUNCTION(\"\"\"COMPUTED_VALUE\"\"\"),47.0)","v":47},{"$f":"IFERROR(__xludf.DUMMYFUNCTION(\"\"\"COMPUTED_VALUE\"\"\"),\"hillgrob@hotmail.com\")","v":"hillgrob@hotmail.com"},{"$f":"IFERROR(__xludf.DUMMYFUNCTION(\"\"\"COMPUTED_VALUE\"\"\"),\"Nicolas Mérand\")","v":"Nicolas Mérand"},{"$f":"IFERROR(__xludf.DUMMYFUNCTION(\"\"\"COMPUTED_VALUE\"\"\"),\"0623412629\")","v":"0623412629"},{"$f":"IFERROR(__xludf.DUMMYFUNCTION(\"\"\"COMPUTED_VALUE\"\"\"),\"Pur PJ\")","v":"Pur PJ"},{"$f":"IFERROR(__xludf.DUMMYFUNCTION(\"\"\"COMPUTED_VALUE\"\"\"),\"-\")","v":"-"},{"$f":"IFERROR(__xludf.DUMMYFUNCTION(\"\"\"COMPUTED_VALUE\"\"\"),\"juin\")","v":"juin"},{"$f":"IFERROR(__xludf.DUMMYFUNCTION(\"\"\"COMPUTED_VALUE\"\"\"),\"Navire et fort\")","v":"Navire et fort"},{"$f":"IFERROR(__xludf.DUMMYFUNCTION(\"\"\"COMPUTED_VALUE\"\"\"),\"OK\")","v":"OK"},{"$f":"IFERROR(__xludf.DUMMYFUNCTION(\"\"\"COMPUTED_VALUE\"\"\"),\"OK\")","v":"OK"},{"$f":"IFERROR(__xludf.DUMMYFUNCTION(\"\"\"COMPUTED_VALUE\"\"\"),\"juin\")","v":"juin"},{"$f":"IFERROR(__xludf.DUMMYFUNCTION(\"\"\"COMPUTED_VALUE\"\"\"),\"Navire & Fort\")","v":"Navire & Fort"},{"$f":"IFERROR(__xludf.DUMMYFUNCTION(\"\"\"COMPUTED_VALUE\"\"\"),400.0)","v":400},{"$f":"IFERROR(__xludf.DUMMYFUNCTION(\"\"\"COMPUTED_VALUE\"\"\"),\"PAF finalisée\")","v":"PAF finalisée"},{"$f":"IFERROR(__xludf.DUMMYFUNCTION(\"\"\"COMPUTED_VALUE\"\"\"),\"non reçue\")","v":"non reçue"},{"$f":"IFERROR(__xludf.DUMMYFUNCTION(\"\"\"COMPUTED_VALUE\"\"\"),\"R.A.S.\")","v":"R.A.S."},{"$f":"IFERROR(__xludf.DUMMYFUNCTION(\"\"\"COMPUTED_VALUE\"\"\"),\"samedi\")","v":"samedi"},{"$f":"IFERROR(__xludf.DUMMYFUNCTION(\"\"\"COMPUTED_VALUE\"\"\"),\"Reste\")","v":"Reste"}]
[{"$f":"IFERROR(__xludf.DUMMYFUNCTION(\"\"\"COMPUTED_VALUE\"\"\"),45576.0)","v":"2024-10-11"},{"$f":"IFERROR(__xludf.DUMMYFUNCTION(\"\"\"COMPUTED_VALUE\"\"\"),\"Secher\")","v":"Secher"},{"$f":"IFERROR(__xludf.DUMMYFUNCTION(\"\"\"COMPUTED_VALUE\"\"\"),\"Gaël\")","v":"Gaël"},{"$f":"IFERROR(__xludf.DUMMYFUNCTION(\"\"\"COMPUTED_VALUE\"\"\"),\"H\")","v":"H"},{"$f":"IFERROR(__xludf.DUMMYFUNCTION(\"\"\"COMPUTED_VALUE\"\"\"),30.0)","v":30},{"$f":"IFERROR(__xludf.DUMMYFUNCTION(\"\"\"COMPUTED_VALUE\"\"\"),\"maitre-chaos@hotmail.fr\")","v":"maitre-chaos@hotmail.fr"},{"$f":"IFERROR(__xludf.DUMMYFUNCTION(\"\"\"COMPUTED_VALUE\"\"\"),\"Sikna Kaosu\")","v":"Sikna Kaosu"},{"$f":"IFERROR(__xludf.DUMMYFUNCTION(\"\"\"COMPUTED_VALUE\"\"\"),\"0637877378\")","v":"0637877378"},{"$f":"IFERROR(__xludf.DUMMYFUNCTION(\"\"\"COMPUTED_VALUE\"\"\"),\"PJ+PNJ\")","v":"PJ+PNJ"},{"$f":"IFERROR(__xludf.DUMMYFUNCTION(\"\"\"COMPUTED_VALUE\"\"\"),\"-\")","v":"-"},{"$f":"IFERROR(__xludf.DUMMYFUNCTION(\"\"\"COMPUTED_VALUE\"\"\"),\"Les deux\")","v":"Les deux"},{"$f":"IFERROR(__xludf.DUMMYFUNCTION(\"\"\"COMPUTED_VALUE\"\"\"),\"Navire et fort\")","v":"Navire et fort"},{"$f":"IFERROR(__xludf.DUMMYFUNCTION(\"\"\"COMPUTED_VALUE\"\"\"),\"OK\")","v":"OK"},{"$f":"IFERROR(__xludf.DUMMYFUNCTION(\"\"\"COMPUTED_VALUE\"\"\"),\"OK\")","v":"OK"},{"$f":"IFERROR(__xludf.DUMMYFUNCTION(\"\"\"COMPUTED_VALUE\"\"\"),\"juin\")","v":"juin"},{"$f":"IFERROR(__xludf.DUMMYFUNCTION(\"\"\"COMPUTED_VALUE\"\"\"),\"Navire & Fort\")","v":"Navire & Fort"},{"$f":"IFERROR(__xludf.DUMMYFUNCTION(\"\"\"COMPUTED_VALUE\"\"\"),400.0)","v":400},{"$f":"IFERROR(__xludf.DUMMYFUNCTION(\"\"\"COMPUTED_VALUE\"\"\"),\"PAF finalisée\")","v":"PAF finalisée"},{"$f":"IFERROR(__xludf.DUMMYFUNCTION(\"\"\"COMPUTED_VALUE\"\"\"),\"non reçue\")","v":"non reçue"},{"$f":"IFERROR(__xludf.DUMMYFUNCTION(\"\"\"COMPUTED_VALUE\"\"\"),\"R.A.S.\")","v":"R.A.S."},{"$f":"IFERROR(__xludf.DUMMYFUNCTION(\"\"\"COMPUTED_VALUE\"\"\"),\"samedi\")","v":"samedi"},{"$f":"IFERROR(__xludf.DUMMYFUNCTION(\"\"\"COMPUTED_VALUE\"\"\"),\"Reste\")","v":"Reste"}]
[{"$f":"IFERROR(__xludf.DUMMYFUNCTION(\"\"\"COMPUTED_VALUE\"\"\"),45577.0)","v":"2024-10-12"},{"$f":"IFERROR(__xludf.DUMMYFUNCTION(\"\"\"COMPUTED_VALUE\"\"\"),\"Chojnicki\")","v":"Chojnicki"},{"$f":"IFERROR(__xludf.DUMMYFUNCTION(\"\"\"COMPUTED_VALUE\"\"\"),\"Solenn\")","v":"Solenn"},{"$f":"IFERROR(__xludf.DUMMYFUNCTION(\"\"\"COMPUTED_VALUE\"\"\"),\"F\")","v":"F"},null,{"$f":"IFERROR(__xludf.DUMMYFUNCTION(\"\"\"COMPUTED_VALUE\"\"\"),\"solenn.chojnicki@gmail.com\")","v":"solenn.chojnicki@gmail.com"},{"$f":"IFERROR(__xludf.DUMMYFUNCTION(\"\"\"COMPUTED_VALUE\"\"\"),\"Solenn Soho\")","v":"Solenn Soho"},{"$f":"IFERROR(__xludf.DUMMYFUNCTION(\"\"\"COMPUTED_VALUE\"\"\"),\"0664300187\")","v":"0664300187"},{"$f":"IFERROR(__xludf.DUMMYFUNCTION(\"\"\"COMPUTED_VALUE\"\"\"),\"PJ+PNJ\")","v":"PJ+PNJ"},{"$f":"IFERROR(__xludf.DUMMYFUNCTION(\"\"\"COMPUTED_VALUE\"\"\"),\"-\")","v":"-"},{"$f":"IFERROR(__xludf.DUMMYFUNCTION(\"\"\"COMPUTED_VALUE\"\"\"),\"juin\")","v":"juin"},{"$f":"IFERROR(__xludf.DUMMYFUNCTION(\"\"\"COMPUTED_VALUE\"\"\"),\"Navire et fort\")","v":"Navire et fort"},{"$f":"IFERROR(__xludf.DUMMYFUNCTION(\"\"\"COMPUTED_VALUE\"\"\"),\"OK\")","v":"OK"},{"$f":"IFERROR(__xludf.DUMMYFUNCTION(\"\"\"COMPUTED_VALUE\"\"\"),\"OK\")","v":"OK"},{"$f":"IFERROR(__xludf.DUMMYFUNCTION(\"\"\"COMPUTED_VALUE\"\"\"),\"juin\")","v":"juin"},{"$f":"IFERROR(__xludf.DUMMYFUNCTION(\"\"\"COMPUTED_VALUE\"\"\"),\"Navire & Fort\")","v":"Navire & Fort"},{"$f":"IFERROR(__xludf.DUMMYFUNCTION(\"\"\"COMPUTED_VALUE\"\"\"),0.0)","v":0},{"$f":"IFERROR(__xludf.DUMMYFUNCTION(\"\"\"COMPUTED_VALUE\"\"\"),\"PAF partielle\")","v":"PAF partielle"},{"$f":"IFERROR(__xludf.DUMMYFUNCTION(\"\"\"COMPUTED_VALUE\"\"\"),\"non reçue\")","v":"non reçue"},{"$f":"IFERROR(__xludf.DUMMYFUNCTION(\"\"\"COMPUTED_VALUE\"\"\"),\"R.A.S.\")","v":"R.A.S."},{"$f":"IFERROR(__xludf.DUMMYFUNCTION(\"\"\"COMPUTED_VALUE\"\"\"),\"samedi\")","v":"samedi"},{"$f":"IFERROR(__xludf.DUMMYFUNCTION(\"\"\"COMPUTED_VALUE\"\"\"),\"NON\")","v":"NON"}]
[{"$f":"IFERROR(__xludf.DUMMYFUNCTION(\"\"\"COMPUTED_VALUE\"\"\"),45577.0)","v":"2024-10-12"},{"$f":"IFERROR(__xludf.DUMMYFUNCTION(\"\"\"COMPUTED_VALUE\"\"\"),\"Carpentier \")","v":"Carpentier "},{"$f":"IFERROR(__xludf.DUMMYFUNCTION(\"\"\"COMPUTED_VALUE\"\"\"),\"Guillaume \")","v":"Guillaume "},{"$f":"IFERROR(__xludf.DUMMYFUNCTION(\"\"\"COMPUTED_VALUE\"\"\"),\"H\")","v":"H"},{"$f":"IFERROR(__xludf.DUMMYFUNCTION(\"\"\"COMPUTED_VALUE\"\"\"),32.0)","v":32},{"$f":"IFERROR(__xludf.DUMMYFUNCTION(\"\"\"COMPUTED_VALUE\"\"\"),\"guillaume.surflife@gmail.com\")","v":"guillaume.surflife@gmail.com"},{"$f":"IFERROR(__xludf.DUMMYFUNCTION(\"\"\"COMPUTED_VALUE\"\"\"),\"Guillaume Carpentier \")","v":"Guillaume Carpentier "},{"$f":"IFERROR(__xludf.DUMMYFUNCTION(\"\"\"COMPUTED_VALUE\"\"\"),\"0670134925\")","v":"0670134925"},{"$f":"IFERROR(__xludf.DUMMYFUNCTION(\"\"\"COMPUTED_VALUE\"\"\"),\"PJ+PNJ\")","v":"PJ+PNJ"},{"$f":"IFERROR(__xludf.DUMMYFUNCTION(\"\"\"COMPUTED_VALUE\"\"\"),\"-\")","v":"-"},{"$f":"IFERROR(__xludf.DUMMYFUNCTION(\"\"\"COMPUTED_VALUE\"\"\"),\"juin\")","v":"juin"},{"$f":"IFERROR(__xludf.DUMMYFUNCTION(\"\"\"COMPUTED_VALUE\"\"\"),\"Navire et fort\")","v":"Navire et fort"},{"$f":"IFERROR(__xludf.DUMMYFUNCTION(\"\"\"COMPUTED_VALUE\"\"\"),\"OK\")","v":"OK"},{"$f":"IFERROR(__xludf.DUMMYFUNCTION(\"\"\"COMPUTED_VALUE\"\"\"),\"OK\")","v":"OK"},{"$f":"IFERROR(__xludf.DUMMYFUNCTION(\"\"\"COMPUTED_VALUE\"\"\"),\"juin\")","v":"juin"},{"$f":"IFERROR(__xludf.DUMMYFUNCTION(\"\"\"COMPUTED_VALUE\"\"\"),\"Navire & Fort\")","v":"Navire & Fort"},{"$f":"IFERROR(__xludf.DUMMYFUNCTION(\"\"\"COMPUTED_VALUE\"\"\"),267.0)","v":267},{"$f":"IFERROR(__xludf.DUMMYFUNCTION(\"\"\"COMPUTED_VALUE\"\"\"),\"PAF partielle\")","v":"PAF partielle"},{"$f":"IFERROR(__xludf.DUMMYFUNCTION(\"\"\"COMPUTED_VALUE\"\"\"),\"non reçue\")","v":"non reçue"},{"$f":"IFERROR(__xludf.DUMMYFUNCTION(\"\"\"COMPUTED_VALUE\"\"\"),\"R.A.S.\")","v":"R.A.S."},{"$f":"IFERROR(__xludf.DUMMYFUNCTION(\"\"\"COMPUTED_VALUE\"\"\"),\"samedi\")","v":"samedi"},{"$f":"IFERROR(__xludf.DUMMYFUNCTION(\"\"\"COMPUTED_VALUE\"\"\"),\"Reste\")","v":"Reste"}]
[{"$f":"IFERROR(__xludf.DUMMYFUNCTION(\"\"\"COMPUTED_VALUE\"\"\"),45613.0)","v":"2024-11-17"},{"$f":"IFERROR(__xludf.DUMMYFUNCTION(\"\"\"COMPUTED_VALUE\"\"\"),\"quintero y perez\")","v":"quintero y perez"},{"$f":"IFERROR(__xludf.DUMMYFUNCTION(\"\"\"COMPUTED_VALUE\"\"\"),\"Flori\")","v":"Flori"},{"$f":"IFERROR(__xludf.DUMMYFUNCTION(\"\"\"COMPUTED_VALUE\"\"\"),\"F\")","v":"F"},{"$f":"IFERROR(__xludf.DUMMYFUNCTION(\"\"\"COMPUTED_VALUE\"\"\"),42.0)","v":42},{"$f":"IFERROR(__xludf.DUMMYFUNCTION(\"\"\"COMPUTED_VALUE\"\"\"),\"florieveillon@hotmail.fr\")","v":"florieveillon@hotmail.fr"},{"$f":"IFERROR(__xludf.DUMMYFUNCTION(\"\"\"COMPUTED_VALUE\"\"\"),\"Florie BackTo TheBeat \")","v":"Florie BackTo TheBeat "},{"$f":"IFERROR(__xludf.DUMMYFUNCTION(\"\"\"COMPUTED_VALUE\"\"\"),\"0642989902\")","v":"0642989902"},{"$f":"IFERROR(__xludf.DUMMYFUNCTION(\"\"\"COMPUTED_VALUE\"\"\"),\"PJ+PNJ\")","v":"PJ+PNJ"},{"$f":"IFERROR(__xludf.DUMMYFUNCTION(\"\"\"COMPUTED_VALUE\"\"\"),\"-\")","v":"-"},{"$f":"IFERROR(__xludf.DUMMYFUNCTION(\"\"\"COMPUTED_VALUE\"\"\"),\"Les deux\")","v":"Les deux"},{"$f":"IFERROR(__xludf.DUMMYFUNCTION(\"\"\"COMPUTED_VALUE\"\"\"),\"Seulement au fort\")","v":"Seulement au fort"},{"$f":"IFERROR(__xludf.DUMMYFUNCTION(\"\"\"COMPUTED_VALUE\"\"\"),\"OK\")","v":"OK"},{"$f":"IFERROR(__xludf.DUMMYFUNCTION(\"\"\"COMPUTED_VALUE\"\"\"),\"OK\")","v":"OK"},{"$f":"IFERROR(__xludf.DUMMYFUNCTION(\"\"\"COMPUTED_VALUE\"\"\"),\"juin\")","v":"juin"},{"$f":"IFERROR(__xludf.DUMMYFUNCTION(\"\"\"COMPUTED_VALUE\"\"\"),\"Fort seulement\")","v":"Fort seulement"},{"$f":"IFERROR(__xludf.DUMMYFUNCTION(\"\"\"COMPUTED_VALUE\"\"\"),200.0)","v":200},{"$f":"IFERROR(__xludf.DUMMYFUNCTION(\"\"\"COMPUTED_VALUE\"\"\"),\"PAF finalisée\")","v":"PAF finalisée"},{"$f":"IFERROR(__xludf.DUMMYFUNCTION(\"\"\"COMPUTED_VALUE\"\"\"),\"reçue\")","v":"reçue"},{"$f":"IFERROR(__xludf.DUMMYFUNCTION(\"\"\"COMPUTED_VALUE\"\"\"),\"R.A.S.\")","v":"R.A.S."},{"$f":"IFERROR(__xludf.DUMMYFUNCTION(\"\"\"COMPUTED_VALUE\"\"\"),\"samedi\")","v":"samedi"},{"$f":"IFERROR(__xludf.DUMMYFUNCTION(\"\"\"COMPUTED_VALUE\"\"\"),\"Reste\")","v":"Reste"}]
[{"$f":"IFERROR(__xludf.DUMMYFUNCTION(\"\"\"COMPUTED_VALUE\"\"\"),45661.0)","v":"2025-01-04"},{"$f":"IFERROR(__xludf.DUMMYFUNCTION(\"\"\"COMPUTED_VALUE\"\"\"),\"marcelin-gabriel\")","v":"marcelin-gabriel"},{"$f":"IFERROR(__xludf.DUMMYFUNCTION(\"\"\"COMPUTED_VALUE\"\"\"),\"magali\")","v":"magali"},{"$f":"IFERROR(__xludf.DUMMYFUNCTION(\"\"\"COMPUTED_VALUE\"\"\"),\"F\")","v":"F"},{"$f":"IFERROR(__xludf.DUMMYFUNCTION(\"\"\"COMPUTED_VALUE\"\"\"),57.0)","v":57},{"$f":"IFERROR(__xludf.DUMMYFUNCTION(\"\"\"COMPUTED_VALUE\"\"\"),\"magalimarcelin@orange.fr\")","v":"magalimarcelin@orange.fr"},{"$f":"IFERROR(__xludf.DUMMYFUNCTION(\"\"\"COMPUTED_VALUE\"\"\"),\"magali marcelin\")","v":"magali marcelin"},{"$f":"IFERROR(__xludf.DUMMYFUNCTION(\"\"\"COMPUTED_VALUE\"\"\"),\"0684115179\")","v":"0684115179"},{"$f":"IFERROR(__xludf.DUMMYFUNCTION(\"\"\"COMPUTED_VALUE\"\"\"),\"PJ+PNJ\")","v":"PJ+PNJ"},{"$f":"IFERROR(__xludf.DUMMYFUNCTION(\"\"\"COMPUTED_VALUE\"\"\"),\"-\")","v":"-"},{"$f":"IFERROR(__xludf.DUMMYFUNCTION(\"\"\"COMPUTED_VALUE\"\"\"),\"Les deux\")","v":"Les deux"},{"$f":"IFERROR(__xludf.DUMMYFUNCTION(\"\"\"COMPUTED_VALUE\"\"\"),\"Peu importe\")","v":"Peu importe"},{"$f":"IFERROR(__xludf.DUMMYFUNCTION(\"\"\"COMPUTED_VALUE\"\"\"),\"OK\")","v":"OK"},{"$f":"IFERROR(__xludf.DUMMYFUNCTION(\"\"\"COMPUTED_VALUE\"\"\"),\"OK\")","v":"OK"},{"$f":"IFERROR(__xludf.DUMMYFUNCTION(\"\"\"COMPUTED_VALUE\"\"\"),\"juin\")","v":"juin"},{"$f":"IFERROR(__xludf.DUMMYFUNCTION(\"\"\"COMPUTED_VALUE\"\"\"),\"Fort seulement\")","v":"Fort seulement"},{"$f":"IFERROR(__xludf.DUMMYFUNCTION(\"\"\"COMPUTED_VALUE\"\"\"),200.0)","v":200},{"$f":"IFERROR(__xludf.DUMMYFUNCTION(\"\"\"COMPUTED_VALUE\"\"\"),\"PAF finalisée\")","v":"PAF finalisée"},{"$f":"IFERROR(__xludf.DUMMYFUNCTION(\"\"\"COMPUTED_VALUE\"\"\"),\"non reçue\")","v":"non reçue"},{"$f":"IFERROR(__xludf.DUMMYFUNCTION(\"\"\"COMPUTED_VALUE\"\"\"),\"R.A.S.\")","v":"R.A.S."},{"$f":"IFERROR(__xludf.DUMMYFUNCTION(\"\"\"COMPUTED_VALUE\"\"\"),\"samedi\")","v":"samedi"},{"$f":"IFERROR(__xludf.DUMMYFUNCTION(\"\"\"COMPUTED_VALUE\"\"\"),\"Reste\")","v":"Reste"}]
[{"$f":"IFERROR(__xludf.DUMMYFUNCTION(\"\"\"COMPUTED_VALUE\"\"\"),45661.0)","v":"2025-01-04"},{"$f":"IFERROR(__xludf.DUMMYFUNCTION(\"\"\"COMPUTED_VALUE\"\"\"),\"Dubois \")","v":"Dubois "},{"$f":"IFERROR(__xludf.DUMMYFUNCTION(\"\"\"COMPUTED_VALUE\"\"\"),\"Patrick \")","v":"Patrick "},{"$f":"IFERROR(__xludf.DUMMYFUNCTION(\"\"\"COMPUTED_VALUE\"\"\"),\"H\")","v":"H"},{"$f":"IFERROR(__xludf.DUMMYFUNCTION(\"\"\"COMPUTED_VALUE\"\"\"),54.0)","v":54},{"$f":"IFERROR(__xludf.DUMMYFUNCTION(\"\"\"COMPUTED_VALUE\"\"\"),\"caninepointue@yahoo.fr\")","v":"caninepointue@yahoo.fr"},{"$f":"IFERROR(__xludf.DUMMYFUNCTION(\"\"\"COMPUTED_VALUE\"\"\"),\"Patrick Dubois \")","v":"Patrick Dubois "},{"$f":"IFERROR(__xludf.DUMMYFUNCTION(\"\"\"COMPUTED_VALUE\"\"\"),\"0681649536\")","v":"0681649536"},{"$f":"IFERROR(__xludf.DUMMYFUNCTION(\"\"\"COMPUTED_VALUE\"\"\"),\"Pur PJ\")","v":"Pur PJ"},{"$f":"IFERROR(__xludf.DUMMYFUNCTION(\"\"\"COMPUTED_VALUE\"\"\"),\"-\")","v":"-"},{"$f":"IFERROR(__xludf.DUMMYFUNCTION(\"\"\"COMPUTED_VALUE\"\"\"),\"juin\")","v":"juin"},{"$f":"IFERROR(__xludf.DUMMYFUNCTION(\"\"\"COMPUTED_VALUE\"\"\"),\"Peu importe\")","v":"Peu importe"},{"$f":"IFERROR(__xludf.DUMMYFUNCTION(\"\"\"COMPUTED_VALUE\"\"\"),\"OK\")","v":"OK"},{"$f":"IFERROR(__xludf.DUMMYFUNCTION(\"\"\"COMPUTED_VALUE\"\"\"),\"OK\")","v":"OK"},{"$f":"IFERROR(__xludf.DUMMYFUNCTION(\"\"\"COMPUTED_VALUE\"\"\"),\"juin\")","v":"juin"},{"$f":"IFERROR(__xludf.DUMMYFUNCTION(\"\"\"COMPUTED_VALUE\"\"\"),\"Fort seulement\")","v":"Fort seulement"},null,{"$f":"IFERROR(__xludf.DUMMYFUNCTION(\"\"\"COMPUTED_VALUE\"\"\"),\"PAF non reçue\")","v":"PAF non reçue"},{"$f":"IFERROR(__xludf.DUMMYFUNCTION(\"\"\"COMPUTED_VALUE\"\"\"),\"non reçue\")","v":"non reçue"},{"$f":"IFERROR(__xludf.DUMMYFUNCTION(\"\"\"COMPUTED_VALUE\"\"\"),\"R.A.S.\")","v":"R.A.S."},{"$f":"IFERROR(__xludf.DUMMYFUNCTION(\"\"\"COMPUTED_VALUE\"\"\"),\"samedi\")","v":"samedi"},{"$f":"IFERROR(__xludf.DUMMYFUNCTION(\"\"\"COMPUTED_VALUE\"\"\"),\"Reste\")","v":"Reste"}]
[{"$f":"IFERROR(__xludf.DUMMYFUNCTION(\"\"\"COMPUTED_VALUE\"\"\"),45662.0)","v":"2025-01-05"},{"$f":"IFERROR(__xludf.DUMMYFUNCTION(\"\"\"COMPUTED_VALUE\"\"\"),\"Kerfriden \")","v":"Kerfriden "},{"$f":"IFERROR(__xludf.DUMMYFUNCTION(\"\"\"COMPUTED_VALUE\"\"\"),\"Claire \")","v":"Claire "},{"$f":"IFERROR(__xludf.DUMMYFUNCTION(\"\"\"COMPUTED_VALUE\"\"\"),\"F\")","v":"F"},{"$f":"IFERROR(__xludf.DUMMYFUNCTION(\"\"\"COMPUTED_VALUE\"\"\"),22.0)","v":22},{"$f":"IFERROR(__xludf.DUMMYFUNCTION(\"\"\"COMPUTED_VALUE\"\"\"),\"claire.kerfriden@gmail.com\")","v":"claire.kerfriden@gmail.com"},{"$f":"IFERROR(__xludf.DUMMYFUNCTION(\"\"\"COMPUTED_VALUE\"\"\"),\"Claire Kerfriden \")","v":"Claire Kerfriden "},{"$f":"IFERROR(__xludf.DUMMYFUNCTION(\"\"\"COMPUTED_VALUE\"\"\"),\"06-09-73-55-13 \")","v":"06-09-73-55-13 "},{"$f":"IFERROR(__xludf.DUMMYFUNCTION(\"\"\"COMPUTED_VALUE\"\"\"),\"Pur PJ\")","v":"Pur PJ"},{"$f":"IFERROR(__xludf.DUMMYFUNCTION(\"\"\"COMPUTED_VALUE\"\"\"),\"-\")","v":"-"},{"$f":"IFERROR(__xludf.DUMMYFUNCTION(\"\"\"COMPUTED_VALUE\"\"\"),\"juin\")","v":"juin"},{"$f":"IFERROR(__xludf.DUMMYFUNCTION(\"\"\"COMPUTED_VALUE\"\"\"),\"Peu importe\")","v":"Peu importe"},{"$f":"IFERROR(__xludf.DUMMYFUNCTION(\"\"\"COMPUTED_VALUE\"\"\"),\"OK\")","v":"OK"},{"$f":"IFERROR(__xludf.DUMMYFUNCTION(\"\"\"COMPUTED_VALUE\"\"\"),\"OK\")","v":"OK"},{"$f":"IFERROR(__xludf.DUMMYFUNCTION(\"\"\"COMPUTED_VALUE\"\"\"),\"juin\")","v":"juin"},{"$f":"IFERROR(__xludf.DUMMYFUNCTION(\"\"\"COMPUTED_VALUE\"\"\"),\"Fort seulement\")","v":"Fort seulement"},null,{"$f":"IFERROR(__xludf.DUMMYFUNCTION(\"\"\"COMPUTED_VALUE\"\"\"),\"PAF non reçue\")","v":"PAF non reçue"},{"$f":"IFERROR(__xludf.DUMMYFUNCTION(\"\"\"COMPUTED_VALUE\"\"\"),\"non reçue\")","v":"non reçue"},{"$f":"IFERROR(__xludf.DUMMYFUNCTION(\"\"\"COMPUTED_VALUE\"\"\"),\"R.A.S.\")","v":"R.A.S."},{"$f":"IFERROR(__xludf.DUMMYFUNCTION(\"\"\"COMPUTED_VALUE\"\"\"),\"samedi\")","v":"samedi"},{"$f":"IFERROR(__xludf.DUMMYFUNCTION(\"\"\"COMPUTED_VALUE\"\"\"),\"NON\")","v":"NON"}]
[{"$f":"IFERROR(__xludf.DUMMYFUNCTION(\"\"\"COMPUTED_VALUE\"\"\"),45669.0)","v":"2025-01-12"},{"$f":"IFERROR(__xludf.DUMMYFUNCTION(\"\"\"COMPUTED_VALUE\"\"\"),\"Méron \")","v":"Méron "},{"$f":"IFERROR(__xludf.DUMMYFUNCTION(\"\"\"COMPUTED_VALUE\"\"\"),\"Thomas \")","v":"Thomas "},{"$f":"IFERROR(__xludf.DUMMYFUNCTION(\"\"\"COMPUTED_VALUE\"\"\"),\"H\")","v":"H"},{"$f":"IFERROR(__xludf.DUMMYFUNCTION(\"\"\"COMPUTED_VALUE\"\"\"),37.0)","v":37},{"$f":"IFERROR(__xludf.DUMMYFUNCTION(\"\"\"COMPUTED_VALUE\"\"\"),\"meronthomas6@gmail.com\")","v":"meronthomas6@gmail.com"},{"$f":"IFERROR(__xludf.DUMMYFUNCTION(\"\"\"COMPUTED_VALUE\"\"\"),\"JACK DANIEL \")","v":"JACK DANIEL "},{"$f":"IFERROR(__xludf.DUMMYFUNCTION(\"\"\"COMPUTED_VALUE\"\"\"),\"624838163\")","v":"624838163"},{"$f":"IFERROR(__xludf.DUMMYFUNCTION(\"\"\"COMPUTED_VALUE\"\"\"),\"PJ+PNJ\")","v":"PJ+PNJ"},{"$f":"IFERROR(__xludf.DUMMYFUNCTION(\"\"\"COMPUTED_VALUE\"\"\"),\"-\")","v":"-"},{"$f":"IFERROR(__xludf.DUMMYFUNCTION(\"\"\"COMPUTED_VALUE\"\"\"),\"juin\")","v":"juin"},{"$f":"IFERROR(__xludf.DUMMYFUNCTION(\"\"\"COMPUTED_VALUE\"\"\"),\"Navire et fort\")","v":"Navire et fort"},{"$f":"IFERROR(__xludf.DUMMYFUNCTION(\"\"\"COMPUTED_VALUE\"\"\"),\"OK\")","v":"OK"},{"$f":"IFERROR(__xludf.DUMMYFUNCTION(\"\"\"COMPUTED_VALUE\"\"\"),\"OK\")","v":"OK"},{"$f":"IFERROR(__xludf.DUMMYFUNCTION(\"\"\"COMPUTED_VALUE\"\"\"),\"juin\")","v":"juin"},{"$f":"IFERROR(__xludf.DUMMYFUNCTION(\"\"\"COMPUTED_VALUE\"\"\"),\"Navire & Fort\")","v":"Navire & Fort"},{"$f":"IFERROR(__xludf.DUMMYFUNCTION(\"\"\"COMPUTED_VALUE\"\"\"),400.0)","v":400},{"$f":"IFERROR(__xludf.DUMMYFUNCTION(\"\"\"COMPUTED_VALUE\"\"\"),\"PAF finalisée\")","v":"PAF finalisée"},{"$f":"IFERROR(__xludf.DUMMYFUNCTION(\"\"\"COMPUTED_VALUE\"\"\"),\"reçue\")","v":"reçue"},{"$f":"IFERROR(__xludf.DUMMYFUNCTION(\"\"\"COMPUTED_VALUE\"\"\"),\"R.A.S.\")","v":"R.A.S."},{"$f":"IFERROR(__xludf.DUMMYFUNCTION(\"\"\"COMPUTED_VALUE\"\"\"),\"samedi\")","v":"samedi"},{"$f":"IFERROR(__xludf.DUMMYFUNCTION(\"\"\"COMPUTED_VALUE\"\"\"),\"Reste\")","v":"Reste"}]
[{"$f":"IFERROR(__xludf.DUMMYFUNCTION(\"\"\"COMPUTED_VALUE\"\"\"),45670.0)","v":"2025-01-13"},{"$f":"IFERROR(__xludf.DUMMYFUNCTION(\"\"\"COMPUTED_VALUE\"\"\"),\" Saada\")","v":" Saada"},{"$f":"IFERROR(__xludf.DUMMYFUNCTION(\"\"\"COMPUTED_VALUE\"\"\"),\"laurent\")","v":"laurent"},{"$f":"IFERROR(__xludf.DUMMYFUNCTION(\"\"\"COMPUTED_VALUE\"\"\"),\"H\")","v":"H"},{"$f":"IFERROR(__xludf.DUMMYFUNCTION(\"\"\"COMPUTED_VALUE\"\"\"),48.0)","v":48},{"$f":"IFERROR(__xludf.DUMMYFUNCTION(\"\"\"COMPUTED_VALUE\"\"\"),\"laursaad@gmail.com\")","v":"laursaad@gmail.com"},{"$f":"IFERROR(__xludf.DUMMYFUNCTION(\"\"\"COMPUTED_VALUE\"\"\"),\"Laurent S lolo\")","v":"Laurent S lolo"},{"$f":"IFERROR(__xludf.DUMMYFUNCTION(\"\"\"COMPUTED_VALUE\"\"\"),\"0614462023\")","v":"0614462023"},{"$f":"IFERROR(__xludf.DUMMYFUNCTION(\"\"\"COMPUTED_VALUE\"\"\"),\"Pur PJ\")","v":"Pur PJ"},{"$f":"IFERROR(__xludf.DUMMYFUNCTION(\"\"\"COMPUTED_VALUE\"\"\"),\"-\")","v":"-"},{"$f":"IFERROR(__xludf.DUMMYFUNCTION(\"\"\"COMPUTED_VALUE\"\"\"),\"juin\")","v":"juin"},{"$f":"IFERROR(__xludf.DUMMYFUNCTION(\"\"\"COMPUTED_VALUE\"\"\"),\"Navire et fort\")","v":"Navire et fort"},{"$f":"IFERROR(__xludf.DUMMYFUNCTION(\"\"\"COMPUTED_VALUE\"\"\"),\"OK\")","v":"OK"},{"$f":"IFERROR(__xludf.DUMMYFUNCTION(\"\"\"COMPUTED_VALUE\"\"\"),\"OK\")","v":"OK"},{"$f":"IFERROR(__xludf.DUMMYFUNCTION(\"\"\"COMPUTED_VALUE\"\"\"),\"juin\")","v":"juin"},{"$f":"IFERROR(__xludf.DUMMYFUNCTION(\"\"\"COMPUTED_VALUE\"\"\"),\"Navire & Fort\")","v":"Navire & Fort"},{"$f":"IFERROR(__xludf.DUMMYFUNCTION(\"\"\"COMPUTED_VALUE\"\"\"),133.5)","v":133.5},{"$f":"IFERROR(__xludf.DUMMYFUNCTION(\"\"\"COMPUTED_VALUE\"\"\"),\"PAF partielle\")","v":"PAF partielle"},{"$f":"IFERROR(__xludf.DUMMYFUNCTION(\"\"\"COMPUTED_VALUE\"\"\"),\"non reçue\")","v":"non reçue"},{"$f":"IFERROR(__xludf.DUMMYFUNCTION(\"\"\"COMPUTED_VALUE\"\"\"),\"R.A.S.\")","v":"R.A.S."},{"$f":"IFERROR(__xludf.DUMMYFUNCTION(\"\"\"COMPUTED_VALUE\"\"\"),\"samedi\")","v":"samedi"},{"$f":"IFERROR(__xludf.DUMMYFUNCTION(\"\"\"COMPUTED_VALUE\"\"\"),\"Reste\")","v":"Reste"}]
[{"$f":"IFERROR(__xludf.DUMMYFUNCTION(\"\"\"COMPUTED_VALUE\"\"\"),45497.0)","v":"2024-07-24"},{"$f":"IFERROR(__xludf.DUMMYFUNCTION(\"\"\"COMPUTED_VALUE\"\"\"),\"orfeuvre\")","v":"orfeuvre"},{"$f":"IFERROR(__xludf.DUMMYFUNCTION(\"\"\"COMPUTED_VALUE\"\"\"),\"emilie\")","v":"emilie"},{"$f":"IFERROR(__xludf.DUMMYFUNCTION(\"\"\"COMPUTED_VALUE\"\"\"),\"F\")","v":"F"},{"$f":"IFERROR(__xludf.DUMMYFUNCTION(\"\"\"COMPUTED_VALUE\"\"\"),35.0)","v":35},{"$f":"IFERROR(__xludf.DUMMYFUNCTION(\"\"\"COMPUTED_VALUE\"\"\"),\"emilie.orfeuvre@gmail.com\")","v":"emilie.orfeuvre@gmail.com"},{"$f":"IFERROR(__xludf.DUMMYFUNCTION(\"\"\"COMPUTED_VALUE\"\"\"),\"Milie oh\")","v":"Milie oh"},{"$f":"IFERROR(__xludf.DUMMYFUNCTION(\"\"\"COMPUTED_VALUE\"\"\"),\"0688550880\")","v":"0688550880"},{"$f":"IFERROR(__xludf.DUMMYFUNCTION(\"\"\"COMPUTED_VALUE\"\"\"),\"PJ+PNJ\")","v":"PJ+PNJ"},{"$f":"IFERROR(__xludf.DUMMYFUNCTION(\"\"\"COMPUTED_VALUE\"\"\"),\"-\")","v":"-"},{"$f":"IFERROR(__xludf.DUMMYFUNCTION(\"\"\"COMPUTED_VALUE\"\"\"),\"septembre\")","v":"septembre"},{"$f":"IFERROR(__xludf.DUMMYFUNCTION(\"\"\"COMPUTED_VALUE\"\"\"),\"Seulement au fort\")","v":"Seulement au fort"},{"$f":"IFERROR(__xludf.DUMMYFUNCTION(\"\"\"COMPUTED_VALUE\"\"\"),\"OK\")","v":"OK"},{"$f":"IFERROR(__xludf.DUMMYFUNCTION(\"\"\"COMPUTED_VALUE\"\"\"),\"OK\")","v":"OK"},{"$f":"IFERROR(__xludf.DUMMYFUNCTION(\"\"\"COMPUTED_VALUE\"\"\"),\"juin\")","v":"juin"},{"$f":"IFERROR(__xludf.DUMMYFUNCTION(\"\"\"COMPUTED_VALUE\"\"\"),\"Fort seulement\")","v":"Fort seulement"},{"$f":"IFERROR(__xludf.DUMMYFUNCTION(\"\"\"COMPUTED_VALUE\"\"\"),200.0)","v":200},{"$f":"IFERROR(__xludf.DUMMYFUNCTION(\"\"\"COMPUTED_VALUE\"\"\"),\"PAF finalisée\")","v":"PAF finalisée"},{"$f":"IFERROR(__xludf.DUMMYFUNCTION(\"\"\"COMPUTED_VALUE\"\"\"),\"non reçue\")","v":"non reçue"},{"$f":"IFERROR(__xludf.DUMMYFUNCTION(\"\"\"COMPUTED_VALUE\"\"\"),\"R.A.S.\")","v":"R.A.S."},{"$f":"IFERROR(__xludf.DUMMYFUNCTION(\"\"\"COMPUTED_VALUE\"\"\"),\"samedi\")","v":"samedi"},{"$f":"IFERROR(__xludf.DUMMYFUNCTION(\"\"\"COMPUTED_VALUE\"\"\"),\"Reste\")","v":"Reste"}]
[{"$f":"IFERROR(__xludf.DUMMYFUNCTION(\"\"\"COMPUTED_VALUE\"\"\"),45676.0)","v":"2025-01-19"},{"$f":"IFERROR(__xludf.DUMMYFUNCTION(\"\"\"COMPUTED_VALUE\"\"\"),\"Richard\")","v":"Richard"},{"$f":"IFERROR(__xludf.DUMMYFUNCTION(\"\"\"COMPUTED_VALUE\"\"\"),\"Lea\")","v":"Lea"},{"$f":"IFERROR(__xludf.DUMMYFUNCTION(\"\"\"COMPUTED_VALUE\"\"\"),\"F\")","v":"F"},{"$f":"IFERROR(__xludf.DUMMYFUNCTION(\"\"\"COMPUTED_VALUE\"\"\"),32.0)","v":32},{"$f":"IFERROR(__xludf.DUMMYFUNCTION(\"\"\"COMPUTED_VALUE\"\"\"),\"lea.p.y.richard@outlook.fr\")","v":"lea.p.y.richard@outlook.fr"},{"$f":"IFERROR(__xludf.DUMMYFUNCTION(\"\"\"COMPUTED_VALUE\"\"\"),\"Lea Richard \")","v":"Lea Richard "},{"$f":"IFERROR(__xludf.DUMMYFUNCTION(\"\"\"COMPUTED_VALUE\"\"\"),\"0032494182566\")","v":"0032494182566"},{"$f":"IFERROR(__xludf.DUMMYFUNCTION(\"\"\"COMPUTED_VALUE\"\"\"),\"PJ+PNJ\")","v":"PJ+PNJ"},{"$f":"IFERROR(__xludf.DUMMYFUNCTION(\"\"\"COMPUTED_VALUE\"\"\"),\"-\")","v":"-"},{"$f":"IFERROR(__xludf.DUMMYFUNCTION(\"\"\"COMPUTED_VALUE\"\"\"),\"Les deux\")","v":"Les deux"},{"$f":"IFERROR(__xludf.DUMMYFUNCTION(\"\"\"COMPUTED_VALUE\"\"\"),\"Peu importe\")","v":"Peu importe"},{"$f":"IFERROR(__xludf.DUMMYFUNCTION(\"\"\"COMPUTED_VALUE\"\"\"),\"OK\")","v":"OK"},{"$f":"IFERROR(__xludf.DUMMYFUNCTION(\"\"\"COMPUTED_VALUE\"\"\"),\"OK\")","v":"OK"},{"$f":"IFERROR(__xludf.DUMMYFUNCTION(\"\"\"COMPUTED_VALUE\"\"\"),\"juin\")","v":"juin"},{"$f":"IFERROR(__xludf.DUMMYFUNCTION(\"\"\"COMPUTED_VALUE\"\"\"),\"Navire & Fort\")","v":"Navire & Fort"},null,{"$f":"IFERROR(__xludf.DUMMYFUNCTION(\"\"\"COMPUTED_VALUE\"\"\"),\"PAF non reçue\")","v":"PAF non reçue"},{"$f":"IFERROR(__xludf.DUMMYFUNCTION(\"\"\"COMPUTED_VALUE\"\"\"),\"non reçue\")","v":"non reçue"},{"$f":"IFERROR(__xludf.DUMMYFUNCTION(\"\"\"COMPUTED_VALUE\"\"\"),\"R.A.S.\")","v":"R.A.S."},{"$f":"IFERROR(__xludf.DUMMYFUNCTION(\"\"\"COMPUTED_VALUE\"\"\"),\"samedi\")","v":"samedi"},{"$f":"IFERROR(__xludf.DUMMYFUNCTION(\"\"\"COMPUTED_VALUE\"\"\"),\"Reste\")","v":"Reste"}]
[{"$f":"IFERROR(__xludf.DUMMYFUNCTION(\"\"\"COMPUTED_VALUE\"\"\"),45677.0)","v":"2025-01-20"},{"$f":"IFERROR(__xludf.DUMMYFUNCTION(\"\"\"COMPUTED_VALUE\"\"\"),\"Delahaye \")","v":"Delahaye "},{"$f":"IFERROR(__xludf.DUMMYFUNCTION(\"\"\"COMPUTED_VALUE\"\"\"),\"Damien\")","v":"Damien"},{"$f":"IFERROR(__xludf.DUMMYFUNCTION(\"\"\"COMPUTED_VALUE\"\"\"),\"H\")","v":"H"},{"$f":"IFERROR(__xludf.DUMMYFUNCTION(\"\"\"COMPUTED_VALUE\"\"\"),32.0)","v":32},{"$f":"IFERROR(__xludf.DUMMYFUNCTION(\"\"\"COMPUTED_VALUE\"\"\"),\"damien-kidds@hotmail.fr\")","v":"damien-kidds@hotmail.fr"},{"$f":"IFERROR(__xludf.DUMMYFUNCTION(\"\"\"COMPUTED_VALUE\"\"\"),\"Kidds teach Rackham \")","v":"Kidds teach Rackham "},{"$f":"IFERROR(__xludf.DUMMYFUNCTION(\"\"\"COMPUTED_VALUE\"\"\"),\"07-85-94-49-12\")","v":"07-85-94-49-12"},{"$f":"IFERROR(__xludf.DUMMYFUNCTION(\"\"\"COMPUTED_VALUE\"\"\"),\"PJ+PNJ\")","v":"PJ+PNJ"},{"$f":"IFERROR(__xludf.DUMMYFUNCTION(\"\"\"COMPUTED_VALUE\"\"\"),\"-\")","v":"-"},{"$f":"IFERROR(__xludf.DUMMYFUNCTION(\"\"\"COMPUTED_VALUE\"\"\"),\"Les deux\")","v":"Les deux"},{"$f":"IFERROR(__xludf.DUMMYFUNCTION(\"\"\"COMPUTED_VALUE\"\"\"),\"Peu importe\")","v":"Peu importe"},{"$f":"IFERROR(__xludf.DUMMYFUNCTION(\"\"\"COMPUTED_VALUE\"\"\"),\"OK\")","v":"OK"},{"$f":"IFERROR(__xludf.DUMMYFUNCTION(\"\"\"COMPUTED_VALUE\"\"\"),\"OK\")","v":"OK"},{"$f":"IFERROR(__xludf.DUMMYFUNCTION(\"\"\"COMPUTED_VALUE\"\"\"),\"juin\")","v":"juin"},{"$f":"IFERROR(__xludf.DUMMYFUNCTION(\"\"\"COMPUTED_VALUE\"\"\"),\"Navire & Fort\")","v":"Navire & Fort"},null,{"$f":"IFERROR(__xludf.DUMMYFUNCTION(\"\"\"COMPUTED_VALUE\"\"\"),\"PAF non reçue\")","v":"PAF non reçue"},{"$f":"IFERROR(__xludf.DUMMYFUNCTION(\"\"\"COMPUTED_VALUE\"\"\"),\"non reçue\")","v":"non reçue"},{"$f":"IFERROR(__xludf.DUMMYFUNCTION(\"\"\"COMPUTED_VALUE\"\"\"),\"R.A.S.\")","v":"R.A.S."},{"$f":"IFERROR(__xludf.DUMMYFUNCTION(\"\"\"COMPUTED_VALUE\"\"\"),\"samedi\")","v":"samedi"},{"$f":"IFERROR(__xludf.DUMMYFUNCTION(\"\"\"COMPUTED_VALUE\"\"\"),\"Reste\")","v":"Reste"}]
[{"$f":"IFERROR(__xludf.DUMMYFUNCTION(\"\"\"COMPUTED_VALUE\"\"\"),45677.0)","v":"2025-01-20"},{"$f":"IFERROR(__xludf.DUMMYFUNCTION(\"\"\"COMPUTED_VALUE\"\"\"),\"Lefebvre\")","v":"Lefebvre"},{"$f":"IFERROR(__xludf.DUMMYFUNCTION(\"\"\"COMPUTED_VALUE\"\"\"),\"Charline\")","v":"Charline"},{"$f":"IFERROR(__xludf.DUMMYFUNCTION(\"\"\"COMPUTED_VALUE\"\"\"),\"F\")","v":"F"},{"$f":"IFERROR(__xludf.DUMMYFUNCTION(\"\"\"COMPUTED_VALUE\"\"\"),26.0)","v":26},{"$f":"IFERROR(__xludf.DUMMYFUNCTION(\"\"\"COMPUTED_VALUE\"\"\"),\"charline.lefebvre7@orange.fr\")","v":"charline.lefebvre7@orange.fr"},{"$f":"IFERROR(__xludf.DUMMYFUNCTION(\"\"\"COMPUTED_VALUE\"\"\"),\"Mini-Mew Chatouxe\")","v":"Mini-Mew Chatouxe"},{"$f":"IFERROR(__xludf.DUMMYFUNCTION(\"\"\"COMPUTED_VALUE\"\"\"),\"0762276863\")","v":"0762276863"},{"$f":"IFERROR(__xludf.DUMMYFUNCTION(\"\"\"COMPUTED_VALUE\"\"\"),\"PJ+PNJ\")","v":"PJ+PNJ"},{"$f":"IFERROR(__xludf.DUMMYFUNCTION(\"\"\"COMPUTED_VALUE\"\"\"),\"-\")","v":"-"},{"$f":"IFERROR(__xludf.DUMMYFUNCTION(\"\"\"COMPUTED_VALUE\"\"\"),\"Les deux\")","v":"Les deux"},{"$f":"IFERROR(__xludf.DUMMYFUNCTION(\"\"\"COMPUTED_VALUE\"\"\"),\"Peu importe\")","v":"Peu importe"},{"$f":"IFERROR(__xludf.DUMMYFUNCTION(\"\"\"COMPUTED_VALUE\"\"\"),\"OK\")","v":"OK"},{"$f":"IFERROR(__xludf.DUMMYFUNCTION(\"\"\"COMPUTED_VALUE\"\"\"),\"OK\")","v":"OK"},{"$f":"IFERROR(__xludf.DUMMYFUNCTION(\"\"\"COMPUTED_VALUE\"\"\"),\"juin\")","v":"juin"},{"$f":"IFERROR(__xludf.DUMMYFUNCTION(\"\"\"COMPUTED_VALUE\"\"\"),\"Navire & Fort\")","v":"Navire & Fort"},null,{"$f":"IFERROR(__xludf.DUMMYFUNCTION(\"\"\"COMPUTED_VALUE\"\"\"),\"PAF non reçue\")","v":"PAF non reçue"},{"$f":"IFERROR(__xludf.DUMMYFUNCTION(\"\"\"COMPUTED_VALUE\"\"\"),\"non reçue\")","v":"non reçue"},{"$f":"IFERROR(__xludf.DUMMYFUNCTION(\"\"\"COMPUTED_VALUE\"\"\"),\"R.A.S.\")","v":"R.A.S."},{"$f":"IFERROR(__xludf.DUMMYFUNCTION(\"\"\"COMPUTED_VALUE\"\"\"),\"samedi\")","v":"samedi"},{"$f":"IFERROR(__xludf.DUMMYFUNCTION(\"\"\"COMPUTED_VALUE\"\"\"),\"Reste\")","v":"Reste"}]
[{"$f":"IFERROR(__xludf.DUMMYFUNCTION(\"\"\"COMPUTED_VALUE\"\"\"),45677.0)","v":"2025-01-20"},{"$f":"IFERROR(__xludf.DUMMYFUNCTION(\"\"\"COMPUTED_VALUE\"\"\"),\"Pressoir\")","v":"Pressoir"},{"$f":"IFERROR(__xludf.DUMMYFUNCTION(\"\"\"COMPUTED_VALUE\"\"\"),\"Valentine\")","v":"Valentine"},{"$f":"IFERROR(__xludf.DUMMYFUNCTION(\"\"\"COMPUTED_VALUE\"\"\"),\"F\")","v":"F"},{"$f":"IFERROR(__xludf.DUMMYFUNCTION(\"\"\"COMPUTED_VALUE\"\"\"),26.0)","v":26},{"$f":"IFERROR(__xludf.DUMMYFUNCTION(\"\"\"COMPUTED_VALUE\"\"\"),\"valentine.pressoir@gmail.com\")","v":"valentine.pressoir@gmail.com"},{"$f":"IFERROR(__xludf.DUMMYFUNCTION(\"\"\"COMPUTED_VALUE\"\"\"),\"Valentine \")","v":"Valentine "},{"$f":"IFERROR(__xludf.DUMMYFUNCTION(\"\"\"COMPUTED_VALUE\"\"\"),\"0645130094\")","v":"0645130094"},{"$f":"IFERROR(__xludf.DUMMYFUNCTION(\"\"\"COMPUTED_VALUE\"\"\"),\"PJ+PNJ\")","v":"PJ+PNJ"},{"$f":"IFERROR(__xludf.DUMMYFUNCTION(\"\"\"COMPUTED_VALUE\"\"\"),\"-\")","v":"-"},{"$f":"IFERROR(__xludf.DUMMYFUNCTION(\"\"\"COMPUTED_VALUE\"\"\"),\"juin\")","v":"juin"},{"$f":"IFERROR(__xludf.DUMMYFUNCTION(\"\"\"COMPUTED_VALUE\"\"\"),\"Seulement au fort\")","v":"Seulement au fort"},{"$f":"IFERROR(__xludf.DUMMYFUNCTION(\"\"\"COMPUTED_VALUE\"\"\"),\"OK\")","v":"OK"},{"$f":"IFERROR(__xludf.DUMMYFUNCTION(\"\"\"COMPUTED_VALUE\"\"\"),\"OK\")","v":"OK"},{"$f":"IFERROR(__xludf.DUMMYFUNCTION(\"\"\"COMPUTED_VALUE\"\"\"),\"juin\")","v":"juin"},{"$f":"IFERROR(__xludf.DUMMYFUNCTION(\"\"\"COMPUTED_VALUE\"\"\"),\"Fort seulement\")","v":"Fort seulement"},null,{"$f":"IFERROR(__xludf.DUMMYFUNCTION(\"\"\"COMPUTED_VALUE\"\"\"),\"PAF non reçue\")","v":"PAF non reçue"},{"$f":"IFERROR(__xludf.DUMMYFUNCTION(\"\"\"COMPUTED_VALUE\"\"\"),\"non reçue\")","v":"non reçue"},{"$f":"IFERROR(__xludf.DUMMYFUNCTION(\"\"\"COMPUTED_VALUE\"\"\"),\"R.A.S.\")","v":"R.A.S."},{"$f":"IFERROR(__xludf.DUMMYFUNCTION(\"\"\"COMPUTED_VALUE\"\"\"),\"samedi\")","v":"samedi"},{"$f":"IFERROR(__xludf.DUMMYFUNCTION(\"\"\"COMPUTED_VALUE\"\"\"),\"Reste\")","v":"Reste"}]
[{"$f":"IFERROR(__xludf.DUMMYFUNCTION(\"\"\"COMPUTED_VALUE\"\"\"),45678.0)","v":"2025-01-21"},{"$f":"IFERROR(__xludf.DUMMYFUNCTION(\"\"\"COMPUTED_VALUE\"\"\"),\"Rys\")","v":"Rys"},{"$f":"IFERROR(__xludf.DUMMYFUNCTION(\"\"\"COMPUTED_VALUE\"\"\"),\"Ninon\")","v":"Ninon"},{"$f":"IFERROR(__xludf.DUMMYFUNCTION(\"\"\"COMPUTED_VALUE\"\"\"),\"F\")","v":"F"},{"$f":"IFERROR(__xludf.DUMMYFUNCTION(\"\"\"COMPUTED_VALUE\"\"\"),35.0)","v":35},{"$f":"IFERROR(__xludf.DUMMYFUNCTION(\"\"\"COMPUTED_VALUE\"\"\"),\"ninon.rys@gmail.com\")","v":"ninon.rys@gmail.com"},{"$f":"IFERROR(__xludf.DUMMYFUNCTION(\"\"\"COMPUTED_VALUE\"\"\"),\"Ninon Ysr\")","v":"Ninon Ysr"},{"$f":"IFERROR(__xludf.DUMMYFUNCTION(\"\"\"COMPUTED_VALUE\"\"\"),\"0625906212\")","v":"0625906212"},{"$f":"IFERROR(__xludf.DUMMYFUNCTION(\"\"\"COMPUTED_VALUE\"\"\"),\"PJ+PNJ\")","v":"PJ+PNJ"},{"$f":"IFERROR(__xludf.DUMMYFUNCTION(\"\"\"COMPUTED_VALUE\"\"\"),\"-\")","v":"-"},{"$f":"IFERROR(__xludf.DUMMYFUNCTION(\"\"\"COMPUTED_VALUE\"\"\"),\"juin\")","v":"juin"},{"$f":"IFERROR(__xludf.DUMMYFUNCTION(\"\"\"COMPUTED_VALUE\"\"\"),\"Peu importe\")","v":"Peu importe"},{"$f":"IFERROR(__xludf.DUMMYFUNCTION(\"\"\"COMPUTED_VALUE\"\"\"),\"OK\")","v":"OK"},{"$f":"IFERROR(__xludf.DUMMYFUNCTION(\"\"\"COMPUTED_VALUE\"\"\"),\"OK\")","v":"OK"},{"$f":"IFERROR(__xludf.DUMMYFUNCTION(\"\"\"COMPUTED_VALUE\"\"\"),\"juin\")","v":"juin"},{"$f":"IFERROR(__xludf.DUMMYFUNCTION(\"\"\"COMPUTED_VALUE\"\"\"),\"Navire & Fort\")","v":"Navire & Fort"},null,{"$f":"IFERROR(__xludf.DUMMYFUNCTION(\"\"\"COMPUTED_VALUE\"\"\"),\"PAF non reçue\")","v":"PAF non reçue"},{"$f":"IFERROR(__xludf.DUMMYFUNCTION(\"\"\"COMPUTED_VALUE\"\"\"),\"non reçue\")","v":"non reçue"},{"$f":"IFERROR(__xludf.DUMMYFUNCTION(\"\"\"COMPUTED_VALUE\"\"\"),\"R.A.S.\")","v":"R.A.S."},{"$f":"IFERROR(__xludf.DUMMYFUNCTION(\"\"\"COMPUTED_VALUE\"\"\"),\"samedi\")","v":"samedi"},{"$f":"IFERROR(__xludf.DUMMYFUNCTION(\"\"\"COMPUTED_VALUE\"\"\"),\"Reste\")","v":"Reste"}]
[{"$f":"IFERROR(__xludf.DUMMYFUNCTION(\"\"\"COMPUTED_VALUE\"\"\"),45678.0)","v":"2025-01-21"},{"$f":"IFERROR(__xludf.DUMMYFUNCTION(\"\"\"COMPUTED_VALUE\"\"\"),\"picano\")","v":"picano"},{"$f":"IFERROR(__xludf.DUMMYFUNCTION(\"\"\"COMPUTED_VALUE\"\"\"),\"benjamin\")","v":"benjamin"},{"$f":"IFERROR(__xludf.DUMMYFUNCTION(\"\"\"COMPUTED_VALUE\"\"\"),\"H\")","v":"H"},{"$f":"IFERROR(__xludf.DUMMYFUNCTION(\"\"\"COMPUTED_VALUE\"\"\"),43.0)","v":43},{"$f":"IFERROR(__xludf.DUMMYFUNCTION(\"\"\"COMPUTED_VALUE\"\"\"),\"hulrek@gmail.com\")","v":"hulrek@gmail.com"},{"$f":"IFERROR(__xludf.DUMMYFUNCTION(\"\"\"COMPUTED_VALUE\"\"\"),\"benjamin picano\")","v":"benjamin picano"},{"$f":"IFERROR(__xludf.DUMMYFUNCTION(\"\"\"COMPUTED_VALUE\"\"\"),\"0664754371\")","v":"0664754371"},{"$f":"IFERROR(__xludf.DUMMYFUNCTION(\"\"\"COMPUTED_VALUE\"\"\"),\"Pur PJ\")","v":"Pur PJ"},{"$f":"IFERROR(__xludf.DUMMYFUNCTION(\"\"\"COMPUTED_VALUE\"\"\"),\"-\")","v":"-"},{"$f":"IFERROR(__xludf.DUMMYFUNCTION(\"\"\"COMPUTED_VALUE\"\"\"),\"juin\")","v":"juin"},{"$f":"IFERROR(__xludf.DUMMYFUNCTION(\"\"\"COMPUTED_VALUE\"\"\"),\"Navire et fort\")","v":"Navire et fort"},{"$f":"IFERROR(__xludf.DUMMYFUNCTION(\"\"\"COMPUTED_VALUE\"\"\"),\"OK\")","v":"OK"},{"$f":"IFERROR(__xludf.DUMMYFUNCTION(\"\"\"COMPUTED_VALUE\"\"\"),\"OK\")","v":"OK"},{"$f":"IFERROR(__xludf.DUMMYFUNCTION(\"\"\"COMPUTED_VALUE\"\"\"),\"juin\")","v":"juin"},{"$f":"IFERROR(__xludf.DUMMYFUNCTION(\"\"\"COMPUTED_VALUE\"\"\"),\"Navire & Fort\")","v":"Navire & Fort"},null,{"$f":"IFERROR(__xludf.DUMMYFUNCTION(\"\"\"COMPUTED_VALUE\"\"\"),\"PAF non reçue\")","v":"PAF non reçue"},{"$f":"IFERROR(__xludf.DUMMYFUNCTION(\"\"\"COMPUTED_VALUE\"\"\"),\"non reçue\")","v":"non reçue"},{"$f":"IFERROR(__xludf.DUMMYFUNCTION(\"\"\"COMPUTED_VALUE\"\"\"),\"R.A.S.\")","v":"R.A.S."},{"$f":"IFERROR(__xludf.DUMMYFUNCTION(\"\"\"COMPUTED_VALUE\"\"\"),\"samedi\")","v":"samedi"},{"$f":"IFERROR(__xludf.DUMMYFUNCTION(\"\"\"COMPUTED_VALUE\"\"\"),\"Reste\")","v":"Reste"}]
[{"$f":"IFERROR(__xludf.DUMMYFUNCTION(\"\"\"COMPUTED_VALUE\"\"\"),45679.0)","v":"2025-01-22"},{"$f":"IFERROR(__xludf.DUMMYFUNCTION(\"\"\"COMPUTED_VALUE\"\"\"),\"Glapa\")","v":"Glapa"},{"$f":"IFERROR(__xludf.DUMMYFUNCTION(\"\"\"COMPUTED_VALUE\"\"\"),\"Denis\")","v":"Denis"},{"$f":"IFERROR(__xludf.DUMMYFUNCTION(\"\"\"COMPUTED_VALUE\"\"\"),\"H\")","v":"H"},{"$f":"IFERROR(__xludf.DUMMYFUNCTION(\"\"\"COMPUTED_VALUE\"\"\"),42.0)","v":42},{"$f":"IFERROR(__xludf.DUMMYFUNCTION(\"\"\"COMPUTED_VALUE\"\"\"),\"d.glapa@laposte.net\")","v":"d.glapa@laposte.net"},{"$f":"IFERROR(__xludf.DUMMYFUNCTION(\"\"\"COMPUTED_VALUE\"\"\"),\"Denis Carcajou Bondissant\")","v":"Denis Carcajou Bondissant"},{"$f":"IFERROR(__xludf.DUMMYFUNCTION(\"\"\"COMPUTED_VALUE\"\"\"),\"0660570605\")","v":"0660570605"},{"$f":"IFERROR(__xludf.DUMMYFUNCTION(\"\"\"COMPUTED_VALUE\"\"\"),\"PJ+PNJ\")","v":"PJ+PNJ"},{"$f":"IFERROR(__xludf.DUMMYFUNCTION(\"\"\"COMPUTED_VALUE\"\"\"),\"-\")","v":"-"},{"$f":"IFERROR(__xludf.DUMMYFUNCTION(\"\"\"COMPUTED_VALUE\"\"\"),\"juin\")","v":"juin"},{"$f":"IFERROR(__xludf.DUMMYFUNCTION(\"\"\"COMPUTED_VALUE\"\"\"),\"Seulement au fort\")","v":"Seulement au fort"},{"$f":"IFERROR(__xludf.DUMMYFUNCTION(\"\"\"COMPUTED_VALUE\"\"\"),\"OK\")","v":"OK"},{"$f":"IFERROR(__xludf.DUMMYFUNCTION(\"\"\"COMPUTED_VALUE\"\"\"),\"OK\")","v":"OK"},{"$f":"IFERROR(__xludf.DUMMYFUNCTION(\"\"\"COMPUTED_VALUE\"\"\"),\"juin\")","v":"juin"},{"$f":"IFERROR(__xludf.DUMMYFUNCTION(\"\"\"COMPUTED_VALUE\"\"\"),\"Fort seulement\")","v":"Fort seulement"},null,{"$f":"IFERROR(__xludf.DUMMYFUNCTION(\"\"\"COMPUTED_VALUE\"\"\"),\"PAF non reçue\")","v":"PAF non reçue"},{"$f":"IFERROR(__xludf.DUMMYFUNCTION(\"\"\"COMPUTED_VALUE\"\"\"),\"non reçue\")","v":"non reçue"},{"$f":"IFERROR(__xludf.DUMMYFUNCTION(\"\"\"COMPUTED_VALUE\"\"\"),\"R.A.S.\")","v":"R.A.S."},{"$f":"IFERROR(__xludf.DUMMYFUNCTION(\"\"\"COMPUTED_VALUE\"\"\"),\"samedi\")","v":"samedi"},{"$f":"IFERROR(__xludf.DUMMYFUNCTION(\"\"\"COMPUTED_VALUE\"\"\"),\"Reste\")","v":"Reste"}]
{"$rows_empty":140}
[null,null,"hommes:",{"$f":"COUNTIF(D3:D221, \"H\")","v":48},null,null,null,"souhait pur PJ",{"$f":"COUNTIF(I3:I221, \"pur PJ\")","v":36},"uniq, juin",{"$f":"COUNTIF(K3:K221, \"juin\")","v":43},null,"==> juin :",{"$f":"COUNTIF(N3:N221, \"juin\")","v":0},null,"PAF finalisée",{"$f":"COUNTIF(R3:R221, \"PAF finalisée\")","v":40}]
[null,null,"femmes :",{"$f":"COUNTIF(D3:D221, \"F\")","v":31},null,null,null,"souhait PJ+PNJ",{"$f":"COUNTIF(I3:I221, \"PJ+PNJ\")","v":40},"uniq, septembre",{"$f":"COUNTIF(K3:K221, \"septembre\")","v":2},null,"==> septembre :",{"$f":"COUNTIF(N3:N221, \"septembre\")","v":0},null,"PAF partielle",{"$f":"COUNTIF(R3:R222, \"PAF partielle\")","v":21}]
[{"$nulls":7},"souhait PNJ",{"$f":"COUNTIF(I3:I221, \"PNJ\")","v":3},"les deux",{"$f":"B1-K225-K223-K222","v":21},null,"non attribué :",{"$f":"B1-N223-N222","v":79},null,"PAF offerte",{"$f":"COUNTIF(R3:R222, \"gratuit\")","v":3}]
[{"$nulls":9},"sans avis",{"$f":"COUNTIF(K3:K221, \"Non précisé\")","v":13},null,"nb OK :",{"$f":"COUNTIF(M16:M221, \"ok\")","v":66},null,"PAF non versée",{"$f":"B1-Q223-Q224-Q222","v":15}]
[{"$nulls":10},"Navire & Fort :",{"$f":"COUNTIF(L3:L221, \"Navire et Fort\")","v":52},null,"==> Navire & Fort :",{"$f":"COUNTIF(P3:P221, \"Navire & Fort\")","v":59}]
[{"$nulls":10},"Fort seulement :",{"$f":"COUNTIF(L3:L221, \"Seulement au Fort\")","v":9},null,"==> Fort seulement :",{"$f":"COUNTIF(P3:P221, \"Fort seulement\")","v":20}]
[{"$nulls":10},"Peu importe",{"$f":"COUNTIF(L3:L221, \"peu importe\")","v":18},null,"Non attribué",{"$f":"B1-O227-O226","v":0}]
[]
[{"$nulls":13},"COUNTA de Genre","Lieu"]
[{"$nulls":13},"Genre",null,"Fort seulement","Navire & Fort","Total général",null,null,{"$f":"V231","v":""}]
[{"$nulls":14},0.0,null,null,0.0,null,null,{"$f":"N231","v":"Genre"},{"$f":"P231","v":"Fort seulement"},"Navire & Fort","Total général",null,{"$f":"N233","v":"F"},{"$f":"N234","v":"H"}]
[{"$nulls":13},"F",null,8.0,23.0,31.0,null,null,{"$f":"N233","v":"F"},{"$f":"P233","v":8},23,31,{"$f":"P231","v":"Fort seulement"},{"$f":"P233","v":8},{"$f":"P234","v":12}]
[{"$nulls":13},"H",null,12.0,36.0,48.0,null,null,"H",{"$f":"P234","v":12},36,48,{"$f":"Q231","v":"Navire & Fort"},{"$f":"Q233","v":23},{"$f":"Q234","v":36}]
[{"$nulls":13},"Total général",0.0,20.0,59.0,79.0,{"$nulls":6},{"$f":"R231","v":"Total général"},{"$f":"R233","v":31},{"$f":"R234","v":48}]

{"sheet":"stats juin","index":11,"n_rows":171,"n_cols":21,"rows_kept":171,"cut":false,"hidden":false,"merged":[[97,3,97,7],[97,8,97,11],[97,12,97,16],[0,0,0,3],[0,5,0,9],[88,9,90,9],[88,12,90,12],[91,9,91,11],[91,12,91,14],[96,3,96,8]]}
["nombre de personnes validées pour la session",null,null,null,{"$f":"'validés juin'!B1","v":79},"nombre de personnes ayant versé PAF intégralement ou partiellement (ou offerte) :",{"$nulls":4},{"$f":"'validés juin'!Q222+'validés juin'!Q223+'validés juin'!Q224","v":64}]
{"$rows_empty":87}
[{"$nulls":9},"Recap PAF Navire et Fort","PAF finalisée N&F",{"$f":"F94+O94","v":34},"Recap PAF Fort seulement","PAF finalisée F",{"$f":"I94+R94","v":6}]
[{"$nulls":10},"PAF partielle N&F",18,null,"PAF partielle F",3]
[{"$nulls":10},"PAF non reçue N&F",6,null,"PAF non reçue F",8]
[{"$nulls":9},"gratuit",null,null,{"$f":"COUNTIF(D100:R200,\"gratuit\")","v":3}]
[]
[{"$nulls":4},"PAF finalisée",{"$f":"COUNTIF(F100:F200,\"PAF finalisée\")\n","v":13},null,"PAF finalisée",{"$f":"COUNTIF(I100:I200,\"PAF finalisée\")\n","v":3},null,"PAF finalisée",{"$f":"COUNTIF(L100:L200,\"PAF finalisée\")\n","v":0},null,"PAF finalisée",{"$f":"COUNTIF(O100:O200,\"PAF finalisée\")\n","v":21},null,"PAF finalisée",{"$f":"COUNTIF(R100:R200,\"PAF finalisée\")\n","v":3},null,"PAF finalisée",{"$f":"COUNTIF(U100:U200,\"PAF finalisée\")\n","v":0}]
[{"$nulls":4},"PAF partielle",{"$f":"COUNTIF(F100:F200,\"PAF partielle\")\n","v":7},null,"PAF partielle",{"$f":"COUNTIF(I100:I200,\"PAF partielle\")\n","v":1},null,"PAF partielle",{"$f":"COUNTIF(L100:L200,\"PAF partielle\")\n","v":0},null,"PAF partielle",{"$f":"COUNTIF(O100:O200,\"PAF partielle\")\n","v":11},null,"PAF partielle",{"$f":"COUNTIF(R100:R200,\"PAF partielle\")\n","v":2},null,"PAF partielle",{"$f":"COUNTIF(U100:U200,\"PAF partielle\")\n","v":0}]
[{"$nulls":4},"PAF non reçue",{"$f":"COUNTIF(F100:F200,\"PAF non reçue\")\n","v":3},null,"PAF non reçue",{"$f":"COUNTIF(I100:I200,\"PAF non reçue\")\n","v":3},null,"PAF non reçue",{"$f":"COUNTIF(L100:L200,\"PAF non reçue\")\n","v":0},null,"PAF non reçue",{"$f":"COUNTIF(O100:O200,\"PAF non reçue\")\n","v":3},null,"PAF non reçue",{"$f":"COUNTIF(R100:R200,\"PAF non reçue\")\n","v":5},null,"PAF non reçue",{"$f":"COUNTIF(U100:U200,\"PAF non reçue\")\n","v":0}]
[null,null,null,"Total =",{"$nulls":5},{"$f":"I98+R98","v":79},"Navire & Fort :",{"$f":"E99+N99","v":59},null,"Fort seulement :",{"$f":"Q99+H99","v":20},null,"non attribué :",{"$f":"K99+T99","v":0}]
[null,null,null,"F :",{"$nulls":4},{"$f":"E99+H99+K99","v":31},null,null,null,"H :",{"$nulls":4},{"$f":"N99+Q99+T99","v":48}]
["Intensité des inscriptions",null,null,"Navire & Fort :",{"$f":"COUNTA(E100:E155)","v":23},"PAF","Fort seulement :",{"$f":"COUNTA(H100:H155)","v":8},"PAF","non attribué :",{"$f":"COUNTA(K100:K155)","v":0},"PAF","Navire & Fort :",{"$f":"COUNTA(N100:N155)","v":36},"PAF","Fort seulement :",{"$f":"COUNTA(Q100:Q155)","v":12},"PAF","non attribué :",{"$f":"COUNTA(T100:T155)","v":0},"PAF"]
[{"$f":"IFERROR(__xludf.DUMMYFUNCTION(\"QUERY('remplissage du jeu'!A14:A216,\"\"SELECT A, COUNT(A) GROUP BY A ORDER BY A ASC\"\")\"),\"\")","v":""},{"$f":"IFERROR(__xludf.DUMMYFUNCTION(\"\"\"COMPUTED_VALUE\"\"\"),\"count \")","v":"count "},null,{"$f":"IFERROR(__xludf.DUMMYFUNCTION(\"QUERY('validés juin'!A3:AA219, \"\"select B,C,R where D='F' and P='Navire & Fort'\"\")\"),\"ARVIN-BEROD \")","v":"ARVIN-BEROD "},{"$f":"IFERROR(__xludf.DUMMYFUNCTION(\"\"\"COMPUTED_VALUE\"\"\"),\"Florence\")","v":"Florence"},{"$f":"IFERROR(__xludf.DUMMYFUNCTION(\"\"\"COMPUTED_VALUE\"\"\"),\"PAF finalisée\")","v":"PAF finalisée"},{"$f":"IFERROR(__xludf.DUMMYFUNCTION(\"QUERY('validés juin'!A3:AA219, \"\"select B,C,R where D='F' and P='Fort seulement'\"\")\"),\"le merdy\")","v":"le merdy"},{"$f":"IFERROR(__xludf.DUMMYFUNCTION(\"\"\"COMPUTED_VALUE\"\"\"),\"claire\")","v":"claire"},{"$f":"IFERROR(__xludf.DUMMYFUNCTION(\"\"\"COMPUTED_VALUE\"\"\"),\"PAF non reçue\")","v":"PAF non reçue"},{"$f":"IFERROR(__xludf.DUMMYFUNCTION(\"QUERY('validés juin'!A3:AA219, \"\"select B,C,R where D='F' and P='non attribué'\"\")\"),\"#N/A\")","v":"#N/A"},null,null,{"$f":"IFERROR(__xludf.DUMMYFUNCTION(\"QUERY('validés juin'!A3:AA219, \"\"select B,C,R where D='H' and P='Navire & Fort'\"\")\"),\"Bergeret \")","v":"Bergeret "},{"$f":"IFERROR(__xludf.DUMMYFUNCTION(\"\"\"COMPUTED_VALUE\"\"\"),\"Mathieu / Leo Gueguen ,dit la teigne\")","v":"Mathieu / Leo Gueguen ,dit la teigne"},{"$f":"IFERROR(__xludf.DUMMYFUNCTION(\"\"\"COMPUTED_VALUE\"\"\"),\"PAF finalisée\")","v":"PAF finalisée"},{"$f":"IFERROR(__xludf.DUMMYFUNCTION(\"QUERY('validés juin'!A3:AA219, \"\"select B,C,R where D='H' and P='Fort seulement'\"\")\"),\"Hawkins \")","v":"Hawkins "},{"$f":"IFERROR(__xludf.DUMMYFUNCTION(\"\"\"COMPUTED_VALUE\"\"\"),\"James\")","v":"James"},{"$f":"IFERROR(__xludf.DUMMYFUNCTION(\"\"\"COMPUTED_VALUE\"\"\"),\"gratuit\")","v":"gratuit"},{"$f":"IFERROR(__xludf.DUMMYFUNCTION(\"QUERY('validés juin'!A3:AA219, \"\"select B,C,R where D='H' and P='non attribué'\"\")\"),\"#N/A\")","v":"#N/A"}]
[null,{"$f":"IFERROR(__xludf.DUMMYFUNCTION(\"\"\"COMPUTED_VALUE\"\"\"),0.0)","v":0},null,{"$f":"IFERROR(__xludf.DUMMYFUNCTION(\"\"\"COMPUTED_VALUE\"\"\"),\"CERUTTI\")","v":"CERUTTI"},{"$f":"IFERROR(__xludf.DUMMYFUNCTION(\"\"\"COMPUTED_VALUE\"\"\"),\"Laëtitia\")","v":"Laëtitia"},{"$f":"IFERROR(__xludf.DUMMYFUNCTION(\"\"\"COMPUTED_VALUE\"\"\"),\"PAF finalisée\")","v":"PAF finalisée"},{"$f":"IFERROR(__xludf.DUMMYFUNCTION(\"\"\"COMPUTED_VALUE\"\"\"),\"cornu\")","v":"cornu"},{"$f":"IFERROR(__xludf.DUMMYFUNCTION(\"\"\"COMPUTED_VALUE\"\"\"),\"FRANCOISE\")","v":"FRANCOISE"},{"$f":"IFERROR(__xludf.DUMMYFUNCTION(\"\"\"COMPUTED_VALUE\"\"\"),\"PAF partielle + erreur\")","v":"PAF partielle + erreur"},null,null,null,{"$f":"IFERROR(__xludf.DUMMYFUNCTION(\"\"\"COMPUTED_VALUE\"\"\"),\"BUCAS\")","v":"BUCAS"},{"$f":"IFERROR(__xludf.DUMMYFUNCTION(\"\"\"COMPUTED_VALUE\"\"\"),\"Ced\")","v":"Ced"},{"$f":"IFERROR(__xludf.DUMMYFUNCTION(\"\"\"COMPUTED_VALUE\"\"\"),\"PAF finalisée\")","v":"PAF finalisée"},{"$f":"IFERROR(__xludf.DUMMYFUNCTION(\"\"\"COMPUTED_VALUE\"\"\"),\"Letteron \")","v":"Letteron "},{"$f":"IFERROR(__xludf.DUMMYFUNCTION(\"\"\"COMPUTED_VALUE\"\"\"),\"Seb\")","v":"Seb"},{"$f":"IFERROR(__xludf.DUMMYFUNCTION(\"\"\"COMPUTED_VALUE\"\"\"),\"PAF finalisée\")","v":"PAF finalisée"}]
[{"$f":"IFERROR(__xludf.DUMMYFUNCTION(\"\"\"COMPUTED_VALUE\"\"\"),45303.0)","v":"2024-01-12"},{"$f":"IFERROR(__xludf.DUMMYFUNCTION(\"\"\"COMPUTED_VALUE\"\"\"),21.0)","v":21},null,{"$f":"IFERROR(__xludf.DUMMYFUNCTION(\"\"\"COMPUTED_VALUE\"\"\"),\"gerberon \")","v":"gerberon "},{"$f":"IFERROR(__xludf.DUMMYFUNCTION(\"\"\"COMPUTED_VALUE\"\"\"),\"Elodie\")","v":"Elodie"},{"$f":"IFERROR(__xludf.DUMMYFUNCTION(\"\"\"COMPUTED_VALUE\"\"\"),\"PAF finalisée\")","v":"PAF finalisée"},{"$f":"IFERROR(__xludf.DUMMYFUNCTION(\"\"\"COMPUTED_VALUE\"\"\"),\"Supiot\")","v":"Supiot"},{"$f":"IFERROR(__xludf.DUMMYFUNCTION(\"\"\"COMPUTED_VALUE\"\"\"),\"Lara\")","v":"Lara"},{"$f":"IFERROR(__xludf.DUMMYFUNCTION(\"\"\"COMPUTED_VALUE\"\"\"),\"PAF partielle\")","v":"PAF partielle"},null,null,null,{"$f":"IFERROR(__xludf.DUMMYFUNCTION(\"\"\"COMPUTED_VALUE\"\"\"),\"DELAPORTE\")","v":"DELAPORTE"},{"$f":"IFERROR(__xludf.DUMMYFUNCTION(\"\"\"COMPUTED_VALUE\"\"\"),\"Arnaud\")","v":"Arnaud"},{"$f":"IFERROR(__xludf.DUMMYFUNCTION(\"\"\"COMPUTED_VALUE\"\"\"),\"PAF finalisée\")","v":"PAF finalisée"},{"$f":"IFERROR(__xludf.DUMMYFUNCTION(\"\"\"COMPUTED_VALUE\"\"\"),\"MAILLOT\")","v":"MAILLOT"},{"$f":"IFERROR(__xludf.DUMMYFUNCTION(\"\"\"COMPUTED_VALUE\"\"\"),\"Roland\")","v":"Roland"},{"$f":"IFERROR(__xludf.DUMMYFUNCTION(\"\"\"COMPUTED_VALUE\"\"\"),\"PAF partielle\")","v":"PAF partielle"}]
[{"$f":"IFERROR(__xludf.DUMMYFUNCTION(\"\"\"COMPUTED_VALUE\"\"\"),45304.0)","v":"2024-01-13"},{"$f":"IFERROR(__xludf.DUMMYFUNCTION(\"\"\"COMPUTED_VALUE\"\"\"),3.0)","v":3},null,{"$f":"IFERROR(__xludf.DUMMYFUNCTION(\"\"\"COMPUTED_VALUE\"\"\"),\"Jacq\")","v":"Jacq"},{"$f":"IFERROR(__xludf.DUMMYFUNCTION(\"\"\"COMPUTED_VALUE\"\"\"),\"Gaëlle\")","v":"Gaëlle"},{"$f":"IFERROR(__xludf.DUMMYFUNCTION(\"\"\"COMPUTED_VALUE\"\"\"),\"PAF finalisée\")","v":"PAF finalisée"},{"$f":"IFERROR(__xludf.DUMMYFUNCTION(\"\"\"COMPUTED_VALUE\"\"\"),\"quintero y perez\")","v":"quintero y perez"},{"$f":"IFERROR(__xludf.DUMMYFUNCTION(\"\"\"COMPUTED_VALUE\"\"\"),\"Flori\")","v":"Flori"},{"$f":"IFERROR(__xludf.DUMMYFUNCTION(\"\"\"COMPUTED_VALUE\"\"\"),\"PAF finalisée\")","v":"PAF finalisée"},null,null,null,{"$f":"IFERROR(__xludf.DUMMYFUNCTION(\"\"\"COMPUTED_VALUE\"\"\"),\"Faure \")","v":"Faure "},{"$f":"IFERROR(__xludf.DUMMYFUNCTION(\"\"\"COMPUTED_VALUE\"\"\"),\"Guillaume\")","v":"Guillaume"},{"$f":"IFERROR(__xludf.DUMMYFUNCTION(\"\"\"COMPUTED_VALUE\"\"\"),\"PAF non reçue\")","v":"PAF non reçue"},{"$f":"IFERROR(__xludf.DUMMYFUNCTION(\"\"\"COMPUTED_VALUE\"\"\"),\"Cornu \")","v":"Cornu "},{"$f":"IFERROR(__xludf.DUMMYFUNCTION(\"\"\"COMPUTED_VALUE\"\"\"),\"Nathan\")","v":"Nathan"},{"$f":"IFERROR(__xludf.DUMMYFUNCTION(\"\"\"COMPUTED_VALUE\"\"\"),\"PAF non reçue\")","v":"PAF non reçue"}]
[{"$f":"IFERROR(__xludf.DUMMYFUNCTION(\"\"\"COMPUTED_VALUE\"\"\"),45305.0)","v":"2024-01-14"},{"$f":"IFERROR(__xludf.DUMMYFUNCTION(\"\"\"COMPUTED_VALUE\"\"\"),3.0)","v":3},null,{"$f":"IFERROR(__xludf.DUMMYFUNCTION(\"\"\"COMPUTED_VALUE\"\"\"),\"MAGNANT\")","v":"MAGNANT"},{"$f":"IFERROR(__xludf.DUMMYFUNCTION(\"\"\"COMPUTED_VALUE\"\"\"),\"Catherine\")","v":"Catherine"},{"$f":"IFERROR(__xludf.DUMMYFUNCTION(\"\"\"COMPUTED_VALUE\"\"\"),\"PAF finalisée\")","v":"PAF finalisée"},{"$f":"IFERROR(__xludf.DUMMYFUNCTION(\"\"\"COMPUTED_VALUE\"\"\"),\"marcelin-gabriel\")","v":"marcelin-gabriel"},{"$f":"IFERROR(__xludf.DUMMYFUNCTION(\"\"\"COMPUTED_VALUE\"\"\"),\"magali\")","v":"magali"},{"$f":"IFERROR(__xludf.DUMMYFUNCTION(\"\"\"COMPUTED_VALUE\"\"\"),\"PAF finalisée\")","v":"PAF finalisée"},null,null,null,{"$f":"IFERROR(__xludf.DUMMYFUNCTION(\"\"\"COMPUTED_VALUE\"\"\"),\"PHILBERT\")","v":"PHILBERT"},{"$f":"IFERROR(__xludf.DUMMYFUNCTION(\"\"\"COMPUTED_VALUE\"\"\"),\"Charles\")","v":"Charles"},{"$f":"IFERROR(__xludf.DUMMYFUNCTION(\"\"\"COMPUTED_VALUE\"\"\"),\"PAF finalisée\")","v":"PAF finalisée"},{"$f":"IFERROR(__xludf.DUMMYFUNCTION(\"\"\"COMPUTED_VALUE\"\"\"),\"Lefebvre \")","v":"Lefebvre "},{"$f":"IFERROR(__xludf.DUMMYFUNCTION(\"\"\"COMPUTED_VALUE\"\"\"),\"Gregoire \")","v":"Gregoire "},{"$f":"IFERROR(__xludf.DUMMYFUNCTION(\"\"\"COMPUTED_VALUE\"\"\"),\"PAF non reçue\")","v":"PAF non reçue"}]
[{"$f":"IFERROR(__xludf.DUMMYFUNCTION(\"\"\"COMPUTED_VALUE\"\"\"),45306.0)","v":"2024-01-15"},{"$f":"IFERROR(__xludf.DUMMYFUNCTION(\"\"\"COMPUTED_VALUE\"\"\"),1.0)","v":1},null,{"$f":"IFERROR(__xludf.DUMMYFUNCTION(\"\"\"COMPUTED_VALUE\"\"\"),\"Richard\")","v":"Richard"},{"$f":"IFERROR(__xludf.DUMMYFUNCTION(\"\"\"COMPUTED_VALUE\"\"\"),\"Marion\")","v":"Marion"},{"$f":"IFERROR(__xludf.DUMMYFUNCTION(\"\"\"COMPUTED_VALUE\"\"\"),\"PAF finalisée\")","v":"PAF finalisée"},{"$f":"IFERROR(__xludf.DUMMYFUNCTION(\"\"\"COMPUTED_VALUE\"\"\"),\"Kerfriden \")","v":"Kerfriden "},{"$f":"IFERROR(__xludf.DUMMYFUNCTION(\"\"\"COMPUTED_VALUE\"\"\"),\"Claire \")","v":"Claire "},{"$f":"IFERROR(__xludf.DUMMYFUNCTION(\"\"\"COMPUTED_VALUE\"\"\"),\"PAF non reçue\")","v":"PAF non reçue"},null,null,null,{"$f":"IFERROR(__xludf.DUMMYFUNCTION(\"\"\"COMPUTED_VALUE\"\"\"),\"Hurel\")","v":"Hurel"},{"$f":"IFERROR(__xludf.DUMMYFUNCTION(\"\"\"COMPUTED_VALUE\"\"\"),\"Marcouf\")","v":"Marcouf"},{"$f":"IFERROR(__xludf.DUMMYFUNCTION(\"\"\"COMPUTED_VALUE\"\"\"),\"PAF finalisée\")","v":"PAF finalisée"},{"$f":"IFERROR(__xludf.DUMMYFUNCTION(\"\"\"COMPUTED_VALUE\"\"\"),\"Abbé\")","v":"Abbé"},{"$f":"IFERROR(__xludf.DUMMYFUNCTION(\"\"\"COMPUTED_VALUE\"\"\"),\"Valentin \")","v":"Valentin "},{"$f":"IFERROR(__xludf.DUMMYFUNCTION(\"\"\"COMPUTED_VALUE\"\"\"),\"gratuit\")","v":"gratuit"}]
[{"$f":"IFERROR(__xludf.DUMMYFUNCTION(\"\"\"COMPUTED_VALUE\"\"\"),45310.0)","v":"2024-01-19"},{"$f":"IFERROR(__xludf.DUMMYFUNCTION(\"\"\"COMPUTED_VALUE\"\"\"),3.0)","v":3},null,{"$f":"IFERROR(__xludf.DUMMYFUNCTION(\"\"\"COMPUTED_VALUE\"\"\"),\"Raimbault \")","v":"Raimbault "},{"$f":"IFERROR(__xludf.DUMMYFUNCTION(\"\"\"COMPUTED_VALUE\"\"\"),\"Cécile\")","v":"Cécile"},{"$f":"IFERROR(__xludf.DUMMYFUNCTION(\"\"\"COMPUTED_VALUE\"\"\"),\"PAF finalisée\")","v":"PAF finalisée"},{"$f":"IFERROR(__xludf.DUMMYFUNCTION(\"\"\"COMPUTED_VALUE\"\"\"),\"orfeuvre\")","v":"orfeuvre"},{"$f":"IFERROR(__xludf.DUMMYFUNCTION(\"\"\"COMPUTED_VALUE\"\"\"),\"emilie\")","v":"emilie"},{"$f":"IFERROR(__xludf.DUMMYFUNCTION(\"\"\"COMPUTED_VALUE\"\"\"),\"PAF finalisée\")","v":"PAF finalisée"},null,null,null,{"$f":"IFERROR(__xludf.DUMMYFUNCTION(\"\"\"COMPUTED_VALUE\"\"\"),\"Jallet\")","v":"Jallet"},{"$f":"IFERROR(__xludf.DUMMYFUNCTION(\"\"\"COMPUTED_VALUE\"\"\"),\"Benoit\")","v":"Benoit"},{"$f":"IFERROR(__xludf.DUMMYFUNCTION(\"\"\"COMPUTED_VALUE\"\"\"),\"PAF finalisée\")","v":"PAF finalisée"},{"$f":"IFERROR(__xludf.DUMMYFUNCTION(\"\"\"COMPUTED_VALUE\"\"\"),\"Picq\")","v":"Picq"},{"$f":"IFERROR(__xludf.DUMMYFUNCTION(\"\"\"COMPUTED_VALUE\"\"\"),\"Dylan\")","v":"Dylan"},{"$f":"IFERROR(__xludf.DUMMYFUNCTION(\"\"\"COMPUTED_VALUE\"\"\"),\"PAF partielle\")","v":"PAF partielle"}]
[{"$f":"IFERROR(__xludf.DUMMYFUNCTION(\"\"\"COMPUTED_VALUE\"\"\"),45312.0)","v":"2024-01-21"},{"$f":"IFERROR(__xludf.DUMMYFUNCTION(\"\"\"COMPUTED_VALUE\"\"\"),1.0)","v":1},null,{"$f":"IFERROR(__xludf.DUMMYFUNCTION(\"\"\"COMPUTED_VALUE\"\"\"),\"RIGAUD\")","v":"RIGAUD"},{"$f":"IFERROR(__xludf.DUMMYFUNCTION(\"\"\"COMPUTED_VALUE\"\"\"),\"Véronique\")","v":"Véronique"},{"$f":"IFERROR(__xludf.DUMMYFUNCTION(\"\"\"COMPUTED_VALUE\"\"\"),\"PAF finalisée\")","v":"PAF finalisée"},{"$f":"IFERROR(__xludf.DUMMYFUNCTION(\"\"\"COMPUTED_VALUE\"\"\"),\"Pressoir\")","v":"Pressoir"},{"$f":"IFERROR(__xludf.DUMMYFUNCTION(\"\"\"COMPUTED_VALUE\"\"\"),\"Valentine\")","v":"Valentine"},{"$f":"IFERROR(__xludf.DUMMYFUNCTION(\"\"\"COMPUTED_VALUE\"\"\"),\"PAF non reçue\")","v":"PAF non reçue"},null,null,null,{"$f":"IFERROR(__xludf.DUMMYFUNCTION(\"\"\"COMPUTED_VALUE\"\"\"),\"RICHARD\")","v":"RICHARD"},{"$f":"IFERROR(__xludf.DUMMYFUNCTION(\"\"\"COMPUTED_VALUE\"\"\"),\"Patrice\")","v":"Patrice"},{"$f":"IFERROR(__xludf.DUMMYFUNCTION(\"\"\"COMPUTED_VALUE\"\"\"),\"PAF finalisée\")","v":"PAF finalisée"},{"$f":"IFERROR(__xludf.DUMMYFUNCTION(\"\"\"COMPUTED_VALUE\"\"\"),\"Dejarnac \")","v":"Dejarnac "},{"$f":"IFERROR(__xludf.DUMMYFUNCTION(\"\"\"COMPUTED_VALUE\"\"\"),\"Pierre \")","v":"Pierre "},{"$f":"IFERROR(__xludf.DUMMYFUNCTION(\"\"\"COMPUTED_VALUE\"\"\"),\"PAF finalisée\")","v":"PAF finalisée"}]
[{"$f":"IFERROR(__xludf.DUMMYFUNCTION(\"\"\"COMPUTED_VALUE\"\"\"),45313.0)","v":"2024-01-22"},{"$f":"IFERROR(__xludf.DUMMYFUNCTION(\"\"\"COMPUTED_VALUE\"\"\"),1.0)","v":1},null,{"$f":"IFERROR(__xludf.DUMMYFUNCTION(\"\"\"COMPUTED_VALUE\"\"\"),\"Vignier\")","v":"Vignier"},{"$f":"IFERROR(__xludf.DUMMYFUNCTION(\"\"\"COMPUTED_VALUE\"\"\"),\"Fanny\")","v":"Fanny"},{"$f":"IFERROR(__xludf.DUMMYFUNCTION(\"\"\"COMPUTED_VALUE\"\"\"),\"PAF finalisée\")","v":"PAF finalisée"},{"$nulls":6},{"$f":"IFERROR(__xludf.DUMMYFUNCTION(\"\"\"COMPUTED_VALUE\"\"\"),\"VIGIER \")","v":"VIGIER "},{"$f":"IFERROR(__xludf.DUMMYFUNCTION(\"\"\"COMPUTED_VALUE\"\"\"),\"Yann\")","v":"Yann"},{"$f":"IFERROR(__xludf.DUMMYFUNCTION(\"\"\"COMPUTED_VALUE\"\"\"),\"PAF finalisée\")","v":"PAF finalisée"},{"$f":"IFERROR(__xludf.DUMMYFUNCTION(\"\"\"COMPUTED_VALUE\"\"\"),\"Sempéré\")","v":"Sempéré"},{"$f":"IFERROR(__xludf.DUMMYFUNCTION(\"\"\"COMPUTED_VALUE\"\"\"),\"Lionel\")","v":"Lionel"},{"$f":"IFERROR(__xludf.DUMMYFUNCTION(\"\"\"COMPUTED_VALUE\"\"\"),\"PAF finalisée\")","v":"PAF finalisée"}]
[{"$f":"IFERROR(__xludf.DUMMYFUNCTION(\"\"\"COMPUTED_VALUE\"\"\"),45315.0)","v":"2024-01-24"},{"$f":"IFERROR(__xludf.DUMMYFUNCTION(\"\"\"COMPUTED_VALUE\"\"\"),1.0)","v":1},null,{"$f":"IFERROR(__xludf.DUMMYFUNCTION(\"\"\"COMPUTED_VALUE\"\"\"),\"Brule\")","v":"Brule"},{"$f":"IFERROR(__xludf.DUMMYFUNCTION(\"\"\"COMPUTED_VALUE\"\"\"),\"Mélanie \")","v":"Mélanie "},{"$f":"IFERROR(__xludf.DUMMYFUNCTION(\"\"\"COMPUTED_VALUE\"\"\"),\"PAF finalisée\")","v":"PAF finalisée"},{"$nulls":6},{"$f":"IFERROR(__xludf.DUMMYFUNCTION(\"\"\"COMPUTED_VALUE\"\"\"),\"Vaes\")","v":"Vaes"},{"$f":"IFERROR(__xludf.DUMMYFUNCTION(\"\"\"COMPUTED_VALUE\"\"\"),\"Thomas\")","v":"Thomas"},{"$f":"IFERROR(__xludf.DUMMYFUNCTION(\"\"\"COMPUTED_VALUE\"\"\"),\"PAF finalisée\")","v":"PAF finalisée"},{"$f":"IFERROR(__xludf.DUMMYFUNCTION(\"\"\"COMPUTED_VALUE\"\"\"),\"Tudoux\")","v":"Tudoux"},{"$f":"IFERROR(__xludf.DUMMYFUNCTION(\"\"\"COMPUTED_VALUE\"\"\"),\"Charly\")","v":"Charly"},{"$f":"IFERROR(__xludf.DUMMYFUNCTION(\"\"\"COMPUTED_VALUE\"\"\"),\"PAF non reçue\")","v":"PAF non reçue"}]
[{"$f":"IFERROR(__xludf.DUMMYFUNCTION(\"\"\"COMPUTED_VALUE\"\"\"),45326.0)","v":"2024-02-04"},{"$f":"IFERROR(__xludf.DUMMYFUNCTION(\"\"\"COMPUTED_VALUE\"\"\"),2.0)","v":2},null,{"$f":"IFERROR(__xludf.DUMMYFUNCTION(\"\"\"COMPUTED_VALUE\"\"\"),\"Gayot\")","v":"Gayot"},{"$f":"IFERROR(__xludf.DUMMYFUNCTION(\"\"\"COMPUTED_VALUE\"\"\"),\"Eléna\")","v":"Eléna"},{"$f":"IFERROR(__xludf.DUMMYFUNCTION(\"\"\"COMPUTED_VALUE\"\"\"),\"PAF partielle\")","v":"PAF partielle"},{"$nulls":6},{"$f":"IFERROR(__xludf.DUMMYFUNCTION(\"\"\"COMPUTED_VALUE\"\"\"),\"Bouroumeau\")","v":"Bouroumeau"},{"$f":"IFERROR(__xludf.DUMMYFUNCTION(\"\"\"COMPUTED_VALUE\"\"\"),\"Kevin\")","v":"Kevin"},{"$f":"IFERROR(__xludf.DUMMYFUNCTION(\"\"\"COMPUTED_VALUE\"\"\"),\"PAF partielle\")","v":"PAF partielle"},{"$f":"IFERROR(__xludf.DUMMYFUNCTION(\"\"\"COMPUTED_VALUE\"\"\"),\"Dubois \")","v":"Dubois "},{"$f":"IFERROR(__xludf.DUMMYFUNCTION(\"\"\"COMPUTED_VALUE\"\"\"),\"Patrick \")","v":"Patrick "},{"$f":"IFERROR(__xludf.DUMMYFUNCTION(\"\"\"COMPUTED_VALUE\"\"\"),\"PAF non reçue\")","v":"PAF non reçue"}]
[{"$f":"IFERROR(__xludf.DUMMYFUNCTION(\"\"\"COMPUTED_VALUE\"\"\"),45332.0)","v":"2024-02-10"},{"$f":"IFERROR(__xludf.DUMMYFUNCTION(\"\"\"COMPUTED_VALUE\"\"\"),5.0)","v":5},null,{"$f":"IFERROR(__xludf.DUMMYFUNCTION(\"\"\"COMPUTED_VALUE\"\"\"),\"battung\")","v":"battung"},{"$f":"IFERROR(__xludf.DUMMYFUNCTION(\"\"\"COMPUTED_VALUE\"\"\"),\"coralie\")","v":"coralie"},{"$f":"IFERROR(__xludf.DUMMYFUNCTION(\"\"\"COMPUTED_VALUE\"\"\"),\"PAF partielle\")","v":"PAF partielle"},{"$nulls":6},{"$f":"IFERROR(__xludf.DUMMYFUNCTION(\"\"\"COMPUTED_VALUE\"\"\"),\"Chasserat\")","v":"Chasserat"},{"$f":"IFERROR(__xludf.DUMMYFUNCTION(\"\"\"COMPUTED_VALUE\"\"\"),\"Emmanuel\")","v":"Emmanuel"},{"$f":"IFERROR(__xludf.DUMMYFUNCTION(\"\"\"COMPUTED_VALUE\"\"\"),\"PAF partielle\")","v":"PAF partielle"},{"$f":"IFERROR(__xludf.DUMMYFUNCTION(\"\"\"COMPUTED_VALUE\"\"\"),\"Glapa\")","v":"Glapa"},{"$f":"IFERROR(__xludf.DUMMYFUNCTION(\"\"\"COMPUTED_VALUE\"\"\"),\"Denis\")","v":"Denis"},{"$f":"IFERROR(__xludf.DUMMYFUNCTION(\"\"\"COMPUTED_VALUE\"\"\"),\"PAF non reçue\")","v":"PAF non reçue"}]
[{"$f":"IFERROR(__xludf.DUMMYFUNCTION(\"\"\"COMPUTED_VALUE\"\"\"),45341.0)","v":"2024-02-19"},{"$f":"IFERROR(__xludf.DUMMYFUNCTION(\"\"\"COMPUTED_VALUE\"\"\"),1.0)","v":1},null,{"$f":"IFERROR(__xludf.DUMMYFUNCTION(\"\"\"COMPUTED_VALUE\"\"\"),\"FRACHON\")","v":"FRACHON"},{"$f":"IFERROR(__xludf.DUMMYFUNCTION(\"\"\"COMPUTED_VALUE\"\"\"),\"Aurélia\")","v":"Aurélia"},{"$f":"IFERROR(__xludf.DUMMYFUNCTION(\"\"\"COMPUTED_VALUE\"\"\"),\"PAF partielle\")","v":"PAF partielle"},{"$nulls":6},{"$f":"IFERROR(__xludf.DUMMYFUNCTION(\"\"\"COMPUTED_VALUE\"\"\"),\"EUVE\")","v":"EUVE"},{"$f":"IFERROR(__xludf.DUMMYFUNCTION(\"\"\"COMPUTED_VALUE\"\"\"),\"MAXIME\")","v":"MAXIME"},{"$f":"IFERROR(__xludf.DUMMYFUNCTION(\"\"\"COMPUTED_VALUE\"\"\"),\"PAF finalisée\")","v":"PAF finalisée"}]
[{"$f":"IFERROR(__xludf.DUMMYFUNCTION(\"\"\"COMPUTED_VALUE\"\"\"),45342.0)","v":"2024-02-20"},{"$f":"IFERROR(__xludf.DUMMYFUNCTION(\"\"\"COMPUTED_VALUE\"\"\"),3.0)","v":3},null,{"$f":"IFERROR(__xludf.DUMMYFUNCTION(\"\"\"COMPUTED_VALUE\"\"\"),\"Birat \")","v":"Birat "},{"$f":"IFERROR(__xludf.DUMMYFUNCTION(\"\"\"COMPUTED_VALUE\"\"\"),\"Stéphanie \")","v":"Stéphanie "},{"$f":"IFERROR(__xludf.DUMMYFUNCTION(\"\"\"COMPUTED_VALUE\"\"\"),\"PAF finalisée\")","v":"PAF finalisée"},{"$nulls":6},{"$f":"IFERROR(__xludf.DUMMYFUNCTION(\"\"\"COMPUTED_VALUE\"\"\"),\"Goury\")","v":"Goury"},{"$f":"IFERROR(__xludf.DUMMYFUNCTION(\"\"\"COMPUTED_VALUE\"\"\"),\"Fabien\")","v":"Fabien"},{"$f":"IFERROR(__xludf.DUMMYFUNCTION(\"\"\"COMPUTED_VALUE\"\"\"),\"PAF partielle\")","v":"PAF partielle"}]
[{"$f":"IFERROR(__xludf.DUMMYFUNCTION(\"\"\"COMPUTED_VALUE\"\"\"),45363.0)","v":"2024-03-12"},{"$f":"IFERROR(__xludf.DUMMYFUNCTION(\"\"\"COMPUTED_VALUE\"\"\"),1.0)","v":1},null,{"$f":"IFERROR(__xludf.DUMMYFUNCTION(\"\"\"COMPUTED_VALUE\"\"\"),\"Bouhedja \")","v":"Bouhedja "},{"$f":"IFERROR(__xludf.DUMMYFUNCTION(\"\"\"COMPUTED_VALUE\"\"\"),\"Nawel\")","v":"Nawel"},{"$f":"IFERROR(__xludf.DUMMYFUNCTION(\"\"\"COMPUTED_VALUE\"\"\"),\"PAF partielle\")","v":"PAF partielle"},{"$nulls":6},{"$f":"IFERROR(__xludf.DUMMYFUNCTION(\"\"\"COMPUTED_VALUE\"\"\"),\"Lucarelli\")","v":"Lucarelli"},{"$f":"IFERROR(__xludf.DUMMYFUNCTION(\"\"\"COMPUTED_VALUE\"\"\"),\"Jean-Yves\")","v":"Jean-Yves"},{"$f":"IFERROR(__xludf.DUMMYFUNCTION(\"\"\"COMPUTED_VALUE\"\"\"),\"PAF finalisée\")","v":"PAF finalisée"}]
[{"$f":"IFERROR(__xludf.DUMMYFUNCTION(\"\"\"COMPUTED_VALUE\"\"\"),45366.0)","v":"2024-03-15"},{"$f":"IFERROR(__xludf.DUMMYFUNCTION(\"\"\"COMPUTED_VALUE\"\"\"),1.0)","v":1},null,{"$f":"IFERROR(__xludf.DUMMYFUNCTION(\"\"\"COMPUTED_VALUE\"\"\"),\"Testard \")","v":"Testard "},{"$f":"IFERROR(__xludf.DUMMYFUNCTION(\"\"\"COMPUTED_VALUE\"\"\"),\"Soline \")","v":"Soline "},{"$f":"IFERROR(__xludf.DUMMYFUNCTION(\"\"\"COMPUTED_VALUE\"\"\"),\"PAF finalisée\")","v":"PAF finalisée"},{"$nulls":6},{"$f":"IFERROR(__xludf.DUMMYFUNCTION(\"\"\"COMPUTED_VALUE\"\"\"),\"Piodella\")","v":"Piodella"},{"$f":"IFERROR(__xludf.DUMMYFUNCTION(\"\"\"COMPUTED_VALUE\"\"\"),\"Geoffrey\")","v":"Geoffrey"},{"$f":"IFERROR(__xludf.DUMMYFUNCTION(\"\"\"COMPUTED_VALUE\"\"\"),\"gratuit\")","v":"gratuit"}]
[{"$f":"IFERROR(__xludf.DUMMYFUNCTION(\"\"\"COMPUTED_VALUE\"\"\"),45390.0)","v":"2024-04-08"},{"$f":"IFERROR(__xludf.DUMMYFUNCTION(\"\"\"COMPUTED_VALUE\"\"\"),1.0)","v":1},null,{"$f":"IFERROR(__xludf.DUMMYFUNCTION(\"\"\"COMPUTED_VALUE\"\"\"),\"Bonfy\")","v":"Bonfy"},{"$f":"IFERROR(__xludf.DUMMYFUNCTION(\"\"\"COMPUTED_VALUE\"\"\"),\"Amélia \")","v":"Amélia "},{"$f":"IFERROR(__xludf.DUMMYFUNCTION(\"\"\"COMPUTED_VALUE\"\"\"),\"PAF partielle\")","v":"PAF partielle"},{"$nulls":6},{"$f":"IFERROR(__xludf.DUMMYFUNCTION(\"\"\"COMPUTED_VALUE\"\"\"),\"Trocquet\")","v":"Trocquet"},{"$f":"IFERROR(__xludf.DUMMYFUNCTION(\"\"\"COMPUTED_VALUE\"\"\"),\"Daniel\")","v":"Daniel"},{"$f":"IFERROR(__xludf.DUMMYFUNCTION(\"\"\"COMPUTED_VALUE\"\"\"),\"PAF finalisée\")","v":"PAF finalisée"}]
[{"$f":"IFERROR(__xludf.DUMMYFUNCTION(\"\"\"COMPUTED_VALUE\"\"\"),45446.0)","v":"2024-06-03"},{"$f":"IFERROR(__xludf.DUMMYFUNCTION(\"\"\"COMPUTED_VALUE\"\"\"),1.0)","v":1},null,{"$f":"IFERROR(__xludf.DUMMYFUNCTION(\"\"\"COMPUTED_VALUE\"\"\"),\"Maury\")","v":"Maury"},{"$f":"IFERROR(__xludf.DUMMYFUNCTION(\"\"\"COMPUTED_VALUE\"\"\"),\"Aurélie\")","v":"Aurélie"},{"$f":"IFERROR(__xludf.DUMMYFUNCTION(\"\"\"COMPUTED_VALUE\"\"\"),\"PAF finalisée\")","v":"PAF finalisée"},{"$nulls":6},{"$f":"IFERROR(__xludf.DUMMYFUNCTION(\"\"\"COMPUTED_VALUE\"\"\"),\"Lallier \")","v":"Lallier "},{"$f":"IFERROR(__xludf.DUMMYFUNCTION(\"\"\"COMPUTED_VALUE\"\"\"),\"Frédéric \")","v":"Frédéric "},{"$f":"IFERROR(__xludf.DUMMYFUNCTION(\"\"\"COMPUTED_VALUE\"\"\"),\"PAF finalisée\")","v":"PAF finalisée"}]
[{"$f":"IFERROR(__xludf.DUMMYFUNCTION(\"\"\"COMPUTED_VALUE\"\"\"),45460.0)","v":"2024-06-17"},{"$f":"IFERROR(__xludf.DUMMYFUNCTION(\"\"\"COMPUTED_VALUE\"\"\"),1.0)","v":1},null,{"$f":"IFERROR(__xludf.DUMMYFUNCTION(\"\"\"COMPUTED_VALUE\"\"\"),\"Schmid \")","v":"Schmid "},{"$f":"IFERROR(__xludf.DUMMYFUNCTION(\"\"\"COMPUTED_VALUE\"\"\"),\"Priscillia \")","v":"Priscillia "},{"$f":"IFERROR(__xludf.DUMMYFUNCTION(\"\"\"COMPUTED_VALUE\"\"\"),\"PAF partielle\")","v":"PAF partielle"},{"$nulls":6},{"$f":"IFERROR(__xludf.DUMMYFUNCTION(\"\"\"COMPUTED_VALUE\"\"\"),\"BRANDELY\")","v":"BRANDELY"},{"$f":"IFERROR(__xludf.DUMMYFUNCTION(\"\"\"COMPUTED_VALUE\"\"\"),\"Guillaume\")","v":"Guillaume"},{"$f":"IFERROR(__xludf.DUMMYFUNCTION(\"\"\"COMPUTED_VALUE\"\"\"),\"PAF partielle\")","v":"PAF partielle"}]
[{"$f":"IFERROR(__xludf.DUMMYFUNCTION(\"\"\"COMPUTED_VALUE\"\"\"),45461.0)","v":"2024-06-18"},{"$f":"IFERROR(__xludf.DUMMYFUNCTION(\"\"\"COMPUTED_VALUE\"\"\"),1.0)","v":1},null,{"$f":"IFERROR(__xludf.DUMMYFUNCTION(\"\"\"COMPUTED_VALUE\"\"\"),\"Chojnicki\")","v":"Chojnicki"},{"$f":"IFERROR(__xludf.DUMMYFUNCTION(\"\"\"COMPUTED_VALUE\"\"\"),\"Solenn\")","v":"Solenn"},{"$f":"IFERROR(__xludf.DUMMYFUNCTION(\"\"\"COMPUTED_VALUE\"\"\"),\"PAF partielle\")","v":"PAF partielle"},{"$nulls":6},{"$f":"IFERROR(__xludf.DUMMYFUNCTION(\"\"\"COMPUTED_VALUE\"\"\"),\"Lallier\")","v":"Lallier"},{"$f":"IFERROR(__xludf.DUMMYFUNCTION(\"\"\"COMPUTED_VALUE\"\"\"),\"Olivier\")","v":"Olivier"},{"$f":"IFERROR(__xludf.DUMMYFUNCTION(\"\"\"COMPUTED_VALUE\"\"\"),\"PAF partielle\")","v":"PAF partielle"}]
[{"$f":"IFERROR(__xludf.DUMMYFUNCTION(\"\"\"COMPUTED_VALUE\"\"\"),45465.0)","v":"2024-06-22"},{"$f":"IFERROR(__xludf.DUMMYFUNCTION(\"\"\"COMPUTED_VALUE\"\"\"),1.0)","v":1},null,{"$f":"IFERROR(__xludf.DUMMYFUNCTION(\"\"\"COMPUTED_VALUE\"\"\"),\"Richard\")","v":"Richard"},{"$f":"IFERROR(__xludf.DUMMYFUNCTION(\"\"\"COMPUTED_VALUE\"\"\"),\"Lea\")","v":"Lea"},{"$f":"IFERROR(__xludf.DUMMYFUNCTION(\"\"\"COMPUTED_VALUE\"\"\"),\"PAF non reçue\")","v":"PAF non reçue"},{"$nulls":6},{"$f":"IFERROR(__xludf.DUMMYFUNCTION(\"\"\"COMPUTED_VALUE\"\"\"),\"Nicolet\")","v":"Nicolet"},{"$f":"IFERROR(__xludf.DUMMYFUNCTION(\"\"\"COMPUTED_VALUE\"\"\"),\"Robin\")","v":"Robin"},{"$f":"IFERROR(__xludf.DUMMYFUNCTION(\"\"\"COMPUTED_VALUE\"\"\"),\"PAF finalisée\")","v":"PAF finalisée"}]
[{"$f":"IFERROR(__xludf.DUMMYFUNCTION(\"\"\"COMPUTED_VALUE\"\"\"),45494.0)","v":"2024-07-21"},{"$f":"IFERROR(__xludf.DUMMYFUNCTION(\"\"\"COMPUTED_VALUE\"\"\"),4.0)","v":4},null,{"$f":"IFERROR(__xludf.DUMMYFUNCTION(\"\"\"COMPUTED_VALUE\"\"\"),\"Lefebvre\")","v":"Lefebvre"},{"$f":"IFERROR(__xludf.DUMMYFUNCTION(\"\"\"COMPUTED_VALUE\"\"\"),\"Charline\")","v":"Charline"},{"$f":"IFERROR(__xludf.DUMMYFUNCTION(\"\"\"COMPUTED_VALUE\"\"\"),\"PAF non reçue\")","v":"PAF non reçue"},{"$nulls":6},{"$f":"IFERROR(__xludf.DUMMYFUNCTION(\"\"\"COMPUTED_VALUE\"\"\"),\"Guex\")","v":"Guex"},{"$f":"IFERROR(__xludf.DUMMYFUNCTION(\"\"\"COMPUTED_VALUE\"\"\"),\"Benjamin\")","v":"Benjamin"},{"$f":"IFERROR(__xludf.DUMMYFUNCTION(\"\"\"COMPUTED_VALUE\"\"\"),\"PAF finalisée\")","v":"PAF finalisée"}]
[{"$f":"IFERROR(__xludf.DUMMYFUNCTION(\"\"\"COMPUTED_VALUE\"\"\"),45495.0)","v":"2024-07-22"},{"$f":"IFERROR(__xludf.DUMMYFUNCTION(\"\"\"COMPUTED_VALUE\"\"\"),7.0)","v":7},null,{"$f":"IFERROR(__xludf.DUMMYFUNCTION(\"\"\"COMPUTED_VALUE\"\"\"),\"Rys\")","v":"Rys"},{"$f":"IFERROR(__xludf.DUMMYFUNCTION(\"\"\"COMPUTED_VALUE\"\"\"),\"Ninon\")","v":"Ninon"},{"$f":"IFERROR(__xludf.DUMMYFUNCTION(\"\"\"COMPUTED_VALUE\"\"\"),\"PAF non reçue\")","v":"PAF non reçue"},{"$nulls":6},{"$f":"IFERROR(__xludf.DUMMYFUNCTION(\"\"\"COMPUTED_VALUE\"\"\"),\"Chapelon \")","v":"Chapelon "},{"$f":"IFERROR(__xludf.DUMMYFUNCTION(\"\"\"COMPUTED_VALUE\"\"\"),\"Romain \")","v":"Romain "},{"$f":"IFERROR(__xludf.DUMMYFUNCTION(\"\"\"COMPUTED_VALUE\"\"\"),\"PAF partielle\")","v":"PAF partielle"}]
[{"$f":"IFERROR(__xludf.DUMMYFUNCTION(\"\"\"COMPUTED_VALUE\"\"\"),45496.0)","v":"2024-07-23"},{"$f":"IFERROR(__xludf.DUMMYFUNCTION(\"\"\"COMPUTED_VALUE\"\"\"),4.0)","v":4},{"$nulls":10},{"$f":"IFERROR(__xludf.DUMMYFUNCTION(\"\"\"COMPUTED_VALUE\"\"\"),\"Jegonday \")","v":"Jegonday "},{"$f":"IFERROR(__xludf.DUMMYFUNCTION(\"\"\"COMPUTED_VALUE\"\"\"),\"Xavier\")","v":"Xavier"},{"$f":"IFERROR(__xludf.DUMMYFUNCTION(\"\"\"COMPUTED_VALUE\"\"\"),\"PAF partielle\")","v":"PAF partielle"}]
[{"$f":"IFERROR(__xludf.DUMMYFUNCTION(\"\"\"COMPUTED_VALUE\"\"\"),45497.0)","v":"2024-07-24"},{"$f":"IFERROR(__xludf.DUMMYFUNCTION(\"\"\"COMPUTED_VALUE\"\"\"),1.0)","v":1},{"$nulls":10},{"$f":"IFERROR(__xludf.DUMMYFUNCTION(\"\"\"COMPUTED_VALUE\"\"\"),\"Chamontin\")","v":"Chamontin"},{"$f":"IFERROR(__xludf.DUMMYFUNCTION(\"\"\"COMPUTED_VALUE\"\"\"),\"Florian\")","v":"Florian"},{"$f":"IFERROR(__xludf.DUMMYFUNCTION(\"\"\"COMPUTED_VALUE\"\"\"),\"PAF partielle\")","v":"PAF partielle"}]
[{"$f":"IFERROR(__xludf.DUMMYFUNCTION(\"\"\"COMPUTED_VALUE\"\"\"),45498.0)","v":"2024-07-25"},{"$f":"IFERROR(__xludf.DUMMYFUNCTION(\"\"\"COMPUTED_VALUE\"\"\"),2.0)","v":2},{"$nulls":10},{"$f":"IFERROR(__xludf.DUMMYFUNCTION(\"\"\"COMPUTED_VALUE\"\"\"),\"Mayor \")","v":"Mayor "},{"$f":"IFERROR(__xludf.DUMMYFUNCTION(\"\"\"COMPUTED_VALUE\"\"\"),\"Tom Bonaventure \")","v":"Tom Bonaventure "},{"$f":"IFERROR(__xludf.DUMMYFUNCTION(\"\"\"COMPUTED_VALUE\"\"\"),\"PAF finalisée\")","v":"PAF finalisée"}]
[{"$f":"IFERROR(__xludf.DUMMYFUNCTION(\"\"\"COMPUTED_VALUE\"\"\"),45499.0)","v":"2024-07-26"},{"$f":"IFERROR(__xludf.DUMMYFUNCTION(\"\"\"COMPUTED_VALUE\"\"\"),1.0)","v":1},{"$nulls":10},{"$f":"IFERROR(__xludf.DUMMYFUNCTION(\"\"\"COMPUTED_VALUE\"\"\"),\"Réveil\")","v":"Réveil"},{"$f":"IFERROR(__xludf.DUMMYFUNCTION(\"\"\"COMPUTED_VALUE\"\"\"),\"Jean Carly\")","v":"Jean Carly"},{"$f":"IFERROR(__xludf.DUMMYFUNCTION(\"\"\"COMPUTED_VALUE\"\"\"),\"PAF finalisée\")","v":"PAF finalisée"}]
[{"$f":"IFERROR(__xludf.DUMMYFUNCTION(\"\"\"COMPUTED_VALUE\"\"\"),45508.0)","v":"2024-08-04"},{"$f":"IFERROR(__xludf.DUMMYFUNCTION(\"\"\"COMPUTED_VALUE\"\"\"),1.0)","v":1},{"$nulls":10},{"$f":"IFERROR(__xludf.DUMMYFUNCTION(\"\"\"COMPUTED_VALUE\"\"\"),\"Maury\")","v":"Maury"},{"$f":"IFERROR(__xludf.DUMMYFUNCTION(\"\"\"COMPUTED_VALUE\"\"\"),\"Raphael\")","v":"Raphael"},{"$f":"IFERROR(__xludf.DUMMYFUNCTION(\"\"\"COMPUTED_VALUE\"\"\"),\"PAF finalisée\")","v":"PAF finalisée"}]
[{"$f":"IFERROR(__xludf.DUMMYFUNCTION(\"\"\"COMPUTED_VALUE\"\"\"),45540.0)","v":"2024-09-05"},{"$f":"IFERROR(__xludf.DUMMYFUNCTION(\"\"\"COMPUTED_VALUE\"\"\"),2.0)","v":2},{"$nulls":10},{"$f":"IFERROR(__xludf.DUMMYFUNCTION(\"\"\"COMPUTED_VALUE\"\"\"),\"DANCOT \")","v":"DANCOT "},{"$f":"IFERROR(__xludf.DUMMYFUNCTION(\"\"\"COMPUTED_VALUE\"\"\"),\"Olivier \")","v":"Olivier "},{"$f":"IFERROR(__xludf.DUMMYFUNCTION(\"\"\"COMPUTED_VALUE\"\"\"),\"PAF partielle\")","v":"PAF partielle"}]
[{"$f":"IFERROR(__xludf.DUMMYFUNCTION(\"\"\"COMPUTED_VALUE\"\"\"),45542.0)","v":"2024-09-07"},{"$f":"IFERROR(__xludf.DUMMYFUNCTION(\"\"\"COMPUTED_VALUE\"\"\"),1.0)","v":1},{"$nulls":10},{"$f":"IFERROR(__xludf.DUMMYFUNCTION(\"\"\"COMPUTED_VALUE\"\"\"),\"Mérand\")","v":"Mérand"},{"$f":"IFERROR(__xludf.DUMMYFUNCTION(\"\"\"COMPUTED_VALUE\"\"\"),\"Nicolas\")","v":"Nicolas"},{"$f":"IFERROR(__xludf.DUMMYFUNCTION(\"\"\"COMPUTED_VALUE\"\"\"),\"PAF finalisée\")","v":"PAF finalisée"}]
[{"$f":"IFERROR(__xludf.DUMMYFUNCTION(\"\"\"COMPUTED_VALUE\"\"\"),45543.0)","v":"2024-09-08"},{"$f":"IFERROR(__xludf.DUMMYFUNCTION(\"\"\"COMPUTED_VALUE\"\"\"),1.0)","v":1},{"$nulls":10},{"$f":"IFERROR(__xludf.DUMMYFUNCTION(\"\"\"COMPUTED_VALUE\"\"\"),\"Secher\")","v":"Secher"},{"$f":"IFERROR(__xludf.DUMMYFUNCTION(\"\"\"COMPUTED_VALUE\"\"\"),\"Gaël\")","v":"Gaël"},{"$f":"IFERROR(__xludf.DUMMYFUNCTION(\"\"\"COMPUTED_VALUE\"\"\"),\"PAF finalisée\")","v":"PAF finalisée"}]
[{"$f":"IFERROR(__xludf.DUMMYFUNCTION(\"\"\"COMPUTED_VALUE\"\"\"),45544.0)","v":"2024-09-09"},{"$f":"IFERROR(__xludf.DUMMYFUNCTION(\"\"\"COMPUTED_VALUE\"\"\"),2.0)","v":2},{"$nulls":10},{"$f":"IFERROR(__xludf.DUMMYFUNCTION(\"\"\"COMPUTED_VALUE\"\"\"),\"Carpentier \")","v":"Carpentier "},{"$f":"IFERROR(__xludf.DUMMYFUNCTION(\"\"\"COMPUTED_VALUE\"\"\"),\"Guillaume \")","v":"Guillaume "},{"$f":"IFERROR(__xludf.DUMMYFUNCTION(\"\"\"COMPUTED_VALUE\"\"\"),\"PAF partielle\")","v":"PAF partielle"}]
[{"$f":"IFERROR(__xludf.DUMMYFUNCTION(\"\"\"COMPUTED_VALUE\"\"\"),45548.0)","v":"2024-09-13"},{"$f":"IFERROR(__xludf.DUMMYFUNCTION(\"\"\"COMPUTED_VALUE\"\"\"),1.0)","v":1},{"$nulls":10},{"$f":"IFERROR(__xludf.DUMMYFUNCTION(\"\"\"COMPUTED_VALUE\"\"\"),\"Méron \")","v":"Méron "},{"$f":"IFERROR(__xludf.DUMMYFUNCTION(\"\"\"COMPUTED_VALUE\"\"\"),\"Thomas \")","v":"Thomas "},{"$f":"IFERROR(__xludf.DUMMYFUNCTION(\"\"\"COMPUTED_VALUE\"\"\"),\"PAF finalisée\")","v":"PAF finalisée"}]
[{"$f":"IFERROR(__xludf.DUMMYFUNCTION(\"\"\"COMPUTED_VALUE\"\"\"),45549.0)","v":"2024-09-14"},{"$f":"IFERROR(__xludf.DUMMYFUNCTION(\"\"\"COMPUTED_VALUE\"\"\"),2.0)","v":2},{"$nulls":10},{"$f":"IFERROR(__xludf.DUMMYFUNCTION(\"\"\"COMPUTED_VALUE\"\"\"),\" Saada\")","v":" Saada"},{"$f":"IFERROR(__xludf.DUMMYFUNCTION(\"\"\"COMPUTED_VALUE\"\"\"),\"laurent\")","v":"laurent"},{"$f":"IFERROR(__xludf.DUMMYFUNCTION(\"\"\"COMPUTED_VALUE\"\"\"),\"PAF partielle\")","v":"PAF partielle"}]
[{"$f":"IFERROR(__xludf.DUMMYFUNCTION(\"\"\"COMPUTED_VALUE\"\"\"),45551.0)","v":"2024-09-16"},{"$f":"IFERROR(__xludf.DUMMYFUNCTION(\"\"\"COMPUTED_VALUE\"\"\"),3.0)","v":3},{"$nulls":10},{"$f":"IFERROR(__xludf.DUMMYFUNCTION(\"\"\"COMPUTED_VALUE\"\"\"),\"Delahaye \")","v":"Delahaye "},{"$f":"IFERROR(__xludf.DUMMYFUNCTION(\"\"\"COMPUTED_VALUE\"\"\"),\"Damien\")","v":"Damien"},{"$f":"IFERROR(__xludf.DUMMYFUNCTION(\"\"\"COMPUTED_VALUE\"\"\"),\"PAF non reçue\")","v":"PAF non reçue"}]
[{"$f":"IFERROR(__xludf.DUMMYFUNCTION(\"\"\"COMPUTED_VALUE\"\"\"),45553.0)","v":"2024-09-18"},{"$f":"IFERROR(__xludf.DUMMYFUNCTION(\"\"\"COMPUTED_VALUE\"\"\"),5.0)","v":5},{"$nulls":10},{"$f":"IFERROR(__xludf.DUMMYFUNCTION(\"\"\"COMPUTED_VALUE\"\"\"),\"picano\")","v":"picano"},{"$f":"IFERROR(__xludf.DUMMYFUNCTION(\"\"\"COMPUTED_VALUE\"\"\"),\"benjamin\")","v":"benjamin"},{"$f":"IFERROR(__xludf.DUMMYFUNCTION(\"\"\"COMPUTED_VALUE\"\"\"),\"PAF non reçue\")","v":"PAF non reçue"}]
[{"$f":"IFERROR(__xludf.DUMMYFUNCTION(\"\"\"COMPUTED_VALUE\"\"\"),45555.0)","v":"2024-09-20"},{"$f":"IFERROR(__xludf.DUMMYFUNCTION(\"\"\"COMPUTED_VALUE\"\"\"),3.0)","v":3}]
[{"$f":"IFERROR(__xludf.DUMMYFUNCTION(\"\"\"COMPUTED_VALUE\"\"\"),45556.0)","v":"2024-09-21"},{"$f":"IFERROR(__xludf.DUMMYFUNCTION(\"\"\"COMPUTED_VALUE\"\"\"),1.0)","v":1}]
[{"$f":"IFERROR(__xludf.DUMMYFUNCTION(\"\"\"COMPUTED_VALUE\"\"\"),45557.0)","v":"2024-09-22"},{"$f":"IFERROR(__xludf.DUMMYFUNCTION(\"\"\"COMPUTED_VALUE\"\"\"),2.0)","v":2}]
[{"$f":"IFERROR(__xludf.DUMMYFUNCTION(\"\"\"COMPUTED_VALUE\"\"\"),45558.0)","v":"2024-09-23"},{"$f":"IFERROR(__xludf.DUMMYFUNCTION(\"\"\"COMPUTED_VALUE\"\"\"),1.0)","v":1}]
[{"$f":"IFERROR(__xludf.DUMMYFUNCTION(\"\"\"COMPUTED_VALUE\"\"\"),45560.0)","v":"2024-09-25"},{"$f":"IFERROR(__xludf.DUMMYFUNCTION(\"\"\"COMPUTED_VALUE\"\"\"),2.0)","v":2}]
[{"$f":"IFERROR(__xludf.DUMMYFUNCTION(\"\"\"COMPUTED_VALUE\"\"\"),45564.0)","v":"2024-09-29"},{"$f":"IFERROR(__xludf.DUMMYFUNCTION(\"\"\"COMPUTED_VALUE\"\"\"),4.0)","v":4}]
[{"$f":"IFERROR(__xludf.DUMMYFUNCTION(\"\"\"COMPUTED_VALUE\"\"\"),45574.0)","v":"2024-10-09"},{"$f":"IFERROR(__xludf.DUMMYFUNCTION(\"\"\"COMPUTED_VALUE\"\"\"),1.0)","v":1}]
[{"$f":"IFERROR(__xludf.DUMMYFUNCTION(\"\"\"COMPUTED_VALUE\"\"\"),45576.0)","v":"2024-10-11"},{"$f":"IFERROR(__xludf.DUMMYFUNCTION(\"\"\"COMPUTED_VALUE\"\"\"),2.0)","v":2}]
[{"$f":"IFERROR(__xludf.DUMMYFUNCTION(\"\"\"COMPUTED_VALUE\"\"\"),45577.0)","v":"2024-10-12"},{"$f":"IFERROR(__xludf.DUMMYFUNCTION(\"\"\"COMPUTED_VALUE\"\"\"),2.0)","v":2}]
[{"$f":"IFERROR(__xludf.DUMMYFUNCTION(\"\"\"COMPUTED_VALUE\"\"\"),45581.0)","v":"2024-10-16"},{"$f":"IFERROR(__xludf.DUMMYFUNCTION(\"\"\"COMPUTED_VALUE\"\"\"),1.0)","v":1}]
[{"$f":"IFERROR(__xludf.DUMMYFUNCTION(\"\"\"COMPUTED_VALUE\"\"\"),45585.0)","v":"2024-10-20"},{"$f":"IFERROR(__xludf.DUMMYFUNCTION(\"\"\"COMPUTED_VALUE\"\"\"),2.0)","v":2}]
[{"$f":"IFERROR(__xludf.DUMMYFUNCTION(\"\"\"COMPUTED_VALUE\"\"\"),45586.0)","v":"2024-10-21"},{"$f":"IFERROR(__xludf.DUMMYFUNCTION(\"\"\"COMPUTED_VALUE\"\"\"),2.0)","v":2}]
[{"$f":"IFERROR(__xludf.DUMMYFUNCTION(\"\"\"COMPUTED_VALUE\"\"\"),45588.0)","v":"2024-10-23"},{"$f":"IFERROR(__xludf.DUMMYFUNCTION(\"\"\"COMPUTED_VALUE\"\"\"),1.0)","v":1}]
[{"$f":"IFERROR(__xludf.DUMMYFUNCTION(\"\"\"COMPUTED_VALUE\"\"\"),45596.0)","v":"2024-10-31"},{"$f":"IFERROR(__xludf.DUMMYFUNCTION(\"\"\"COMPUTED_VALUE\"\"\"),1.0)","v":1}]
[{"$f":"IFERROR(__xludf.DUMMYFUNCTION(\"\"\"COMPUTED_VALUE\"\"\"),45597.0)","v":"2024-11-01"},{"$f":"IFERROR(__xludf.DUMMYFUNCTION(\"\"\"COMPUTED_VALUE\"\"\"),1.0)","v":1}]
[{"$f":"IFERROR(__xludf.DUMMYFUNCTION(\"\"\"COMPUTED_VALUE\"\"\"),45605.0)","v":"2024-11-09"},{"$f":"IFERROR(__xludf.DUMMYFUNCTION(\"\"\"COMPUTED_VALUE\"\"\"),1.0)","v":1}]
[{"$f":"IFERROR(__xludf.DUMMYFUNCTION(\"\"\"COMPUTED_VALUE\"\"\"),45613.0)","v":"2024-11-17"},{"$f":"IFERROR(__xludf.DUMMYFUNCTION(\"\"\"COMPUTED_VALUE\"\"\"),1.0)","v":1}]
[{"$f":"IFERROR(__xludf.DUMMYFUNCTION(\"\"\"COMPUTED_VALUE\"\"\"),45617.0)","v":"2024-11-21"},{"$f":"IFERROR(__xludf.DUMMYFUNCTION(\"\"\"COMPUTED_VALUE\"\"\"),1.0)","v":1}]
[{"$f":"IFERROR(__xludf.DUMMYFUNCTION(\"\"\"COMPUTED_VALUE\"\"\"),45618.0)","v":"2024-11-22"},{"$f":"IFERROR(__xludf.DUMMYFUNCTION(\"\"\"COMPUTED_VALUE\"\"\"),1.0)","v":1}]
[{"$f":"IFERROR(__xludf.DUMMYFUNCTION(\"\"\"COMPUTED_VALUE\"\"\"),45642.0)","v":"2024-12-16"},{"$f":"IFERROR(__xludf.DUMMYFUNCTION(\"\"\"COMPUTED_VALUE\"\"\"),1.0)","v":1}]
[{"$f":"IFERROR(__xludf.DUMMYFUNCTION(\"\"\"COMPUTED_VALUE\"\"\"),45660.0)","v":"2025-01-03"},{"$f":"IFERROR(__xludf.DUMMYFUNCTION(\"\"\"COMPUTED_VALUE\"\"\"),1.0)","v":1}]
[{"$f":"IFERROR(__xludf.DUMMYFUNCTION(\"\"\"COMPUTED_VALUE\"\"\"),45661.0)","v":"2025-01-04"},{"$f":"IFERROR(__xludf.DUMMYFUNCTION(\"\"\"COMPUTED_VALUE\"\"\"),3.0)","v":3}]
[{"$f":"IFERROR(__xludf.DUMMYFUNCTION(\"\"\"COMPUTED_VALUE\"\"\"),45662.0)","v":"2025-01-05"},{"$f":"IFERROR(__xludf.DUMMYFUNCTION(\"\"\"COMPUTED_VALUE\"\"\"),1.0)","v":1}]
[{"$f":"IFERROR(__xludf.DUMMYFUNCTION(\"\"\"COMPUTED_VALUE\"\"\"),45663.0)","v":"2025-01-06"},{"$f":"IFERROR(__xludf.DUMMYFUNCTION(\"\"\"COMPUTED_VALUE\"\"\"),1.0)","v":1}]
[{"$f":"IFERROR(__xludf.DUMMYFUNCTION(\"\"\"COMPUTED_VALUE\"\"\"),45664.0)","v":"2025-01-07"},{"$f":"IFERROR(__xludf.DUMMYFUNCTION(\"\"\"COMPUTED_VALUE\"\"\"),1.0)","v":1}]
[{"$f":"IFERROR(__xludf.DUMMYFUNCTION(\"\"\"COMPUTED_VALUE\"\"\"),45669.0)","v":"2025-01-12"},{"$f":"IFERROR(__xludf.DUMMYFUNCTION(\"\"\"COMPUTED_VALUE\"\"\"),1.0)","v":1}]
[{"$f":"IFERROR(__xludf.DUMMYFUNCTION(\"\"\"COMPUTED_VALUE\"\"\"),45670.0)","v":"2025-01-13"},{"$f":"IFERROR(__xludf.DUMMYFUNCTION(\"\"\"COMPUTED_VALUE\"\"\"),1.0)","v":1}]
[{"$f":"IFERROR(__xludf.DUMMYFUNCTION(\"\"\"COMPUTED_VALUE\"\"\"),45671.0)","v":"2025-01-14"},{"$f":"IFERROR(__xludf.DUMMYFUNCTION(\"\"\"COMPUTED_VALUE\"\"\"),1.0)","v":1}]
[{"$f":"IFERROR(__xludf.DUMMYFUNCTION(\"\"\"COMPUTED_VALUE\"\"\"),45672.0)","v":"2025-01-15"},{"$f":"IFERROR(__xludf.DUMMYFUNCTION(\"\"\"COMPUTED_VALUE\"\"\"),1.0)","v":1}]
[{"$f":"IFERROR(__xludf.DUMMYFUNCTION(\"\"\"COMPUTED_VALUE\"\"\"),45673.0)","v":"2025-01-16"},{"$f":"IFERROR(__xludf.DUMMYFUNCTION(\"\"\"COMPUTED_VALUE\"\"\"),3.0)","v":3}]
[{"$f":"IFERROR(__xludf.DUMMYFUNCTION(\"\"\"COMPUTED_VALUE\"\"\"),45674.0)","v":"2025-01-17"},{"$f":"IFERROR(__xludf.DUMMYFUNCTION(\"\"\"COMPUTED_VALUE\"\"\"),2.0)","v":2}]
[{"$f":"IFERROR(__xludf.DUMMYFUNCTION(\"\"\"COMPUTED_VALUE\"\"\"),45676.0)","v":"2025-01-19"},{"$f":"IFERROR(__xludf.DUMMYFUNCTION(\"\"\"COMPUTED_VALUE\"\"\"),4.0)","v":4}]
[{"$f":"IFERROR(__xludf.DUMMYFUNCTION(\"\"\"COMPUTED_VALUE\"\"\"),45677.0)","v":"2025-01-20"},{"$f":"IFERROR(__xludf.DUMMYFUNCTION(\"\"\"COMPUTED_VALUE\"\"\"),3.0)","v":3}]
[{"$f":"IFERROR(__xludf.DUMMYFUNCTION(\"\"\"COMPUTED_VALUE\"\"\"),45678.0)","v":"2025-01-21"},{"$f":"IFERROR(__xludf.DUMMYFUNCTION(\"\"\"COMPUTED_VALUE\"\"\"),4.0)","v":4}]
[{"$f":"IFERROR(__xludf.DUMMYFUNCTION(\"\"\"COMPUTED_VALUE\"\"\"),45679.0)","v":"2025-01-22"},{"$f":"IFERROR(__xludf.DUMMYFUNCTION(\"\"\"COMPUTED_VALUE\"\"\"),1.0)","v":1}]
[{"$f":"IFERROR(__xludf.DUMMYFUNCTION(\"\"\"COMPUTED_VALUE\"\"\"),45680.0)","v":"2025-01-23"},{"$f":"IFERROR(__xludf.DUMMYFUNCTION(\"\"\"COMPUTED_VALUE\"\"\"),1.0)","v":1}]

{"sheet":"validés septembre","index":12,"n_rows":235,"n_cols":27,"rows_kept":235,"cut":false,"hidden":false,"merged":[]}
[null,{"$f":"COUNTA(B3:B222)","v":67}]
["date\npré-inscription","NOM","Prénom","Genre","age","E-MAIL","FB","Tél","souhait type\nparticipation","Personnage\nattribué","souhait\nsession","souhait : fort  OU\nfort &é navire","relances \n+ acceptation",null,"session\nattribuée","Lieu","somme\nversée","état PAF","photo ?","compétence medicale","arrivée"]
[{"$f":"IFERROR(__xludf.DUMMYFUNCTION(\"QUERY('remplissage du jeu'!A14:Z218, \"\"select * where M='OK' and O='septembre'\"\")\"),45390.0)","v":"2024-04-08"},{"$f":"IFERROR(__xludf.DUMMYFUNCTION(\"\"\"COMPUTED_VALUE\"\"\"),\"David\")","v":"David"},{"$f":"IFERROR(__xludf.DUMMYFUNCTION(\"\"\"COMPUTED_VALUE\"\"\"),\"Cédric\")","v":"Cédric"},{"$f":"IFERROR(__xludf.DUMMYFUNCTION(\"\"\"COMPUTED_VALUE\"\"\"),\"H\")","v":"H"},{"$f":"IFERROR(__xludf.DUMMYFUNCTION(\"\"\"COMPUTED_VALUE\"\"\"),44.0)","v":44},{"$f":"IFERROR(__xludf.DUMMYFUNCTION(\"\"\"COMPUTED_VALUE\"\"\"),\"tremblechene@gmail.com\")","v":"tremblechene@gmail.com"},{"$f":"IFERROR(__xludf.DUMMYFUNCTION(\"\"\"COMPUTED_VALUE\"\"\"),\"cédric abitbol\")","v":"cédric abitbol"},{"$f":"IFERROR(__xludf.DUMMYFUNCTION(\"\"\"COMPUTED_VALUE\"\"\"),\"0695107890\")","v":"0695107890"},{"$f":"IFERROR(__xludf.DUMMYFUNCTION(\"\"\"COMPUTED_VALUE\"\"\"),\"PJ+PNJ\")","v":"PJ+PNJ"},{"$f":"IFERROR(__xludf.DUMMYFUNCTION(\"\"\"COMPUTED_VALUE\"\"\"),\"-\")","v":"-"},{"$f":"IFERROR(__xludf.DUMMYFUNCTION(\"\"\"COMPUTED_VALUE\"\"\"),\"septembre\")","v":"septembre"},{"$f":"IFERROR(__xludf.DUMMYFUNCTION(\"\"\"COMPUTED_VALUE\"\"\"),\"Peu importe\")","v":"Peu importe"},{"$f":"IFERROR(__xludf.DUMMYFUNCTION(\"\"\"COMPUTED_VALUE\"\"\"),\"OK\")","v":"OK"},{"$f":"IFERROR(__xludf.DUMMYFUNCTION(\"\"\"COMPUTED_VALUE\"\"\"),\"OK\")","v":"OK"},{"$f":"IFERROR(__xludf.DUMMYFUNCTION(\"\"\"COMPUTED_VALUE\"\"\"),\"septembre\")","v":"septembre"},{"$f":"IFERROR(__xludf.DUMMYFUNCTION(\"\"\"COMPUTED_VALUE\"\"\"),\"Navire & Fort\")","v":"Navire & Fort"},{"$f":"IFERROR(__xludf.DUMMYFUNCTION(\"\"\"COMPUTED_VALUE\"\"\"),405.5)","v":405.5},{"$f":"IFERROR(__xludf.DUMMYFUNCTION(\"\"\"COMPUTED_VALUE\"\"\"),\"PAF finalisée\")","v":"PAF finalisée"},{"$f":"IFERROR(__xludf.DUMMYFUNCTION(\"\"\"COMPUTED_VALUE\"\"\"),\"non reçue\")","v":"non reçue"},{"$f":"IFERROR(__xludf.DUMMYFUNCTION(\"\"\"COMPUTED_VALUE\"\"\"),\"R.A.S.\")","v":"R.A.S."},{"$f":"IFERROR(__xludf.DUMMYFUNCTION(\"\"\"COMPUTED_VALUE\"\"\"),\"samedi\")","v":"samedi"},{"$f":"IFERROR(__xludf.DUMMYFUNCTION(\"\"\"COMPUTED_VALUE\"\"\"),\"Reste\")","v":"Reste"}]
[{"$f":"IFERROR(__xludf.DUMMYFUNCTION(\"\"\"COMPUTED_VALUE\"\"\"),45446.0)","v":"2024-06-03"},{"$f":"IFERROR(__xludf.DUMMYFUNCTION(\"\"\"COMPUTED_VALUE\"\"\"),\"De Maupertuis\")","v":"De Maupertuis"},{"$f":"IFERROR(__xludf.DUMMYFUNCTION(\"\"\"COMPUTED_VALUE\"\"\"),\"Renart\")","v":"Renart"},{"$f":"IFERROR(__xludf.DUMMYFUNCTION(\"\"\"COMPUTED_VALUE\"\"\"),\"H\")","v":"H"},{"$f":"IFERROR(__xludf.DUMMYFUNCTION(\"\"\"COMPUTED_VALUE\"\"\"),44.0)","v":44},{"$f":"IFERROR(__xludf.DUMMYFUNCTION(\"\"\"COMPUTED_VALUE\"\"\"),\"mithridate.vi@gmail.com\")","v":"mithridate.vi@gmail.com"},{"$f":"IFERROR(__xludf.DUMMYFUNCTION(\"\"\"COMPUTED_VALUE\"\"\"),\"Renart de Maupertuis\")","v":"Renart de Maupertuis"},{"$f":"IFERROR(__xludf.DUMMYFUNCTION(\"\"\"COMPUTED_VALUE\"\"\"),\"0617175397\")","v":"0617175397"},{"$f":"IFERROR(__xludf.DUMMYFUNCTION(\"\"\"COMPUTED_VALUE\"\"\"),\"Pur PJ\")","v":"Pur PJ"},{"$f":"IFERROR(__xludf.DUMMYFUNCTION(\"\"\"COMPUTED_VALUE\"\"\"),\"-\")","v":"-"},{"$f":"IFERROR(__xludf.DUMMYFUNCTION(\"\"\"COMPUTED_VALUE\"\"\"),\"Les deux\")","v":"Les deux"},{"$f":"IFERROR(__xludf.DUMMYFUNCTION(\"\"\"COMPUTED_VALUE\"\"\"),\"Navire et fort\")","v":"Navire et fort"},{"$f":"IFERROR(__xludf.DUMMYFUNCTION(\"\"\"COMPUTED_VALUE\"\"\"),\"OK\")","v":"OK"},{"$f":"IFERROR(__xludf.DUMMYFUNCTION(\"\"\"COMPUTED_VALUE\"\"\"),\"OK\")","v":"OK"},{"$f":"IFERROR(__xludf.DUMMYFUNCTION(\"\"\"COMPUTED_VALUE\"\"\"),\"septembre\")","v":"septembre"},{"$f":"IFERROR(__xludf.DUMMYFUNCTION(\"\"\"COMPUTED_VALUE\"\"\"),\"Navire & Fort\")","v":"Navire & Fort"},{"$f":"IFERROR(__xludf.DUMMYFUNCTION(\"\"\"COMPUTED_VALUE\"\"\"),400.0)","v":400},{"$f":"IFERROR(__xludf.DUMMYFUNCTION(\"\"\"COMPUTED_VALUE\"\"\"),\"PAF finalisée\")","v":"PAF finalisée"},{"$f":"IFERROR(__xludf.DUMMYFUNCTION(\"\"\"COMPUTED_VALUE\"\"\"),\"non reçue\")","v":"non reçue"},{"$f":"IFERROR(__xludf.DUMMYFUNCTION(\"\"\"COMPUTED_VALUE\"\"\"),\"R.A.S.\")","v":"R.A.S."},{"$f":"IFERROR(__xludf.DUMMYFUNCTION(\"\"\"COMPUTED_VALUE\"\"\"),\"samedi\")","v":"samedi"},{"$f":"IFERROR(__xludf.DUMMYFUNCTION(\"\"\"COMPUTED_VALUE\"\"\"),\"Reste\")","v":"Reste"}]
[{"$f":"IFERROR(__xludf.DUMMYFUNCTION(\"\"\"COMPUTED_VALUE\"\"\"),45310.0)","v":"2024-01-19"},{"$f":"IFERROR(__xludf.DUMMYFUNCTION(\"\"\"COMPUTED_VALUE\"\"\"),\"Dumas\")","v":"Dumas"},{"$f":"IFERROR(__xludf.DUMMYFUNCTION(\"\"\"COMPUTED_VALUE\"\"\"),\"Marc\")","v":"Marc"},{"$f":"IFERROR(__xludf.DUMMYFUNCTION(\"\"\"COMPUTED_VALUE\"\"\"),\"H\")","v":"H"},{"$f":"IFERROR(__xludf.DUMMYFUNCTION(\"\"\"COMPUTED_VALUE\"\"\"),54.0)","v":54},{"$f":"IFERROR(__xludf.DUMMYFUNCTION(\"\"\"COMPUTED_VALUE\"\"\"),\"markal.dumas@gmail.com\")","v":"markal.dumas@gmail.com"},{"$f":"IFERROR(__xludf.DUMMYFUNCTION(\"\"\"COMPUTED_VALUE\"\"\"),\"Marc-Alain Dumas\")","v":"Marc-Alain Dumas"},{"$f":"IFERROR(__xludf.DUMMYFUNCTION(\"\"\"COMPUTED_VALUE\"\"\"),\"0603192840\")","v":"0603192840"},{"$f":"IFERROR(__xludf.DUMMYFUNCTION(\"\"\"COMPUTED_VALUE\"\"\"),\"PJ+PNJ\")","v":"PJ+PNJ"},{"$f":"IFERROR(__xludf.DUMMYFUNCTION(\"\"\"COMPUTED_VALUE\"\"\"),\"-\")","v":"-"},{"$f":"IFERROR(__xludf.DUMMYFUNCTION(\"\"\"COMPUTED_VALUE\"\"\"),\"juin\")","v":"juin"},{"$f":"IFERROR(__xludf.DUMMYFUNCTION(\"\"\"COMPUTED_VALUE\"\"\"),\"Seulement au fort\")","v":"Seulement au fort"},{"$f":"IFERROR(__xludf.DUMMYFUNCTION(\"\"\"COMPUTED_VALUE\"\"\"),\"OK\")","v":"OK"},{"$f":"IFERROR(__xludf.DUMMYFUNCTION(\"\"\"COMPUTED_VALUE\"\"\"),\"OK\")","v":"OK"},{"$f":"IFERROR(__xludf.DUMMYFUNCTION(\"\"\"COMPUTED_VALUE\"\"\"),\"septembre\")","v":"septembre"},{"$f":"IFERROR(__xludf.DUMMYFUNCTION(\"\"\"COMPUTED_VALUE\"\"\"),\"Fort seulement\")","v":"Fort seulement"},{"$f":"IFERROR(__xludf.DUMMYFUNCTION(\"\"\"COMPUTED_VALUE\"\"\"),200.0)","v":200},{"$f":"IFERROR(__xludf.DUMMYFUNCTION(\"\"\"COMPUTED_VALUE\"\"\"),\"PAF finalisée\")","v":"PAF finalisée"},{"$f":"IFERROR(__xludf.DUMMYFUNCTION(\"\"\"COMPUTED_VALUE\"\"\"),\"non reçue\")","v":"non reçue"},{"$f":"IFERROR(__xludf.DUMMYFUNCTION(\"\"\"COMPUTED_VALUE\"\"\"),\"R.A.S.\")","v":"R.A.S."},{"$f":"IFERROR(__xludf.DUMMYFUNCTION(\"\"\"COMPUTED_VALUE\"\"\"),\"samedi\")","v":"samedi"},{"$f":"IFERROR(__xludf.DUMMYFUNCTION(\"\"\"COMPUTED_VALUE\"\"\"),\"Reste\")","v":"Reste"},{"$f":"IFERROR(__xludf.DUMMYFUNCTION(\"\"\"COMPUTED_VALUE\"\"\"),\"à payé pour session juin\")","v":"à payé pour session juin"}]
[{"$f":"IFERROR(__xludf.DUMMYFUNCTION(\"\"\"COMPUTED_VALUE\"\"\"),45332.0)","v":"2024-02-10"},{"$f":"IFERROR(__xludf.DUMMYFUNCTION(\"\"\"COMPUTED_VALUE\"\"\"),\"Duvert\")","v":"Duvert"},{"$f":"IFERROR(__xludf.DUMMYFUNCTION(\"\"\"COMPUTED_VALUE\"\"\"),\"Guy-Roger\")","v":"Guy-Roger"},{"$f":"IFERROR(__xludf.DUMMYFUNCTION(\"\"\"COMPUTED_VALUE\"\"\"),\"H\")","v":"H"},{"$f":"IFERROR(__xludf.DUMMYFUNCTION(\"\"\"COMPUTED_VALUE\"\"\"),49.0)","v":49},{"$f":"IFERROR(__xludf.DUMMYFUNCTION(\"\"\"COMPUTED_VALUE\"\"\"),\"grmuse@yahoo.fr\")","v":"grmuse@yahoo.fr"},{"$f":"IFERROR(__xludf.DUMMYFUNCTION(\"\"\"COMPUTED_VALUE\"\"\"),\"Guy-Roger Duvert\")","v":"Guy-Roger Duvert"},{"$f":"IFERROR(__xludf.DUMMYFUNCTION(\"\"\"COMPUTED_VALUE\"\"\"),\"0616133285\")","v":"0616133285"},{"$f":"IFERROR(__xludf.DUMMYFUNCTION(\"\"\"COMPUTED_VALUE\"\"\"),\"Pur PJ\")","v":"Pur PJ"},{"$f":"IFERROR(__xludf.DUMMYFUNCTION(\"\"\"COMPUTED_VALUE\"\"\"),\"-\")","v":"-"},{"$f":"IFERROR(__xludf.DUMMYFUNCTION(\"\"\"COMPUTED_VALUE\"\"\"),\"septembre\")","v":"septembre"},{"$f":"IFERROR(__xludf.DUMMYFUNCTION(\"\"\"COMPUTED_VALUE\"\"\"),\"Peu importe\")","v":"Peu importe"},{"$f":"IFERROR(__xludf.DUMMYFUNCTION(\"\"\"COMPUTED_VALUE\"\"\"),\"OK\")","v":"OK"},{"$f":"IFERROR(__xludf.DUMMYFUNCTION(\"\"\"COMPUTED_VALUE\"\"\"),\"OK\")","v":"OK"},{"$f":"IFERROR(__xludf.DUMMYFUNCTION(\"\"\"COMPUTED_VALUE\"\"\"),\"septembre\")","v":"septembre"},{"$f":"IFERROR(__xludf.DUMMYFUNCTION(\"\"\"COMPUTED_VALUE\"\"\"),\"Navire & Fort\")","v":"Navire & Fort"},{"$f":"IFERROR(__xludf.DUMMYFUNCTION(\"\"\"COMPUTED_VALUE\"\"\"),405.0)","v":405},{"$f":"IFERROR(__xludf.DUMMYFUNCTION(\"\"\"COMPUTED_VALUE\"\"\"),\"PAF finalisée\")","v":"PAF finalisée"},{"$f":"IFERROR(__xludf.DUMMYFUNCTION(\"\"\"COMPUTED_VALUE\"\"\"),\"non reçue\")","v":"non reçue"},{"$f":"IFERROR(__xludf.DUMMYFUNCTION(\"\"\"COMPUTED_VALUE\"\"\"),\"R.A.S.\")","v":"R.A.S."},{"$f":"IFERROR(__xludf.DUMMYFUNCTION(\"\"\"COMPUTED_VALUE\"\"\"),\"samedi\")","v":"samedi"},{"$f":"IFERROR(__xludf.DUMMYFUNCTION(\"\"\"COMPUTED_VALUE\"\"\"),\"Reste\")","v":"Reste"}]
[{"$f":"IFERROR(__xludf.DUMMYFUNCTION(\"\"\"COMPUTED_VALUE\"\"\"),45461.0)","v":"2024-06-18"},{"$f":"IFERROR(__xludf.DUMMYFUNCTION(\"\"\"COMPUTED_VALUE\"\"\"),\"Fabre\")","v":"Fabre"},{"$f":"IFERROR(__xludf.DUMMYFUNCTION(\"\"\"COMPUTED_VALUE\"\"\"),\"Alexandre\")","v":"Alexandre"},{"$f":"IFERROR(__xludf.DUMMYFUNCTION(\"\"\"COMPUTED_VALUE\"\"\"),\"H\")","v":"H"},{"$f":"IFERROR(__xludf.DUMMYFUNCTION(\"\"\"COMPUTED_VALUE\"\"\"),39.0)","v":39},{"$f":"IFERROR(__xludf.DUMMYFUNCTION(\"\"\"COMPUTED_VALUE\"\"\"),\"alexandre.fabre@free.fr\")","v":"alexandre.fabre@free.fr"},{"$f":"IFERROR(__xludf.DUMMYFUNCTION(\"\"\"COMPUTED_VALUE\"\"\"),\"Alexandre Fabre\")","v":"Alexandre Fabre"},{"$f":"IFERROR(__xludf.DUMMYFUNCTION(\"\"\"COMPUTED_VALUE\"\"\"),\"0607341244\")","v":"0607341244"},{"$f":"IFERROR(__xludf.DUMMYFUNCTION(\"\"\"COMPUTED_VALUE\"\"\"),\"Pur PJ\")","v":"Pur PJ"},{"$f":"IFERROR(__xludf.DUMMYFUNCTION(\"\"\"COMPUTED_VALUE\"\"\"),\"-\")","v":"-"},{"$f":"IFERROR(__xludf.DUMMYFUNCTION(\"\"\"COMPUTED_VALUE\"\"\"),\"Les deux\")","v":"Les deux"},{"$f":"IFERROR(__xludf.DUMMYFUNCTION(\"\"\"COMPUTED_VALUE\"\"\"),\"Navire et fort\")","v":"Navire et fort"},{"$f":"IFERROR(__xludf.DUMMYFUNCTION(\"\"\"COMPUTED_VALUE\"\"\"),\"OK\")","v":"OK"},{"$f":"IFERROR(__xludf.DUMMYFUNCTION(\"\"\"COMPUTED_VALUE\"\"\"),\"OK\")","v":"OK"},{"$f":"IFERROR(__xludf.DUMMYFUNCTION(\"\"\"COMPUTED_VALUE\"\"\"),\"septembre\")","v":"septembre"},{"$f":"IFERROR(__xludf.DUMMYFUNCTION(\"\"\"COMPUTED_VALUE\"\"\"),\"Navire & Fort\")","v":"Navire & Fort"},{"$f":"IFERROR(__xludf.DUMMYFUNCTION(\"\"\"COMPUTED_VALUE\"\"\"),133.5)","v":133.5},{"$f":"IFERROR(__xludf.DUMMYFUNCTION(\"\"\"COMPUTED_VALUE\"\"\"),\"PAF partielle + erreur\")","v":"PAF partielle + erreur"},{"$f":"IFERROR(__xludf.DUMMYFUNCTION(\"\"\"COMPUTED_VALUE\"\"\"),\"non reçue\")","v":"non reçue"},{"$f":"IFERROR(__xludf.DUMMYFUNCTION(\"\"\"COMPUTED_VALUE\"\"\"),\"R.A.S.\")","v":"R.A.S."},{"$f":"IFERROR(__xludf.DUMMYFUNCTION(\"\"\"COMPUTED_VALUE\"\"\"),\"samedi\")","v":"samedi"},{"$f":"IFERROR(__xludf.DUMMYFUNCTION(\"\"\"COMPUTED_VALUE\"\"\"),\"Reste\")","v":"Reste"}]
[{"$f":"IFERROR(__xludf.DUMMYFUNCTION(\"\"\"COMPUTED_VALUE\"\"\"),45313.0)","v":"2024-01-22"},{"$f":"IFERROR(__xludf.DUMMYFUNCTION(\"\"\"COMPUTED_VALUE\"\"\"),\"GANTET\")","v":"GANTET"},{"$f":"IFERROR(__xludf.DUMMYFUNCTION(\"\"\"COMPUTED_VALUE\"\"\"),\"Guillaume\")","v":"Guillaume"},{"$f":"IFERROR(__xludf.DUMMYFUNCTION(\"\"\"COMPUTED_VALUE\"\"\"),\"H\")","v":"H"},{"$f":"IFERROR(__xludf.DUMMYFUNCTION(\"\"\"COMPUTED_VALUE\"\"\"),40.0)","v":40},{"$f":"IFERROR(__xludf.DUMMYFUNCTION(\"\"\"COMPUTED_VALUE\"\"\"),\"guilland@gmail.com\")","v":"guilland@gmail.com"},{"$f":"IFERROR(__xludf.DUMMYFUNCTION(\"\"\"COMPUTED_VALUE\"\"\"),\"Guillaume GANTET\")","v":"Guillaume GANTET"},{"$f":"IFERROR(__xludf.DUMMYFUNCTION(\"\"\"COMPUTED_VALUE\"\"\"),\"649193710\")","v":"649193710"},{"$f":"IFERROR(__xludf.DUMMYFUNCTION(\"\"\"COMPUTED_VALUE\"\"\"),\"Pur PJ\")","v":"Pur PJ"},{"$f":"IFERROR(__xludf.DUMMYFUNCTION(\"\"\"COMPUTED_VALUE\"\"\"),\"-\")","v":"-"},{"$f":"IFERROR(__xludf.DUMMYFUNCTION(\"\"\"COMPUTED_VALUE\"\"\"),\"Les deux\")","v":"Les deux"},{"$f":"IFERROR(__xludf.DUMMYFUNCTION(\"\"\"COMPUTED_VALUE\"\"\"),\"Navire et fort\")","v":"Navire et fort"},{"$f":"IFERROR(__xludf.DUMMYFUNCTION(\"\"\"COMPUTED_VALUE\"\"\"),\"OK\")","v":"OK"},{"$f":"IFERROR(__xludf.DUMMYFUNCTION(\"\"\"COMPUTED_VALUE\"\"\"),\"OK\")","v":"OK"},{"$f":"IFERROR(__xludf.DUMMYFUNCTION(\"\"\"COMPUTED_VALUE\"\"\"),\"septembre\")","v":"septembre"},{"$f":"IFERROR(__xludf.DUMMYFUNCTION(\"\"\"COMPUTED_VALUE\"\"\"),\"Navire & Fort\")","v":"Navire & Fort"},{"$f":"IFERROR(__xludf.DUMMYFUNCTION(\"\"\"COMPUTED_VALUE\"\"\"),133.5)","v":133.5},{"$f":"IFERROR(__xludf.DUMMYFUNCTION(\"\"\"COMPUTED_VALUE\"\"\"),\"PAF partielle\")","v":"PAF partielle"},{"$f":"IFERROR(__xludf.DUMMYFUNCTION(\"\"\"COMPUTED_VALUE\"\"\"),\"non reçue\")","v":"non reçue"},{"$f":"IFERROR(__xludf.DUMMYFUNCTION(\"\"\"COMPUTED_VALUE\"\"\"),\"R.A.S.\")","v":"R.A.S."},{"$f":"IFERROR(__xludf.DUMMYFUNCTION(\"\"\"COMPUTED_VALUE\"\"\"),\"samedi\")","v":"samedi"},{"$f":"IFERROR(__xludf.DUMMYFUNCTION(\"\"\"COMPUTED_VALUE\"\"\"),\"NON\")","v":"NON"}]
[{"$f":"IFERROR(__xludf.DUMMYFUNCTION(\"\"\"COMPUTED_VALUE\"\"\"),45305.0)","v":"2024-01-14"},{"$f":"IFERROR(__xludf.DUMMYFUNCTION(\"\"\"COMPUTED_VALUE\"\"\"),\"Harrand \")","v":"Harrand "},{"$f":"IFERROR(__xludf.DUMMYFUNCTION(\"\"\"COMPUTED_VALUE\"\"\"),\"Chloé\")","v":"Chloé"},{"$f":"IFERROR(__xludf.DUMMYFUNCTION(\"\"\"COMPUTED_VALUE\"\"\"),\"F\")","v":"F"},{"$f":"IFERROR(__xludf.DUMMYFUNCTION(\"\"\"COMPUTED_VALUE\"\"\"),29.0)","v":29},{"$f":"IFERROR(__xludf.DUMMYFUNCTION(\"\"\"COMPUTED_VALUE\"\"\"),\"chloeharrand@gmail.com\")","v":"chloeharrand@gmail.com"},{"$f":"IFERROR(__xludf.DUMMYFUNCTION(\"\"\"COMPUTED_VALUE\"\"\"),\"Chloé Sardine\")","v":"Chloé Sardine"},{"$f":"IFERROR(__xludf.DUMMYFUNCTION(\"\"\"COMPUTED_VALUE\"\"\"),\"611290595\")","v":"611290595"},{"$f":"IFERROR(__xludf.DUMMYFUNCTION(\"\"\"COMPUTED_VALUE\"\"\"),\"PJ+PNJ\")","v":"PJ+PNJ"},{"$f":"IFERROR(__xludf.DUMMYFUNCTION(\"\"\"COMPUTED_VALUE\"\"\"),\"-\")","v":"-"},{"$f":"IFERROR(__xludf.DUMMYFUNCTION(\"\"\"COMPUTED_VALUE\"\"\"),\"juin\")","v":"juin"},{"$f":"IFERROR(__xludf.DUMMYFUNCTION(\"\"\"COMPUTED_VALUE\"\"\"),\"Navire et fort\")","v":"Navire et fort"},{"$f":"IFERROR(__xludf.DUMMYFUNCTION(\"\"\"COMPUTED_VALUE\"\"\"),\"OK\")","v":"OK"},{"$f":"IFERROR(__xludf.DUMMYFUNCTION(\"\"\"COMPUTED_VALUE\"\"\"),\"OK\")","v":"OK"},{"$f":"IFERROR(__xludf.DUMMYFUNCTION(\"\"\"COMPUTED_VALUE\"\"\"),\"septembre\")","v":"septembre"},{"$f":"IFERROR(__xludf.DUMMYFUNCTION(\"\"\"COMPUTED_VALUE\"\"\"),\"Fort seulement\")","v":"Fort seulement"},{"$f":"IFERROR(__xludf.DUMMYFUNCTION(\"\"\"COMPUTED_VALUE\"\"\"),200.0)","v":200},{"$f":"IFERROR(__xludf.DUMMYFUNCTION(\"\"\"COMPUTED_VALUE\"\"\"),\"PAF finalisée\")","v":"PAF finalisée"},{"$f":"IFERROR(__xludf.DUMMYFUNCTION(\"\"\"COMPUTED_VALUE\"\"\"),\"non reçue\")","v":"non reçue"},{"$f":"IFERROR(__xludf.DUMMYFUNCTION(\"\"\"COMPUTED_VALUE\"\"\"),\"R.A.S.\")","v":"R.A.S."},{"$f":"IFERROR(__xludf.DUMMYFUNCTION(\"\"\"COMPUTED_VALUE\"\"\"),\"samedi\")","v":"samedi"},{"$f":"IFERROR(__xludf.DUMMYFUNCTION(\"\"\"COMPUTED_VALUE\"\"\"),\"Reste\")","v":"Reste"}]
[{"$f":"IFERROR(__xludf.DUMMYFUNCTION(\"\"\"COMPUTED_VALUE\"\"\"),45303.0)","v":"2024-01-12"},{"$f":"IFERROR(__xludf.DUMMYFUNCTION(\"\"\"COMPUTED_VALUE\"\"\"),\"Lorente\")","v":"Lorente"},{"$f":"IFERROR(__xludf.DUMMYFUNCTION(\"\"\"COMPUTED_VALUE\"\"\"),\"Matthieu\")","v":"Matthieu"},{"$f":"IFERROR(__xludf.DUMMYFUNCTION(\"\"\"COMPUTED_VALUE\"\"\"),\"H\")","v":"H"},{"$f":"IFERROR(__xludf.DUMMYFUNCTION(\"\"\"COMPUTED_VALUE\"\"\"),41.0)","v":41},{"$f":"IFERROR(__xludf.DUMMYFUNCTION(\"\"\"COMPUTED_VALUE\"\"\"),\"lorentemathieu@gmail.com\")","v":"lorentemathieu@gmail.com"},{"$f":"IFERROR(__xludf.DUMMYFUNCTION(\"\"\"COMPUTED_VALUE\"\"\"),\"Mathieu LORENTE\")","v":"Mathieu LORENTE"},{"$f":"IFERROR(__xludf.DUMMYFUNCTION(\"\"\"COMPUTED_VALUE\"\"\"),\"0647832624\")","v":"0647832624"},{"$f":"IFERROR(__xludf.DUMMYFUNCTION(\"\"\"COMPUTED_VALUE\"\"\"),\"Pur PJ\")","v":"Pur PJ"},{"$f":"IFERROR(__xludf.DUMMYFUNCTION(\"\"\"COMPUTED_VALUE\"\"\"),\"-\")","v":"-"},{"$f":"IFERROR(__xludf.DUMMYFUNCTION(\"\"\"COMPUTED_VALUE\"\"\"),\"septembre\")","v":"septembre"},{"$f":"IFERROR(__xludf.DUMMYFUNCTION(\"\"\"COMPUTED_VALUE\"\"\"),\"Seulement au fort\")","v":"Seulement au fort"},{"$f":"IFERROR(__xludf.DUMMYFUNCTION(\"\"\"COMPUTED_VALUE\"\"\"),\"OK\")","v":"OK"},{"$f":"IFERROR(__xludf.DUMMYFUNCTION(\"\"\"COMPUTED_VALUE\"\"\"),\"OK\")","v":"OK"},{"$f":"IFERROR(__xludf.DUMMYFUNCTION(\"\"\"COMPUTED_VALUE\"\"\"),\"septembre\")","v":"septembre"},{"$f":"IFERROR(__xludf.DUMMYFUNCTION(\"\"\"COMPUTED_VALUE\"\"\"),\"Fort seulement\")","v":"Fort seulement"},null,{"$f":"IFERROR(__xludf.DUMMYFUNCTION(\"\"\"COMPUTED_VALUE\"\"\"),\"PAF non reçue\")","v":"PAF non reçue"},{"$f":"IFERROR(__xludf.DUMMYFUNCTION(\"\"\"COMPUTED_VALUE\"\"\"),\"non reçue\")","v":"non reçue"},{"$f":"IFERROR(__xludf.DUMMYFUNCTION(\"\"\"COMPUTED_VALUE\"\"\"),\"R.A.S.\")","v":"R.A.S."},{"$f":"IFERROR(__xludf.DUMMYFUNCTION(\"\"\"COMPUTED_VALUE\"\"\"),\"samedi\")","v":"samedi"},{"$f":"IFERROR(__xludf.DUMMYFUNCTION(\"\"\"COMPUTED_VALUE\"\"\"),\"Reste\")","v":"Reste"}]
[{"$f":"IFERROR(__xludf.DUMMYFUNCTION(\"\"\"COMPUTED_VALUE\"\"\"),45303.0)","v":"2024-01-12"},{"$f":"IFERROR(__xludf.DUMMYFUNCTION(\"\"\"COMPUTED_VALUE\"\"\"),\"Lorente\")","v":"Lorente"},{"$f":"IFERROR(__xludf.DUMMYFUNCTION(\"\"\"COMPUTED_VALUE\"\"\"),\"Yann\")","v":"Yann"},{"$f":"IFERROR(__xludf.DUMMYFUNCTION(\"\"\"COMPUTED_VALUE\"\"\"),\"H\")","v":"H"},{"$f":"IFERROR(__xludf.DUMMYFUNCTION(\"\"\"COMPUTED_VALUE\"\"\"),42.0)","v":42},{"$f":"IFERROR(__xludf.DUMMYFUNCTION(\"\"\"COMPUTED_VALUE\"\"\"),\"yann.lorente@gmail.com\")","v":"yann.lorente@gmail.com"},{"$f":"IFERROR(__xludf.DUMMYFUNCTION(\"\"\"COMPUTED_VALUE\"\"\"),\"Yann lo\")","v":"Yann lo"},{"$f":"IFERROR(__xludf.DUMMYFUNCTION(\"\"\"COMPUTED_VALUE\"\"\"),\"+33630208984\")","v":"+33630208984"},{"$f":"IFERROR(__xludf.DUMMYFUNCTION(\"\"\"COMPUTED_VALUE\"\"\"),\"PJ+PNJ\")","v":"PJ+PNJ"},{"$f":"IFERROR(__xludf.DUMMYFUNCTION(\"\"\"COMPUTED_VALUE\"\"\"),\"-\")","v":"-"},{"$f":"IFERROR(__xludf.DUMMYFUNCTION(\"\"\"COMPUTED_VALUE\"\"\"),\"Non précisé\")","v":"Non précisé"},{"$f":"IFERROR(__xludf.DUMMYFUNCTION(\"\"\"COMPUTED_VALUE\"\"\"),\"Navire et fort\")","v":"Navire et fort"},{"$f":"IFERROR(__xludf.DUMMYFUNCTION(\"\"\"COMPUTED_VALUE\"\"\"),\"OK\")","v":"OK"},{"$f":"IFERROR(__xludf.DUMMYFUNCTION(\"\"\"COMPUTED_VALUE\"\"\"),\"OK\")","v":"OK"},{"$f":"IFERROR(__xludf.DUMMYFUNCTION(\"\"\"COMPUTED_VALUE\"\"\"),\"septembre\")","v":"septembre"},{"$f":"IFERROR(__xludf.DUMMYFUNCTION(\"\"\"COMPUTED_VALUE\"\"\"),\"Navire & Fort\")","v":"Navire & Fort"},{"$f":"IFERROR(__xludf.DUMMYFUNCTION(\"\"\"COMPUTED_VALUE\"\"\"),200.1)","v":200.1},{"$f":"IFERROR(__xludf.DUMMYFUNCTION(\"\"\"COMPUTED_VALUE\"\"\"),\"PAF partielle\")","v":"PAF partielle"},{"$f":"IFERROR(__xludf.DUMMYFUNCTION(\"\"\"COMPUTED_VALUE\"\"\"),\"non reçue\")","v":"non reçue"},{"$f":"IFERROR(__xludf.DUMMYFUNCTION(\"\"\"COMPUTED_VALUE\"\"\"),\"R.A.S.\")","v":"R.A.S."},{"$f":"IFERROR(__xludf.DUMMYFUNCTION(\"\"\"COMPUTED_VALUE\"\"\"),\"samedi\")","v":"samedi"},{"$f":"IFERROR(__xludf.DUMMYFUNCTION(\"\"\"COMPUTED_VALUE\"\"\"),\"Reste\")","v":"Reste"}]
[{"$f":"IFERROR(__xludf.DUMMYFUNCTION(\"\"\"COMPUTED_VALUE\"\"\"),45310.0)","v":"2024-01-19"},{"$f":"IFERROR(__xludf.DUMMYFUNCTION(\"\"\"COMPUTED_VALUE\"\"\"),\"Pitel\")","v":"Pitel"},{"$f":"IFERROR(__xludf.DUMMYFUNCTION(\"\"\"COMPUTED_VALUE\"\"\"),\"Marion\")","v":"Marion"},{"$f":"IFERROR(__xludf.DUMMYFUNCTION(\"\"\"COMPUTED_VALUE\"\"\"),\"F\")","v":"F"},{"$f":"IFERROR(__xludf.DUMMYFUNCTION(\"\"\"COMPUTED_VALUE\"\"\"),29.0)","v":29},{"$f":"IFERROR(__xludf.DUMMYFUNCTION(\"\"\"COMPUTED_VALUE\"\"\"),\"marionpitel.scott@gmail.com\")","v":"marionpitel.scott@gmail.com"},{"$f":"IFERROR(__xludf.DUMMYFUNCTION(\"\"\"COMPUTED_VALUE\"\"\"),\"Mads Croc\")","v":"Mads Croc"},{"$f":"IFERROR(__xludf.DUMMYFUNCTION(\"\"\"COMPUTED_VALUE\"\"\"),\"0673467578\")","v":"0673467578"},{"$f":"IFERROR(__xludf.DUMMYFUNCTION(\"\"\"COMPUTED_VALUE\"\"\"),\"PJ+PNJ\")","v":"PJ+PNJ"},{"$f":"IFERROR(__xludf.DUMMYFUNCTION(\"\"\"COMPUTED_VALUE\"\"\"),\"-\")","v":"-"},{"$f":"IFERROR(__xludf.DUMMYFUNCTION(\"\"\"COMPUTED_VALUE\"\"\"),\"juin\")","v":"juin"},{"$f":"IFERROR(__xludf.DUMMYFUNCTION(\"\"\"COMPUTED_VALUE\"\"\"),\"Seulement au fort\")","v":"Seulement au fort"},{"$f":"IFERROR(__xludf.DUMMYFUNCTION(\"\"\"COMPUTED_VALUE\"\"\"),\"OK\")","v":"OK"},{"$f":"IFERROR(__xludf.DUMMYFUNCTION(\"\"\"COMPUTED_VALUE\"\"\"),\"OK\")","v":"OK"},{"$f":"IFERROR(__xludf.DUMMYFUNCTION(\"\"\"COMPUTED_VALUE\"\"\"),\"septembre\")","v":"septembre"},{"$f":"IFERROR(__xludf.DUMMYFUNCTION(\"\"\"COMPUTED_VALUE\"\"\"),\"Fort seulement\")","v":"Fort seulement"},{"$f":"IFERROR(__xludf.DUMMYFUNCTION(\"\"\"COMPUTED_VALUE\"\"\"),200.0)","v":200},{"$f":"IFERROR(__xludf.DUMMYFUNCTION(\"\"\"COMPUTED_VALUE\"\"\"),\"PAF finalisée\")","v":"PAF finalisée"},{"$f":"IFERROR(__xludf.DUMMYFUNCTION(\"\"\"COMPUTED_VALUE\"\"\"),\"non reçue\")","v":"non reçue"},{"$f":"IFERROR(__xludf.DUMMYFUNCTION(\"\"\"COMPUTED_VALUE\"\"\"),\"R.A.S.\")","v":"R.A.S."},{"$f":"IFERROR(__xludf.DUMMYFUNCTION(\"\"\"COMPUTED_VALUE\"\"\"),\"samedi\")","v":"samedi"},{"$f":"IFERROR(__xludf.DUMMYFUNCTION(\"\"\"COMPUTED_VALUE\"\"\"),\"Reste\")","v":"Reste"},{"$f":"IFERROR(__xludf.DUMMYFUNCTION(\"\"\"COMPUTED_VALUE\"\"\"),\"à payé pour session juin\")","v":"à payé pour session juin"}]
[{"$f":"IFERROR(__xludf.DUMMYFUNCTION(\"\"\"COMPUTED_VALUE\"\"\"),45460.0)","v":"2024-06-17"},{"$f":"IFERROR(__xludf.DUMMYFUNCTION(\"\"\"COMPUTED_VALUE\"\"\"),\"Vacari\")","v":"Vacari"},{"$f":"IFERROR(__xludf.DUMMYFUNCTION(\"\"\"COMPUTED_VALUE\"\"\"),\"Lydia\")","v":"Lydia"},{"$f":"IFERROR(__xludf.DUMMYFUNCTION(\"\"\"COMPUTED_VALUE\"\"\"),\"F\")","v":"F"},{"$f":"IFERROR(__xludf.DUMMYFUNCTION(\"\"\"COMPUTED_VALUE\"\"\"),35.0)","v":35},{"$f":"IFERROR(__xludf.DUMMYFUNCTION(\"\"\"COMPUTED_VALUE\"\"\"),\"vacarilydia@hotmail.fr\")","v":"vacarilydia@hotmail.fr"},{"$f":"IFERROR(__xludf.DUMMYFUNCTION(\"\"\"COMPUTED_VALUE\"\"\"),\"Lydia Vacari\")","v":"Lydia Vacari"},{"$f":"IFERROR(__xludf.DUMMYFUNCTION(\"\"\"COMPUTED_VALUE\"\"\"),\"0607341244\")","v":"0607341244"},{"$f":"IFERROR(__xludf.DUMMYFUNCTION(\"\"\"COMPUTED_VALUE\"\"\"),\"PJ+PNJ\")","v":"PJ+PNJ"},{"$f":"IFERROR(__xludf.DUMMYFUNCTION(\"\"\"COMPUTED_VALUE\"\"\"),\"-\")","v":"-"},{"$f":"IFERROR(__xludf.DUMMYFUNCTION(\"\"\"COMPUTED_VALUE\"\"\"),\"septembre\")","v":"septembre"},{"$f":"IFERROR(__xludf.DUMMYFUNCTION(\"\"\"COMPUTED_VALUE\"\"\"),\"Seulement au fort\")","v":"Seulement au fort"},{"$f":"IFERROR(__xludf.DUMMYFUNCTION(\"\"\"COMPUTED_VALUE\"\"\"),\"OK\")","v":"OK"},{"$f":"IFERROR(__xludf.DUMMYFUNCTION(\"\"\"COMPUTED_VALUE\"\"\"),\"OK\")","v":"OK"},{"$f":"IFERROR(__xludf.DUMMYFUNCTION(\"\"\"COMPUTED_VALUE\"\"\"),\"septembre\")","v":"septembre"},{"$f":"IFERROR(__xludf.DUMMYFUNCTION(\"\"\"COMPUTED_VALUE\"\"\"),\"Fort seulement\")","v":"Fort seulement"},{"$f":"IFERROR(__xludf.DUMMYFUNCTION(\"\"\"COMPUTED_VALUE\"\"\"),133.4)","v":133.4},{"$f":"IFERROR(__xludf.DUMMYFUNCTION(\"\"\"COMPUTED_VALUE\"\"\"),\"PAF partielle\")","v":"PAF partielle"},{"$f":"IFERROR(__xludf.DUMMYFUNCTION(\"\"\"COMPUTED_VALUE\"\"\"),\"non reçue\")","v":"non reçue"},{"$f":"IFERROR(__xludf.DUMMYFUNCTION(\"\"\"COMPUTED_VALUE\"\"\"),\"R.A.S.\")","v":"R.A.S."},{"$f":"IFERROR(__xludf.DUMMYFUNCTION(\"\"\"COMPUTED_VALUE\"\"\"),\"samedi\")","v":"samedi"},{"$f":"IFERROR(__xludf.DUMMYFUNCTION(\"\"\"COMPUTED_VALUE\"\"\"),\"Reste\")","v":"Reste"}]
[{"$f":"IFERROR(__xludf.DUMMYFUNCTION(\"\"\"COMPUTED_VALUE\"\"\"),45303.0)","v":"2024-01-12"},{"$f":"IFERROR(__xludf.DUMMYFUNCTION(\"\"\"COMPUTED_VALUE\"\"\"),\"Warszawski \")","v":"Warszawski "},{"$f":"IFERROR(__xludf.DUMMYFUNCTION(\"\"\"COMPUTED_VALUE\"\"\"),\"Jessica\")","v":"Jessica"},{"$f":"IFERROR(__xludf.DUMMYFUNCTION(\"\"\"COMPUTED_VALUE\"\"\"),\"F\")","v":"F"},{"$f":"IFERROR(__xludf.DUMMYFUNCTION(\"\"\"COMPUTED_VALUE\"\"\"),35.0)","v":35},{"$f":"IFERROR(__xludf.DUMMYFUNCTION(\"\"\"COMPUTED_VALUE\"\"\"),\"jessica.warszawski@gmail.com\")","v":"jessica.warszawski@gmail.com"},{"$f":"IFERROR(__xludf.DUMMYFUNCTION(\"\"\"COMPUTED_VALUE\"\"\"),\"Jessica warszawski\")","v":"Jessica warszawski"},{"$f":"IFERROR(__xludf.DUMMYFUNCTION(\"\"\"COMPUTED_VALUE\"\"\"),\"0689440259\")","v":"0689440259"},{"$f":"IFERROR(__xludf.DUMMYFUNCTION(\"\"\"COMPUTED_VALUE\"\"\"),\"PJ+PNJ\")","v":"PJ+PNJ"},{"$f":"IFERROR(__xludf.DUMMYFUNCTION(\"\"\"COMPUTED_VALUE\"\"\"),\"-\")","v":"-"},{"$f":"IFERROR(__xludf.DUMMYFUNCTION(\"\"\"COMPUTED_VALUE\"\"\"),\"septembre\")","v":"septembre"},{"$f":"IFERROR(__xludf.DUMMYFUNCTION(\"\"\"COMPUTED_VALUE\"\"\"),\"Navire et fort\")","v":"Navire et fort"},{"$f":"IFERROR(__xludf.DUMMYFUNCTION(\"\"\"COMPUTED_VALUE\"\"\"),\"OK\")","v":"OK"},{"$f":"IFERROR(__xludf.DUMMYFUNCTION(\"\"\"COMPUTED_VALUE\"\"\"),\"OK\")","v":"OK"},{"$f":"IFERROR(__xludf.DUMMYFUNCTION(\"\"\"COMPUTED_VALUE\"\"\"),\"septembre\")","v":"septembre"},{"$f":"IFERROR(__xludf.DUMMYFUNCTION(\"\"\"COMPUTED_VALUE\"\"\"),\"Navire & Fort\")","v":"Navire & Fort"},{"$f":"IFERROR(__xludf.DUMMYFUNCTION(\"\"\"COMPUTED_VALUE\"\"\"),400.5)","v":400.5},{"$f":"IFERROR(__xludf.DUMMYFUNCTION(\"\"\"COMPUTED_VALUE\"\"\"),\"PAF finalisée\")","v":"PAF finalisée"},{"$f":"IFERROR(__xludf.DUMMYFUNCTION(\"\"\"COMPUTED_VALUE\"\"\"),\"non reçue\")","v":"non reçue"},{"$f":"IFERROR(__xludf.DUMMYFUNCTION(\"\"\"COMPUTED_VALUE\"\"\"),\"R.A.S.\")","v":"R.A.S."},{"$f":"IFERROR(__xludf.DUMMYFUNCTION(\"\"\"COMPUTED_VALUE\"\"\"),\"samedi\")","v":"samedi"},{"$f":"IFERROR(__xludf.DUMMYFUNCTION(\"\"\"COMPUTED_VALUE\"\"\"),\"Reste\")","v":"Reste"}]
[{"$f":"IFERROR(__xludf.DUMMYFUNCTION(\"\"\"COMPUTED_VALUE\"\"\"),45312.0)","v":"2024-01-21"},{"$f":"IFERROR(__xludf.DUMMYFUNCTION(\"\"\"COMPUTED_VALUE\"\"\"),\"Doche De Laquintane \")","v":"Doche De Laquintane "},{"$f":"IFERROR(__xludf.DUMMYFUNCTION(\"\"\"COMPUTED_VALUE\"\"\"),\"Nicolas \")","v":"Nicolas "},{"$f":"IFERROR(__xludf.DUMMYFUNCTION(\"\"\"COMPUTED_VALUE\"\"\"),\"H\")","v":"H"},{"$f":"IFERROR(__xludf.DUMMYFUNCTION(\"\"\"COMPUTED_VALUE\"\"\"),44.0)","v":44},{"$f":"IFERROR(__xludf.DUMMYFUNCTION(\"\"\"COMPUTED_VALUE\"\"\"),\"jeanflur@gmail.com\")","v":"jeanflur@gmail.com"},{"$f":"IFERROR(__xludf.DUMMYFUNCTION(\"\"\"COMPUTED_VALUE\"\"\"),\"Jean Flur\")","v":"Jean Flur"},{"$f":"IFERROR(__xludf.DUMMYFUNCTION(\"\"\"COMPUTED_VALUE\"\"\"),\"0672711392\")","v":"0672711392"},{"$f":"IFERROR(__xludf.DUMMYFUNCTION(\"\"\"COMPUTED_VALUE\"\"\"),\"PJ+PNJ\")","v":"PJ+PNJ"},{"$f":"IFERROR(__xludf.DUMMYFUNCTION(\"\"\"COMPUTED_VALUE\"\"\"),\"-\")","v":"-"},{"$f":"IFERROR(__xludf.DUMMYFUNCTION(\"\"\"COMPUTED_VALUE\"\"\"),\"Les deux\")","v":"Les deux"},{"$f":"IFERROR(__xludf.DUMMYFUNCTION(\"\"\"COMPUTED_VALUE\"\"\"),\"Peu importe\")","v":"Peu importe"},{"$f":"IFERROR(__xludf.DUMMYFUNCTION(\"\"\"COMPUTED_VALUE\"\"\"),\"OK\")","v":"OK"},{"$f":"IFERROR(__xludf.DUMMYFUNCTION(\"\"\"COMPUTED_VALUE\"\"\"),\"OK\")","v":"OK"},{"$f":"IFERROR(__xludf.DUMMYFUNCTION(\"\"\"COMPUTED_VALUE\"\"\"),\"septembre\")","v":"septembre"},{"$f":"IFERROR(__xludf.DUMMYFUNCTION(\"\"\"COMPUTED_VALUE\"\"\"),\"non attribué\")","v":"non attribué"},null,{"$f":"IFERROR(__xludf.DUMMYFUNCTION(\"\"\"COMPUTED_VALUE\"\"\"),\"PAF non reçue\")","v":"PAF non reçue"},{"$f":"IFERROR(__xludf.DUMMYFUNCTION(\"\"\"COMPUTED_VALUE\"\"\"),\"non reçue\")","v":"non reçue"},{"$f":"IFERROR(__xludf.DUMMYFUNCTION(\"\"\"COMPUTED_VALUE\"\"\"),\"R.A.S.\")","v":"R.A.S."},{"$f":"IFERROR(__xludf.DUMMYFUNCTION(\"\"\"COMPUTED_VALUE\"\"\"),\"samedi\")","v":"samedi"},{"$f":"IFERROR(__xludf.DUMMYFUNCTION(\"\"\"COMPUTED_VALUE\"\"\"),\"Reste\")","v":"Reste"}]
[{"$f":"IFERROR(__xludf.DUMMYFUNCTION(\"\"\"COMPUTED_VALUE\"\"\"),45342.0)","v":"2024-02-20"},{"$f":"IFERROR(__xludf.DUMMYFUNCTION(\"\"\"COMPUTED_VALUE\"\"\"),\"Giraud\")","v":"Giraud"},{"$f":"IFERROR(__xludf.DUMMYFUNCTION(\"\"\"COMPUTED_VALUE\"\"\"),\"Caroline\")","v":"Caroline"},{"$f":"IFERROR(__xludf.DUMMYFUNCTION(\"\"\"COMPUTED_VALUE\"\"\"),\"F\")","v":"F"},{"$f":"IFERROR(__xludf.DUMMYFUNCTION(\"\"\"COMPUTED_VALUE\"\"\"),43.0)","v":43},{"$f":"IFERROR(__xludf.DUMMYFUNCTION(\"\"\"COMPUTED_VALUE\"\"\"),\"blue.hirondelle@gmail.com\")","v":"blue.hirondelle@gmail.com"},{"$f":"IFERROR(__xludf.DUMMYFUNCTION(\"\"\"COMPUTED_VALUE\"\"\"),\"Caroline Giraud \")","v":"Caroline Giraud "},{"$f":"IFERROR(__xludf.DUMMYFUNCTION(\"\"\"COMPUTED_VALUE\"\"\"),\"0754053891\")","v":"0754053891"},{"$f":"IFERROR(__xludf.DUMMYFUNCTION(\"\"\"COMPUTED_VALUE\"\"\"),\"Pur PJ\")","v":"Pur PJ"},{"$f":"IFERROR(__xludf.DUMMYFUNCTION(\"\"\"COMPUTED_VALUE\"\"\"),\"-\")","v":"-"},{"$f":"IFERROR(__xludf.DUMMYFUNCTION(\"\"\"COMPUTED_VALUE\"\"\"),\"septembre\")","v":"septembre"},{"$f":"IFERROR(__xludf.DUMMYFUNCTION(\"\"\"COMPUTED_VALUE\"\"\"),\"Peu importe\")","v":"Peu importe"},{"$f":"IFERROR(__xludf.DUMMYFUNCTION(\"\"\"COMPUTED_VALUE\"\"\"),\"OK\")","v":"OK"},{"$f":"IFERROR(__xludf.DUMMYFUNCTION(\"\"\"COMPUTED_VALUE\"\"\"),\"OK\")","v":"OK"},{"$f":"IFERROR(__xludf.DUMMYFUNCTION(\"\"\"COMPUTED_VALUE\"\"\"),\"septembre\")","v":"septembre"},{"$f":"IFERROR(__xludf.DUMMYFUNCTION(\"\"\"COMPUTED_VALUE\"\"\"),\"Navire & Fort\")","v":"Navire & Fort"},{"$f":"IFERROR(__xludf.DUMMYFUNCTION(\"\"\"COMPUTED_VALUE\"\"\"),400.0)","v":400},{"$f":"IFERROR(__xludf.DUMMYFUNCTION(\"\"\"COMPUTED_VALUE\"\"\"),\"PAF finalisée\")","v":"PAF finalisée"},{"$f":"IFERROR(__xludf.DUMMYFUNCTION(\"\"\"COMPUTED_VALUE\"\"\"),\"non reçue\")","v":"non reçue"},{"$f":"IFERROR(__xludf.DUMMYFUNCTION(\"\"\"COMPUTED_VALUE\"\"\"),\"R.A.S.\")","v":"R.A.S."},{"$f":"IFERROR(__xludf.DUMMYFUNCTION(\"\"\"COMPUTED_VALUE\"\"\"),\"samedi\")","v":"samedi"},{"$f":"IFERROR(__xludf.DUMMYFUNCTION(\"\"\"COMPUTED_VALUE\"\"\"),\"Reste\")","v":"Reste"}]
[{"$f":"IFERROR(__xludf.DUMMYFUNCTION(\"\"\"COMPUTED_VALUE\"\"\"),45326.0)","v":"2024-02-04"},{"$f":"IFERROR(__xludf.DUMMYFUNCTION(\"\"\"COMPUTED_VALUE\"\"\"),\"Lair\")","v":"Lair"},{"$f":"IFERROR(__xludf.DUMMYFUNCTION(\"\"\"COMPUTED_VALUE\"\"\"),\"François\")","v":"François"},{"$f":"IFERROR(__xludf.DUMMYFUNCTION(\"\"\"COMPUTED_VALUE\"\"\"),\"H\")","v":"H"},{"$f":"IFERROR(__xludf.DUMMYFUNCTION(\"\"\"COMPUTED_VALUE\"\"\"),38.0)","v":38},{"$f":"IFERROR(__xludf.DUMMYFUNCTION(\"\"\"COMPUTED_VALUE\"\"\"),\"lair.francois@gmail.com\")","v":"lair.francois@gmail.com"},{"$f":"IFERROR(__xludf.DUMMYFUNCTION(\"\"\"COMPUTED_VALUE\"\"\"),\"Francois Lair\")","v":"Francois Lair"},{"$f":"IFERROR(__xludf.DUMMYFUNCTION(\"\"\"COMPUTED_VALUE\"\"\"),\"0630479704\")","v":"0630479704"},{"$f":"IFERROR(__xludf.DUMMYFUNCTION(\"\"\"COMPUTED_VALUE\"\"\"),\"Pur PJ\")","v":"Pur PJ"},{"$f":"IFERROR(__xludf.DUMMYFUNCTION(\"\"\"COMPUTED_VALUE\"\"\"),\"-\")","v":"-"},{"$f":"IFERROR(__xludf.DUMMYFUNCTION(\"\"\"COMPUTED_VALUE\"\"\"),\"Les deux\")","v":"Les deux"},{"$f":"IFERROR(__xludf.DUMMYFUNCTION(\"\"\"COMPUTED_VALUE\"\"\"),\"Peu importe\")","v":"Peu importe"},{"$f":"IFERROR(__xludf.DUMMYFUNCTION(\"\"\"COMPUTED_VALUE\"\"\"),\"OK\")","v":"OK"},{"$f":"IFERROR(__xludf.DUMMYFUNCTION(\"\"\"COMPUTED_VALUE\"\"\"),\"OK\")","v":"OK"},{"$f":"IFERROR(__xludf.DUMMYFUNCTION(\"\"\"COMPUTED_VALUE\"\"\"),\"septembre\")","v":"septembre"},{"$f":"IFERROR(__xludf.DUMMYFUNCTION(\"\"\"COMPUTED_VALUE\"\"\"),\"Navire & Fort\")","v":"Navire & Fort"},{"$f":"IFERROR(__xludf.DUMMYFUNCTION(\"\"\"COMPUTED_VALUE\"\"\"),410.0)","v":410},{"$f":"IFERROR(__xludf.DUMMYFUNCTION(\"\"\"COMPUTED_VALUE\"\"\"),\"PAF finalisée\")","v":"PAF finalisée"},{"$f":"IFERROR(__xludf.DUMMYFUNCTION(\"\"\"COMPUTED_VALUE\"\"\"),\"non reçue\")","v":"non reçue"},{"$f":"IFERROR(__xludf.DUMMYFUNCTION(\"\"\"COMPUTED_VALUE\"\"\"),\"R.A.S.\")","v":"R.A.S."},{"$f":"IFERROR(__xludf.DUMMYFUNCTION(\"\"\"COMPUTED_VALUE\"\"\"),\"samedi\")","v":"samedi"},{"$f":"IFERROR(__xludf.DUMMYFUNCTION(\"\"\"COMPUTED_VALUE\"\"\"),\"Reste\")","v":"Reste"}]
[{"$f":"IFERROR(__xludf.DUMMYFUNCTION(\"\"\"COMPUTED_VALUE\"\"\"),45304.0)","v":"2024-01-13"},{"$f":"IFERROR(__xludf.DUMMYFUNCTION(\"\"\"COMPUTED_VALUE\"\"\"),\"Maitreheu\")","v":"Maitreheu"},{"$f":"IFERROR(__xludf.DUMMYFUNCTION(\"\"\"COMPUTED_VALUE\"\"\"),\"Mélodie\")","v":"Mélodie"},{"$f":"IFERROR(__xludf.DUMMYFUNCTION(\"\"\"COMPUTED_VALUE\"\"\"),\"F\")","v":"F"},{"$f":"IFERROR(__xludf.DUMMYFUNCTION(\"\"\"COMPUTED_VALUE\"\"\"),35.0)","v":35},{"$f":"IFERROR(__xludf.DUMMYFUNCTION(\"\"\"COMPUTED_VALUE\"\"\"),\"melodie.maitreheu@gmail.com\")","v":"melodie.maitreheu@gmail.com"},{"$f":"IFERROR(__xludf.DUMMYFUNCTION(\"\"\"COMPUTED_VALUE\"\"\"),\"Mélodie Maitreheu\")","v":"Mélodie Maitreheu"},{"$f":"IFERROR(__xludf.DUMMYFUNCTION(\"\"\"COMPUTED_VALUE\"\"\"),\"0623465958\")","v":"0623465958"},{"$f":"IFERROR(__xludf.DUMMYFUNCTION(\"\"\"COMPUTED_VALUE\"\"\"),\"Pur PJ\")","v":"Pur PJ"},{"$f":"IFERROR(__xludf.DUMMYFUNCTION(\"\"\"COMPUTED_VALUE\"\"\"),\"-\")","v":"-"},{"$f":"IFERROR(__xludf.DUMMYFUNCTION(\"\"\"COMPUTED_VALUE\"\"\"),\"Non précisé\")","v":"Non précisé"},{"$f":"IFERROR(__xludf.DUMMYFUNCTION(\"\"\"COMPUTED_VALUE\"\"\"),\"Navire et fort\")","v":"Navire et fort"},{"$f":"IFERROR(__xludf.DUMMYFUNCTION(\"\"\"COMPUTED_VALUE\"\"\"),\"OK\")","v":"OK"},{"$f":"IFERROR(__xludf.DUMMYFUNCTION(\"\"\"COMPUTED_VALUE\"\"\"),\"OK\")","v":"OK"},{"$f":"IFERROR(__xludf.DUMMYFUNCTION(\"\"\"COMPUTED_VALUE\"\"\"),\"septembre\")","v":"septembre"},{"$f":"IFERROR(__xludf.DUMMYFUNCTION(\"\"\"COMPUTED_VALUE\"\"\"),\"Navire & Fort\")","v":"Navire & Fort"},null,{"$f":"IFERROR(__xludf.DUMMYFUNCTION(\"\"\"COMPUTED_VALUE\"\"\"),\"PAF non reçue\")","v":"PAF non reçue"},{"$f":"IFERROR(__xludf.DUMMYFUNCTION(\"\"\"COMPUTED_VALUE\"\"\"),\"non reçue\")","v":"non reçue"},{"$f":"IFERROR(__xludf.DUMMYFUNCTION(\"\"\"COMPUTED_VALUE\"\"\"),\"R.A.S.\")","v":"R.A.S."},{"$f":"IFERROR(__xludf.DUMMYFUNCTION(\"\"\"COMPUTED_VALUE\"\"\"),\"samedi\")","v":"samedi"},{"$f":"IFERROR(__xludf.DUMMYFUNCTION(\"\"\"COMPUTED_VALUE\"\"\"),\"Reste\")","v":"Reste"}]
[{"$f":"IFERROR(__xludf.DUMMYFUNCTION(\"\"\"COMPUTED_VALUE\"\"\"),45366.0)","v":"2024-03-15"},{"$f":"IFERROR(__xludf.DUMMYFUNCTION(\"\"\"COMPUTED_VALUE\"\"\"),\"Poimboeuf \")","v":"Poimboeuf "},{"$f":"IFERROR(__xludf.DUMMYFUNCTION(\"\"\"COMPUTED_VALUE\"\"\"),\"Thibault \")","v":"Thibault "},{"$f":"IFERROR(__xludf.DUMMYFUNCTION(\"\"\"COMPUTED_VALUE\"\"\"),\"H\")","v":"H"},{"$f":"IFERROR(__xludf.DUMMYFUNCTION(\"\"\"COMPUTED_VALUE\"\"\"),31.0)","v":31},{"$f":"IFERROR(__xludf.DUMMYFUNCTION(\"\"\"COMPUTED_VALUE\"\"\"),\"georin@live.fr\")","v":"georin@live.fr"},{"$f":"IFERROR(__xludf.DUMMYFUNCTION(\"\"\"COMPUTED_VALUE\"\"\"),\"Kalma San \")","v":"Kalma San "},{"$f":"IFERROR(__xludf.DUMMYFUNCTION(\"\"\"COMPUTED_VALUE\"\"\"),\"0679585124\")","v":"0679585124"},{"$f":"IFERROR(__xludf.DUMMYFUNCTION(\"\"\"COMPUTED_VALUE\"\"\"),\"PJ+PNJ\")","v":"PJ+PNJ"},{"$f":"IFERROR(__xludf.DUMMYFUNCTION(\"\"\"COMPUTED_VALUE\"\"\"),\"-\")","v":"-"},{"$f":"IFERROR(__xludf.DUMMYFUNCTION(\"\"\"COMPUTED_VALUE\"\"\"),\"Les deux\")","v":"Les deux"},{"$f":"IFERROR(__xludf.DUMMYFUNCTION(\"\"\"COMPUTED_VALUE\"\"\"),\"Navire et fort\")","v":"Navire et fort"},{"$f":"IFERROR(__xludf.DUMMYFUNCTION(\"\"\"COMPUTED_VALUE\"\"\"),\"OK\")","v":"OK"},{"$f":"IFERROR(__xludf.DUMMYFUNCTION(\"\"\"COMPUTED_VALUE\"\"\"),\"OK\")","v":"OK"},{"$f":"IFERROR(__xludf.DUMMYFUNCTION(\"\"\"COMPUTED_VALUE\"\"\"),\"septembre\")","v":"septembre"},{"$f":"IFERROR(__xludf.DUMMYFUNCTION(\"\"\"COMPUTED_VALUE\"\"\"),\"Navire & Fort\")","v":"Navire & Fort"},{"$f":"IFERROR(__xludf.DUMMYFUNCTION(\"\"\"COMPUTED_VALUE\"\"\"),400.0)","v":400},{"$f":"IFERROR(__xludf.DUMMYFUNCTION(\"\"\"COMPUTED_VALUE\"\"\"),\"PAF finalisée\")","v":"PAF finalisée"},{"$f":"IFERROR(__xludf.DUMMYFUNCTION(\"\"\"COMPUTED_VALUE\"\"\"),\"non reçue\")","v":"non reçue"},{"$f":"IFERROR(__xludf.DUMMYFUNCTION(\"\"\"COMPUTED_VALUE\"\"\"),\"R.A.S.\")","v":"R.A.S."},{"$f":"IFERROR(__xludf.DUMMYFUNCTION(\"\"\"COMPUTED_VALUE\"\"\"),\"samedi\")","v":"samedi"},{"$f":"IFERROR(__xludf.DUMMYFUNCTION(\"\"\"COMPUTED_VALUE\"\"\"),\"Reste\")","v":"Reste"}]
[{"$f":"IFERROR(__xludf.DUMMYFUNCTION(\"\"\"COMPUTED_VALUE\"\"\"),45342.0)","v":"2024-02-20"},{"$f":"IFERROR(__xludf.DUMMYFUNCTION(\"\"\"COMPUTED_VALUE\"\"\"),\"Bonnecarrère \")","v":"Bonnecarrère "},{"$f":"IFERROR(__xludf.DUMMYFUNCTION(\"\"\"COMPUTED_VALUE\"\"\"),\"Julie\")","v":"Julie"},{"$f":"IFERROR(__xludf.DUMMYFUNCTION(\"\"\"COMPUTED_VALUE\"\"\"),\"F\")","v":"F"},{"$f":"IFERROR(__xludf.DUMMYFUNCTION(\"\"\"COMPUTED_VALUE\"\"\"),29.0)","v":29},{"$f":"IFERROR(__xludf.DUMMYFUNCTION(\"\"\"COMPUTED_VALUE\"\"\"),\"julie@nebulae.world\")","v":"julie@nebulae.world"},{"$f":"IFERROR(__xludf.DUMMYFUNCTION(\"\"\"COMPUTED_VALUE\"\"\"),\"Julie Baboudak\")","v":"Julie Baboudak"},{"$f":"IFERROR(__xludf.DUMMYFUNCTION(\"\"\"COMPUTED_VALUE\"\"\"),\"0640666077\")","v":"0640666077"},{"$f":"IFERROR(__xludf.DUMMYFUNCTION(\"\"\"COMPUTED_VALUE\"\"\"),\"Pur PJ\")","v":"Pur PJ"},{"$f":"IFERROR(__xludf.DUMMYFUNCTION(\"\"\"COMPUTED_VALUE\"\"\"),\"-\")","v":"-"},{"$f":"IFERROR(__xludf.DUMMYFUNCTION(\"\"\"COMPUTED_VALUE\"\"\"),\"septembre\")","v":"septembre"},{"$f":"IFERROR(__xludf.DUMMYFUNCTION(\"\"\"COMPUTED_VALUE\"\"\"),\"Navire et fort\")","v":"Navire et fort"},{"$f":"IFERROR(__xludf.DUMMYFUNCTION(\"\"\"COMPUTED_VALUE\"\"\"),\"OK\")","v":"OK"},{"$f":"IFERROR(__xludf.DUMMYFUNCTION(\"\"\"COMPUTED_VALUE\"\"\"),\"OK\")","v":"OK"},{"$f":"IFERROR(__xludf.DUMMYFUNCTION(\"\"\"COMPUTED_VALUE\"\"\"),\"septembre\")","v":"septembre"},{"$f":"IFERROR(__xludf.DUMMYFUNCTION(\"\"\"COMPUTED_VALUE\"\"\"),\"Navire & Fort\")","v":"Navire & Fort"},{"$f":"IFERROR(__xludf.DUMMYFUNCTION(\"\"\"COMPUTED_VALUE\"\"\"),400.0)","v":400},{"$f":"IFERROR(__xludf.DUMMYFUNCTION(\"\"\"COMPUTED_VALUE\"\"\"),\"PAF finalisée\")","v":"PAF finalisée"},{"$f":"IFERROR(__xludf.DUMMYFUNCTION(\"\"\"COMPUTED_VALUE\"\"\"),\"non reçue\")","v":"non reçue"},{"$f":"IFERROR(__xludf.DUMMYFUNCTION(\"\"\"COMPUTED_VALUE\"\"\"),\"R.A.S.\")","v":"R.A.S."},{"$f":"IFERROR(__xludf.DUMMYFUNCTION(\"\"\"COMPUTED_VALUE\"\"\"),\"samedi\")","v":"samedi"},{"$f":"IFERROR(__xludf.DUMMYFUNCTION(\"\"\"COMPUTED_VALUE\"\"\"),\"Reste\")","v":"Reste"}]
[{"$f":"IFERROR(__xludf.DUMMYFUNCTION(\"\"\"COMPUTED_VALUE\"\"\"),45342.0)","v":"2024-02-20"},{"$f":"IFERROR(__xludf.DUMMYFUNCTION(\"\"\"COMPUTED_VALUE\"\"\"),\"COSTERG\")","v":"COSTERG"},{"$f":"IFERROR(__xludf.DUMMYFUNCTION(\"\"\"COMPUTED_VALUE\"\"\"),\"Gaël\")","v":"Gaël"},{"$f":"IFERROR(__xludf.DUMMYFUNCTION(\"\"\"COMPUTED_VALUE\"\"\"),\"H\")","v":"H"},{"$f":"IFERROR(__xludf.DUMMYFUNCTION(\"\"\"COMPUTED_VALUE\"\"\"),27.0)","v":27},{"$f":"IFERROR(__xludf.DUMMYFUNCTION(\"\"\"COMPUTED_VALUE\"\"\"),\"g.costerg@gmail.com\")","v":"g.costerg@gmail.com"},{"$f":"IFERROR(__xludf.DUMMYFUNCTION(\"\"\"COMPUTED_VALUE\"\"\"),\"Gaël costerg\")","v":"Gaël costerg"},{"$f":"IFERROR(__xludf.DUMMYFUNCTION(\"\"\"COMPUTED_VALUE\"\"\"),\"0638057198\")","v":"0638057198"},{"$f":"IFERROR(__xludf.DUMMYFUNCTION(\"\"\"COMPUTED_VALUE\"\"\"),\"PJ+PNJ\")","v":"PJ+PNJ"},{"$f":"IFERROR(__xludf.DUMMYFUNCTION(\"\"\"COMPUTED_VALUE\"\"\"),\"-\")","v":"-"},{"$f":"IFERROR(__xludf.DUMMYFUNCTION(\"\"\"COMPUTED_VALUE\"\"\"),\"septembre\")","v":"septembre"},{"$f":"IFERROR(__xludf.DUMMYFUNCTION(\"\"\"COMPUTED_VALUE\"\"\"),\"Navire et fort\")","v":"Navire et fort"},{"$f":"IFERROR(__xludf.DUMMYFUNCTION(\"\"\"COMPUTED_VALUE\"\"\"),\"OK\")","v":"OK"},{"$f":"IFERROR(__xludf.DUMMYFUNCTION(\"\"\"COMPUTED_VALUE\"\"\"),\"OK\")","v":"OK"},{"$f":"IFERROR(__xludf.DUMMYFUNCTION(\"\"\"COMPUTED_VALUE\"\"\"),\"septembre\")","v":"septembre"},{"$f":"IFERROR(__xludf.DUMMYFUNCTION(\"\"\"COMPUTED_VALUE\"\"\"),\"Navire & Fort\")","v":"Navire & Fort"},{"$f":"IFERROR(__xludf.DUMMYFUNCTION(\"\"\"COMPUTED_VALUE\"\"\"),400.0)","v":400},{"$f":"IFERROR(__xludf.DUMMYFUNCTION(\"\"\"COMPUTED_VALUE\"\"\"),\"PAF finalisée\")","v":"PAF finalisée"},{"$f":"IFERROR(__xludf.DUMMYFUNCTION(\"\"\"COMPUTED_VALUE\"\"\"),\"non reçue\")","v":"non reçue"},{"$f":"IFERROR(__xludf.DUMMYFUNCTION(\"\"\"COMPUTED_VALUE\"\"\"),\"R.A.S.\")","v":"R.A.S."},{"$f":"IFERROR(__xludf.DUMMYFUNCTION(\"\"\"COMPUTED_VALUE\"\"\"),\"samedi\")","v":"samedi"},{"$f":"IFERROR(__xludf.DUMMYFUNCTION(\"\"\"COMPUTED_VALUE\"\"\"),\"Reste\")","v":"Reste"}]
[{"$f":"IFERROR(__xludf.DUMMYFUNCTION(\"\"\"COMPUTED_VALUE\"\"\"),45363.0)","v":"2024-03-12"},{"$f":"IFERROR(__xludf.DUMMYFUNCTION(\"\"\"COMPUTED_VALUE\"\"\"),\"Dagrain\")","v":"Dagrain"},{"$f":"IFERROR(__xludf.DUMMYFUNCTION(\"\"\"COMPUTED_VALUE\"\"\"),\"Valerie\")","v":"Valerie"},{"$f":"IFERROR(__xludf.DUMMYFUNCTION(\"\"\"COMPUTED_VALUE\"\"\"),\"F\")","v":"F"},{"$f":"IFERROR(__xludf.DUMMYFUNCTION(\"\"\"COMPUTED_VALUE\"\"\"),51.0)","v":51},{"$f":"IFERROR(__xludf.DUMMYFUNCTION(\"\"\"COMPUTED_VALUE\"\"\"),\"valerie.dagrain@protonmail.com\")","v":"valerie.dagrain@protonmail.com"},{"$f":"IFERROR(__xludf.DUMMYFUNCTION(\"\"\"COMPUTED_VALUE\"\"\"),\"Valérie Dagrain \")","v":"Valérie Dagrain "},{"$f":"IFERROR(__xludf.DUMMYFUNCTION(\"\"\"COMPUTED_VALUE\"\"\"),\"0663614215\")","v":"0663614215"},{"$f":"IFERROR(__xludf.DUMMYFUNCTION(\"\"\"COMPUTED_VALUE\"\"\"),\"PJ+PNJ\")","v":"PJ+PNJ"},{"$f":"IFERROR(__xludf.DUMMYFUNCTION(\"\"\"COMPUTED_VALUE\"\"\"),\"-\")","v":"-"},{"$f":"IFERROR(__xludf.DUMMYFUNCTION(\"\"\"COMPUTED_VALUE\"\"\"),\"Les deux\")","v":"Les deux"},{"$f":"IFERROR(__xludf.DUMMYFUNCTION(\"\"\"COMPUTED_VALUE\"\"\"),\"Navire et fort\")","v":"Navire et fort"},{"$f":"IFERROR(__xludf.DUMMYFUNCTION(\"\"\"COMPUTED_VALUE\"\"\"),\"OK\")","v":"OK"},{"$f":"IFERROR(__xludf.DUMMYFUNCTION(\"\"\"COMPUTED_VALUE\"\"\"),\"OK\")","v":"OK"},{"$f":"IFERROR(__xludf.DUMMYFUNCTION(\"\"\"COMPUTED_VALUE\"\"\"),\"septembre\")","v":"septembre"},{"$f":"IFERROR(__xludf.DUMMYFUNCTION(\"\"\"COMPUTED_VALUE\"\"\"),\"Navire & Fort\")","v":"Navire & Fort"},null,{"$f":"IFERROR(__xludf.DUMMYFUNCTION(\"\"\"COMPUTED_VALUE\"\"\"),\"PAF non reçue\")","v":"PAF non reçue"},{"$f":"IFERROR(__xludf.DUMMYFUNCTION(\"\"\"COMPUTED_VALUE\"\"\"),\"non reçue\")","v":"non reçue"},{"$f":"IFERROR(__xludf.DUMMYFUNCTION(\"\"\"COMPUTED_VALUE\"\"\"),\"R.A.S.\")","v":"R.A.S."},{"$f":"IFERROR(__xludf.DUMMYFUNCTION(\"\"\"COMPUTED_VALUE\"\"\"),\"samedi\")","v":"samedi"},{"$f":"IFERROR(__xludf.DUMMYFUNCTION(\"\"\"COMPUTED_VALUE\"\"\"),\"NON\")","v":"NON"}]
[{"$f":"IFERROR(__xludf.DUMMYFUNCTION(\"\"\"COMPUTED_VALUE\"\"\"),45332.0)","v":"2024-02-10"},{"$f":"IFERROR(__xludf.DUMMYFUNCTION(\"\"\"COMPUTED_VALUE\"\"\"),\"Moynier\")","v":"Moynier"},{"$f":"IFERROR(__xludf.DUMMYFUNCTION(\"\"\"COMPUTED_VALUE\"\"\"),\"Bérénice\")","v":"Bérénice"},{"$f":"IFERROR(__xludf.DUMMYFUNCTION(\"\"\"COMPUTED_VALUE\"\"\"),\"F\")","v":"F"},{"$f":"IFERROR(__xludf.DUMMYFUNCTION(\"\"\"COMPUTED_VALUE\"\"\"),30.0)","v":30},{"$f":"IFERROR(__xludf.DUMMYFUNCTION(\"\"\"COMPUTED_VALUE\"\"\"),\"berenicemoynier@gmail.com\")","v":"berenicemoynier@gmail.com"},{"$f":"IFERROR(__xludf.DUMMYFUNCTION(\"\"\"COMPUTED_VALUE\"\"\"),\"Baby Suisse \")","v":"Baby Suisse "},{"$f":"IFERROR(__xludf.DUMMYFUNCTION(\"\"\"COMPUTED_VALUE\"\"\"),\"00.41.77.449.23.78\")","v":"00.41.77.449.23.78"},{"$f":"IFERROR(__xludf.DUMMYFUNCTION(\"\"\"COMPUTED_VALUE\"\"\"),\"Pur PJ\")","v":"Pur PJ"},{"$f":"IFERROR(__xludf.DUMMYFUNCTION(\"\"\"COMPUTED_VALUE\"\"\"),\"-\")","v":"-"},{"$f":"IFERROR(__xludf.DUMMYFUNCTION(\"\"\"COMPUTED_VALUE\"\"\"),\"Les deux\")","v":"Les deux"},{"$f":"IFERROR(__xludf.DUMMYFUNCTION(\"\"\"COMPUTED_VALUE\"\"\"),\"Navire et fort\")","v":"Navire et fort"},{"$f":"IFERROR(__xludf.DUMMYFUNCTION(\"\"\"COMPUTED_VALUE\"\"\"),\"OK\")","v":"OK"},{"$f":"IFERROR(__xludf.DUMMYFUNCTION(\"\"\"COMPUTED_VALUE\"\"\"),\"OK\")","v":"OK"},{"$f":"IFERROR(__xludf.DUMMYFUNCTION(\"\"\"COMPUTED_VALUE\"\"\"),\"septembre\")","v":"septembre"},{"$f":"IFERROR(__xludf.DUMMYFUNCTION(\"\"\"COMPUTED_VALUE\"\"\"),\"Navire & Fort\")","v":"Navire & Fort"},null,{"$f":"IFERROR(__xludf.DUMMYFUNCTION(\"\"\"COMPUTED_VALUE\"\"\"),\"PAF non reçue\")","v":"PAF non reçue"},{"$f":"IFERROR(__xludf.DUMMYFUNCTION(\"\"\"COMPUTED_VALUE\"\"\"),\"non reçue\")","v":"non reçue"},{"$f":"IFERROR(__xludf.DUMMYFUNCTION(\"\"\"COMPUTED_VALUE\"\"\"),\"R.A.S.\")","v":"R.A.S."},{"$f":"IFERROR(__xludf.DUMMYFUNCTION(\"\"\"COMPUTED_VALUE\"\"\"),\"samedi\")","v":"samedi"},{"$f":"IFERROR(__xludf.DUMMYFUNCTION(\"\"\"COMPUTED_VALUE\"\"\"),\"Reste\")","v":"Reste"}]
[{"$f":"IFERROR(__xludf.DUMMYFUNCTION(\"\"\"COMPUTED_VALUE\"\"\"),45303.0)","v":"2024-01-12"},{"$f":"IFERROR(__xludf.DUMMYFUNCTION(\"\"\"COMPUTED_VALUE\"\"\"),\"Servel\")","v":"Servel"},{"$f":"IFERROR(__xludf.DUMMYFUNCTION(\"\"\"COMPUTED_VALUE\"\"\"),\"Manon\")","v":"Manon"},{"$f":"IFERROR(__xludf.DUMMYFUNCTION(\"\"\"COMPUTED_VALUE\"\"\"),\"F\")","v":"F"},{"$f":"IFERROR(__xludf.DUMMYFUNCTION(\"\"\"COMPUTED_VALUE\"\"\"),32.0)","v":32},{"$f":"IFERROR(__xludf.DUMMYFUNCTION(\"\"\"COMPUTED_VALUE\"\"\"),\"servel.manon@orange.fr\")","v":"servel.manon@orange.fr"},{"$f":"IFERROR(__xludf.DUMMYFUNCTION(\"\"\"COMPUTED_VALUE\"\"\"),\"Manon la Dioux\")","v":"Manon la Dioux"},{"$f":"IFERROR(__xludf.DUMMYFUNCTION(\"\"\"COMPUTED_VALUE\"\"\"),\"0668554965\")","v":"0668554965"},{"$f":"IFERROR(__xludf.DUMMYFUNCTION(\"\"\"COMPUTED_VALUE\"\"\"),\"PJ+PNJ\")","v":"PJ+PNJ"},{"$f":"IFERROR(__xludf.DUMMYFUNCTION(\"\"\"COMPUTED_VALUE\"\"\"),\"-\")","v":"-"},{"$f":"IFERROR(__xludf.DUMMYFUNCTION(\"\"\"COMPUTED_VALUE\"\"\"),\"Non précisé\")","v":"Non précisé"},{"$f":"IFERROR(__xludf.DUMMYFUNCTION(\"\"\"COMPUTED_VALUE\"\"\"),\"Navire et fort\")","v":"Navire et fort"},{"$f":"IFERROR(__xludf.DUMMYFUNCTION(\"\"\"COMPUTED_VALUE\"\"\"),\"OK\")","v":"OK"},{"$f":"IFERROR(__xludf.DUMMYFUNCTION(\"\"\"COMPUTED_VALUE\"\"\"),\"OK\")","v":"OK"},{"$f":"IFERROR(__xludf.DUMMYFUNCTION(\"\"\"COMPUTED_VALUE\"\"\"),\"septembre\")","v":"septembre"},{"$f":"IFERROR(__xludf.DUMMYFUNCTION(\"\"\"COMPUTED_VALUE\"\"\"),\"Navire & Fort\")","v":"Navire & Fort"},{"$f":"IFERROR(__xludf.DUMMYFUNCTION(\"\"\"COMPUTED_VALUE\"\"\"),133.5)","v":133.5},{"$f":"IFERROR(__xludf.DUMMYFUNCTION(\"\"\"COMPUTED_VALUE\"\"\"),\"PAF partielle\")","v":"PAF partielle"},{"$f":"IFERROR(__xludf.DUMMYFUNCTION(\"\"\"COMPUTED_VALUE\"\"\"),\"non reçue\")","v":"non reçue"},{"$f":"IFERROR(__xludf.DUMMYFUNCTION(\"\"\"COMPUTED_VALUE\"\"\"),\"R.A.S.\")","v":"R.A.S."},{"$f":"IFERROR(__xludf.DUMMYFUNCTION(\"\"\"COMPUTED_VALUE\"\"\"),\"samedi\")","v":"samedi"},{"$f":"IFERROR(__xludf.DUMMYFUNCTION(\"\"\"COMPUTED_VALUE\"\"\"),\"Reste\")","v":"Reste"}]
[{"$f":"IFERROR(__xludf.DUMMYFUNCTION(\"\"\"COMPUTED_VALUE\"\"\"),45494.0)","v":"2024-07-21"},{"$f":"IFERROR(__xludf.DUMMYFUNCTION(\"\"\"COMPUTED_VALUE\"\"\"),\"Bullier \")","v":"Bullier "},{"$f":"IFERROR(__xludf.DUMMYFUNCTION(\"\"\"COMPUTED_VALUE\"\"\"),\"Maxime \")","v":"Maxime "},{"$f":"IFERROR(__xludf.DUMMYFUNCTION(\"\"\"COMPUTED_VALUE\"\"\"),\"H\")","v":"H"},{"$f":"IFERROR(__xludf.DUMMYFUNCTION(\"\"\"COMPUTED_VALUE\"\"\"),42.0)","v":42},{"$f":"IFERROR(__xludf.DUMMYFUNCTION(\"\"\"COMPUTED_VALUE\"\"\"),\"maxime.bullier@hotmail.fr\")","v":"maxime.bullier@hotmail.fr"},{"$f":"IFERROR(__xludf.DUMMYFUNCTION(\"\"\"COMPUTED_VALUE\"\"\"),\"Max du boulet\")","v":"Max du boulet"},{"$f":"IFERROR(__xludf.DUMMYFUNCTION(\"\"\"COMPUTED_VALUE\"\"\"),\"0669056818\")","v":"0669056818"},{"$f":"IFERROR(__xludf.DUMMYFUNCTION(\"\"\"COMPUTED_VALUE\"\"\"),\"Pur PJ\")","v":"Pur PJ"},{"$f":"IFERROR(__xludf.DUMMYFUNCTION(\"\"\"COMPUTED_VALUE\"\"\"),\"-\")","v":"-"},{"$f":"IFERROR(__xludf.DUMMYFUNCTION(\"\"\"COMPUTED_VALUE\"\"\"),\"septembre\")","v":"septembre"},{"$f":"IFERROR(__xludf.DUMMYFUNCTION(\"\"\"COMPUTED_VALUE\"\"\"),\"Peu importe\")","v":"Peu importe"},{"$f":"IFERROR(__xludf.DUMMYFUNCTION(\"\"\"COMPUTED_VALUE\"\"\"),\"OK\")","v":"OK"},{"$f":"IFERROR(__xludf.DUMMYFUNCTION(\"\"\"COMPUTED_VALUE\"\"\"),\"OK\")","v":"OK"},{"$f":"IFERROR(__xludf.DUMMYFUNCTION(\"\"\"COMPUTED_VALUE\"\"\"),\"septembre\")","v":"septembre"},{"$f":"IFERROR(__xludf.DUMMYFUNCTION(\"\"\"COMPUTED_VALUE\"\"\"),\"Fort seulement\")","v":"Fort seulement"},{"$f":"IFERROR(__xludf.DUMMYFUNCTION(\"\"\"COMPUTED_VALUE\"\"\"),200.0)","v":200},{"$f":"IFERROR(__xludf.DUMMYFUNCTION(\"\"\"COMPUTED_VALUE\"\"\"),\"PAF finalisée\")","v":"PAF finalisée"},{"$f":"IFERROR(__xludf.DUMMYFUNCTION(\"\"\"COMPUTED_VALUE\"\"\"),\"non reçue\")","v":"non reçue"},{"$f":"IFERROR(__xludf.DUMMYFUNCTION(\"\"\"COMPUTED_VALUE\"\"\"),\"R.A.S.\")","v":"R.A.S."},{"$f":"IFERROR(__xludf.DUMMYFUNCTION(\"\"\"COMPUTED_VALUE\"\"\"),\"samedi\")","v":"samedi"},{"$f":"IFERROR(__xludf.DUMMYFUNCTION(\"\"\"COMPUTED_VALUE\"\"\"),\"Reste\")","v":"Reste"}]
[{"$f":"IFERROR(__xludf.DUMMYFUNCTION(\"\"\"COMPUTED_VALUE\"\"\"),45494.0)","v":"2024-07-21"},{"$f":"IFERROR(__xludf.DUMMYFUNCTION(\"\"\"COMPUTED_VALUE\"\"\"),\"Lenouvel \")","v":"Lenouvel "},{"$f":"IFERROR(__xludf.DUMMYFUNCTION(\"\"\"COMPUTED_VALUE\"\"\"),\"Maryline \")","v":"Maryline "},{"$f":"IFERROR(__xludf.DUMMYFUNCTION(\"\"\"COMPUTED_VALUE\"\"\"),\"F\")","v":"F"},null,{"$f":"IFERROR(__xludf.DUMMYFUNCTION(\"\"\"COMPUTED_VALUE\"\"\"),\"lylou_07@hotmail.com\")","v":"lylou_07@hotmail.com"},{"$f":"IFERROR(__xludf.DUMMYFUNCTION(\"\"\"COMPUTED_VALUE\"\"\"),\"Bellis Lylou Ajola\")","v":"Bellis Lylou Ajola"},null,{"$f":"IFERROR(__xludf.DUMMYFUNCTION(\"\"\"COMPUTED_VALUE\"\"\"),\"Pur PJ\")","v":"Pur PJ"},{"$f":"IFERROR(__xludf.DUMMYFUNCTION(\"\"\"COMPUTED_VALUE\"\"\"),\"-\")","v":"-"},{"$f":"IFERROR(__xludf.DUMMYFUNCTION(\"\"\"COMPUTED_VALUE\"\"\"),\"septembre\")","v":"septembre"},{"$f":"IFERROR(__xludf.DUMMYFUNCTION(\"\"\"COMPUTED_VALUE\"\"\"),\"Seulement au fort\")","v":"Seulement au fort"},{"$f":"IFERROR(__xludf.DUMMYFUNCTION(\"\"\"COMPUTED_VALUE\"\"\"),\"OK\")","v":"OK"},{"$f":"IFERROR(__xludf.DUMMYFUNCTION(\"\"\"COMPUTED_VALUE\"\"\"),\"OK\")","v":"OK"},{"$f":"IFERROR(__xludf.DUMMYFUNCTION(\"\"\"COMPUTED_VALUE\"\"\"),\"septembre\")","v":"septembre"},{"$f":"IFERROR(__xludf.DUMMYFUNCTION(\"\"\"COMPUTED_VALUE\"\"\"),\"Fort seulement\")","v":"Fort seulement"},{"$f":"IFERROR(__xludf.DUMMYFUNCTION(\"\"\"COMPUTED_VALUE\"\"\"),200.0)","v":200},{"$f":"IFERROR(__xludf.DUMMYFUNCTION(\"\"\"COMPUTED_VALUE\"\"\"),\"PAF finalisée\")","v":"PAF finalisée"},{"$f":"IFERROR(__xludf.DUMMYFUNCTION(\"\"\"COMPUTED_VALUE\"\"\"),\"non reçue\")","v":"non reçue"},{"$f":"IFERROR(__xludf.DUMMYFUNCTION(\"\"\"COMPUTED_VALUE\"\"\"),\"R.A.S.\")","v":"R.A.S."},{"$f":"IFERROR(__xludf.DUMMYFUNCTION(\"\"\"COMPUTED_VALUE\"\"\"),\"samedi\")","v":"samedi"},{"$f":"IFERROR(__xludf.DUMMYFUNCTION(\"\"\"COMPUTED_VALUE\"\"\"),\"Reste\")","v":"Reste"}]
[{"$f":"IFERROR(__xludf.DUMMYFUNCTION(\"\"\"COMPUTED_VALUE\"\"\"),45495.0)","v":"2024-07-22"},{"$f":"IFERROR(__xludf.DUMMYFUNCTION(\"\"\"COMPUTED_VALUE\"\"\"),\"MUNARO\")","v":"MUNARO"},{"$f":"IFERROR(__xludf.DUMMYFUNCTION(\"\"\"COMPUTED_VALUE\"\"\"),\"Perrine\")","v":"Perrine"},{"$f":"IFERROR(__xludf.DUMMYFUNCTION(\"\"\"COMPUTED_VALUE\"\"\"),\"F\")","v":"F"},{"$f":"IFERROR(__xludf.DUMMYFUNCTION(\"\"\"COMPUTED_VALUE\"\"\"),40.0)","v":40},{"$f":"IFERROR(__xludf.DUMMYFUNCTION(\"\"\"COMPUTED_VALUE\"\"\"),\"perrine.munaro@gmail.com\")","v":"perrine.munaro@gmail.com"},{"$f":"IFERROR(__xludf.DUMMYFUNCTION(\"\"\"COMPUTED_VALUE\"\"\"),\"Perrine Duracell\")","v":"Perrine Duracell"},{"$f":"IFERROR(__xludf.DUMMYFUNCTION(\"\"\"COMPUTED_VALUE\"\"\"),\"0673120151\")","v":"0673120151"},{"$f":"IFERROR(__xludf.DUMMYFUNCTION(\"\"\"COMPUTED_VALUE\"\"\"),\"Pur PJ\")","v":"Pur PJ"},{"$f":"IFERROR(__xludf.DUMMYFUNCTION(\"\"\"COMPUTED_VALUE\"\"\"),\"-\")","v":"-"},{"$f":"IFERROR(__xludf.DUMMYFUNCTION(\"\"\"COMPUTED_VALUE\"\"\"),\"Les deux\")","v":"Les deux"},{"$f":"IFERROR(__xludf.DUMMYFUNCTION(\"\"\"COMPUTED_VALUE\"\"\"),\"Navire et fort\")","v":"Navire et fort"},{"$f":"IFERROR(__xludf.DUMMYFUNCTION(\"\"\"COMPUTED_VALUE\"\"\"),\"OK\")","v":"OK"},{"$f":"IFERROR(__xludf.DUMMYFUNCTION(\"\"\"COMPUTED_VALUE\"\"\"),\"OK\")","v":"OK"},{"$f":"IFERROR(__xludf.DUMMYFUNCTION(\"\"\"COMPUTED_VALUE\"\"\"),\"septembre\")","v":"septembre"},{"$f":"IFERROR(__xludf.DUMMYFUNCTION(\"\"\"COMPUTED_VALUE\"\"\"),\"Navire & Fort\")","v":"Navire & Fort"},null,{"$f":"IFERROR(__xludf.DUMMYFUNCTION(\"\"\"COMPUTED_VALUE\"\"\"),\"PAF non reçue\")","v":"PAF non reçue"},{"$f":"IFERROR(__xludf.DUMMYFUNCTION(\"\"\"COMPUTED_VALUE\"\"\"),\"non reçue\")","v":"non reçue"},{"$f":"IFERROR(__xludf.DUMMYFUNCTION(\"\"\"COMPUTED_VALUE\"\"\"),\"R.A.S.\")","v":"R.A.S."},{"$f":"IFERROR(__xludf.DUMMYFUNCTION(\"\"\"COMPUTED_VALUE\"\"\"),\"samedi\")","v":"samedi"},{"$f":"IFERROR(__xludf.DUMMYFUNCTION(\"\"\"COMPUTED_VALUE\"\"\"),\"Reste\")","v":"Reste"}]
[{"$f":"IFERROR(__xludf.DUMMYFUNCTION(\"\"\"COMPUTED_VALUE\"\"\"),45495.0)","v":"2024-07-22"},{"$f":"IFERROR(__xludf.DUMMYFUNCTION(\"\"\"COMPUTED_VALUE\"\"\"),\"Yogananthan \")","v":"Yogananthan "},{"$f":"IFERROR(__xludf.DUMMYFUNCTION(\"\"\"COMPUTED_VALUE\"\"\"),\"Karuna\")","v":"Karuna"},{"$f":"IFERROR(__xludf.DUMMYFUNCTION(\"\"\"COMPUTED_VALUE\"\"\"),\"H\")","v":"H"},{"$f":"IFERROR(__xludf.DUMMYFUNCTION(\"\"\"COMPUTED_VALUE\"\"\"),119.0)","v":119},{"$f":"IFERROR(__xludf.DUMMYFUNCTION(\"\"\"COMPUTED_VALUE\"\"\"),\"karuna.yogananthan@gmail.com\")","v":"karuna.yogananthan@gmail.com"},{"$f":"IFERROR(__xludf.DUMMYFUNCTION(\"\"\"COMPUTED_VALUE\"\"\"),\"Karuna Yogananthan \")","v":"Karuna Yogananthan "},{"$f":"IFERROR(__xludf.DUMMYFUNCTION(\"\"\"COMPUTED_VALUE\"\"\"),\"0610838975\")","v":"0610838975"},{"$f":"IFERROR(__xludf.DUMMYFUNCTION(\"\"\"COMPUTED_VALUE\"\"\"),\"Pur PJ\")","v":"Pur PJ"},{"$f":"IFERROR(__xludf.DUMMYFUNCTION(\"\"\"COMPUTED_VALUE\"\"\"),\"-\")","v":"-"},{"$f":"IFERROR(__xludf.DUMMYFUNCTION(\"\"\"COMPUTED_VALUE\"\"\"),\"Les deux\")","v":"Les deux"},{"$f":"IFERROR(__xludf.DUMMYFUNCTION(\"\"\"COMPUTED_VALUE\"\"\"),\"Navire et fort\")","v":"Navire et fort"},{"$f":"IFERROR(__xludf.DUMMYFUNCTION(\"\"\"COMPUTED_VALUE\"\"\"),\"OK\")","v":"OK"},{"$f":"IFERROR(__xludf.DUMMYFUNCTION(\"\"\"COMPUTED_VALUE\"\"\"),\"OK\")","v":"OK"},{"$f":"IFERROR(__xludf.DUMMYFUNCTION(\"\"\"COMPUTED_VALUE\"\"\"),\"septembre\")","v":"septembre"},{"$f":"IFERROR(__xludf.DUMMYFUNCTION(\"\"\"COMPUTED_VALUE\"\"\"),\"Navire & Fort\")","v":"Navire & Fort"},{"$f":"IFERROR(__xludf.DUMMYFUNCTION(\"\"\"COMPUTED_VALUE\"\"\"),400.0)","v":400},{"$f":"IFERROR(__xludf.DUMMYFUNCTION(\"\"\"COMPUTED_VALUE\"\"\"),\"PAF finalisée\")","v":"PAF finalisée"},{"$f":"IFERROR(__xludf.DUMMYFUNCTION(\"\"\"COMPUTED_VALUE\"\"\"),\"non reçue\")","v":"non reçue"},{"$f":"IFERROR(__xludf.DUMMYFUNCTION(\"\"\"COMPUTED_VALUE\"\"\"),\"R.A.S.\")","v":"R.A.S."},{"$f":"IFERROR(__xludf.DUMMYFUNCTION(\"\"\"COMPUTED_VALUE\"\"\"),\"samedi\")","v":"samedi"},{"$f":"IFERROR(__xludf.DUMMYFUNCTION(\"\"\"COMPUTED_VALUE\"\"\"),\"NON\")","v":"NON"}]
[{"$f":"IFERROR(__xludf.DUMMYFUNCTION(\"\"\"COMPUTED_VALUE\"\"\"),45495.0)","v":"2024-07-22"},{"$f":"IFERROR(__xludf.DUMMYFUNCTION(\"\"\"COMPUTED_VALUE\"\"\"),\"Ardalan\")","v":"Ardalan"},{"$f":"IFERROR(__xludf.DUMMYFUNCTION(\"\"\"COMPUTED_VALUE\"\"\"),\"Pouria\")","v":"Pouria"},{"$f":"IFERROR(__xludf.DUMMYFUNCTION(\"\"\"COMPUTED_VALUE\"\"\"),\"H\")","v":"H"},{"$f":"IFERROR(__xludf.DUMMYFUNCTION(\"\"\"COMPUTED_VALUE\"\"\"),42.0)","v":42},{"$f":"IFERROR(__xludf.DUMMYFUNCTION(\"\"\"COMPUTED_VALUE\"\"\"),\"pepebicho@yahoo.com\")","v":"pepebicho@yahoo.com"},{"$f":"IFERROR(__xludf.DUMMYFUNCTION(\"\"\"COMPUTED_VALUE\"\"\"),\"Pepebicho Leroy\")","v":"Pepebicho Leroy"},{"$f":"IFERROR(__xludf.DUMMYFUNCTION(\"\"\"COMPUTED_VALUE\"\"\"),\"0622217382\")","v":"0622217382"},{"$f":"IFERROR(__xludf.DUMMYFUNCTION(\"\"\"COMPUTED_VALUE\"\"\"),\"PJ+PNJ\")","v":"PJ+PNJ"},{"$f":"IFERROR(__xludf.DUMMYFUNCTION(\"\"\"COMPUTED_VALUE\"\"\"),\"-\")","v":"-"},{"$f":"IFERROR(__xludf.DUMMYFUNCTION(\"\"\"COMPUTED_VALUE\"\"\"),\"juin\")","v":"juin"},{"$f":"IFERROR(__xludf.DUMMYFUNCTION(\"\"\"COMPUTED_VALUE\"\"\"),\"Seulement au fort\")","v":"Seulement au fort"},{"$f":"IFERROR(__xludf.DUMMYFUNCTION(\"\"\"COMPUTED_VALUE\"\"\"),\"OK\")","v":"OK"},{"$f":"IFERROR(__xludf.DUMMYFUNCTION(\"\"\"COMPUTED_VALUE\"\"\"),\"OK\")","v":"OK"},{"$f":"IFERROR(__xludf.DUMMYFUNCTION(\"\"\"COMPUTED_VALUE\"\"\"),\"septembre\")","v":"septembre"},{"$f":"IFERROR(__xludf.DUMMYFUNCTION(\"\"\"COMPUTED_VALUE\"\"\"),\"Fort seulement\")","v":"Fort seulement"},{"$f":"IFERROR(__xludf.DUMMYFUNCTION(\"\"\"COMPUTED_VALUE\"\"\"),200.0)","v":200},{"$f":"IFERROR(__xludf.DUMMYFUNCTION(\"\"\"COMPUTED_VALUE\"\"\"),\"PAF finalisée\")","v":"PAF finalisée"},{"$f":"IFERROR(__xludf.DUMMYFUNCTION(\"\"\"COMPUTED_VALUE\"\"\"),\"non reçue\")","v":"non reçue"},{"$f":"IFERROR(__xludf.DUMMYFUNCTION(\"\"\"COMPUTED_VALUE\"\"\"),\"R.A.S.\")","v":"R.A.S."},{"$f":"IFERROR(__xludf.DUMMYFUNCTION(\"\"\"COMPUTED_VALUE\"\"\"),\"samedi\")","v":"samedi"},{"$f":"IFERROR(__xludf.DUMMYFUNCTION(\"\"\"COMPUTED_VALUE\"\"\"),\"Reste\")","v":"Reste"}]
[{"$f":"IFERROR(__xludf.DUMMYFUNCTION(\"\"\"COMPUTED_VALUE\"\"\"),45496.0)","v":"2024-07-23"},{"$f":"IFERROR(__xludf.DUMMYFUNCTION(\"\"\"COMPUTED_VALUE\"\"\"),\"Petit \")","v":"Petit "},{"$f":"IFERROR(__xludf.DUMMYFUNCTION(\"\"\"COMPUTED_VALUE\"\"\"),\"Vincent \")","v":"Vincent "},{"$f":"IFERROR(__xludf.DUMMYFUNCTION(\"\"\"COMPUTED_VALUE\"\"\"),\"H\")","v":"H"},{"$f":"IFERROR(__xludf.DUMMYFUNCTION(\"\"\"COMPUTED_VALUE\"\"\"),48.0)","v":48},{"$f":"IFERROR(__xludf.DUMMYFUNCTION(\"\"\"COMPUTED_VALUE\"\"\"),\"vincentsterne@yahoo.fr\")","v":"vincentsterne@yahoo.fr"},{"$f":"IFERROR(__xludf.DUMMYFUNCTION(\"\"\"COMPUTED_VALUE\"\"\"),\"Vincent Petit\")","v":"Vincent Petit"},{"$f":"IFERROR(__xludf.DUMMYFUNCTION(\"\"\"COMPUTED_VALUE\"\"\"),\"0619600814\")","v":"0619600814"},{"$f":"IFERROR(__xludf.DUMMYFUNCTION(\"\"\"COMPUTED_VALUE\"\"\"),\"PJ+PNJ\")","v":"PJ+PNJ"},{"$f":"IFERROR(__xludf.DUMMYFUNCTION(\"\"\"COMPUTED_VALUE\"\"\"),\"-\")","v":"-"},{"$f":"IFERROR(__xludf.DUMMYFUNCTION(\"\"\"COMPUTED_VALUE\"\"\"),\"septembre\")","v":"septembre"},{"$f":"IFERROR(__xludf.DUMMYFUNCTION(\"\"\"COMPUTED_VALUE\"\"\"),\"Peu importe\")","v":"Peu importe"},{"$f":"IFERROR(__xludf.DUMMYFUNCTION(\"\"\"COMPUTED_VALUE\"\"\"),\"OK\")","v":"OK"},{"$f":"IFERROR(__xludf.DUMMYFUNCTION(\"\"\"COMPUTED_VALUE\"\"\"),\"OK\")","v":"OK"},{"$f":"IFERROR(__xludf.DUMMYFUNCTION(\"\"\"COMPUTED_VALUE\"\"\"),\"septembre\")","v":"septembre"},{"$f":"IFERROR(__xludf.DUMMYFUNCTION(\"\"\"COMPUTED_VALUE\"\"\"),\"Fort seulement\")","v":"Fort seulement"},{"$f":"IFERROR(__xludf.DUMMYFUNCTION(\"\"\"COMPUTED_VALUE\"\"\"),220.0)","v":220},{"$f":"IFERROR(__xludf.DUMMYFUNCTION(\"\"\"COMPUTED_VALUE\"\"\"),\"PAF finalisée\")","v":"PAF finalisée"},{"$f":"IFERROR(__xludf.DUMMYFUNCTION(\"\"\"COMPUTED_VALUE\"\"\"),\"non reçue\")","v":"non reçue"},{"$f":"IFERROR(__xludf.DUMMYFUNCTION(\"\"\"COMPUTED_VALUE\"\"\"),\"R.A.S.\")","v":"R.A.S."},{"$f":"IFERROR(__xludf.DUMMYFUNCTION(\"\"\"COMPUTED_VALUE\"\"\"),\"samedi\")","v":"samedi"},{"$f":"IFERROR(__xludf.DUMMYFUNCTION(\"\"\"COMPUTED_VALUE\"\"\"),\"Reste\")","v":"Reste"}]
[{"$f":"IFERROR(__xludf.DUMMYFUNCTION(\"\"\"COMPUTED_VALUE\"\"\"),45498.0)","v":"2024-07-25"},{"$f":"IFERROR(__xludf.DUMMYFUNCTION(\"\"\"COMPUTED_VALUE\"\"\"),\"Blanchard Quentin\")","v":"Blanchard Quentin"},{"$f":"IFERROR(__xludf.DUMMYFUNCTION(\"\"\"COMPUTED_VALUE\"\"\"),\"Quentin\")","v":"Quentin"},{"$f":"IFERROR(__xludf.DUMMYFUNCTION(\"\"\"COMPUTED_VALUE\"\"\"),\"H\")","v":"H"},{"$f":"IFERROR(__xludf.DUMMYFUNCTION(\"\"\"COMPUTED_VALUE\"\"\"),32.0)","v":32},{"$f":"IFERROR(__xludf.DUMMYFUNCTION(\"\"\"COMPUTED_VALUE\"\"\"),\"blanchard.quentin1@gmail.com\")","v":"blanchard.quentin1@gmail.com"},{"$f":"IFERROR(__xludf.DUMMYFUNCTION(\"\"\"COMPUTED_VALUE\"\"\"),\"Quentin Kando\")","v":"Quentin Kando"},{"$f":"IFERROR(__xludf.DUMMYFUNCTION(\"\"\"COMPUTED_VALUE\"\"\"),\"0676788950\")","v":"0676788950"},{"$f":"IFERROR(__xludf.DUMMYFUNCTION(\"\"\"COMPUTED_VALUE\"\"\"),\"PJ+PNJ\")","v":"PJ+PNJ"},{"$f":"IFERROR(__xludf.DUMMYFUNCTION(\"\"\"COMPUTED_VALUE\"\"\"),\"-\")","v":"-"},{"$f":"IFERROR(__xludf.DUMMYFUNCTION(\"\"\"COMPUTED_VALUE\"\"\"),\"septembre\")","v":"septembre"},{"$f":"IFERROR(__xludf.DUMMYFUNCTION(\"\"\"COMPUTED_VALUE\"\"\"),\"Navire et fort\")","v":"Navire et fort"},{"$f":"IFERROR(__xludf.DUMMYFUNCTION(\"\"\"COMPUTED_VALUE\"\"\"),\"OK\")","v":"OK"},{"$f":"IFERROR(__xludf.DUMMYFUNCTION(\"\"\"COMPUTED_VALUE\"\"\"),\"OK\")","v":"OK"},{"$f":"IFERROR(__xludf.DUMMYFUNCTION(\"\"\"COMPUTED_VALUE\"\"\"),\"septembre\")","v":"septembre"},{"$f":"IFERROR(__xludf.DUMMYFUNCTION(\"\"\"COMPUTED_VALUE\"\"\"),\"Navire & Fort\")","v":"Navire & Fort"},null,{"$f":"IFERROR(__xludf.DUMMYFUNCTION(\"\"\"COMPUTED_VALUE\"\"\"),\"PAF non reçue\")","v":"PAF non reçue"},{"$f":"IFERROR(__xludf.DUMMYFUNCTION(\"\"\"COMPUTED_VALUE\"\"\"),\"non reçue\")","v":"non reçue"},{"$f":"IFERROR(__xludf.DUMMYFUNCTION(\"\"\"COMPUTED_VALUE\"\"\"),\"R.A.S.\")","v":"R.A.S."},{"$f":"IFERROR(__xludf.DUMMYFUNCTION(\"\"\"COMPUTED_VALUE\"\"\"),\"samedi\")","v":"samedi"},{"$f":"IFERROR(__xludf.DUMMYFUNCTION(\"\"\"COMPUTED_VALUE\"\"\"),\"NON\")","v":"NON"}]
[{"$f":"IFERROR(__xludf.DUMMYFUNCTION(\"\"\"COMPUTED_VALUE\"\"\"),45508.0)","v":"2024-08-04"},{"$f":"IFERROR(__xludf.DUMMYFUNCTION(\"\"\"COMPUTED_VALUE\"\"\"),\"Lafosse\")","v":"Lafosse"},{"$f":"IFERROR(__xludf.DUMMYFUNCTION(\"\"\"COMPUTED_VALUE\"\"\"),\"Candice\")","v":"Candice"},{"$f":"IFERROR(__xludf.DUMMYFUNCTION(\"\"\"COMPUTED_VALUE\"\"\"),\"F\")","v":"F"},{"$f":"IFERROR(__xludf.DUMMYFUNCTION(\"\"\"COMPUTED_VALUE\"\"\"),51.0)","v":51},{"$f":"IFERROR(__xludf.DUMMYFUNCTION(\"\"\"COMPUTED_VALUE\"\"\"),\"candice.lafosse@gmail.com\")","v":"candice.lafosse@gmail.com"},{"$f":"IFERROR(__xludf.DUMMYFUNCTION(\"\"\"COMPUTED_VALUE\"\"\"),\"Candice Impératrice\")","v":"Candice Impératrice"},{"$f":"IFERROR(__xludf.DUMMYFUNCTION(\"\"\"COMPUTED_VALUE\"\"\"),\"0613046704\")","v":"0613046704"},{"$f":"IFERROR(__xludf.DUMMYFUNCTION(\"\"\"COMPUTED_VALUE\"\"\"),\"Pur PJ\")","v":"Pur PJ"},{"$f":"IFERROR(__xludf.DUMMYFUNCTION(\"\"\"COMPUTED_VALUE\"\"\"),\"-\")","v":"-"},{"$f":"IFERROR(__xludf.DUMMYFUNCTION(\"\"\"COMPUTED_VALUE\"\"\"),\"juin\")","v":"juin"},{"$f":"IFERROR(__xludf.DUMMYFUNCTION(\"\"\"COMPUTED_VALUE\"\"\"),\"Navire et fort\")","v":"Navire et fort"},{"$f":"IFERROR(__xludf.DUMMYFUNCTION(\"\"\"COMPUTED_VALUE\"\"\"),\"OK\")","v":"OK"},{"$f":"IFERROR(__xludf.DUMMYFUNCTION(\"\"\"COMPUTED_VALUE\"\"\"),\"OK\")","v":"OK"},{"$f":"IFERROR(__xludf.DUMMYFUNCTION(\"\"\"COMPUTED_VALUE\"\"\"),\"septembre\")","v":"septembre"},{"$f":"IFERROR(__xludf.DUMMYFUNCTION(\"\"\"COMPUTED_VALUE\"\"\"),\"Navire & Fort\")","v":"Navire & Fort"},{"$f":"IFERROR(__xludf.DUMMYFUNCTION(\"\"\"COMPUTED_VALUE\"\"\"),267.0)","v":267},{"$f":"IFERROR(__xludf.DUMMYFUNCTION(\"\"\"COMPUTED_VALUE\"\"\"),\"PAF partielle\")","v":"PAF partielle"},{"$f":"IFERROR(__xludf.DUMMYFUNCTION(\"\"\"COMPUTED_VALUE\"\"\"),\"non reçue\")","v":"non reçue"},{"$f":"IFERROR(__xludf.DUMMYFUNCTION(\"\"\"COMPUTED_VALUE\"\"\"),\"R.A.S.\")","v":"R.A.S."},{"$f":"IFERROR(__xludf.DUMMYFUNCTION(\"\"\"COMPUTED_VALUE\"\"\"),\"samedi\")","v":"samedi"},{"$f":"IFERROR(__xludf.DUMMYFUNCTION(\"\"\"COMPUTED_VALUE\"\"\"),\"Reste\")","v":"Reste"}]
[{"$f":"IFERROR(__xludf.DUMMYFUNCTION(\"\"\"COMPUTED_VALUE\"\"\"),45543.0)","v":"2024-09-08"},{"$f":"IFERROR(__xludf.DUMMYFUNCTION(\"\"\"COMPUTED_VALUE\"\"\"),\"grunemwald\")","v":"grunemwald"},{"$f":"IFERROR(__xludf.DUMMYFUNCTION(\"\"\"COMPUTED_VALUE\"\"\"),\"thomas\")","v":"thomas"},{"$f":"IFERROR(__xludf.DUMMYFUNCTION(\"\"\"COMPUTED_VALUE\"\"\"),\"H\")","v":"H"},{"$f":"IFERROR(__xludf.DUMMYFUNCTION(\"\"\"COMPUTED_VALUE\"\"\"),50.0)","v":50},{"$f":"IFERROR(__xludf.DUMMYFUNCTION(\"\"\"COMPUTED_VALUE\"\"\"),\"virtualthomas@yahoo.fr\")","v":"virtualthomas@yahoo.fr"},{"$f":"IFERROR(__xludf.DUMMYFUNCTION(\"\"\"COMPUTED_VALUE\"\"\"),\"thomas grunemwald\")","v":"thomas grunemwald"},{"$f":"IFERROR(__xludf.DUMMYFUNCTION(\"\"\"COMPUTED_VALUE\"\"\"),\"0630609519\")","v":"0630609519"},{"$f":"IFERROR(__xludf.DUMMYFUNCTION(\"\"\"COMPUTED_VALUE\"\"\"),\"Pur PJ\")","v":"Pur PJ"},{"$f":"IFERROR(__xludf.DUMMYFUNCTION(\"\"\"COMPUTED_VALUE\"\"\"),\"-\")","v":"-"},{"$f":"IFERROR(__xludf.DUMMYFUNCTION(\"\"\"COMPUTED_VALUE\"\"\"),\"juin\")","v":"juin"},{"$f":"IFERROR(__xludf.DUMMYFUNCTION(\"\"\"COMPUTED_VALUE\"\"\"),\"Navire et fort\")","v":"Navire et fort"},{"$f":"IFERROR(__xludf.DUMMYFUNCTION(\"\"\"COMPUTED_VALUE\"\"\"),\"OK\")","v":"OK"},{"$f":"IFERROR(__xludf.DUMMYFUNCTION(\"\"\"COMPUTED_VALUE\"\"\"),\"OK\")","v":"OK"},{"$f":"IFERROR(__xludf.DUMMYFUNCTION(\"\"\"COMPUTED_VALUE\"\"\"),\"septembre\")","v":"septembre"},{"$f":"IFERROR(__xludf.DUMMYFUNCTION(\"\"\"COMPUTED_VALUE\"\"\"),\"Navire & Fort\")","v":"Navire & Fort"},{"$f":"IFERROR(__xludf.DUMMYFUNCTION(\"\"\"COMPUTED_VALUE\"\"\"),400.0)","v":400},{"$f":"IFERROR(__xludf.DUMMYFUNCTION(\"\"\"COMPUTED_VALUE\"\"\"),\"PAF finalisée\")","v":"PAF finalisée"},{"$f":"IFERROR(__xludf.DUMMYFUNCTION(\"\"\"COMPUTED_VALUE\"\"\"),\"non reçue\")","v":"non reçue"},{"$f":"IFERROR(__xludf.DUMMYFUNCTION(\"\"\"COMPUTED_VALUE\"\"\"),\"R.A.S.\")","v":"R.A.S."},{"$f":"IFERROR(__xludf.DUMMYFUNCTION(\"\"\"COMPUTED_VALUE\"\"\"),\"samedi\")","v":"samedi"},{"$f":"IFERROR(__xludf.DUMMYFUNCTION(\"\"\"COMPUTED_VALUE\"\"\"),\"Reste\")","v":"Reste"}]
[{"$f":"IFERROR(__xludf.DUMMYFUNCTION(\"\"\"COMPUTED_VALUE\"\"\"),45555.0)","v":"2024-09-20"},{"$f":"IFERROR(__xludf.DUMMYFUNCTION(\"\"\"COMPUTED_VALUE\"\"\"),\"Capitaine\")","v":"Capitaine"},{"$f":"IFERROR(__xludf.DUMMYFUNCTION(\"\"\"COMPUTED_VALUE\"\"\"),\"Bobby\")","v":"Bobby"},{"$f":"IFERROR(__xludf.DUMMYFUNCTION(\"\"\"COMPUTED_VALUE\"\"\"),\"H\")","v":"H"},{"$f":"IFERROR(__xludf.DUMMYFUNCTION(\"\"\"COMPUTED_VALUE\"\"\"),339.0)","v":339},{"$f":"IFERROR(__xludf.DUMMYFUNCTION(\"\"\"COMPUTED_VALUE\"\"\"),\"scheuber.joachim@gmail.com\")","v":"scheuber.joachim@gmail.com"},{"$f":"IFERROR(__xludf.DUMMYFUNCTION(\"\"\"COMPUTED_VALUE\"\"\"),\"Capitaine Bobby\")","v":"Capitaine Bobby"},{"$f":"IFERROR(__xludf.DUMMYFUNCTION(\"\"\"COMPUTED_VALUE\"\"\"),\"0619802857\")","v":"0619802857"},{"$f":"IFERROR(__xludf.DUMMYFUNCTION(\"\"\"COMPUTED_VALUE\"\"\"),\"PJ+PNJ\")","v":"PJ+PNJ"},{"$f":"IFERROR(__xludf.DUMMYFUNCTION(\"\"\"COMPUTED_VALUE\"\"\"),\"-\")","v":"-"},{"$f":"IFERROR(__xludf.DUMMYFUNCTION(\"\"\"COMPUTED_VALUE\"\"\"),\"Les deux\")","v":"Les deux"},{"$f":"IFERROR(__xludf.DUMMYFUNCTION(\"\"\"COMPUTED_VALUE\"\"\"),\"Navire et fort\")","v":"Navire et fort"},{"$f":"IFERROR(__xludf.DUMMYFUNCTION(\"\"\"COMPUTED_VALUE\"\"\"),\"OK\")","v":"OK"},{"$f":"IFERROR(__xludf.DUMMYFUNCTION(\"\"\"COMPUTED_VALUE\"\"\"),\"OK\")","v":"OK"},{"$f":"IFERROR(__xludf.DUMMYFUNCTION(\"\"\"COMPUTED_VALUE\"\"\"),\"septembre\")","v":"septembre"},{"$f":"IFERROR(__xludf.DUMMYFUNCTION(\"\"\"COMPUTED_VALUE\"\"\"),\"Navire & Fort\")","v":"Navire & Fort"},{"$f":"IFERROR(__xludf.DUMMYFUNCTION(\"\"\"COMPUTED_VALUE\"\"\"),133.5)","v":133.5},{"$f":"IFERROR(__xludf.DUMMYFUNCTION(\"\"\"COMPUTED_VALUE\"\"\"),\"PAF partielle\")","v":"PAF partielle"},{"$f":"IFERROR(__xludf.DUMMYFUNCTION(\"\"\"COMPUTED_VALUE\"\"\"),\"non reçue\")","v":"non reçue"},{"$f":"IFERROR(__xludf.DUMMYFUNCTION(\"\"\"COMPUTED_VALUE\"\"\"),\"R.A.S.\")","v":"R.A.S."},{"$f":"IFERROR(__xludf.DUMMYFUNCTION(\"\"\"COMPUTED_VALUE\"\"\"),\"samedi\")","v":"samedi"},{"$f":"IFERROR(__xludf.DUMMYFUNCTION(\"\"\"COMPUTED_VALUE\"\"\"),\"Reste\")","v":"Reste"}]
[{"$f":"IFERROR(__xludf.DUMMYFUNCTION(\"\"\"COMPUTED_VALUE\"\"\"),45556.0)","v":"2024-09-21"},{"$f":"IFERROR(__xludf.DUMMYFUNCTION(\"\"\"COMPUTED_VALUE\"\"\"),\"Maréchal\")","v":"Maréchal"},{"$f":"IFERROR(__xludf.DUMMYFUNCTION(\"\"\"COMPUTED_VALUE\"\"\"),\"William\")","v":"William"},{"$f":"IFERROR(__xludf.DUMMYFUNCTION(\"\"\"COMPUTED_VALUE\"\"\"),\"H\")","v":"H"},{"$f":"IFERROR(__xludf.DUMMYFUNCTION(\"\"\"COMPUTED_VALUE\"\"\"),37.0)","v":37},{"$f":"IFERROR(__xludf.DUMMYFUNCTION(\"\"\"COMPUTED_VALUE\"\"\"),\"willmarechal87@gmail.com\")","v":"willmarechal87@gmail.com"},{"$f":"IFERROR(__xludf.DUMMYFUNCTION(\"\"\"COMPUTED_VALUE\"\"\"),\"William Maréchal\")","v":"William Maréchal"},{"$f":"IFERROR(__xludf.DUMMYFUNCTION(\"\"\"COMPUTED_VALUE\"\"\"),\"+33679462220\")","v":"+33679462220"},{"$f":"IFERROR(__xludf.DUMMYFUNCTION(\"\"\"COMPUTED_VALUE\"\"\"),\"PJ+PNJ\")","v":"PJ+PNJ"},{"$f":"IFERROR(__xludf.DUMMYFUNCTION(\"\"\"COMPUTED_VALUE\"\"\"),\"-\")","v":"-"},{"$f":"IFERROR(__xludf.DUMMYFUNCTION(\"\"\"COMPUTED_VALUE\"\"\"),\"Les deux\")","v":"Les deux"},{"$f":"IFERROR(__xludf.DUMMYFUNCTION(\"\"\"COMPUTED_VALUE\"\"\"),\"Navire et fort\")","v":"Navire et fort"},{"$f":"IFERROR(__xludf.DUMMYFUNCTION(\"\"\"COMPUTED_VALUE\"\"\"),\"OK\")","v":"OK"},{"$f":"IFERROR(__xludf.DUMMYFUNCTION(\"\"\"COMPUTED_VALUE\"\"\"),\"OK\")","v":"OK"},{"$f":"IFERROR(__xludf.DUMMYFUNCTION(\"\"\"COMPUTED_VALUE\"\"\"),\"septembre\")","v":"septembre"},{"$f":"IFERROR(__xludf.DUMMYFUNCTION(\"\"\"COMPUTED_VALUE\"\"\"),\"Navire & Fort\")","v":"Navire & Fort"},{"$f":"IFERROR(__xludf.DUMMYFUNCTION(\"\"\"COMPUTED_VALUE\"\"\"),267.0)","v":267},{"$f":"IFERROR(__xludf.DUMMYFUNCTION(\"\"\"COMPUTED_VALUE\"\"\"),\"PAF partielle\")","v":"PAF partielle"},{"$f":"IFERROR(__xludf.DUMMYFUNCTION(\"\"\"COMPUTED_VALUE\"\"\"),\"non reçue\")","v":"non reçue"},{"$f":"IFERROR(__xludf.DUMMYFUNCTION(\"\"\"COMPUTED_VALUE\"\"\"),\"R.A.S.\")","v":"R.A.S."},{"$f":"IFERROR(__xludf.DUMMYFUNCTION(\"\"\"COMPUTED_VALUE\"\"\"),\"samedi\")","v":"samedi"},{"$f":"IFERROR(__xludf.DUMMYFUNCTION(\"\"\"COMPUTED_VALUE\"\"\"),\"Reste\")","v":"Reste"}]
[{"$f":"IFERROR(__xludf.DUMMYFUNCTION(\"\"\"COMPUTED_VALUE\"\"\"),45557.0)","v":"2024-09-22"},{"$f":"IFERROR(__xludf.DUMMYFUNCTION(\"\"\"COMPUTED_VALUE\"\"\"),\"Amoureux\")","v":"Amoureux"},{"$f":"IFERROR(__xludf.DUMMYFUNCTION(\"\"\"COMPUTED_VALUE\"\"\"),\"Erwan\")","v":"Erwan"},{"$f":"IFERROR(__xludf.DUMMYFUNCTION(\"\"\"COMPUTED_VALUE\"\"\"),\"H\")","v":"H"},null,{"$f":"IFERROR(__xludf.DUMMYFUNCTION(\"\"\"COMPUTED_VALUE\"\"\"),\"erwan.amoureux@gmail.com\")","v":"erwan.amoureux@gmail.com"},{"$f":"IFERROR(__xludf.DUMMYFUNCTION(\"\"\"COMPUTED_VALUE\"\"\"),\"Erwan Amoureux\")","v":"Erwan Amoureux"},{"$f":"IFERROR(__xludf.DUMMYFUNCTION(\"\"\"COMPUTED_VALUE\"\"\"),\"0620489095\")","v":"0620489095"},{"$f":"IFERROR(__xludf.DUMMYFUNCTION(\"\"\"COMPUTED_VALUE\"\"\"),\"PJ+PNJ\")","v":"PJ+PNJ"},{"$f":"IFERROR(__xludf.DUMMYFUNCTION(\"\"\"COMPUTED_VALUE\"\"\"),\"-\")","v":"-"},{"$f":"IFERROR(__xludf.DUMMYFUNCTION(\"\"\"COMPUTED_VALUE\"\"\"),\"septembre\")","v":"septembre"},{"$f":"IFERROR(__xludf.DUMMYFUNCTION(\"\"\"COMPUTED_VALUE\"\"\"),\"Peu importe\")","v":"Peu importe"},{"$f":"IFERROR(__xludf.DUMMYFUNCTION(\"\"\"COMPUTED_VALUE\"\"\"),\"OK\")","v":"OK"},{"$f":"IFERROR(__xludf.DUMMYFUNCTION(\"\"\"COMPUTED_VALUE\"\"\"),\"OK\")","v":"OK"},{"$f":"IFERROR(__xludf.DUMMYFUNCTION(\"\"\"COMPUTED_VALUE\"\"\"),\"septembre\")","v":"septembre"},{"$f":"IFERROR(__xludf.DUMMYFUNCTION(\"\"\"COMPUTED_VALUE\"\"\"),\"Navire & Fort\")","v":"Navire & Fort"},{"$f":"IFERROR(__xludf.DUMMYFUNCTION(\"\"\"COMPUTED_VALUE\"\"\"),400.0)","v":400},{"$f":"IFERROR(__xludf.DUMMYFUNCTION(\"\"\"COMPUTED_VALUE\"\"\"),\"PAF finalisée\")","v":"PAF finalisée"},{"$f":"IFERROR(__xludf.DUMMYFUNCTION(\"\"\"COMPUTED_VALUE\"\"\"),\"non reçue\")","v":"non reçue"},{"$f":"IFERROR(__xludf.DUMMYFUNCTION(\"\"\"COMPUTED_VALUE\"\"\"),\"R.A.S.\")","v":"R.A.S."},{"$f":"IFERROR(__xludf.DUMMYFUNCTION(\"\"\"COMPUTED_VALUE\"\"\"),\"samedi\")","v":"samedi"},{"$f":"IFERROR(__xludf.DUMMYFUNCTION(\"\"\"COMPUTED_VALUE\"\"\"),\"Reste\")","v":"Reste"}]
[{"$f":"IFERROR(__xludf.DUMMYFUNCTION(\"\"\"COMPUTED_VALUE\"\"\"),45557.0)","v":"2024-09-22"},{"$f":"IFERROR(__xludf.DUMMYFUNCTION(\"\"\"COMPUTED_VALUE\"\"\"),\"Vandroux \")","v":"Vandroux "},{"$f":"IFERROR(__xludf.DUMMYFUNCTION(\"\"\"COMPUTED_VALUE\"\"\"),\"Karine \")","v":"Karine "},{"$f":"IFERROR(__xludf.DUMMYFUNCTION(\"\"\"COMPUTED_VALUE\"\"\"),\"F\")","v":"F"},{"$f":"IFERROR(__xludf.DUMMYFUNCTION(\"\"\"COMPUTED_VALUE\"\"\"),55.0)","v":55},{"$f":"IFERROR(__xludf.DUMMYFUNCTION(\"\"\"COMPUTED_VALUE\"\"\"),\"kadroux@gmail.com\")","v":"kadroux@gmail.com"},{"$f":"IFERROR(__xludf.DUMMYFUNCTION(\"\"\"COMPUTED_VALUE\"\"\"),\"Karine vandroux\")","v":"Karine vandroux"},{"$f":"IFERROR(__xludf.DUMMYFUNCTION(\"\"\"COMPUTED_VALUE\"\"\"),\"0662101693\")","v":"0662101693"},{"$f":"IFERROR(__xludf.DUMMYFUNCTION(\"\"\"COMPUTED_VALUE\"\"\"),\"PJ+PNJ\")","v":"PJ+PNJ"},{"$f":"IFERROR(__xludf.DUMMYFUNCTION(\"\"\"COMPUTED_VALUE\"\"\"),\"-\")","v":"-"},{"$f":"IFERROR(__xludf.DUMMYFUNCTION(\"\"\"COMPUTED_VALUE\"\"\"),\"Les deux\")","v":"Les deux"},{"$f":"IFERROR(__xludf.DUMMYFUNCTION(\"\"\"COMPUTED_VALUE\"\"\"),\"Navire et fort\")","v":"Navire et fort"},{"$f":"IFERROR(__xludf.DUMMYFUNCTION(\"\"\"COMPUTED_VALUE\"\"\"),\"OK\")","v":"OK"},{"$f":"IFERROR(__xludf.DUMMYFUNCTION(\"\"\"COMPUTED_VALUE\"\"\"),\"OK\")","v":"OK"},{"$f":"IFERROR(__xludf.DUMMYFUNCTION(\"\"\"COMPUTED_VALUE\"\"\"),\"septembre\")","v":"septembre"},{"$f":"IFERROR(__xludf.DUMMYFUNCTION(\"\"\"COMPUTED_VALUE\"\"\"),\"Navire & Fort\")","v":"Navire & Fort"},{"$f":"IFERROR(__xludf.DUMMYFUNCTION(\"\"\"COMPUTED_VALUE\"\"\"),400.0)","v":400},{"$f":"IFERROR(__xludf.DUMMYFUNCTION(\"\"\"COMPUTED_VALUE\"\"\"),\"PAF finalisée\")","v":"PAF finalisée"},{"$f":"IFERROR(__xludf.DUMMYFUNCTION(\"\"\"COMPUTED_VALUE\"\"\"),\"non reçue\")","v":"non reçue"},{"$f":"IFERROR(__xludf.DUMMYFUNCTION(\"\"\"COMPUTED_VALUE\"\"\"),\"R.A.S.\")","v":"R.A.S."},{"$f":"IFERROR(__xludf.DUMMYFUNCTION(\"\"\"COMPUTED_VALUE\"\"\"),\"samedi\")","v":"samedi"},{"$f":"IFERROR(__xludf.DUMMYFUNCTION(\"\"\"COMPUTED_VALUE\"\"\"),\"Reste\")","v":"Reste"}]
[{"$f":"IFERROR(__xludf.DUMMYFUNCTION(\"\"\"COMPUTED_VALUE\"\"\"),45560.0)","v":"2024-09-25"},{"$f":"IFERROR(__xludf.DUMMYFUNCTION(\"\"\"COMPUTED_VALUE\"\"\"),\"PAYEN\")","v":"PAYEN"},{"$f":"IFERROR(__xludf.DUMMYFUNCTION(\"\"\"COMPUTED_VALUE\"\"\"),\"Renaud\")","v":"Renaud"},{"$f":"IFERROR(__xludf.DUMMYFUNCTION(\"\"\"COMPUTED_VALUE\"\"\"),\"H\")","v":"H"},{"$f":"IFERROR(__xludf.DUMMYFUNCTION(\"\"\"COMPUTED_VALUE\"\"\"),46.0)","v":46},{"$f":"IFERROR(__xludf.DUMMYFUNCTION(\"\"\"COMPUTED_VALUE\"\"\"),\"rpayen@outlook.com\")","v":"rpayen@outlook.com"},{"$f":"IFERROR(__xludf.DUMMYFUNCTION(\"\"\"COMPUTED_VALUE\"\"\"),\"Renaud PAYEN ou RenoPayen\")","v":"Renaud PAYEN ou RenoPayen"},null,{"$f":"IFERROR(__xludf.DUMMYFUNCTION(\"\"\"COMPUTED_VALUE\"\"\"),\"Pur PJ\")","v":"Pur PJ"},{"$f":"IFERROR(__xludf.DUMMYFUNCTION(\"\"\"COMPUTED_VALUE\"\"\"),\"-\")","v":"-"},{"$f":"IFERROR(__xludf.DUMMYFUNCTION(\"\"\"COMPUTED_VALUE\"\"\"),\"Les deux\")","v":"Les deux"},{"$f":"IFERROR(__xludf.DUMMYFUNCTION(\"\"\"COMPUTED_VALUE\"\"\"),\"Navire et fort\")","v":"Navire et fort"},{"$f":"IFERROR(__xludf.DUMMYFUNCTION(\"\"\"COMPUTED_VALUE\"\"\"),\"OK\")","v":"OK"},{"$f":"IFERROR(__xludf.DUMMYFUNCTION(\"\"\"COMPUTED_VALUE\"\"\"),\"OK\")","v":"OK"},{"$f":"IFERROR(__xludf.DUMMYFUNCTION(\"\"\"COMPUTED_VALUE\"\"\"),\"septembre\")","v":"septembre"},{"$f":"IFERROR(__xludf.DUMMYFUNCTION(\"\"\"COMPUTED_VALUE\"\"\"),\"Navire & Fort\")","v":"Navire & Fort"},{"$f":"IFERROR(__xludf.DUMMYFUNCTION(\"\"\"COMPUTED_VALUE\"\"\"),205.0)","v":205},{"$f":"IFERROR(__xludf.DUMMYFUNCTION(\"\"\"COMPUTED_VALUE\"\"\"),\"PAF partielle\")","v":"PAF partielle"},{"$f":"IFERROR(__xludf.DUMMYFUNCTION(\"\"\"COMPUTED_VALUE\"\"\"),\"non reçue\")","v":"non reçue"},{"$f":"IFERROR(__xludf.DUMMYFUNCTION(\"\"\"COMPUTED_VALUE\"\"\"),\"R.A.S.\")","v":"R.A.S."},{"$f":"IFERROR(__xludf.DUMMYFUNCTION(\"\"\"COMPUTED_VALUE\"\"\"),\"samedi\")","v":"samedi"},{"$f":"IFERROR(__xludf.DUMMYFUNCTION(\"\"\"COMPUTED_VALUE\"\"\"),\"Reste\")","v":"Reste"}]
[{"$f":"IFERROR(__xludf.DUMMYFUNCTION(\"\"\"COMPUTED_VALUE\"\"\"),45576.0)","v":"2024-10-11"},{"$f":"IFERROR(__xludf.DUMMYFUNCTION(\"\"\"COMPUTED_VALUE\"\"\"),\"Garcia-Cotte\")","v":"Garcia-Cotte"},{"$f":"IFERROR(__xludf.DUMMYFUNCTION(\"\"\"COMPUTED_VALUE\"\"\"),\"Hugo\")","v":"Hugo"},{"$f":"IFERROR(__xludf.DUMMYFUNCTION(\"\"\"COMPUTED_VALUE\"\"\"),\"H\")","v":"H"},{"$f":"IFERROR(__xludf.DUMMYFUNCTION(\"\"\"COMPUTED_VALUE\"\"\"),37.0)","v":37},{"$f":"IFERROR(__xludf.DUMMYFUNCTION(\"\"\"COMPUTED_VALUE\"\"\"),\"hugo@garcia-cotte.com\")","v":"hugo@garcia-cotte.com"},{"$f":"IFERROR(__xludf.DUMMYFUNCTION(\"\"\"COMPUTED_VALUE\"\"\"),\"Hugo Garcia-Cotte\")","v":"Hugo Garcia-Cotte"},{"$f":"IFERROR(__xludf.DUMMYFUNCTION(\"\"\"COMPUTED_VALUE\"\"\"),\"+33698964090\")","v":"+33698964090"},{"$f":"IFERROR(__xludf.DUMMYFUNCTION(\"\"\"COMPUTED_VALUE\"\"\"),\"PJ+PNJ\")","v":"PJ+PNJ"},{"$f":"IFERROR(__xludf.DUMMYFUNCTION(\"\"\"COMPUTED_VALUE\"\"\"),\"-\")","v":"-"},{"$f":"IFERROR(__xludf.DUMMYFUNCTION(\"\"\"COMPUTED_VALUE\"\"\"),\"Les deux\")","v":"Les deux"},{"$f":"IFERROR(__xludf.DUMMYFUNCTION(\"\"\"COMPUTED_VALUE\"\"\"),\"Navire et fort\")","v":"Navire et fort"},{"$f":"IFERROR(__xludf.DUMMYFUNCTION(\"\"\"COMPUTED_VALUE\"\"\"),\"OK\")","v":"OK"},{"$f":"IFERROR(__xludf.DUMMYFUNCTION(\"\"\"COMPUTED_VALUE\"\"\"),\"OK\")","v":"OK"},{"$f":"IFERROR(__xludf.DUMMYFUNCTION(\"\"\"COMPUTED_VALUE\"\"\"),\"septembre\")","v":"septembre"},{"$f":"IFERROR(__xludf.DUMMYFUNCTION(\"\"\"COMPUTED_VALUE\"\"\"),\"Navire & Fort\")","v":"Navire & Fort"},{"$f":"IFERROR(__xludf.DUMMYFUNCTION(\"\"\"COMPUTED_VALUE\"\"\"),133.5)","v":133.5},{"$f":"IFERROR(__xludf.DUMMYFUNCTION(\"\"\"COMPUTED_VALUE\"\"\"),\"PAF partielle + erreur\")","v":"PAF partielle + erreur"},{"$f":"IFERROR(__xludf.DUMMYFUNCTION(\"\"\"COMPUTED_VALUE\"\"\"),\"non reçue\")","v":"non reçue"},{"$f":"IFERROR(__xludf.DUMMYFUNCTION(\"\"\"COMPUTED_VALUE\"\"\"),\"R.A.S.\")","v":"R.A.S."},{"$f":"IFERROR(__xludf.DUMMYFUNCTION(\"\"\"COMPUTED_VALUE\"\"\"),\"samedi\")","v":"samedi"},{"$f":"IFERROR(__xludf.DUMMYFUNCTION(\"\"\"COMPUTED_VALUE\"\"\"),\"Reste\")","v":"Reste"}]
[{"$f":"IFERROR(__xludf.DUMMYFUNCTION(\"\"\"COMPUTED_VALUE\"\"\"),45581.0)","v":"2024-10-16"},{"$f":"IFERROR(__xludf.DUMMYFUNCTION(\"\"\"COMPUTED_VALUE\"\"\"),\"Whittaker\")","v":"Whittaker"},{"$f":"IFERROR(__xludf.DUMMYFUNCTION(\"\"\"COMPUTED_VALUE\"\"\"),\"Isabelle\")","v":"Isabelle"},{"$f":"IFERROR(__xludf.DUMMYFUNCTION(\"\"\"COMPUTED_VALUE\"\"\"),\"F\")","v":"F"},{"$f":"IFERROR(__xludf.DUMMYFUNCTION(\"\"\"COMPUTED_VALUE\"\"\"),37.0)","v":37},{"$f":"IFERROR(__xludf.DUMMYFUNCTION(\"\"\"COMPUTED_VALUE\"\"\"),\"isabelle.whittaker@gmail.com\")","v":"isabelle.whittaker@gmail.com"},{"$f":"IFERROR(__xludf.DUMMYFUNCTION(\"\"\"COMPUTED_VALUE\"\"\"),\"Isabelle Whittaker\")","v":"Isabelle Whittaker"},{"$f":"IFERROR(__xludf.DUMMYFUNCTION(\"\"\"COMPUTED_VALUE\"\"\"),\"0786144580\")","v":"0786144580"},{"$f":"IFERROR(__xludf.DUMMYFUNCTION(\"\"\"COMPUTED_VALUE\"\"\"),\"Pur PJ\")","v":"Pur PJ"},{"$f":"IFERROR(__xludf.DUMMYFUNCTION(\"\"\"COMPUTED_VALUE\"\"\"),\"-\")","v":"-"},{"$f":"IFERROR(__xludf.DUMMYFUNCTION(\"\"\"COMPUTED_VALUE\"\"\"),\"juin\")","v":"juin"},{"$f":"IFERROR(__xludf.DUMMYFUNCTION(\"\"\"COMPUTED_VALUE\"\"\"),\"Peu importe\")","v":"Peu importe"},{"$f":"IFERROR(__xludf.DUMMYFUNCTION(\"\"\"COMPUTED_VALUE\"\"\"),\"OK\")","v":"OK"},{"$f":"IFERROR(__xludf.DUMMYFUNCTION(\"\"\"COMPUTED_VALUE\"\"\"),\"OK\")","v":"OK"},{"$f":"IFERROR(__xludf.DUMMYFUNCTION(\"\"\"COMPUTED_VALUE\"\"\"),\"septembre\")","v":"septembre"},{"$f":"IFERROR(__xludf.DUMMYFUNCTION(\"\"\"COMPUTED_VALUE\"\"\"),\"Navire & Fort\")","v":"Navire & Fort"},null,{"$f":"IFERROR(__xludf.DUMMYFUNCTION(\"\"\"COMPUTED_VALUE\"\"\"),\"PAF non reçue\")","v":"PAF non reçue"},{"$f":"IFERROR(__xludf.DUMMYFUNCTION(\"\"\"COMPUTED_VALUE\"\"\"),\"non reçue\")","v":"non reçue"},{"$f":"IFERROR(__xludf.DUMMYFUNCTION(\"\"\"COMPUTED_VALUE\"\"\"),\"R.A.S.\")","v":"R.A.S."},{"$f":"IFERROR(__xludf.DUMMYFUNCTION(\"\"\"COMPUTED_VALUE\"\"\"),\"samedi\")","v":"samedi"},{"$f":"IFERROR(__xludf.DUMMYFUNCTION(\"\"\"COMPUTED_VALUE\"\"\"),\"Reste\")","v":"Reste"}]
[{"$f":"IFERROR(__xludf.DUMMYFUNCTION(\"\"\"COMPUTED_VALUE\"\"\"),45585.0)","v":"2024-10-20"},{"$f":"IFERROR(__xludf.DUMMYFUNCTION(\"\"\"COMPUTED_VALUE\"\"\"),\"Petitdemange\")","v":"Petitdemange"},{"$f":"IFERROR(__xludf.DUMMYFUNCTION(\"\"\"COMPUTED_VALUE\"\"\"),\"Floriane\")","v":"Floriane"},{"$f":"IFERROR(__xludf.DUMMYFUNCTION(\"\"\"COMPUTED_VALUE\"\"\"),\"F\")","v":"F"},{"$f":"IFERROR(__xludf.DUMMYFUNCTION(\"\"\"COMPUTED_VALUE\"\"\"),36.0)","v":36},{"$f":"IFERROR(__xludf.DUMMYFUNCTION(\"\"\"COMPUTED_VALUE\"\"\"),\"floriane.petitdemange@gmail.com\")","v":"floriane.petitdemange@gmail.com"},{"$f":"IFERROR(__xludf.DUMMYFUNCTION(\"\"\"COMPUTED_VALUE\"\"\"),\"Floriane Senami\")","v":"Floriane Senami"},{"$f":"IFERROR(__xludf.DUMMYFUNCTION(\"\"\"COMPUTED_VALUE\"\"\"),\"06.02.36.57.68.\")","v":"06.02.36.57.68."},{"$f":"IFERROR(__xludf.DUMMYFUNCTION(\"\"\"COMPUTED_VALUE\"\"\"),\"Pur PJ\")","v":"Pur PJ"},{"$f":"IFERROR(__xludf.DUMMYFUNCTION(\"\"\"COMPUTED_VALUE\"\"\"),\"-\")","v":"-"},{"$f":"IFERROR(__xludf.DUMMYFUNCTION(\"\"\"COMPUTED_VALUE\"\"\"),\"Les deux\")","v":"Les deux"},{"$f":"IFERROR(__xludf.DUMMYFUNCTION(\"\"\"COMPUTED_VALUE\"\"\"),\"Navire et fort\")","v":"Navire et fort"},{"$f":"IFERROR(__xludf.DUMMYFUNCTION(\"\"\"COMPUTED_VALUE\"\"\"),\"OK\")","v":"OK"},{"$f":"IFERROR(__xludf.DUMMYFUNCTION(\"\"\"COMPUTED_VALUE\"\"\"),\"OK\")","v":"OK"},{"$f":"IFERROR(__xludf.DUMMYFUNCTION(\"\"\"COMPUTED_VALUE\"\"\"),\"septembre\")","v":"septembre"},{"$f":"IFERROR(__xludf.DUMMYFUNCTION(\"\"\"COMPUTED_VALUE\"\"\"),\"Navire & Fort\")","v":"Navire & Fort"},null,{"$f":"IFERROR(__xludf.DUMMYFUNCTION(\"\"\"COMPUTED_VALUE\"\"\"),\"PAF non reçue\")","v":"PAF non reçue"},{"$f":"IFERROR(__xludf.DUMMYFUNCTION(\"\"\"COMPUTED_VALUE\"\"\"),\"non reçue\")","v":"non reçue"},{"$f":"IFERROR(__xludf.DUMMYFUNCTION(\"\"\"COMPUTED_VALUE\"\"\"),\"R.A.S.\")","v":"R.A.S."},{"$f":"IFERROR(__xludf.DUMMYFUNCTION(\"\"\"COMPUTED_VALUE\"\"\"),\"samedi\")","v":"samedi"},{"$f":"IFERROR(__xludf.DUMMYFUNCTION(\"\"\"COMPUTED_VALUE\"\"\"),\"Reste\")","v":"Reste"}]
[{"$f":"IFERROR(__xludf.DUMMYFUNCTION(\"\"\"COMPUTED_VALUE\"\"\"),45585.0)","v":"2024-10-20"},{"$f":"IFERROR(__xludf.DUMMYFUNCTION(\"\"\"COMPUTED_VALUE\"\"\"),\"Stoltz \")","v":"Stoltz "},{"$f":"IFERROR(__xludf.DUMMYFUNCTION(\"\"\"COMPUTED_VALUE\"\"\"),\"Charline\")","v":"Charline"},{"$f":"IFERROR(__xludf.DUMMYFUNCTION(\"\"\"COMPUTED_VALUE\"\"\"),\"F\")","v":"F"},{"$f":"IFERROR(__xludf.DUMMYFUNCTION(\"\"\"COMPUTED_VALUE\"\"\"),34.0)","v":34},{"$f":"IFERROR(__xludf.DUMMYFUNCTION(\"\"\"COMPUTED_VALUE\"\"\"),\"charline.stoltz@gmail.com\")","v":"charline.stoltz@gmail.com"},{"$f":"IFERROR(__xludf.DUMMYFUNCTION(\"\"\"COMPUTED_VALUE\"\"\"),\"Charline Sltz\")","v":"Charline Sltz"},{"$f":"IFERROR(__xludf.DUMMYFUNCTION(\"\"\"COMPUTED_VALUE\"\"\"),\"0687014130\")","v":"0687014130"},{"$f":"IFERROR(__xludf.DUMMYFUNCTION(\"\"\"COMPUTED_VALUE\"\"\"),\"Pur PJ\")","v":"Pur PJ"},{"$f":"IFERROR(__xludf.DUMMYFUNCTION(\"\"\"COMPUTED_VALUE\"\"\"),\"-\")","v":"-"},{"$f":"IFERROR(__xludf.DUMMYFUNCTION(\"\"\"COMPUTED_VALUE\"\"\"),\"Les deux\")","v":"Les deux"},{"$f":"IFERROR(__xludf.DUMMYFUNCTION(\"\"\"COMPUTED_VALUE\"\"\"),\"Navire et fort\")","v":"Navire et fort"},{"$f":"IFERROR(__xludf.DUMMYFUNCTION(\"\"\"COMPUTED_VALUE\"\"\"),\"OK\")","v":"OK"},{"$f":"IFERROR(__xludf.DUMMYFUNCTION(\"\"\"COMPUTED_VALUE\"\"\"),\"OK\")","v":"OK"},{"$f":"IFERROR(__xludf.DUMMYFUNCTION(\"\"\"COMPUTED_VALUE\"\"\"),\"septembre\")","v":"septembre"},{"$f":"IFERROR(__xludf.DUMMYFUNCTION(\"\"\"COMPUTED_VALUE\"\"\"),\"Navire & Fort\")","v":"Navire & Fort"},{"$f":"IFERROR(__xludf.DUMMYFUNCTION(\"\"\"COMPUTED_VALUE\"\"\"),400.0)","v":400},{"$f":"IFERROR(__xludf.DUMMYFUNCTION(\"\"\"COMPUTED_VALUE\"\"\"),\"PAF finalisée\")","v":"PAF finalisée"},{"$f":"IFERROR(__xludf.DUMMYFUNCTION(\"\"\"COMPUTED_VALUE\"\"\"),\"non reçue\")","v":"non reçue"},{"$f":"IFERROR(__xludf.DUMMYFUNCTION(\"\"\"COMPUTED_VALUE\"\"\"),\"R.A.S.\")","v":"R.A.S."},{"$f":"IFERROR(__xludf.DUMMYFUNCTION(\"\"\"COMPUTED_VALUE\"\"\"),\"samedi\")","v":"samedi"},{"$f":"IFERROR(__xludf.DUMMYFUNCTION(\"\"\"COMPUTED_VALUE\"\"\"),\"Reste\")","v":"Reste"}]
[{"$f":"IFERROR(__xludf.DUMMYFUNCTION(\"\"\"COMPUTED_VALUE\"\"\"),45586.0)","v":"2024-10-21"},{"$f":"IFERROR(__xludf.DUMMYFUNCTION(\"\"\"COMPUTED_VALUE\"\"\"),\"Gutierrez\")","v":"Gutierrez"},{"$f":"IFERROR(__xludf.DUMMYFUNCTION(\"\"\"COMPUTED_VALUE\"\"\"),\"Jeremy\")","v":"Jeremy"},{"$f":"IFERROR(__xludf.DUMMYFUNCTION(\"\"\"COMPUTED_VALUE\"\"\"),\"H\")","v":"H"},{"$f":"IFERROR(__xludf.DUMMYFUNCTION(\"\"\"COMPUTED_VALUE\"\"\"),30.0)","v":30},{"$f":"IFERROR(__xludf.DUMMYFUNCTION(\"\"\"COMPUTED_VALUE\"\"\"),\"jeremy.gutierrez.pharma@gmail.com\")","v":"jeremy.gutierrez.pharma@gmail.com"},{"$f":"IFERROR(__xludf.DUMMYFUNCTION(\"\"\"COMPUTED_VALUE\"\"\"),\"Jereùy Gutiairré'z\")","v":"Jereùy Gutiairré'z"},{"$f":"IFERROR(__xludf.DUMMYFUNCTION(\"\"\"COMPUTED_VALUE\"\"\"),\"0633788347\")","v":"0633788347"},{"$f":"IFERROR(__xludf.DUMMYFUNCTION(\"\"\"COMPUTED_VALUE\"\"\"),\"Pur PJ\")","v":"Pur PJ"},{"$f":"IFERROR(__xludf.DUMMYFUNCTION(\"\"\"COMPUTED_VALUE\"\"\"),\"-\")","v":"-"},{"$f":"IFERROR(__xludf.DUMMYFUNCTION(\"\"\"COMPUTED_VALUE\"\"\"),\"Les deux\")","v":"Les deux"},{"$f":"IFERROR(__xludf.DUMMYFUNCTION(\"\"\"COMPUTED_VALUE\"\"\"),\"Seulement au fort\")","v":"Seulement au fort"},{"$f":"IFERROR(__xludf.DUMMYFUNCTION(\"\"\"COMPUTED_VALUE\"\"\"),\"OK\")","v":"OK"},{"$f":"IFERROR(__xludf.DUMMYFUNCTION(\"\"\"COMPUTED_VALUE\"\"\"),\"OK\")","v":"OK"},{"$f":"IFERROR(__xludf.DUMMYFUNCTION(\"\"\"COMPUTED_VALUE\"\"\"),\"septembre\")","v":"septembre"},{"$f":"IFERROR(__xludf.DUMMYFUNCTION(\"\"\"COMPUTED_VALUE\"\"\"),\"Navire & Fort\")","v":"Navire & Fort"},{"$f":"IFERROR(__xludf.DUMMYFUNCTION(\"\"\"COMPUTED_VALUE\"\"\"),400.0)","v":400},{"$f":"IFERROR(__xludf.DUMMYFUNCTION(\"\"\"COMPUTED_VALUE\"\"\"),\"PAF finalisée\")","v":"PAF finalisée"},{"$f":"IFERROR(__xludf.DUMMYFUNCTION(\"\"\"COMPUTED_VALUE\"\"\"),\"non reçue\")","v":"non reçue"},{"$f":"IFERROR(__xludf.DUMMYFUNCTION(\"\"\"COMPUTED_VALUE\"\"\"),\"R.A.S.\")","v":"R.A.S."},{"$f":"IFERROR(__xludf.DUMMYFUNCTION(\"\"\"COMPUTED_VALUE\"\"\"),\"samedi\")","v":"samedi"},{"$f":"IFERROR(__xludf.DUMMYFUNCTION(\"\"\"COMPUTED_VALUE\"\"\"),\"Reste\")","v":"Reste"}]
[{"$f":"IFERROR(__xludf.DUMMYFUNCTION(\"\"\"COMPUTED_VALUE\"\"\"),45586.0)","v":"2024-10-21"},{"$f":"IFERROR(__xludf.DUMMYFUNCTION(\"\"\"COMPUTED_VALUE\"\"\"),\"FLAMMANN\")","v":"FLAMMANN"},{"$f":"IFERROR(__xludf.DUMMYFUNCTION(\"\"\"COMPUTED_VALUE\"\"\"),\"Sasha\")","v":"Sasha"},{"$f":"IFERROR(__xludf.DUMMYFUNCTION(\"\"\"COMPUTED_VALUE\"\"\"),\"H\")","v":"H"},{"$f":"IFERROR(__xludf.DUMMYFUNCTION(\"\"\"COMPUTED_VALUE\"\"\"),30.0)","v":30},{"$f":"IFERROR(__xludf.DUMMYFUNCTION(\"\"\"COMPUTED_VALUE\"\"\"),\"sasha.flammann@gmail.com\")","v":"sasha.flammann@gmail.com"},{"$f":"IFERROR(__xludf.DUMMYFUNCTION(\"\"\"COMPUTED_VALUE\"\"\"),\"Sasha WAELES\")","v":"Sasha WAELES"},{"$f":"IFERROR(__xludf.DUMMYFUNCTION(\"\"\"COMPUTED_VALUE\"\"\"),\"0659086247\")","v":"0659086247"},{"$f":"IFERROR(__xludf.DUMMYFUNCTION(\"\"\"COMPUTED_VALUE\"\"\"),\"PJ+PNJ\")","v":"PJ+PNJ"},{"$f":"IFERROR(__xludf.DUMMYFUNCTION(\"\"\"COMPUTED_VALUE\"\"\"),\"-\")","v":"-"},{"$f":"IFERROR(__xludf.DUMMYFUNCTION(\"\"\"COMPUTED_VALUE\"\"\"),\"Les deux\")","v":"Les deux"},{"$f":"IFERROR(__xludf.DUMMYFUNCTION(\"\"\"COMPUTED_VALUE\"\"\"),\"Navire et fort\")","v":"Navire et fort"},{"$f":"IFERROR(__xludf.DUMMYFUNCTION(\"\"\"COMPUTED_VALUE\"\"\"),\"OK\")","v":"OK"},{"$f":"IFERROR(__xludf.DUMMYFUNCTION(\"\"\"COMPUTED_VALUE\"\"\"),\"OK\")","v":"OK"},{"$f":"IFERROR(__xludf.DUMMYFUNCTION(\"\"\"COMPUTED_VALUE\"\"\"),\"septembre\")","v":"septembre"},{"$f":"IFERROR(__xludf.DUMMYFUNCTION(\"\"\"COMPUTED_VALUE\"\"\"),\"Navire & Fort\")","v":"Navire & Fort"},{"$f":"IFERROR(__xludf.DUMMYFUNCTION(\"\"\"COMPUTED_VALUE\"\"\"),400.0)","v":400},{"$f":"IFERROR(__xludf.DUMMYFUNCTION(\"\"\"COMPUTED_VALUE\"\"\"),\"PAF finalisée\")","v":"PAF finalisée"},{"$f":"IFERROR(__xludf.DUMMYFUNCTION(\"\"\"COMPUTED_VALUE\"\"\"),\"non reçue\")","v":"non reçue"},{"$f":"IFERROR(__xludf.DUMMYFUNCTION(\"\"\"COMPUTED_VALUE\"\"\"),\"R.A.S.\")","v":"R.A.S."},{"$f":"IFERROR(__xludf.DUMMYFUNCTION(\"\"\"COMPUTED_VALUE\"\"\"),\"samedi\")","v":"samedi"},{"$f":"IFERROR(__xludf.DUMMYFUNCTION(\"\"\"COMPUTED_VALUE\"\"\"),\"Reste\")","v":"Reste"}]
[{"$f":"IFERROR(__xludf.DUMMYFUNCTION(\"\"\"COMPUTED_VALUE\"\"\"),45588.0)","v":"2024-10-23"},{"$f":"IFERROR(__xludf.DUMMYFUNCTION(\"\"\"COMPUTED_VALUE\"\"\"),\"FAR\")","v":"FAR"},{"$f":"IFERROR(__xludf.DUMMYFUNCTION(\"\"\"COMPUTED_VALUE\"\"\"),\"William\")","v":"William"},{"$f":"IFERROR(__xludf.DUMMYFUNCTION(\"\"\"COMPUTED_VALUE\"\"\"),\"H\")","v":"H"},{"$f":"IFERROR(__xludf.DUMMYFUNCTION(\"\"\"COMPUTED_VALUE\"\"\"),31.0)","v":31},{"$f":"IFERROR(__xludf.DUMMYFUNCTION(\"\"\"COMPUTED_VALUE\"\"\"),\"william.daniel.far@gmail.com\")","v":"william.daniel.far@gmail.com"},{"$f":"IFERROR(__xludf.DUMMYFUNCTION(\"\"\"COMPUTED_VALUE\"\"\"),\"William FAR\")","v":"William FAR"},{"$f":"IFERROR(__xludf.DUMMYFUNCTION(\"\"\"COMPUTED_VALUE\"\"\"),\"0681330259\")","v":"0681330259"},{"$f":"IFERROR(__xludf.DUMMYFUNCTION(\"\"\"COMPUTED_VALUE\"\"\"),\"Pur PJ\")","v":"Pur PJ"},{"$f":"IFERROR(__xludf.DUMMYFUNCTION(\"\"\"COMPUTED_VALUE\"\"\"),\"-\")","v":"-"},{"$f":"IFERROR(__xludf.DUMMYFUNCTION(\"\"\"COMPUTED_VALUE\"\"\"),\"Non précisé\")","v":"Non précisé"},{"$f":"IFERROR(__xludf.DUMMYFUNCTION(\"\"\"COMPUTED_VALUE\"\"\"),\"Navire et fort\")","v":"Navire et fort"},{"$f":"IFERROR(__xludf.DUMMYFUNCTION(\"\"\"COMPUTED_VALUE\"\"\"),\"OK\")","v":"OK"},{"$f":"IFERROR(__xludf.DUMMYFUNCTION(\"\"\"COMPUTED_VALUE\"\"\"),\"OK\")","v":"OK"},{"$f":"IFERROR(__xludf.DUMMYFUNCTION(\"\"\"COMPUTED_VALUE\"\"\"),\"septembre\")","v":"septembre"},{"$f":"IFERROR(__xludf.DUMMYFUNCTION(\"\"\"COMPUTED_VALUE\"\"\"),\"Navire & Fort\")","v":"Navire & Fort"},{"$f":"IFERROR(__xludf.DUMMYFUNCTION(\"\"\"COMPUTED_VALUE\"\"\"),133.5)","v":133.5},{"$f":"IFERROR(__xludf.DUMMYFUNCTION(\"\"\"COMPUTED_VALUE\"\"\"),\"PAF partielle\")","v":"PAF partielle"},{"$f":"IFERROR(__xludf.DUMMYFUNCTION(\"\"\"COMPUTED_VALUE\"\"\"),\"non reçue\")","v":"non reçue"},{"$f":"IFERROR(__xludf.DUMMYFUNCTION(\"\"\"COMPUTED_VALUE\"\"\"),\"R.A.S.\")","v":"R.A.S."},{"$f":"IFERROR(__xludf.DUMMYFUNCTION(\"\"\"COMPUTED_VALUE\"\"\"),\"samedi\")","v":"samedi"},{"$f":"IFERROR(__xludf.DUMMYFUNCTION(\"\"\"COMPUTED_VALUE\"\"\"),\"Reste\")","v":"Reste"}]
[{"$f":"IFERROR(__xludf.DUMMYFUNCTION(\"\"\"COMPUTED_VALUE\"\"\"),45596.0)","v":"2024-10-31"},{"$f":"IFERROR(__xludf.DUMMYFUNCTION(\"\"\"COMPUTED_VALUE\"\"\"),\"Gresset\")","v":"Gresset"},{"$f":"IFERROR(__xludf.DUMMYFUNCTION(\"\"\"COMPUTED_VALUE\"\"\"),\"Véronique \")","v":"Véronique "},{"$f":"IFERROR(__xludf.DUMMYFUNCTION(\"\"\"COMPUTED_VALUE\"\"\"),\"F\")","v":"F"},{"$f":"IFERROR(__xludf.DUMMYFUNCTION(\"\"\"COMPUTED_VALUE\"\"\"),56.0)","v":56},{"$f":"IFERROR(__xludf.DUMMYFUNCTION(\"\"\"COMPUTED_VALUE\"\"\"),\"veronique.gresset@gmail.com\")","v":"veronique.gresset@gmail.com"},{"$f":"IFERROR(__xludf.DUMMYFUNCTION(\"\"\"COMPUTED_VALUE\"\"\"),\"charlottesurlenet\")","v":"charlottesurlenet"},{"$f":"IFERROR(__xludf.DUMMYFUNCTION(\"\"\"COMPUTED_VALUE\"\"\"),\"0783736968\")","v":"0783736968"},{"$f":"IFERROR(__xludf.DUMMYFUNCTION(\"\"\"COMPUTED_VALUE\"\"\"),\"Pur PJ\")","v":"Pur PJ"},{"$f":"IFERROR(__xludf.DUMMYFUNCTION(\"\"\"COMPUTED_VALUE\"\"\"),\"-\")","v":"-"},{"$f":"IFERROR(__xludf.DUMMYFUNCTION(\"\"\"COMPUTED_VALUE\"\"\"),\"septembre\")","v":"septembre"},{"$f":"IFERROR(__xludf.DUMMYFUNCTION(\"\"\"COMPUTED_VALUE\"\"\"),\"Seulement au fort\")","v":"Seulement au fort"},{"$f":"IFERROR(__xludf.DUMMYFUNCTION(\"\"\"COMPUTED_VALUE\"\"\"),\"OK\")","v":"OK"},{"$f":"IFERROR(__xludf.DUMMYFUNCTION(\"\"\"COMPUTED_VALUE\"\"\"),\"OK\")","v":"OK"},{"$f":"IFERROR(__xludf.DUMMYFUNCTION(\"\"\"COMPUTED_VALUE\"\"\"),\"septembre\")","v":"septembre"},{"$f":"IFERROR(__xludf.DUMMYFUNCTION(\"\"\"COMPUTED_VALUE\"\"\"),\"Fort seulement\")","v":"Fort seulement"},null,{"$f":"IFERROR(__xludf.DUMMYFUNCTION(\"\"\"COMPUTED_VALUE\"\"\"),\"PAF non reçue\")","v":"PAF non reçue"},{"$f":"IFERROR(__xludf.DUMMYFUNCTION(\"\"\"COMPUTED_VALUE\"\"\"),\"non reçue\")","v":"non reçue"},{"$f":"IFERROR(__xludf.DUMMYFUNCTION(\"\"\"COMPUTED_VALUE\"\"\"),\"R.A.S.\")","v":"R.A.S."},{"$f":"IFERROR(__xludf.DUMMYFUNCTION(\"\"\"COMPUTED_VALUE\"\"\"),\"samedi\")","v":"samedi"},{"$f":"IFERROR(__xludf.DUMMYFUNCTION(\"\"\"COMPUTED_VALUE\"\"\"),\"Reste\")","v":"Reste"}]
[{"$f":"IFERROR(__xludf.DUMMYFUNCTION(\"\"\"COMPUTED_VALUE\"\"\"),45597.0)","v":"2024-11-01"},{"$f":"IFERROR(__xludf.DUMMYFUNCTION(\"\"\"COMPUTED_VALUE\"\"\"),\"Ortalo\")","v":"Ortalo"},{"$f":"IFERROR(__xludf.DUMMYFUNCTION(\"\"\"COMPUTED_VALUE\"\"\"),\"Pierre\")","v":"Pierre"},{"$f":"IFERROR(__xludf.DUMMYFUNCTION(\"\"\"COMPUTED_VALUE\"\"\"),\"H\")","v":"H"},{"$f":"IFERROR(__xludf.DUMMYFUNCTION(\"\"\"COMPUTED_VALUE\"\"\"),34.0)","v":34},{"$f":"IFERROR(__xludf.DUMMYFUNCTION(\"\"\"COMPUTED_VALUE\"\"\"),\"pierre@yuzupulse.eu\")","v":"pierre@yuzupulse.eu"},{"$f":"IFERROR(__xludf.DUMMYFUNCTION(\"\"\"COMPUTED_VALUE\"\"\"),\"Pierre ortalo\")","v":"Pierre ortalo"},null,{"$f":"IFERROR(__xludf.DUMMYFUNCTION(\"\"\"COMPUTED_VALUE\"\"\"),\"PJ+PNJ\")","v":"PJ+PNJ"},{"$f":"IFERROR(__xludf.DUMMYFUNCTION(\"\"\"COMPUTED_VALUE\"\"\"),\"-\")","v":"-"},{"$f":"IFERROR(__xludf.DUMMYFUNCTION(\"\"\"COMPUTED_VALUE\"\"\"),\"Les deux\")","v":"Les deux"},{"$f":"IFERROR(__xludf.DUMMYFUNCTION(\"\"\"COMPUTED_VALUE\"\"\"),\"Navire et fort\")","v":"Navire et fort"},{"$f":"IFERROR(__xludf.DUMMYFUNCTION(\"\"\"COMPUTED_VALUE\"\"\"),\"OK\")","v":"OK"},{"$f":"IFERROR(__xludf.DUMMYFUNCTION(\"\"\"COMPUTED_VALUE\"\"\"),\"OK\")","v":"OK"},{"$f":"IFERROR(__xludf.DUMMYFUNCTION(\"\"\"COMPUTED_VALUE\"\"\"),\"septembre\")","v":"septembre"},{"$f":"IFERROR(__xludf.DUMMYFUNCTION(\"\"\"COMPUTED_VALUE\"\"\"),\"Navire & Fort\")","v":"Navire & Fort"},{"$f":"IFERROR(__xludf.DUMMYFUNCTION(\"\"\"COMPUTED_VALUE\"\"\"),400.0)","v":400},{"$f":"IFERROR(__xludf.DUMMYFUNCTION(\"\"\"COMPUTED_VALUE\"\"\"),\"PAF finalisée\")","v":"PAF finalisée"},{"$f":"IFERROR(__xludf.DUMMYFUNCTION(\"\"\"COMPUTED_VALUE\"\"\"),\"non reçue\")","v":"non reçue"},{"$f":"IFERROR(__xludf.DUMMYFUNCTION(\"\"\"COMPUTED_VALUE\"\"\"),\"R.A.S.\")","v":"R.A.S."},{"$f":"IFERROR(__xludf.DUMMYFUNCTION(\"\"\"COMPUTED_VALUE\"\"\"),\"samedi\")","v":"samedi"},{"$f":"IFERROR(__xludf.DUMMYFUNCTION(\"\"\"COMPUTED_VALUE\"\"\"),\"Reste\")","v":"Reste"}]
[{"$f":"IFERROR(__xludf.DUMMYFUNCTION(\"\"\"COMPUTED_VALUE\"\"\"),45605.0)","v":"2024-11-09"},{"$f":"IFERROR(__xludf.DUMMYFUNCTION(\"\"\"COMPUTED_VALUE\"\"\"),\"Garros\")","v":"Garros"},{"$f":"IFERROR(__xludf.DUMMYFUNCTION(\"\"\"COMPUTED_VALUE\"\"\"),\"Alban\")","v":"Alban"},{"$f":"IFERROR(__xludf.DUMMYFUNCTION(\"\"\"COMPUTED_VALUE\"\"\"),\"H\")","v":"H"},{"$f":"IFERROR(__xludf.DUMMYFUNCTION(\"\"\"COMPUTED_VALUE\"\"\"),38.0)","v":38},{"$f":"IFERROR(__xludf.DUMMYFUNCTION(\"\"\"COMPUTED_VALUE\"\"\"),\"alban.garros@gmail.com\")","v":"alban.garros@gmail.com"},{"$f":"IFERROR(__xludf.DUMMYFUNCTION(\"\"\"COMPUTED_VALUE\"\"\"),\"Greffier Vicious Soul\")","v":"Greffier Vicious Soul"},{"$f":"IFERROR(__xludf.DUMMYFUNCTION(\"\"\"COMPUTED_VALUE\"\"\"),\"0686285280\")","v":"0686285280"},{"$f":"IFERROR(__xludf.DUMMYFUNCTION(\"\"\"COMPUTED_VALUE\"\"\"),\"PJ+PNJ\")","v":"PJ+PNJ"},{"$f":"IFERROR(__xludf.DUMMYFUNCTION(\"\"\"COMPUTED_VALUE\"\"\"),\"-\")","v":"-"},{"$f":"IFERROR(__xludf.DUMMYFUNCTION(\"\"\"COMPUTED_VALUE\"\"\"),\"septembre\")","v":"septembre"},{"$f":"IFERROR(__xludf.DUMMYFUNCTION(\"\"\"COMPUTED_VALUE\"\"\"),\"Peu importe\")","v":"Peu importe"},{"$f":"IFERROR(__xludf.DUMMYFUNCTION(\"\"\"COMPUTED_VALUE\"\"\"),\"OK\")","v":"OK"},{"$f":"IFERROR(__xludf.DUMMYFUNCTION(\"\"\"COMPUTED_VALUE\"\"\"),\"OK\")","v":"OK"},{"$f":"IFERROR(__xludf.DUMMYFUNCTION(\"\"\"COMPUTED_VALUE\"\"\"),\"septembre\")","v":"septembre"},{"$f":"IFERROR(__xludf.DUMMYFUNCTION(\"\"\"COMPUTED_VALUE\"\"\"),\"Navire & Fort\")","v":"Navire & Fort"},{"$f":"IFERROR(__xludf.DUMMYFUNCTION(\"\"\"COMPUTED_VALUE\"\"\"),400.0)","v":400},{"$f":"IFERROR(__xludf.DUMMYFUNCTION(\"\"\"COMPUTED_VALUE\"\"\"),\"PAF finalisée\")","v":"PAF finalisée"},{"$f":"IFERROR(__xludf.DUMMYFUNCTION(\"\"\"COMPUTED_VALUE\"\"\"),\"non reçue\")","v":"non reçue"},{"$f":"IFERROR(__xludf.DUMMYFUNCTION(\"\"\"COMPUTED_VALUE\"\"\"),\"R.A.S.\")","v":"R.A.S."},{"$f":"IFERROR(__xludf.DUMMYFUNCTION(\"\"\"COMPUTED_VALUE\"\"\"),\"samedi\")","v":"samedi"},{"$f":"IFERROR(__xludf.DUMMYFUNCTION(\"\"\"COMPUTED_VALUE\"\"\"),\"Reste\")","v":"Reste"}]
[{"$f":"IFERROR(__xludf.DUMMYFUNCTION(\"\"\"COMPUTED_VALUE\"\"\"),45617.0)","v":"2024-11-21"},{"$f":"IFERROR(__xludf.DUMMYFUNCTION(\"\"\"COMPUTED_VALUE\"\"\"),\"Trémoulière\")","v":"Trémoulière"},{"$f":"IFERROR(__xludf.DUMMYFUNCTION(\"\"\"COMPUTED_VALUE\"\"\"),\"Claire\")","v":"Claire"},{"$f":"IFERROR(__xludf.DUMMYFUNCTION(\"\"\"COMPUTED_VALUE\"\"\"),\"F\")","v":"F"},{"$f":"IFERROR(__xludf.DUMMYFUNCTION(\"\"\"COMPUTED_VALUE\"\"\"),30.0)","v":30},{"$f":"IFERROR(__xludf.DUMMYFUNCTION(\"\"\"COMPUTED_VALUE\"\"\"),\"claire.tremouliere@gmail.com\")","v":"claire.tremouliere@gmail.com"},{"$f":"IFERROR(__xludf.DUMMYFUNCTION(\"\"\"COMPUTED_VALUE\"\"\"),\"Claire Trml\")","v":"Claire Trml"},{"$f":"IFERROR(__xludf.DUMMYFUNCTION(\"\"\"COMPUTED_VALUE\"\"\"),\"0647932215\")","v":"0647932215"},{"$f":"IFERROR(__xludf.DUMMYFUNCTION(\"\"\"COMPUTED_VALUE\"\"\"),\"Pur PJ\")","v":"Pur PJ"},{"$f":"IFERROR(__xludf.DUMMYFUNCTION(\"\"\"COMPUTED_VALUE\"\"\"),\"-\")","v":"-"},{"$f":"IFERROR(__xludf.DUMMYFUNCTION(\"\"\"COMPUTED_VALUE\"\"\"),\"septembre\")","v":"septembre"},{"$f":"IFERROR(__xludf.DUMMYFUNCTION(\"\"\"COMPUTED_VALUE\"\"\"),\"Seulement au fort\")","v":"Seulement au fort"},{"$f":"IFERROR(__xludf.DUMMYFUNCTION(\"\"\"COMPUTED_VALUE\"\"\"),\"OK\")","v":"OK"},{"$f":"IFERROR(__xludf.DUMMYFUNCTION(\"\"\"COMPUTED_VALUE\"\"\"),\"OK\")","v":"OK"},{"$f":"IFERROR(__xludf.DUMMYFUNCTION(\"\"\"COMPUTED_VALUE\"\"\"),\"septembre\")","v":"septembre"},{"$f":"IFERROR(__xludf.DUMMYFUNCTION(\"\"\"COMPUTED_VALUE\"\"\"),\"Fort seulement\")","v":"Fort seulement"},null,{"$f":"IFERROR(__xludf.DUMMYFUNCTION(\"\"\"COMPUTED_VALUE\"\"\"),\"PAF non reçue\")","v":"PAF non reçue"},{"$f":"IFERROR(__xludf.DUMMYFUNCTION(\"\"\"COMPUTED_VALUE\"\"\"),\"non reçue\")","v":"non reçue"},{"$f":"IFERROR(__xludf.DUMMYFUNCTION(\"\"\"COMPUTED_VALUE\"\"\"),\"R.A.S.\")","v":"R.A.S."},{"$f":"IFERROR(__xludf.DUMMYFUNCTION(\"\"\"COMPUTED_VALUE\"\"\"),\"samedi\")","v":"samedi"},{"$f":"IFERROR(__xludf.DUMMYFUNCTION(\"\"\"COMPUTED_VALUE\"\"\"),\"Reste\")","v":"Reste"}]
[{"$f":"IFERROR(__xludf.DUMMYFUNCTION(\"\"\"COMPUTED_VALUE\"\"\"),45618.0)","v":"2024-11-22"},{"$f":"IFERROR(__xludf.DUMMYFUNCTION(\"\"\"COMPUTED_VALUE\"\"\"),\"Fustec\")","v":"Fustec"},{"$f":"IFERROR(__xludf.DUMMYFUNCTION(\"\"\"COMPUTED_VALUE\"\"\"),\"Timothée\")","v":"Timothée"},{"$f":"IFERROR(__xludf.DUMMYFUNCTION(\"\"\"COMPUTED_VALUE\"\"\"),\"H\")","v":"H"},{"$f":"IFERROR(__xludf.DUMMYFUNCTION(\"\"\"COMPUTED_VALUE\"\"\"),31.0)","v":31},{"$f":"IFERROR(__xludf.DUMMYFUNCTION(\"\"\"COMPUTED_VALUE\"\"\"),\"timothee.fustec@gmail.com\")","v":"timothee.fustec@gmail.com"},{"$f":"IFERROR(__xludf.DUMMYFUNCTION(\"\"\"COMPUTED_VALUE\"\"\"),\"L'Homme À Tentacules\")","v":"L'Homme À Tentacules"},{"$f":"IFERROR(__xludf.DUMMYFUNCTION(\"\"\"COMPUTED_VALUE\"\"\"),\"0679313968\")","v":"0679313968"},{"$f":"IFERROR(__xludf.DUMMYFUNCTION(\"\"\"COMPUTED_VALUE\"\"\"),\"PJ+PNJ\")","v":"PJ+PNJ"},{"$f":"IFERROR(__xludf.DUMMYFUNCTION(\"\"\"COMPUTED_VALUE\"\"\"),\"-\")","v":"-"},{"$f":"IFERROR(__xludf.DUMMYFUNCTION(\"\"\"COMPUTED_VALUE\"\"\"),\"septembre\")","v":"septembre"},{"$f":"IFERROR(__xludf.DUMMYFUNCTION(\"\"\"COMPUTED_VALUE\"\"\"),\"Peu importe\")","v":"Peu importe"},{"$f":"IFERROR(__xludf.DUMMYFUNCTION(\"\"\"COMPUTED_VALUE\"\"\"),\"OK\")","v":"OK"},{"$f":"IFERROR(__xludf.DUMMYFUNCTION(\"\"\"COMPUTED_VALUE\"\"\"),\"OK\")","v":"OK"},{"$f":"IFERROR(__xludf.DUMMYFUNCTION(\"\"\"COMPUTED_VALUE\"\"\"),\"septembre\")","v":"septembre"},{"$f":"IFERROR(__xludf.DUMMYFUNCTION(\"\"\"COMPUTED_VALUE\"\"\"),\"Fort seulement\")","v":"Fort seulement"},null,{"$f":"IFERROR(__xludf.DUMMYFUNCTION(\"\"\"COMPUTED_VALUE\"\"\"),\"PAF non reçue\")","v":"PAF non reçue"},{"$f":"IFERROR(__xludf.DUMMYFUNCTION(\"\"\"COMPUTED_VALUE\"\"\"),\"non reçue\")","v":"non reçue"},{"$f":"IFERROR(__xludf.DUMMYFUNCTION(\"\"\"COMPUTED_VALUE\"\"\"),\"R.A.S.\")","v":"R.A.S."},{"$f":"IFERROR(__xludf.DUMMYFUNCTION(\"\"\"COMPUTED_VALUE\"\"\"),\"samedi\")","v":"samedi"},{"$f":"IFERROR(__xludf.DUMMYFUNCTION(\"\"\"COMPUTED_VALUE\"\"\"),\"Reste\")","v":"Reste"}]
[{"$f":"IFERROR(__xludf.DUMMYFUNCTION(\"\"\"COMPUTED_VALUE\"\"\"),45642.0)","v":"2024-12-16"},{"$f":"IFERROR(__xludf.DUMMYFUNCTION(\"\"\"COMPUTED_VALUE\"\"\"),\"Tallon\")","v":"Tallon"},{"$f":"IFERROR(__xludf.DUMMYFUNCTION(\"\"\"COMPUTED_VALUE\"\"\"),\"Anais (Anya)\")","v":"Anais (Anya)"},{"$f":"IFERROR(__xludf.DUMMYFUNCTION(\"\"\"COMPUTED_VALUE\"\"\"),\"F\")","v":"F"},{"$f":"IFERROR(__xludf.DUMMYFUNCTION(\"\"\"COMPUTED_VALUE\"\"\"),32.0)","v":32},{"$f":"IFERROR(__xludf.DUMMYFUNCTION(\"\"\"COMPUTED_VALUE\"\"\"),\"anya.tallon@gmail.com\")","v":"anya.tallon@gmail.com"},{"$f":"IFERROR(__xludf.DUMMYFUNCTION(\"\"\"COMPUTED_VALUE\"\"\"),\"Pas de FB\")","v":"Pas de FB"},{"$f":"IFERROR(__xludf.DUMMYFUNCTION(\"\"\"COMPUTED_VALUE\"\"\"),\"0780727728\")","v":"0780727728"},{"$f":"IFERROR(__xludf.DUMMYFUNCTION(\"\"\"COMPUTED_VALUE\"\"\"),\"PJ+PNJ\")","v":"PJ+PNJ"},{"$f":"IFERROR(__xludf.DUMMYFUNCTION(\"\"\"COMPUTED_VALUE\"\"\"),\"-\")","v":"-"},{"$f":"IFERROR(__xludf.DUMMYFUNCTION(\"\"\"COMPUTED_VALUE\"\"\"),\"septembre\")","v":"septembre"},{"$f":"IFERROR(__xludf.DUMMYFUNCTION(\"\"\"COMPUTED_VALUE\"\"\"),\"Seulement au fort\")","v":"Seulement au fort"},{"$f":"IFERROR(__xludf.DUMMYFUNCTION(\"\"\"COMPUTED_VALUE\"\"\"),\"OK\")","v":"OK"},{"$f":"IFERROR(__xludf.DUMMYFUNCTION(\"\"\"COMPUTED_VALUE\"\"\"),\"OK\")","v":"OK"},{"$f":"IFERROR(__xludf.DUMMYFUNCTION(\"\"\"COMPUTED_VALUE\"\"\"),\"septembre\")","v":"septembre"},{"$f":"IFERROR(__xludf.DUMMYFUNCTION(\"\"\"COMPUTED_VALUE\"\"\"),\"Fort seulement\")","v":"Fort seulement"},{"$f":"IFERROR(__xludf.DUMMYFUNCTION(\"\"\"COMPUTED_VALUE\"\"\"),200.0)","v":200},{"$f":"IFERROR(__xludf.DUMMYFUNCTION(\"\"\"COMPUTED_VALUE\"\"\"),\"PAF finalisée\")","v":"PAF finalisée"},{"$f":"IFERROR(__xludf.DUMMYFUNCTION(\"\"\"COMPUTED_VALUE\"\"\"),\"non reçue\")","v":"non reçue"},{"$f":"IFERROR(__xludf.DUMMYFUNCTION(\"\"\"COMPUTED_VALUE\"\"\"),\"R.A.S.\")","v":"R.A.S."},{"$f":"IFERROR(__xludf.DUMMYFUNCTION(\"\"\"COMPUTED_VALUE\"\"\"),\"samedi\")","v":"samedi"},{"$f":"IFERROR(__xludf.DUMMYFUNCTION(\"\"\"COMPUTED_VALUE\"\"\"),\"Reste\")","v":"Reste"}]
[{"$f":"IFERROR(__xludf.DUMMYFUNCTION(\"\"\"COMPUTED_VALUE\"\"\"),45660.0)","v":"2025-01-03"},{"$f":"IFERROR(__xludf.DUMMYFUNCTION(\"\"\"COMPUTED_VALUE\"\"\"),\"Vidal \")","v":"Vidal "},{"$f":"IFERROR(__xludf.DUMMYFUNCTION(\"\"\"COMPUTED_VALUE\"\"\"),\"Jules\")","v":"Jules"},{"$f":"IFERROR(__xludf.DUMMYFUNCTION(\"\"\"COMPUTED_VALUE\"\"\"),\"H\")","v":"H"},{"$f":"IFERROR(__xludf.DUMMYFUNCTION(\"\"\"COMPUTED_VALUE\"\"\"),31.0)","v":31},{"$f":"IFERROR(__xludf.DUMMYFUNCTION(\"\"\"COMPUTED_VALUE\"\"\"),\"jules.vidal@live.fr\")","v":"jules.vidal@live.fr"},{"$f":"IFERROR(__xludf.DUMMYFUNCTION(\"\"\"COMPUTED_VALUE\"\"\"),\"Jules Vidal \")","v":"Jules Vidal "},{"$f":"IFERROR(__xludf.DUMMYFUNCTION(\"\"\"COMPUTED_VALUE\"\"\"),\"645063353\")","v":"645063353"},{"$f":"IFERROR(__xludf.DUMMYFUNCTION(\"\"\"COMPUTED_VALUE\"\"\"),\"PJ+PNJ\")","v":"PJ+PNJ"},{"$f":"IFERROR(__xludf.DUMMYFUNCTION(\"\"\"COMPUTED_VALUE\"\"\"),\"-\")","v":"-"},{"$f":"IFERROR(__xludf.DUMMYFUNCTION(\"\"\"COMPUTED_VALUE\"\"\"),\"Les deux\")","v":"Les deux"},{"$f":"IFERROR(__xludf.DUMMYFUNCTION(\"\"\"COMPUTED_VALUE\"\"\"),\"Navire et fort\")","v":"Navire et fort"},{"$f":"IFERROR(__xludf.DUMMYFUNCTION(\"\"\"COMPUTED_VALUE\"\"\"),\"OK\")","v":"OK"},{"$f":"IFERROR(__xludf.DUMMYFUNCTION(\"\"\"COMPUTED_VALUE\"\"\"),\"OK\")","v":"OK"},{"$f":"IFERROR(__xludf.DUMMYFUNCTION(\"\"\"COMPUTED_VALUE\"\"\"),\"septembre\")","v":"septembre"},{"$f":"IFERROR(__xludf.DUMMYFUNCTION(\"\"\"COMPUTED_VALUE\"\"\"),\"Navire & Fort\")","v":"Navire & Fort"},null,{"$f":"IFERROR(__xludf.DUMMYFUNCTION(\"\"\"COMPUTED_VALUE\"\"\"),\"PAF non reçue\")","v":"PAF non reçue"},{"$f":"IFERROR(__xludf.DUMMYFUNCTION(\"\"\"COMPUTED_VALUE\"\"\"),\"non reçue\")","v":"non reçue"},{"$f":"IFERROR(__xludf.DUMMYFUNCTION(\"\"\"COMPUTED_VALUE\"\"\"),\"R.A.S.\")","v":"R.A.S."},{"$f":"IFERROR(__xludf.DUMMYFUNCTION(\"\"\"COMPUTED_VALUE\"\"\"),\"samedi\")","v":"samedi"},{"$f":"IFERROR(__xludf.DUMMYFUNCTION(\"\"\"COMPUTED_VALUE\"\"\"),\"Reste\")","v":"Reste"}]
[{"$f":"IFERROR(__xludf.DUMMYFUNCTION(\"\"\"COMPUTED_VALUE\"\"\"),45661.0)","v":"2025-01-04"},{"$f":"IFERROR(__xludf.DUMMYFUNCTION(\"\"\"COMPUTED_VALUE\"\"\"),\"Barrere\")","v":"Barrere"},{"$f":"IFERROR(__xludf.DUMMYFUNCTION(\"\"\"COMPUTED_VALUE\"\"\"),\"Ludovic\")","v":"Ludovic"},{"$f":"IFERROR(__xludf.DUMMYFUNCTION(\"\"\"COMPUTED_VALUE\"\"\"),\"H\")","v":"H"},{"$f":"IFERROR(__xludf.DUMMYFUNCTION(\"\"\"COMPUTED_VALUE\"\"\"),-68648.0)","v":-68648},{"$f":"IFERROR(__xludf.DUMMYFUNCTION(\"\"\"COMPUTED_VALUE\"\"\"),\"ludobarrere@hotmail.fr\")","v":"ludobarrere@hotmail.fr"},{"$f":"IFERROR(__xludf.DUMMYFUNCTION(\"\"\"COMPUTED_VALUE\"\"\"),\"Lu Dovic\")","v":"Lu Dovic"},{"$f":"IFERROR(__xludf.DUMMYFUNCTION(\"\"\"COMPUTED_VALUE\"\"\"),\"0617981351\")","v":"0617981351"},{"$f":"IFERROR(__xludf.DUMMYFUNCTION(\"\"\"COMPUTED_VALUE\"\"\"),\"Pur PJ\")","v":"Pur PJ"},{"$f":"IFERROR(__xludf.DUMMYFUNCTION(\"\"\"COMPUTED_VALUE\"\"\"),\"-\")","v":"-"},{"$f":"IFERROR(__xludf.DUMMYFUNCTION(\"\"\"COMPUTED_VALUE\"\"\"),\"septembre\")","v":"septembre"},{"$f":"IFERROR(__xludf.DUMMYFUNCTION(\"\"\"COMPUTED_VALUE\"\"\"),\"Navire et fort\")","v":"Navire et fort"},{"$f":"IFERROR(__xludf.DUMMYFUNCTION(\"\"\"COMPUTED_VALUE\"\"\"),\"OK\")","v":"OK"},{"$f":"IFERROR(__xludf.DUMMYFUNCTION(\"\"\"COMPUTED_VALUE\"\"\"),\"OK\")","v":"OK"},{"$f":"IFERROR(__xludf.DUMMYFUNCTION(\"\"\"COMPUTED_VALUE\"\"\"),\"septembre\")","v":"septembre"},{"$f":"IFERROR(__xludf.DUMMYFUNCTION(\"\"\"COMPUTED_VALUE\"\"\"),\"Navire & Fort\")","v":"Navire & Fort"},null,{"$f":"IFERROR(__xludf.DUMMYFUNCTION(\"\"\"COMPUTED_VALUE\"\"\"),\"PAF non reçue\")","v":"PAF non reçue"},{"$f":"IFERROR(__xludf.DUMMYFUNCTION(\"\"\"COMPUTED_VALUE\"\"\"),\"non reçue\")","v":"non reçue"},{"$f":"IFERROR(__xludf.DUMMYFUNCTION(\"\"\"COMPUTED_VALUE\"\"\"),\"R.A.S.\")","v":"R.A.S."},{"$f":"IFERROR(__xludf.DUMMYFUNCTION(\"\"\"COMPUTED_VALUE\"\"\"),\"samedi\")","v":"samedi"},{"$f":"IFERROR(__xludf.DUMMYFUNCTION(\"\"\"COMPUTED_VALUE\"\"\"),\"Reste\")","v":"Reste"}]
[{"$f":"IFERROR(__xludf.DUMMYFUNCTION(\"\"\"COMPUTED_VALUE\"\"\"),45663.0)","v":"2025-01-06"},{"$f":"IFERROR(__xludf.DUMMYFUNCTION(\"\"\"COMPUTED_VALUE\"\"\"),\"JONAS\")","v":"JONAS"},{"$f":"IFERROR(__xludf.DUMMYFUNCTION(\"\"\"COMPUTED_VALUE\"\"\"),\"Thomas\")","v":"Thomas"},{"$f":"IFERROR(__xludf.DUMMYFUNCTION(\"\"\"COMPUTED_VALUE\"\"\"),\"H\")","v":"H"},null,{"$f":"IFERROR(__xludf.DUMMYFUNCTION(\"\"\"COMPUTED_VALUE\"\"\"),\"black_writer@hotmail.fr\")","v":"black_writer@hotmail.fr"},{"$f":"IFERROR(__xludf.DUMMYFUNCTION(\"\"\"COMPUTED_VALUE\"\"\"),\"Baron von Bismarck\")","v":"Baron von Bismarck"},{"$f":"IFERROR(__xludf.DUMMYFUNCTION(\"\"\"COMPUTED_VALUE\"\"\"),\"0651389187\")","v":"0651389187"},{"$f":"IFERROR(__xludf.DUMMYFUNCTION(\"\"\"COMPUTED_VALUE\"\"\"),\"Pur PJ\")","v":"Pur PJ"},{"$f":"IFERROR(__xludf.DUMMYFUNCTION(\"\"\"COMPUTED_VALUE\"\"\"),\"-\")","v":"-"},{"$f":"IFERROR(__xludf.DUMMYFUNCTION(\"\"\"COMPUTED_VALUE\"\"\"),\"septembre\")","v":"septembre"},{"$f":"IFERROR(__xludf.DUMMYFUNCTION(\"\"\"COMPUTED_VALUE\"\"\"),\"Navire et fort\")","v":"Navire et fort"},{"$f":"IFERROR(__xludf.DUMMYFUNCTION(\"\"\"COMPUTED_VALUE\"\"\"),\"OK\")","v":"OK"},{"$f":"IFERROR(__xludf.DUMMYFUNCTION(\"\"\"COMPUTED_VALUE\"\"\"),\"OK\")","v":"OK"},{"$f":"IFERROR(__xludf.DUMMYFUNCTION(\"\"\"COMPUTED_VALUE\"\"\"),\"septembre\")","v":"septembre"},{"$f":"IFERROR(__xludf.DUMMYFUNCTION(\"\"\"COMPUTED_VALUE\"\"\"),\"Navire & Fort\")","v":"Navire & Fort"},{"$f":"IFERROR(__xludf.DUMMYFUNCTION(\"\"\"COMPUTED_VALUE\"\"\"),400.0)","v":400},{"$f":"IFERROR(__xludf.DUMMYFUNCTION(\"\"\"COMPUTED_VALUE\"\"\"),\"PAF finalisée\")","v":"PAF finalisée"},{"$f":"IFERROR(__xludf.DUMMYFUNCTION(\"\"\"COMPUTED_VALUE\"\"\"),\"non reçue\")","v":"non reçue"},{"$f":"IFERROR(__xludf.DUMMYFUNCTION(\"\"\"COMPUTED_VALUE\"\"\"),\"R.A.S.\")","v":"R.A.S."},{"$f":"IFERROR(__xludf.DUMMYFUNCTION(\"\"\"COMPUTED_VALUE\"\"\"),\"samedi\")","v":"samedi"},{"$f":"IFERROR(__xludf.DUMMYFUNCTION(\"\"\"COMPUTED_VALUE\"\"\"),\"Reste\")","v":"Reste"}]
[{"$f":"IFERROR(__xludf.DUMMYFUNCTION(\"\"\"COMPUTED_VALUE\"\"\"),45664.0)","v":"2025-01-07"},{"$f":"IFERROR(__xludf.DUMMYFUNCTION(\"\"\"COMPUTED_VALUE\"\"\"),\"leveque\")","v":"leveque"},{"$f":"IFERROR(__xludf.DUMMYFUNCTION(\"\"\"COMPUTED_VALUE\"\"\"),\"Jonathan\")","v":"Jonathan"},{"$f":"IFERROR(__xludf.DUMMYFUNCTION(\"\"\"COMPUTED_VALUE\"\"\"),\"H\")","v":"H"},{"$f":"IFERROR(__xludf.DUMMYFUNCTION(\"\"\"COMPUTED_VALUE\"\"\"),39.0)","v":39},{"$f":"IFERROR(__xludf.DUMMYFUNCTION(\"\"\"COMPUTED_VALUE\"\"\"),\"j.leveque44@gmail.com\")","v":"j.leveque44@gmail.com"},{"$f":"IFERROR(__xludf.DUMMYFUNCTION(\"\"\"COMPUTED_VALUE\"\"\"),\"John Calias\")","v":"John Calias"},{"$f":"IFERROR(__xludf.DUMMYFUNCTION(\"\"\"COMPUTED_VALUE\"\"\"),\"0474450053\")","v":"0474450053"},{"$f":"IFERROR(__xludf.DUMMYFUNCTION(\"\"\"COMPUTED_VALUE\"\"\"),\"PJ+PNJ\")","v":"PJ+PNJ"},{"$f":"IFERROR(__xludf.DUMMYFUNCTION(\"\"\"COMPUTED_VALUE\"\"\"),\"-\")","v":"-"},{"$f":"IFERROR(__xludf.DUMMYFUNCTION(\"\"\"COMPUTED_VALUE\"\"\"),\"Les deux\")","v":"Les deux"},{"$f":"IFERROR(__xludf.DUMMYFUNCTION(\"\"\"COMPUTED_VALUE\"\"\"),\"Navire et fort\")","v":"Navire et fort"},{"$f":"IFERROR(__xludf.DUMMYFUNCTION(\"\"\"COMPUTED_VALUE\"\"\"),\"OK\")","v":"OK"},{"$f":"IFERROR(__xludf.DUMMYFUNCTION(\"\"\"COMPUTED_VALUE\"\"\"),\"OK\")","v":"OK"},{"$f":"IFERROR(__xludf.DUMMYFUNCTION(\"\"\"COMPUTED_VALUE\"\"\"),\"septembre\")","v":"septembre"},{"$f":"IFERROR(__xludf.DUMMYFUNCTION(\"\"\"COMPUTED_VALUE\"\"\"),\"Navire & Fort\")","v":"Navire & Fort"},null,{"$f":"IFERROR(__xludf.DUMMYFUNCTION(\"\"\"COMPUTED_VALUE\"\"\"),\"PAF non reçue\")","v":"PAF non reçue"},{"$f":"IFERROR(__xludf.DUMMYFUNCTION(\"\"\"COMPUTED_VALUE\"\"\"),\"non reçue\")","v":"non reçue"},{"$f":"IFERROR(__xludf.DUMMYFUNCTION(\"\"\"COMPUTED_VALUE\"\"\"),\"R.A.S.\")","v":"R.A.S."},{"$f":"IFERROR(__xludf.DUMMYFUNCTION(\"\"\"COMPUTED_VALUE\"\"\"),\"samedi\")","v":"samedi"},{"$f":"IFERROR(__xludf.DUMMYFUNCTION(\"\"\"COMPUTED_VALUE\"\"\"),\"Reste\")","v":"Reste"}]
[{"$f":"IFERROR(__xludf.DUMMYFUNCTION(\"\"\"COMPUTED_VALUE\"\"\"),45671.0)","v":"2025-01-14"},{"$f":"IFERROR(__xludf.DUMMYFUNCTION(\"\"\"COMPUTED_VALUE\"\"\"),\"Guyot\")","v":"Guyot"},{"$f":"IFERROR(__xludf.DUMMYFUNCTION(\"\"\"COMPUTED_VALUE\"\"\"),\"Romain\")","v":"Romain"},{"$f":"IFERROR(__xludf.DUMMYFUNCTION(\"\"\"COMPUTED_VALUE\"\"\"),\"H\")","v":"H"},{"$f":"IFERROR(__xludf.DUMMYFUNCTION(\"\"\"COMPUTED_VALUE\"\"\"),34.0)","v":34},{"$f":"IFERROR(__xludf.DUMMYFUNCTION(\"\"\"COMPUTED_VALUE\"\"\"),\"rogguyot@gmail.com\")","v":"rogguyot@gmail.com"},{"$f":"IFERROR(__xludf.DUMMYFUNCTION(\"\"\"COMPUTED_VALUE\"\"\"),\"romain.guyot.334\")","v":"romain.guyot.334"},{"$f":"IFERROR(__xludf.DUMMYFUNCTION(\"\"\"COMPUTED_VALUE\"\"\"),\"0680168165\")","v":"0680168165"},{"$f":"IFERROR(__xludf.DUMMYFUNCTION(\"\"\"COMPUTED_VALUE\"\"\"),\"Pur PJ\")","v":"Pur PJ"},{"$f":"IFERROR(__xludf.DUMMYFUNCTION(\"\"\"COMPUTED_VALUE\"\"\"),\"-\")","v":"-"},{"$f":"IFERROR(__xludf.DUMMYFUNCTION(\"\"\"COMPUTED_VALUE\"\"\"),\"Les deux\")","v":"Les deux"},{"$f":"IFERROR(__xludf.DUMMYFUNCTION(\"\"\"COMPUTED_VALUE\"\"\"),\"Navire et fort\")","v":"Navire et fort"},{"$f":"IFERROR(__xludf.DUMMYFUNCTION(\"\"\"COMPUTED_VALUE\"\"\"),\"OK\")","v":"OK"},{"$f":"IFERROR(__xludf.DUMMYFUNCTION(\"\"\"COMPUTED_VALUE\"\"\"),\"OK\")","v":"OK"},{"$f":"IFERROR(__xludf.DUMMYFUNCTION(\"\"\"COMPUTED_VALUE\"\"\"),\"septembre\")","v":"septembre"},{"$f":"IFERROR(__xludf.DUMMYFUNCTION(\"\"\"COMPUTED_VALUE\"\"\"),\"Navire & Fort\")","v":"Navire & Fort"},{"$f":"IFERROR(__xludf.DUMMYFUNCTION(\"\"\"COMPUTED_VALUE\"\"\"),133.5)","v":133.5},{"$f":"IFERROR(__xludf.DUMMYFUNCTION(\"\"\"COMPUTED_VALUE\"\"\"),\"PAF partielle\")","v":"PAF partielle"},{"$f":"IFERROR(__xludf.DUMMYFUNCTION(\"\"\"COMPUTED_VALUE\"\"\"),\"non reçue\")","v":"non reçue"},{"$f":"IFERROR(__xludf.DUMMYFUNCTION(\"\"\"COMPUTED_VALUE\"\"\"),\"R.A.S.\")","v":"R.A.S."},{"$f":"IFERROR(__xludf.DUMMYFUNCTION(\"\"\"COMPUTED_VALUE\"\"\"),\"samedi\")","v":"samedi"},{"$f":"IFERROR(__xludf.DUMMYFUNCTION(\"\"\"COMPUTED_VALUE\"\"\"),\"Reste\")","v":"Reste"}]
[{"$f":"IFERROR(__xludf.DUMMYFUNCTION(\"\"\"COMPUTED_VALUE\"\"\"),45672.0)","v":"2025-01-15"},{"$f":"IFERROR(__xludf.DUMMYFUNCTION(\"\"\"COMPUTED_VALUE\"\"\"),\"Flamant\")","v":"Flamant"},{"$f":"IFERROR(__xludf.DUMMYFUNCTION(\"\"\"COMPUTED_VALUE\"\"\"),\"Julien\")","v":"Julien"},{"$f":"IFERROR(__xludf.DUMMYFUNCTION(\"\"\"COMPUTED_VALUE\"\"\"),\"H\")","v":"H"},{"$f":"IFERROR(__xludf.DUMMYFUNCTION(\"\"\"COMPUTED_VALUE\"\"\"),42.0)","v":42},{"$f":"IFERROR(__xludf.DUMMYFUNCTION(\"\"\"COMPUTED_VALUE\"\"\"),\"julien.flamant@gmail.com\")","v":"julien.flamant@gmail.com"},{"$f":"IFERROR(__xludf.DUMMYFUNCTION(\"\"\"COMPUTED_VALUE\"\"\"),\"P'tit Fût l'Apostat\")","v":"P'tit Fût l'Apostat"},{"$f":"IFERROR(__xludf.DUMMYFUNCTION(\"\"\"COMPUTED_VALUE\"\"\"),\"0679705430\")","v":"0679705430"},{"$f":"IFERROR(__xludf.DUMMYFUNCTION(\"\"\"COMPUTED_VALUE\"\"\"),\"Pur PJ\")","v":"Pur PJ"},{"$f":"IFERROR(__xludf.DUMMYFUNCTION(\"\"\"COMPUTED_VALUE\"\"\"),\"-\")","v":"-"},{"$f":"IFERROR(__xludf.DUMMYFUNCTION(\"\"\"COMPUTED_VALUE\"\"\"),\"septembre\")","v":"septembre"},{"$f":"IFERROR(__xludf.DUMMYFUNCTION(\"\"\"COMPUTED_VALUE\"\"\"),\"Seulement au fort\")","v":"Seulement au fort"},{"$f":"IFERROR(__xludf.DUMMYFUNCTION(\"\"\"COMPUTED_VALUE\"\"\"),\"OK\")","v":"OK"},{"$f":"IFERROR(__xludf.DUMMYFUNCTION(\"\"\"COMPUTED_VALUE\"\"\"),\"OK\")","v":"OK"},{"$f":"IFERROR(__xludf.DUMMYFUNCTION(\"\"\"COMPUTED_VALUE\"\"\"),\"septembre\")","v":"septembre"},{"$f":"IFERROR(__xludf.DUMMYFUNCTION(\"\"\"COMPUTED_VALUE\"\"\"),\"Fort seulement\")","v":"Fort seulement"},null,{"$f":"IFERROR(__xludf.DUMMYFUNCTION(\"\"\"COMPUTED_VALUE\"\"\"),\"PAF non reçue\")","v":"PAF non reçue"},{"$f":"IFERROR(__xludf.DUMMYFUNCTION(\"\"\"COMPUTED_VALUE\"\"\"),\"non reçue\")","v":"non reçue"},{"$f":"IFERROR(__xludf.DUMMYFUNCTION(\"\"\"COMPUTED_VALUE\"\"\"),\"R.A.S.\")","v":"R.A.S."},{"$f":"IFERROR(__xludf.DUMMYFUNCTION(\"\"\"COMPUTED_VALUE\"\"\"),\"samedi\")","v":"samedi"},{"$f":"IFERROR(__xludf.DUMMYFUNCTION(\"\"\"COMPUTED_VALUE\"\"\"),\"Reste\")","v":"Reste"}]
[{"$f":"IFERROR(__xludf.DUMMYFUNCTION(\"\"\"COMPUTED_VALUE\"\"\"),45673.0)","v":"2025-01-16"},{"$f":"IFERROR(__xludf.DUMMYFUNCTION(\"\"\"COMPUTED_VALUE\"\"\"),\"Jullien\")","v":"Jullien"},{"$f":"IFERROR(__xludf.DUMMYFUNCTION(\"\"\"COMPUTED_VALUE\"\"\"),\"Agnes\")","v":"Agnes"},{"$f":"IFERROR(__xludf.DUMMYFUNCTION(\"\"\"COMPUTED_VALUE\"\"\"),\"F\")","v":"F"},{"$f":"IFERROR(__xludf.DUMMYFUNCTION(\"\"\"COMPUTED_VALUE\"\"\"),44.0)","v":44},{"$f":"IFERROR(__xludf.DUMMYFUNCTION(\"\"\"COMPUTED_VALUE\"\"\"),\"ag9734@yahoo.com\")","v":"ag9734@yahoo.com"},{"$f":"IFERROR(__xludf.DUMMYFUNCTION(\"\"\"COMPUTED_VALUE\"\"\"),\"Agnès Jullien\")","v":"Agnès Jullien"},{"$f":"IFERROR(__xludf.DUMMYFUNCTION(\"\"\"COMPUTED_VALUE\"\"\"),\"0642584516\")","v":"0642584516"},{"$f":"IFERROR(__xludf.DUMMYFUNCTION(\"\"\"COMPUTED_VALUE\"\"\"),\"Pur PJ\")","v":"Pur PJ"},{"$f":"IFERROR(__xludf.DUMMYFUNCTION(\"\"\"COMPUTED_VALUE\"\"\"),\"-\")","v":"-"},{"$f":"IFERROR(__xludf.DUMMYFUNCTION(\"\"\"COMPUTED_VALUE\"\"\"),\"septembre\")","v":"septembre"},{"$f":"IFERROR(__xludf.DUMMYFUNCTION(\"\"\"COMPUTED_VALUE\"\"\"),\"Peu importe\")","v":"Peu importe"},{"$f":"IFERROR(__xludf.DUMMYFUNCTION(\"\"\"COMPUTED_VALUE\"\"\"),\"OK\")","v":"OK"},{"$f":"IFERROR(__xludf.DUMMYFUNCTION(\"\"\"COMPUTED_VALUE\"\"\"),\"OK\")","v":"OK"},{"$f":"IFERROR(__xludf.DUMMYFUNCTION(\"\"\"COMPUTED_VALUE\"\"\"),\"septembre\")","v":"septembre"},{"$f":"IFERROR(__xludf.DUMMYFUNCTION(\"\"\"COMPUTED_VALUE\"\"\"),\"Navire & Fort\")","v":"Navire & Fort"},{"$f":"IFERROR(__xludf.DUMMYFUNCTION(\"\"\"COMPUTED_VALUE\"\"\"),400.0)","v":400},{"$f":"IFERROR(__xludf.DUMMYFUNCTION(\"\"\"COMPUTED_VALUE\"\"\"),\"PAF finalisée\")","v":"PAF finalisée"},{"$f":"IFERROR(__xludf.DUMMYFUNCTION(\"\"\"COMPUTED_VALUE\"\"\"),\"non reçue\")","v":"non reçue"},{"$f":"IFERROR(__xludf.DUMMYFUNCTION(\"\"\"COMPUTED_VALUE\"\"\"),\"R.A.S.\")","v":"R.A.S."},{"$f":"IFERROR(__xludf.DUMMYFUNCTION(\"\"\"COMPUTED_VALUE\"\"\"),\"samedi\")","v":"samedi"},{"$f":"IFERROR(__xludf.DUMMYFUNCTION(\"\"\"COMPUTED_VALUE\"\"\"),\"Reste\")","v":"Reste"}]
[{"$f":"IFERROR(__xludf.DUMMYFUNCTION(\"\"\"COMPUTED_VALUE\"\"\"),45673.0)","v":"2025-01-16"},{"$f":"IFERROR(__xludf.DUMMYFUNCTION(\"\"\"COMPUTED_VALUE\"\"\"),\"Navarro\")","v":"Navarro"},{"$f":"IFERROR(__xludf.DUMMYFUNCTION(\"\"\"COMPUTED_VALUE\"\"\"),\"Grégory \")","v":"Grégory "},{"$f":"IFERROR(__xludf.DUMMYFUNCTION(\"\"\"COMPUTED_VALUE\"\"\"),\"H\")","v":"H"},{"$f":"IFERROR(__xludf.DUMMYFUNCTION(\"\"\"COMPUTED_VALUE\"\"\"),45.0)","v":45},{"$f":"IFERROR(__xludf.DUMMYFUNCTION(\"\"\"COMPUTED_VALUE\"\"\"),\"gregory.navarro@googlemail.com\")","v":"gregory.navarro@googlemail.com"},{"$f":"IFERROR(__xludf.DUMMYFUNCTION(\"\"\"COMPUTED_VALUE\"\"\"),\"Gregaf Tapdurhörson\")","v":"Gregaf Tapdurhörson"},null,{"$f":"IFERROR(__xludf.DUMMYFUNCTION(\"\"\"COMPUTED_VALUE\"\"\"),\"Pur PJ\")","v":"Pur PJ"},{"$f":"IFERROR(__xludf.DUMMYFUNCTION(\"\"\"COMPUTED_VALUE\"\"\"),\"-\")","v":"-"},{"$f":"IFERROR(__xludf.DUMMYFUNCTION(\"\"\"COMPUTED_VALUE\"\"\"),\"septembre\")","v":"septembre"},{"$f":"IFERROR(__xludf.DUMMYFUNCTION(\"\"\"COMPUTED_VALUE\"\"\"),\"Navire et fort\")","v":"Navire et fort"},{"$f":"IFERROR(__xludf.DUMMYFUNCTION(\"\"\"COMPUTED_VALUE\"\"\"),\"OK\")","v":"OK"},{"$f":"IFERROR(__xludf.DUMMYFUNCTION(\"\"\"COMPUTED_VALUE\"\"\"),\"OK\")","v":"OK"},{"$f":"IFERROR(__xludf.DUMMYFUNCTION(\"\"\"COMPUTED_VALUE\"\"\"),\"septembre\")","v":"septembre"},{"$f":"IFERROR(__xludf.DUMMYFUNCTION(\"\"\"COMPUTED_VALUE\"\"\"),\"Navire & Fort\")","v":"Navire & Fort"},null,{"$f":"IFERROR(__xludf.DUMMYFUNCTION(\"\"\"COMPUTED_VALUE\"\"\"),\"PAF non reçue\")","v":"PAF non reçue"},{"$f":"IFERROR(__xludf.DUMMYFUNCTION(\"\"\"COMPUTED_VALUE\"\"\"),\"non reçue\")","v":"non reçue"},{"$f":"IFERROR(__xludf.DUMMYFUNCTION(\"\"\"COMPUTED_VALUE\"\"\"),\"R.A.S.\")","v":"R.A.S."},{"$f":"IFERROR(__xludf.DUMMYFUNCTION(\"\"\"COMPUTED_VALUE\"\"\"),\"samedi\")","v":"samedi"},{"$f":"IFERROR(__xludf.DUMMYFUNCTION(\"\"\"COMPUTED_VALUE\"\"\"),\"Reste\")","v":"Reste"}]
[{"$f":"IFERROR(__xludf.DUMMYFUNCTION(\"\"\"COMPUTED_VALUE\"\"\"),45673.0)","v":"2025-01-16"},{"$f":"IFERROR(__xludf.DUMMYFUNCTION(\"\"\"COMPUTED_VALUE\"\"\"),\"Pichot\")","v":"Pichot"},{"$f":"IFERROR(__xludf.DUMMYFUNCTION(\"\"\"COMPUTED_VALUE\"\"\"),\"Claire\")","v":"Claire"},{"$f":"IFERROR(__xludf.DUMMYFUNCTION(\"\"\"COMPUTED_VALUE\"\"\"),\"F\")","v":"F"},{"$f":"IFERROR(__xludf.DUMMYFUNCTION(\"\"\"COMPUTED_VALUE\"\"\"),30.0)","v":30},{"$f":"IFERROR(__xludf.DUMMYFUNCTION(\"\"\"COMPUTED_VALUE\"\"\"),\"pichot.cl@gmail.com\")","v":"pichot.cl@gmail.com"},{"$f":"IFERROR(__xludf.DUMMYFUNCTION(\"\"\"COMPUTED_VALUE\"\"\"),\"Claire Ette\")","v":"Claire Ette"},{"$f":"IFERROR(__xludf.DUMMYFUNCTION(\"\"\"COMPUTED_VALUE\"\"\"),\"0684298287\")","v":"0684298287"},{"$f":"IFERROR(__xludf.DUMMYFUNCTION(\"\"\"COMPUTED_VALUE\"\"\"),\"Pur PJ\")","v":"Pur PJ"},{"$f":"IFERROR(__xludf.DUMMYFUNCTION(\"\"\"COMPUTED_VALUE\"\"\"),\"-\")","v":"-"},{"$f":"IFERROR(__xludf.DUMMYFUNCTION(\"\"\"COMPUTED_VALUE\"\"\"),\"septembre\")","v":"septembre"},{"$f":"IFERROR(__xludf.DUMMYFUNCTION(\"\"\"COMPUTED_VALUE\"\"\"),\"Peu importe\")","v":"Peu importe"},{"$f":"IFERROR(__xludf.DUMMYFUNCTION(\"\"\"COMPUTED_VALUE\"\"\"),\"OK\")","v":"OK"},{"$f":"IFERROR(__xludf.DUMMYFUNCTION(\"\"\"COMPUTED_VALUE\"\"\"),\"OK\")","v":"OK"},{"$f":"IFERROR(__xludf.DUMMYFUNCTION(\"\"\"COMPUTED_VALUE\"\"\"),\"septembre\")","v":"septembre"},{"$f":"IFERROR(__xludf.DUMMYFUNCTION(\"\"\"COMPUTED_VALUE\"\"\"),\"Navire & Fort\")","v":"Navire & Fort"},{"$f":"IFERROR(__xludf.DUMMYFUNCTION(\"\"\"COMPUTED_VALUE\"\"\"),133.5)","v":133.5},{"$f":"IFERROR(__xludf.DUMMYFUNCTION(\"\"\"COMPUTED_VALUE\"\"\"),\"PAF partielle\")","v":"PAF partielle"},{"$f":"IFERROR(__xludf.DUMMYFUNCTION(\"\"\"COMPUTED_VALUE\"\"\"),\"non reçue\")","v":"non reçue"},{"$f":"IFERROR(__xludf.DUMMYFUNCTION(\"\"\"COMPUTED_VALUE\"\"\"),\"R.A.S.\")","v":"R.A.S."},{"$f":"IFERROR(__xludf.DUMMYFUNCTION(\"\"\"COMPUTED_VALUE\"\"\"),\"samedi\")","v":"samedi"},{"$f":"IFERROR(__xludf.DUMMYFUNCTION(\"\"\"COMPUTED_VALUE\"\"\"),\"Reste\")","v":"Reste"}]
[{"$f":"IFERROR(__xludf.DUMMYFUNCTION(\"\"\"COMPUTED_VALUE\"\"\"),45674.0)","v":"2025-01-17"},{"$f":"IFERROR(__xludf.DUMMYFUNCTION(\"\"\"COMPUTED_VALUE\"\"\"),\"Mousset \")","v":"Mousset "},{"$f":"IFERROR(__xludf.DUMMYFUNCTION(\"\"\"COMPUTED_VALUE\"\"\"),\"Valérie \")","v":"Valérie "},{"$f":"IFERROR(__xludf.DUMMYFUNCTION(\"\"\"COMPUTED_VALUE\"\"\"),\"F\")","v":"F"},{"$f":"IFERROR(__xludf.DUMMYFUNCTION(\"\"\"COMPUTED_VALUE\"\"\"),46.0)","v":46},{"$f":"IFERROR(__xludf.DUMMYFUNCTION(\"\"\"COMPUTED_VALUE\"\"\"),\"valmousset@gmail.com\")","v":"valmousset@gmail.com"},{"$f":"IFERROR(__xludf.DUMMYFUNCTION(\"\"\"COMPUTED_VALUE\"\"\"),\"Valeriemousset\")","v":"Valeriemousset"},{"$f":"IFERROR(__xludf.DUMMYFUNCTION(\"\"\"COMPUTED_VALUE\"\"\"),\"0620784623\")","v":"0620784623"},{"$f":"IFERROR(__xludf.DUMMYFUNCTION(\"\"\"COMPUTED_VALUE\"\"\"),\"Pur PJ\")","v":"Pur PJ"},{"$f":"IFERROR(__xludf.DUMMYFUNCTION(\"\"\"COMPUTED_VALUE\"\"\"),\"-\")","v":"-"},{"$f":"IFERROR(__xludf.DUMMYFUNCTION(\"\"\"COMPUTED_VALUE\"\"\"),\"septembre\")","v":"septembre"},{"$f":"IFERROR(__xludf.DUMMYFUNCTION(\"\"\"COMPUTED_VALUE\"\"\"),\"Navire et fort\")","v":"Navire et fort"},{"$f":"IFERROR(__xludf.DUMMYFUNCTION(\"\"\"COMPUTED_VALUE\"\"\"),\"OK\")","v":"OK"},{"$f":"IFERROR(__xludf.DUMMYFUNCTION(\"\"\"COMPUTED_VALUE\"\"\"),\"OK\")","v":"OK"},{"$f":"IFERROR(__xludf.DUMMYFUNCTION(\"\"\"COMPUTED_VALUE\"\"\"),\"septembre\")","v":"septembre"},{"$f":"IFERROR(__xludf.DUMMYFUNCTION(\"\"\"COMPUTED_VALUE\"\"\"),\"Navire & Fort\")","v":"Navire & Fort"},null,{"$f":"IFERROR(__xludf.DUMMYFUNCTION(\"\"\"COMPUTED_VALUE\"\"\"),\"PAF non reçue\")","v":"PAF non reçue"},{"$f":"IFERROR(__xludf.DUMMYFUNCTION(\"\"\"COMPUTED_VALUE\"\"\"),\"non reçue\")","v":"non reçue"},{"$f":"IFERROR(__xludf.DUMMYFUNCTION(\"\"\"COMPUTED_VALUE\"\"\"),\"R.A.S.\")","v":"R.A.S."},{"$f":"IFERROR(__xludf.DUMMYFUNCTION(\"\"\"COMPUTED_VALUE\"\"\"),\"samedi\")","v":"samedi"},{"$f":"IFERROR(__xludf.DUMMYFUNCTION(\"\"\"COMPUTED_VALUE\"\"\"),\"Reste\")","v":"Reste"}]
[{"$f":"IFERROR(__xludf.DUMMYFUNCTION(\"\"\"COMPUTED_VALUE\"\"\"),45674.0)","v":"2025-01-17"},{"$f":"IFERROR(__xludf.DUMMYFUNCTION(\"\"\"COMPUTED_VALUE\"\"\"),\"Trébosc\")","v":"Trébosc"},{"$f":"IFERROR(__xludf.DUMMYFUNCTION(\"\"\"COMPUTED_VALUE\"\"\"),\"David\")","v":"David"},{"$f":"IFERROR(__xludf.DUMMYFUNCTION(\"\"\"COMPUTED_VALUE\"\"\"),\"H\")","v":"H"},{"$f":"IFERROR(__xludf.DUMMYFUNCTION(\"\"\"COMPUTED_VALUE\"\"\"),41.0)","v":41},{"$f":"IFERROR(__xludf.DUMMYFUNCTION(\"\"\"COMPUTED_VALUE\"\"\"),\"trebosc.david@gmail.com\")","v":"trebosc.david@gmail.com"},{"$f":"IFERROR(__xludf.DUMMYFUNCTION(\"\"\"COMPUTED_VALUE\"\"\"),\"David Trébosc\")","v":"David Trébosc"},{"$f":"IFERROR(__xludf.DUMMYFUNCTION(\"\"\"COMPUTED_VALUE\"\"\"),\"618811757\")","v":"618811757"},{"$f":"IFERROR(__xludf.DUMMYFUNCTION(\"\"\"COMPUTED_VALUE\"\"\"),\"PJ+PNJ\")","v":"PJ+PNJ"},{"$f":"IFERROR(__xludf.DUMMYFUNCTION(\"\"\"COMPUTED_VALUE\"\"\"),\"-\")","v":"-"},{"$f":"IFERROR(__xludf.DUMMYFUNCTION(\"\"\"COMPUTED_VALUE\"\"\"),\"septembre\")","v":"septembre"},{"$f":"IFERROR(__xludf.DUMMYFUNCTION(\"\"\"COMPUTED_VALUE\"\"\"),\"Seulement au fort\")","v":"Seulement au fort"},{"$f":"IFERROR(__xludf.DUMMYFUNCTION(\"\"\"COMPUTED_VALUE\"\"\"),\"OK\")","v":"OK"},{"$f":"IFERROR(__xludf.DUMMYFUNCTION(\"\"\"COMPUTED_VALUE\"\"\"),\"OK\")","v":"OK"},{"$f":"IFERROR(__xludf.DUMMYFUNCTION(\"\"\"COMPUTED_VALUE\"\"\"),\"septembre\")","v":"septembre"},{"$f":"IFERROR(__xludf.DUMMYFUNCTION(\"\"\"COMPUTED_VALUE\"\"\"),\"Fort seulement\")","v":"Fort seulement"},null,{"$f":"IFERROR(__xludf.DUMMYFUNCTION(\"\"\"COMPUTED_VALUE\"\"\"),\"PAF non reçue\")","v":"PAF non reçue"},{"$f":"IFERROR(__xludf.DUMMYFUNCTION(\"\"\"COMPUTED_VALUE\"\"\"),\"non reçue\")","v":"non reçue"},{"$f":"IFERROR(__xludf.DUMMYFUNCTION(\"\"\"COMPUTED_VALUE\"\"\"),\"R.A.S.\")","v":"R.A.S."},{"$f":"IFERROR(__xludf.DUMMYFUNCTION(\"\"\"COMPUTED_VALUE\"\"\"),\"samedi\")","v":"samedi"},{"$f":"IFERROR(__xludf.DUMMYFUNCTION(\"\"\"COMPUTED_VALUE\"\"\"),\"Reste\")","v":"Reste"}]
[{"$f":"IFERROR(__xludf.DUMMYFUNCTION(\"\"\"COMPUTED_VALUE\"\"\"),45676.0)","v":"2025-01-19"},{"$f":"IFERROR(__xludf.DUMMYFUNCTION(\"\"\"COMPUTED_VALUE\"\"\"),\"saison\")","v":"saison"},{"$f":"IFERROR(__xludf.DUMMYFUNCTION(\"\"\"COMPUTED_VALUE\"\"\"),\"arthur\")","v":"arthur"},{"$f":"IFERROR(__xludf.DUMMYFUNCTION(\"\"\"COMPUTED_VALUE\"\"\"),\"H\")","v":"H"},{"$f":"IFERROR(__xludf.DUMMYFUNCTION(\"\"\"COMPUTED_VALUE\"\"\"),25.0)","v":25},{"$f":"IFERROR(__xludf.DUMMYFUNCTION(\"\"\"COMPUTED_VALUE\"\"\"),\"arthur.saison@hotmail.com\")","v":"arthur.saison@hotmail.com"},{"$f":"IFERROR(__xludf.DUMMYFUNCTION(\"\"\"COMPUTED_VALUE\"\"\"),\"Arthur Saison\")","v":"Arthur Saison"},{"$f":"IFERROR(__xludf.DUMMYFUNCTION(\"\"\"COMPUTED_VALUE\"\"\"),\"0674426558\")","v":"0674426558"},{"$f":"IFERROR(__xludf.DUMMYFUNCTION(\"\"\"COMPUTED_VALUE\"\"\"),\"Pur PJ\")","v":"Pur PJ"},{"$f":"IFERROR(__xludf.DUMMYFUNCTION(\"\"\"COMPUTED_VALUE\"\"\"),\"-\")","v":"-"},{"$f":"IFERROR(__xludf.DUMMYFUNCTION(\"\"\"COMPUTED_VALUE\"\"\"),\"septembre\")","v":"septembre"},{"$f":"IFERROR(__xludf.DUMMYFUNCTION(\"\"\"COMPUTED_VALUE\"\"\"),\"Navire et fort\")","v":"Navire et fort"},{"$f":"IFERROR(__xludf.DUMMYFUNCTION(\"\"\"COMPUTED_VALUE\"\"\"),\"OK\")","v":"OK"},{"$f":"IFERROR(__xludf.DUMMYFUNCTION(\"\"\"COMPUTED_VALUE\"\"\"),\"OK\")","v":"OK"},{"$f":"IFERROR(__xludf.DUMMYFUNCTION(\"\"\"COMPUTED_VALUE\"\"\"),\"septembre\")","v":"septembre"},{"$f":"IFERROR(__xludf.DUMMYFUNCTION(\"\"\"COMPUTED_VALUE\"\"\"),\"Navire & Fort\")","v":"Navire & Fort"},null,{"$f":"IFERROR(__xludf.DUMMYFUNCTION(\"\"\"COMPUTED_VALUE\"\"\"),\"PAF non reçue\")","v":"PAF non reçue"},{"$f":"IFERROR(__xludf.DUMMYFUNCTION(\"\"\"COMPUTED_VALUE\"\"\"),\"non reçue\")","v":"non reçue"},{"$f":"IFERROR(__xludf.DUMMYFUNCTION(\"\"\"COMPUTED_VALUE\"\"\"),\"R.A.S.\")","v":"R.A.S."},{"$f":"IFERROR(__xludf.DUMMYFUNCTION(\"\"\"COMPUTED_VALUE\"\"\"),\"samedi\")","v":"samedi"},{"$f":"IFERROR(__xludf.DUMMYFUNCTION(\"\"\"COMPUTED_VALUE\"\"\"),\"Reste\")","v":"Reste"}]
[{"$f":"IFERROR(__xludf.DUMMYFUNCTION(\"\"\"COMPUTED_VALUE\"\"\"),45676.0)","v":"2025-01-19"},{"$f":"IFERROR(__xludf.DUMMYFUNCTION(\"\"\"COMPUTED_VALUE\"\"\"),\"Beeckman\")","v":"Beeckman"},{"$f":"IFERROR(__xludf.DUMMYFUNCTION(\"\"\"COMPUTED_VALUE\"\"\"),\"Nathan\")","v":"Nathan"},{"$f":"IFERROR(__xludf.DUMMYFUNCTION(\"\"\"COMPUTED_VALUE\"\"\"),\"H\")","v":"H"},{"$f":"IFERROR(__xludf.DUMMYFUNCTION(\"\"\"COMPUTED_VALUE\"\"\"),30.0)","v":30},{"$f":"IFERROR(__xludf.DUMMYFUNCTION(\"\"\"COMPUTED_VALUE\"\"\"),\"nbee@live.be\")","v":"nbee@live.be"},{"$f":"IFERROR(__xludf.DUMMYFUNCTION(\"\"\"COMPUTED_VALUE\"\"\"),\"Nathan Beeckman\")","v":"Nathan Beeckman"},{"$f":"IFERROR(__xludf.DUMMYFUNCTION(\"\"\"COMPUTED_VALUE\"\"\"),\"+32 471541547\")","v":"+32 471541547"},{"$f":"IFERROR(__xludf.DUMMYFUNCTION(\"\"\"COMPUTED_VALUE\"\"\"),\"Pur PJ\")","v":"Pur PJ"},{"$f":"IFERROR(__xludf.DUMMYFUNCTION(\"\"\"COMPUTED_VALUE\"\"\"),\"-\")","v":"-"},{"$f":"IFERROR(__xludf.DUMMYFUNCTION(\"\"\"COMPUTED_VALUE\"\"\"),\"septembre\")","v":"septembre"},{"$f":"IFERROR(__xludf.DUMMYFUNCTION(\"\"\"COMPUTED_VALUE\"\"\"),\"Navire et fort\")","v":"Navire et fort"},{"$f":"IFERROR(__xludf.DUMMYFUNCTION(\"\"\"COMPUTED_VALUE\"\"\"),\"OK\")","v":"OK"},{"$f":"IFERROR(__xludf.DUMMYFUNCTION(\"\"\"COMPUTED_VALUE\"\"\"),\"OK\")","v":"OK"},{"$f":"IFERROR(__xludf.DUMMYFUNCTION(\"\"\"COMPUTED_VALUE\"\"\"),\"septembre\")","v":"septembre"},{"$f":"IFERROR(__xludf.DUMMYFUNCTION(\"\"\"COMPUTED_VALUE\"\"\"),\"Navire & Fort\")","v":"Navire & Fort"},null,{"$f":"IFERROR(__xludf.DUMMYFUNCTION(\"\"\"COMPUTED_VALUE\"\"\"),\"PAF non reçue\")","v":"PAF non reçue"},{"$f":"IFERROR(__xludf.DUMMYFUNCTION(\"\"\"COMPUTED_VALUE\"\"\"),\"non reçue\")","v":"non reçue"},{"$f":"IFERROR(__xludf.DUMMYFUNCTION(\"\"\"COMPUTED_VALUE\"\"\"),\"R.A.S.\")","v":"R.A.S."},{"$f":"IFERROR(__xludf.DUMMYFUNCTION(\"\"\"COMPUTED_VALUE\"\"\"),\"samedi\")","v":"samedi"},{"$f":"IFERROR(__xludf.DUMMYFUNCTION(\"\"\"COMPUTED_VALUE\"\"\"),\"Reste\")","v":"Reste"}]
[{"$f":"IFERROR(__xludf.DUMMYFUNCTION(\"\"\"COMPUTED_VALUE\"\"\"),45676.0)","v":"2025-01-19"},{"$f":"IFERROR(__xludf.DUMMYFUNCTION(\"\"\"COMPUTED_VALUE\"\"\"),\"Philbert\")","v":"Philbert"},{"$f":"IFERROR(__xludf.DUMMYFUNCTION(\"\"\"COMPUTED_VALUE\"\"\"),\"SOPHIE\")","v":"SOPHIE"},{"$f":"IFERROR(__xludf.DUMMYFUNCTION(\"\"\"COMPUTED_VALUE\"\"\"),\"F\")","v":"F"},{"$f":"IFERROR(__xludf.DUMMYFUNCTION(\"\"\"COMPUTED_VALUE\"\"\"),41.0)","v":41},{"$f":"IFERROR(__xludf.DUMMYFUNCTION(\"\"\"COMPUTED_VALUE\"\"\"),\"sofides@wanadoo.fr\")","v":"sofides@wanadoo.fr"},{"$f":"IFERROR(__xludf.DUMMYFUNCTION(\"\"\"COMPUTED_VALUE\"\"\"),\"Sophie Philbert\")","v":"Sophie Philbert"},{"$f":"IFERROR(__xludf.DUMMYFUNCTION(\"\"\"COMPUTED_VALUE\"\"\"),\"0669724980\")","v":"0669724980"},{"$f":"IFERROR(__xludf.DUMMYFUNCTION(\"\"\"COMPUTED_VALUE\"\"\"),\"PJ+PNJ\")","v":"PJ+PNJ"},{"$f":"IFERROR(__xludf.DUMMYFUNCTION(\"\"\"COMPUTED_VALUE\"\"\"),\"-\")","v":"-"},{"$f":"IFERROR(__xludf.DUMMYFUNCTION(\"\"\"COMPUTED_VALUE\"\"\"),\"septembre\")","v":"septembre"},{"$f":"IFERROR(__xludf.DUMMYFUNCTION(\"\"\"COMPUTED_VALUE\"\"\"),\"Seulement au fort\")","v":"Seulement au fort"},{"$f":"IFERROR(__xludf.DUMMYFUNCTION(\"\"\"COMPUTED_VALUE\"\"\"),\"OK\")","v":"OK"},{"$f":"IFERROR(__xludf.DUMMYFUNCTION(\"\"\"COMPUTED_VALUE\"\"\"),\"OK\")","v":"OK"},{"$f":"IFERROR(__xludf.DUMMYFUNCTION(\"\"\"COMPUTED_VALUE\"\"\"),\"septembre\")","v":"septembre"},{"$f":"IFERROR(__xludf.DUMMYFUNCTION(\"\"\"COMPUTED_VALUE\"\"\"),\"Fort seulement\")","v":"Fort seulement"},{"$f":"IFERROR(__xludf.DUMMYFUNCTION(\"\"\"COMPUTED_VALUE\"\"\"),200.0)","v":200},{"$f":"IFERROR(__xludf.DUMMYFUNCTION(\"\"\"COMPUTED_VALUE\"\"\"),\"PAF finalisée\")","v":"PAF finalisée"},{"$f":"IFERROR(__xludf.DUMMYFUNCTION(\"\"\"COMPUTED_VALUE\"\"\"),\"non reçue\")","v":"non reçue"},{"$f":"IFERROR(__xludf.DUMMYFUNCTION(\"\"\"COMPUTED_VALUE\"\"\"),\"R.A.S.\")","v":"R.A.S."},{"$f":"IFERROR(__xludf.DUMMYFUNCTION(\"\"\"COMPUTED_VALUE\"\"\"),\"samedi\")","v":"samedi"},{"$f":"IFERROR(__xludf.DUMMYFUNCTION(\"\"\"COMPUTED_VALUE\"\"\"),\"Reste\")","v":"Reste"}]
[{"$f":"IFERROR(__xludf.DUMMYFUNCTION(\"\"\"COMPUTED_VALUE\"\"\"),45303.0)","v":"2024-01-12"},{"$f":"IFERROR(__xludf.DUMMYFUNCTION(\"\"\"COMPUTED_VALUE\"\"\"),\"PHILBERT\")","v":"PHILBERT"},{"$f":"IFERROR(__xludf.DUMMYFUNCTION(\"\"\"COMPUTED_VALUE\"\"\"),\"Charles\")","v":"Charles"},{"$f":"IFERROR(__xludf.DUMMYFUNCTION(\"\"\"COMPUTED_VALUE\"\"\"),\"H\")","v":"H"},{"$f":"IFERROR(__xludf.DUMMYFUNCTION(\"\"\"COMPUTED_VALUE\"\"\"),42.0)","v":42},{"$f":"IFERROR(__xludf.DUMMYFUNCTION(\"\"\"COMPUTED_VALUE\"\"\"),\"Philbert.charles@neuf.fr\")","v":"Philbert.charles@neuf.fr"},{"$f":"IFERROR(__xludf.DUMMYFUNCTION(\"\"\"COMPUTED_VALUE\"\"\"),\"charles PHILBERT\")","v":"charles PHILBERT"},{"$f":"IFERROR(__xludf.DUMMYFUNCTION(\"\"\"COMPUTED_VALUE\"\"\"),\"0688981791\")","v":"0688981791"},{"$f":"IFERROR(__xludf.DUMMYFUNCTION(\"\"\"COMPUTED_VALUE\"\"\"),\"PJ+PNJ\")","v":"PJ+PNJ"},{"$f":"IFERROR(__xludf.DUMMYFUNCTION(\"\"\"COMPUTED_VALUE\"\"\"),\"-\")","v":"-"},{"$f":"IFERROR(__xludf.DUMMYFUNCTION(\"\"\"COMPUTED_VALUE\"\"\"),\"septembre\")","v":"septembre"},{"$f":"IFERROR(__xludf.DUMMYFUNCTION(\"\"\"COMPUTED_VALUE\"\"\"),\"Seulement au fort\")","v":"Seulement au fort"},{"$f":"IFERROR(__xludf.DUMMYFUNCTION(\"\"\"COMPUTED_VALUE\"\"\"),\"OK\")","v":"OK"},{"$f":"IFERROR(__xludf.DUMMYFUNCTION(\"\"\"COMPUTED_VALUE\"\"\"),\"OK\")","v":"OK"},{"$f":"IFERROR(__xludf.DUMMYFUNCTION(\"\"\"COMPUTED_VALUE\"\"\"),\"septembre\")","v":"septembre"},{"$f":"IFERROR(__xludf.DUMMYFUNCTION(\"\"\"COMPUTED_VALUE\"\"\"),\"Fort seulement\")","v":"Fort seulement"},null,{"$f":"IFERROR(__xludf.DUMMYFUNCTION(\"\"\"COMPUTED_VALUE\"\"\"),\"PAF non reçue\")","v":"PAF non reçue"},{"$f":"IFERROR(__xludf.DUMMYFUNCTION(\"\"\"COMPUTED_VALUE\"\"\"),\"non reçue\")","v":"non reçue"},{"$f":"IFERROR(__xludf.DUMMYFUNCTION(\"\"\"COMPUTED_VALUE\"\"\"),\"R.A.S.\")","v":"R.A.S."},{"$f":"IFERROR(__xludf.DUMMYFUNCTION(\"\"\"COMPUTED_VALUE\"\"\"),\"samedi\")","v":"samedi"},{"$f":"IFERROR(__xludf.DUMMYFUNCTION(\"\"\"COMPUTED_VALUE\"\"\"),\"Reste\")","v":"Reste"}]
[{"$f":"IFERROR(__xludf.DUMMYFUNCTION(\"\"\"COMPUTED_VALUE\"\"\"),45678.0)","v":"2025-01-21"},{"$f":"IFERROR(__xludf.DUMMYFUNCTION(\"\"\"COMPUTED_VALUE\"\"\"),\"VOINOT\")","v":"VOINOT"},{"$f":"IFERROR(__xludf.DUMMYFUNCTION(\"\"\"COMPUTED_VALUE\"\"\"),\"Sébastien\")","v":"Sébastien"},{"$f":"IFERROR(__xludf.DUMMYFUNCTION(\"\"\"COMPUTED_VALUE\"\"\"),\"H\")","v":"H"},{"$f":"IFERROR(__xludf.DUMMYFUNCTION(\"\"\"COMPUTED_VALUE\"\"\"),50.0)","v":50},{"$f":"IFERROR(__xludf.DUMMYFUNCTION(\"\"\"COMPUTED_VALUE\"\"\"),\"sebvoinot@yahoo.fr\")","v":"sebvoinot@yahoo.fr"},{"$f":"IFERROR(__xludf.DUMMYFUNCTION(\"\"\"COMPUTED_VALUE\"\"\"),\"Sébastien VOINOT\")","v":"Sébastien VOINOT"},{"$f":"IFERROR(__xludf.DUMMYFUNCTION(\"\"\"COMPUTED_VALUE\"\"\"),\"0603087308\")","v":"0603087308"},{"$f":"IFERROR(__xludf.DUMMYFUNCTION(\"\"\"COMPUTED_VALUE\"\"\"),\"Pur PJ\")","v":"Pur PJ"},{"$f":"IFERROR(__xludf.DUMMYFUNCTION(\"\"\"COMPUTED_VALUE\"\"\"),\"-\")","v":"-"},{"$f":"IFERROR(__xludf.DUMMYFUNCTION(\"\"\"COMPUTED_VALUE\"\"\"),\"septembre\")","v":"septembre"},{"$f":"IFERROR(__xludf.DUMMYFUNCTION(\"\"\"COMPUTED_VALUE\"\"\"),\"Navire et fort\")","v":"Navire et fort"},{"$f":"IFERROR(__xludf.DUMMYFUNCTION(\"\"\"COMPUTED_VALUE\"\"\"),\"OK\")","v":"OK"},{"$f":"IFERROR(__xludf.DUMMYFUNCTION(\"\"\"COMPUTED_VALUE\"\"\"),\"OK\")","v":"OK"},{"$f":"IFERROR(__xludf.DUMMYFUNCTION(\"\"\"COMPUTED_VALUE\"\"\"),\"septembre\")","v":"septembre"},{"$f":"IFERROR(__xludf.DUMMYFUNCTION(\"\"\"COMPUTED_VALUE\"\"\"),\"Navire & Fort\")","v":"Navire & Fort"},{"$f":"IFERROR(__xludf.DUMMYFUNCTION(\"\"\"COMPUTED_VALUE\"\"\"),400.0)","v":400},{"$f":"IFERROR(__xludf.DUMMYFUNCTION(\"\"\"COMPUTED_VALUE\"\"\"),\"PAF finalisée\")","v":"PAF finalisée"},{"$f":"IFERROR(__xludf.DUMMYFUNCTION(\"\"\"COMPUTED_VALUE\"\"\"),\"non reçue\")","v":"non reçue"},{"$f":"IFERROR(__xludf.DUMMYFUNCTION(\"\"\"COMPUTED_VALUE\"\"\"),\"R.A.S.\")","v":"R.A.S."},{"$f":"IFERROR(__xludf.DUMMYFUNCTION(\"\"\"COMPUTED_VALUE\"\"\"),\"samedi\")","v":"samedi"},{"$f":"IFERROR(__xludf.DUMMYFUNCTION(\"\"\"COMPUTED_VALUE\"\"\"),\"Reste\")","v":"Reste"}]
[{"$f":"IFERROR(__xludf.DUMMYFUNCTION(\"\"\"COMPUTED_VALUE\"\"\"),45678.0)","v":"2025-01-21"},{"$f":"IFERROR(__xludf.DUMMYFUNCTION(\"\"\"COMPUTED_VALUE\"\"\"),\"Moulin\")","v":"Moulin"},{"$f":"IFERROR(__xludf.DUMMYFUNCTION(\"\"\"COMPUTED_VALUE\"\"\"),\"Philippe\")","v":"Philippe"},{"$f":"IFERROR(__xludf.DUMMYFUNCTION(\"\"\"COMPUTED_VALUE\"\"\"),\"H\")","v":"H"},{"$f":"IFERROR(__xludf.DUMMYFUNCTION(\"\"\"COMPUTED_VALUE\"\"\"),54.0)","v":54},{"$f":"IFERROR(__xludf.DUMMYFUNCTION(\"\"\"COMPUTED_VALUE\"\"\"),\"moulin.philippe@gmail.com\")","v":"moulin.philippe@gmail.com"},{"$f":"IFERROR(__xludf.DUMMYFUNCTION(\"\"\"COMPUTED_VALUE\"\"\"),\"https://www.facebook.com/moulinp1\")","v":"https://www.facebook.com/moulinp1"},{"$f":"IFERROR(__xludf.DUMMYFUNCTION(\"\"\"COMPUTED_VALUE\"\"\"),\"0662476913\")","v":"0662476913"},{"$f":"IFERROR(__xludf.DUMMYFUNCTION(\"\"\"COMPUTED_VALUE\"\"\"),\"PJ+PNJ\")","v":"PJ+PNJ"},{"$f":"IFERROR(__xludf.DUMMYFUNCTION(\"\"\"COMPUTED_VALUE\"\"\"),\"-\")","v":"-"},{"$f":"IFERROR(__xludf.DUMMYFUNCTION(\"\"\"COMPUTED_VALUE\"\"\"),\"Non précisé\")","v":"Non précisé"},{"$f":"IFERROR(__xludf.DUMMYFUNCTION(\"\"\"COMPUTED_VALUE\"\"\"),\"Navire et fort\")","v":"Navire et fort"},{"$f":"IFERROR(__xludf.DUMMYFUNCTION(\"\"\"COMPUTED_VALUE\"\"\"),\"OK\")","v":"OK"},{"$f":"IFERROR(__xludf.DUMMYFUNCTION(\"\"\"COMPUTED_VALUE\"\"\"),\"OK\")","v":"OK"},{"$f":"IFERROR(__xludf.DUMMYFUNCTION(\"\"\"COMPUTED_VALUE\"\"\"),\"septembre\")","v":"septembre"},{"$f":"IFERROR(__xludf.DUMMYFUNCTION(\"\"\"COMPUTED_VALUE\"\"\"),\"Navire & Fort\")","v":"Navire & Fort"},{"$f":"IFERROR(__xludf.DUMMYFUNCTION(\"\"\"COMPUTED_VALUE\"\"\"),400.0)","v":400},{"$f":"IFERROR(__xludf.DUMMYFUNCTION(\"\"\"COMPUTED_VALUE\"\"\"),\"PAF finalisée\")","v":"PAF finalisée"},{"$f":"IFERROR(__xludf.DUMMYFUNCTION(\"\"\"COMPUTED_VALUE\"\"\"),\"non reçue\")","v":"non reçue"},{"$f":"IFERROR(__xludf.DUMMYFUNCTION(\"\"\"COMPUTED_VALUE\"\"\"),\"R.A.S.\")","v":"R.A.S."},{"$f":"IFERROR(__xludf.DUMMYFUNCTION(\"\"\"COMPUTED_VALUE\"\"\"),\"samedi\")","v":"samedi"},{"$f":"IFERROR(__xludf.DUMMYFUNCTION(\"\"\"COMPUTED_VALUE\"\"\"),\"Reste\")","v":"Reste"}]
[{"$f":"IFERROR(__xludf.DUMMYFUNCTION(\"\"\"COMPUTED_VALUE\"\"\"),45680.0)","v":"2025-01-23"},{"$f":"IFERROR(__xludf.DUMMYFUNCTION(\"\"\"COMPUTED_VALUE\"\"\"),\" Rollin\")","v":" Rollin"},{"$f":"IFERROR(__xludf.DUMMYFUNCTION(\"\"\"COMPUTED_VALUE\"\"\"),\"Cecile\")","v":"Cecile"},{"$f":"IFERROR(__xludf.DUMMYFUNCTION(\"\"\"COMPUTED_VALUE\"\"\"),\"F\")","v":"F"},{"$f":"IFERROR(__xludf.DUMMYFUNCTION(\"\"\"COMPUTED_VALUE\"\"\"),48.0)","v":48},{"$f":"IFERROR(__xludf.DUMMYFUNCTION(\"\"\"COMPUTED_VALUE\"\"\"),\"cecile.rollin@gmail.com\")","v":"cecile.rollin@gmail.com"},{"$f":"IFERROR(__xludf.DUMMYFUNCTION(\"\"\"COMPUTED_VALUE\"\"\"),\"Cécilia Thor Diaz\")","v":"Cécilia Thor Diaz"},{"$f":"IFERROR(__xludf.DUMMYFUNCTION(\"\"\"COMPUTED_VALUE\"\"\"),\"0615362940\")","v":"0615362940"},{"$f":"IFERROR(__xludf.DUMMYFUNCTION(\"\"\"COMPUTED_VALUE\"\"\"),\"Pur PJ\")","v":"Pur PJ"},{"$f":"IFERROR(__xludf.DUMMYFUNCTION(\"\"\"COMPUTED_VALUE\"\"\"),\"-\")","v":"-"},{"$f":"IFERROR(__xludf.DUMMYFUNCTION(\"\"\"COMPUTED_VALUE\"\"\"),\"septembre\")","v":"septembre"},{"$f":"IFERROR(__xludf.DUMMYFUNCTION(\"\"\"COMPUTED_VALUE\"\"\"),\"Navire et fort\")","v":"Navire et fort"},{"$f":"IFERROR(__xludf.DUMMYFUNCTION(\"\"\"COMPUTED_VALUE\"\"\"),\"OK\")","v":"OK"},{"$f":"IFERROR(__xludf.DUMMYFUNCTION(\"\"\"COMPUTED_VALUE\"\"\"),\"OK\")","v":"OK"},{"$f":"IFERROR(__xludf.DUMMYFUNCTION(\"\"\"COMPUTED_VALUE\"\"\"),\"septembre\")","v":"septembre"},{"$f":"IFERROR(__xludf.DUMMYFUNCTION(\"\"\"COMPUTED_VALUE\"\"\"),\"Navire & Fort\")","v":"Navire & Fort"},{"$f":"IFERROR(__xludf.DUMMYFUNCTION(\"\"\"COMPUTED_VALUE\"\"\"),400.0)","v":400},{"$f":"IFERROR(__xludf.DUMMYFUNCTION(\"\"\"COMPUTED_VALUE\"\"\"),\"PAF finalisée\")","v":"PAF finalisée"},{"$f":"IFERROR(__xludf.DUMMYFUNCTION(\"\"\"COMPUTED_VALUE\"\"\"),\"non reçue\")","v":"non reçue"},{"$f":"IFERROR(__xludf.DUMMYFUNCTION(\"\"\"COMPUTED_VALUE\"\"\"),\"R.A.S.\")","v":"R.A.S."},{"$f":"IFERROR(__xludf.DUMMYFUNCTION(\"\"\"COMPUTED_VALUE\"\"\"),\"samedi\")","v":"samedi"},{"$f":"IFERROR(__xludf.DUMMYFUNCTION(\"\"\"COMPUTED_VALUE\"\"\"),\"NON\")","v":"NON"}]
{"$rows_empty":152}
[null,null,"hommes:",{"$f":"COUNTIF(D3:D220, \"H\")","v":42},null,null,null,"souhait pur PJ",{"$f":"COUNTIF(I3:I220, \"pur PJ\")","v":36},"uniq, juin",{"$f":"COUNTIF(K3:K220, \"juin\")","v":7},null,"==> juin :",{"$f":"COUNTIF(N3:N220, \"juin\")","v":0},null,"PAF finalisée",{"$f":"COUNTIF(R3:R220, \"PAF finalisée\")","v":32}]
[null,null,"femmes :",{"$f":"COUNTIF(D3:D220, \"F\")","v":25},null,null,null,"souhait PJ+PNJ",{"$f":"COUNTIF(I3:I220, \"PJ+PNJ\")","v":31},"uniq, septembre",{"$f":"COUNTIF(K3:K220, \"septembre\")","v":32},null,"==> septembre :",{"$f":"COUNTIF(N3:N220, \"septembre\")","v":0},null,"PAF partielle",{"$f":"COUNTIF(R3:R222, \"PAF partielle\")","v":11}]
[{"$nulls":7},"souhait PNJ",{"$f":"COUNTIF(I3:I220, \"PNJ\")","v":0},"les deux",{"$f":"B1-K225-K223-K222","v":23},null,"non attribué :",{"$f":"B1-N223-N222","v":67},null,"PAF offerte",{"$f":"COUNTIF(R3:R222, \"gratuit\")","v":0}]
[{"$nulls":9},"sans avis",{"$f":"COUNTIF(K3:K220, \"Non précisé\")","v":5},null,"nb OK :",{"$f":"COUNTIF(M15:M220, \"ok\")","v":55},null,"PAF non versée",{"$f":"B1-Q222","v":35}]
[{"$nulls":10},"Navire & Fort :",{"$f":"COUNTIF(L3:L220, \"Navire et Fort\")","v":40},null,"==> Navire & Fort :",{"$f":"COUNTIF(P3:P221, \"Navire & Fort\")","v":49}]
[{"$nulls":10},"Fort seulement :",{"$f":"COUNTIF(L3:L220, \"Seulement au Fort\")","v":14},null,"==> Fort seulement :",{"$f":"COUNTIF(P3:P221, \"Fort seulement\")","v":17}]
[{"$nulls":10},"Peu importe",{"$f":"COUNTIF(L3:L220, \"peu importe\")","v":13},null,"Non attribué",{"$f":"B1-P227-P226","v":67}]
[]
[{"$nulls":13},"COUNTA de Genre","Lieu"]
[{"$nulls":13},"Genre",null,"Fort seulement","Navire & Fort","non attribué","Total général"]
[{"$nulls":14},0.0,null,null,null,0.0,null,{"$f":"N231","v":"Genre"},{"$f":"P231","v":"Fort seulement"},"Navire & Fort","non attribué",null,{"$f":"N233","v":"F"},{"$f":"N234","v":"H"}]
[{"$nulls":13},"F",null,8.0,17.0,null,25.0,null,{"$f":"N233","v":"F"},{"$f":"P233","v":8},17,"",{"$f":"P231","v":"Fort seulement"},{"$f":"P233","v":8},{"$f":"P234","v":9}]
[{"$nulls":13},"H",null,9.0,32.0,1.0,42.0,null,"H",{"$f":"P234","v":9},32,1,{"$f":"Q231","v":"Navire & Fort"},{"$f":"Q233","v":17},{"$f":"Q234","v":32}]
[{"$nulls":13},"Total général",0.0,17.0,49.0,1.0,67.0,{"$nulls":5},{"$f":"R231","v":"non attribué"},{"$f":"R233","v":""},{"$f":"R234","v":1}]

{"sheet":"stats septembre","index":13,"n_rows":238,"n_cols":21,"rows_kept":238,"cut":false,"hidden":false,"merged":[[97,3,97,7],[97,8,97,11],[97,12,97,16],[0,0,0,3],[0,5,0,9],[88,9,90,9],[88,12,90,12],[91,9,91,11],[91,12,91,14],[96,3,96,8]]}
["nombre de personnes validées pour la session",null,null,null,{"$f":"'validés septembre'!B1","v":67},"nombre de personnes ayant versé PAF intégralement ou partiellement (ou offerte) :",{"$nulls":4},{"$f":"'validés septembre'!Q222+'validés septembre'!Q223+'validés septembre'!Q224","v":43}]
{"$rows_empty":87}
[{"$nulls":9},"Recap PAF Navire et Fort","PAF finalisée N&F",{"$f":"F94+O94","v":23},"Recap PAF Fort seulement","PAF finalisée F",{"$f":"I94+R94","v":9}]
[{"$nulls":10},"PAF partielle N&F",10,null,"PAF partielle F",1]
[{"$nulls":10},"PAF non reçue N&F",14,null,"PAF non reçue F",7]
[{"$nulls":9},"gratuit",null,null,{"$f":"COUNTIF(D100:R200,\"gratuit\")","v":0}]
[]
[{"$nulls":4},"PAF finalisée",{"$f":"COUNTIF(F100:F200,\"PAF finalisée\")\n","v":7},null,"PAF finalisée",{"$f":"COUNTIF(I100:I200,\"PAF finalisée\")\n","v":5},null,"PAF finalisée",{"$f":"COUNTIF(L100:L200,\"PAF finalisée\")\n","v":0},null,"PAF finalisée",{"$f":"COUNTIF(O100:O200,\"PAF finalisée\")\n","v":16},null,"PAF finalisée",{"$f":"COUNTIF(R100:R200,\"PAF finalisée\")\n","v":4},null,"PAF finalisée",{"$f":"COUNTIF(U100:U200,\"PAF finalisée\")\n","v":0}]
[{"$nulls":4},"PAF partielle",{"$f":"COUNTIF(F100:F200,\"PAF partielle\")\n","v":3},null,"PAF partielle",{"$f":"COUNTIF(I100:I200,\"PAF partielle\")\n","v":1},null,"PAF partielle",{"$f":"COUNTIF(L100:L200,\"PAF partielle\")\n","v":0},null,"PAF partielle",{"$f":"COUNTIF(O100:O200,\"PAF partielle\")\n","v":7},null,"PAF partielle",{"$f":"COUNTIF(R100:R200,\"PAF partielle\")\n","v":0},null,"PAF partielle",{"$f":"COUNTIF(U100:U200,\"PAF partielle\")\n","v":0}]
[{"$nulls":4},"PAF non reçue",{"$f":"COUNTIF(F100:F200,\"PAF non reçue\")\n","v":7},null,"PAF non reçue",{"$f":"COUNTIF(I100:I200,\"PAF non reçue\")\n","v":2},null,"PAF non reçue",{"$f":"COUNTIF(L100:L200,\"PAF non reçue\")\n","v":0},null,"PAF non reçue",{"$f":"COUNTIF(O100:O200,\"PAF non reçue\")\n","v":7},null,"PAF non reçue",{"$f":"COUNTIF(R100:R200,\"PAF non reçue\")\n","v":5},null,"PAF non reçue",{"$f":"COUNTIF(U100:U200,\"PAF non reçue\")\n","v":1}]
[null,null,null,"Total =",{"$nulls":5},{"$f":"I98+R98","v":67},"Navire & Fort :",{"$f":"E99+N99","v":49},null,"Fort seulement :",{"$f":"Q99+H99","v":17},null,"non attribué :",{"$f":"K99+T99","v":1}]
[null,null,null,"F :",{"$nulls":4},{"$f":"E99+H99+K99","v":25},null,null,null,"H :",{"$nulls":4},{"$f":"N99+Q99+T99","v":42}]
["Intensité des inscriptions",null,null,"Navire & Fort :",{"$f":"COUNTA(E100:E155)","v":17},"PAF","Fort seulement :",{"$f":"COUNTA(H100:H155)","v":8},"PAF","non attribué :",{"$f":"COUNTA(K100:K155)","v":0},"PAF","Navire & Fort :",{"$f":"COUNTA(N100:N155)","v":32},"PAF","Fort seulement :",{"$f":"COUNTA(Q100:Q155)","v":9},"PAF","non attribué :",{"$f":"COUNTA(T100:T155)","v":1},"PAF"]
[{"$f":"IFERROR(__xludf.DUMMYFUNCTION(\"QUERY('remplissage du jeu'!A14:A216,\"\"SELECT A, COUNT(A) GROUP BY A ORDER BY A ASC\"\")\"),\"\")","v":""},{"$f":"IFERROR(__xludf.DUMMYFUNCTION(\"\"\"COMPUTED_VALUE\"\"\"),\"count \")","v":"count "},null,{"$f":"IFERROR(__xludf.DUMMYFUNCTION(\"QUERY('validés septembre'!A3:AA219, \"\"select B,C,R where D='F' and P='Navire & Fort'\"\")\"),\"Warszawski \")","v":"Warszawski "},{"$f":"IFERROR(__xludf.DUMMYFUNCTION(\"\"\"COMPUTED_VALUE\"\"\"),\"Jessica\")","v":"Jessica"},{"$f":"IFERROR(__xludf.DUMMYFUNCTION(\"\"\"COMPUTED_VALUE\"\"\"),\"PAF finalisée\")","v":"PAF finalisée"},{"$f":"IFERROR(__xludf.DUMMYFUNCTION(\"QUERY('validés septembre'!A3:AA219, \"\"select B,C,R where D='F' and P='Fort seulement'\"\")\"),\"Harrand \")","v":"Harrand "},{"$f":"IFERROR(__xludf.DUMMYFUNCTION(\"\"\"COMPUTED_VALUE\"\"\"),\"Chloé\")","v":"Chloé"},{"$f":"IFERROR(__xludf.DUMMYFUNCTION(\"\"\"COMPUTED_VALUE\"\"\"),\"PAF finalisée\")","v":"PAF finalisée"},{"$f":"IFERROR(__xludf.DUMMYFUNCTION(\"QUERY('validés septembre'!A3:AA219, \"\"select B,C,R where D='F' and P='non attribué'\"\")\"),\"#N/A\")","v":"#N/A"},null,null,{"$f":"IFERROR(__xludf.DUMMYFUNCTION(\"QUERY('validés septembre'!A3:AA219, \"\"select B,C,R where D='H' and P='Navire & Fort'\"\")\"),\"David\")","v":"David"},{"$f":"IFERROR(__xludf.DUMMYFUNCTION(\"\"\"COMPUTED_VALUE\"\"\"),\"Cédric\")","v":"Cédric"},{"$f":"IFERROR(__xludf.DUMMYFUNCTION(\"\"\"COMPUTED_VALUE\"\"\"),\"PAF finalisée\")","v":"PAF finalisée"},{"$f":"IFERROR(__xludf.DUMMYFUNCTION(\"QUERY('validés septembre'!A3:AA219, \"\"select B,C,R where D='H' and P='Fort seulement'\"\")\"),\"Dumas\")","v":"Dumas"},{"$f":"IFERROR(__xludf.DUMMYFUNCTION(\"\"\"COMPUTED_VALUE\"\"\"),\"Marc\")","v":"Marc"},{"$f":"IFERROR(__xludf.DUMMYFUNCTION(\"\"\"COMPUTED_VALUE\"\"\"),\"PAF finalisée\")","v":"PAF finalisée"},{"$f":"IFERROR(__xludf.DUMMYFUNCTION(\"QUERY('validés septembre'!A3:AA219, \"\"select B,C,R where D='H' and P='non attribué'\"\")\"),\"Doche De Laquintane \")","v":"Doche De Laquintane "},{"$f":"IFERROR(__xludf.DUMMYFUNCTION(\"\"\"COMPUTED_VALUE\"\"\"),\"Nicolas \")","v":"Nicolas "},{"$f":"IFERROR(__xludf.DUMMYFUNCTION(\"\"\"COMPUTED_VALUE\"\"\"),\"PAF non reçue\")","v":"PAF non reçue"}]
[null,{"$f":"IFERROR(__xludf.DUMMYFUNCTION(\"\"\"COMPUTED_VALUE\"\"\"),0.0)","v":0},null,{"$f":"IFERROR(__xludf.DUMMYFUNCTION(\"\"\"COMPUTED_VALUE\"\"\"),\"Giraud\")","v":"Giraud"},{"$f":"IFERROR(__xludf.DUMMYFUNCTION(\"\"\"COMPUTED_VALUE\"\"\"),\"Caroline\")","v":"Caroline"},{"$f":"IFERROR(__xludf.DUMMYFUNCTION(\"\"\"COMPUTED_VALUE\"\"\"),\"PAF finalisée\")","v":"PAF finalisée"},{"$f":"IFERROR(__xludf.DUMMYFUNCTION(\"\"\"COMPUTED_VALUE\"\"\"),\"Pitel\")","v":"Pitel"},{"$f":"IFERROR(__xludf.DUMMYFUNCTION(\"\"\"COMPUTED_VALUE\"\"\"),\"Marion\")","v":"Marion"},{"$f":"IFERROR(__xludf.DUMMYFUNCTION(\"\"\"COMPUTED_VALUE\"\"\"),\"PAF finalisée\")","v":"PAF finalisée"},null,null,null,{"$f":"IFERROR(__xludf.DUMMYFUNCTION(\"\"\"COMPUTED_VALUE\"\"\"),\"De Maupertuis\")","v":"De Maupertuis"},{"$f":"IFERROR(__xludf.DUMMYFUNCTION(\"\"\"COMPUTED_VALUE\"\"\"),\"Renart\")","v":"Renart"},{"$f":"IFERROR(__xludf.DUMMYFUNCTION(\"\"\"COMPUTED_VALUE\"\"\"),\"PAF finalisée\")","v":"PAF finalisée"},{"$f":"IFERROR(__xludf.DUMMYFUNCTION(\"\"\"COMPUTED_VALUE\"\"\"),\"Lorente\")","v":"Lorente"},{"$f":"IFERROR(__xludf.DUMMYFUNCTION(\"\"\"COMPUTED_VALUE\"\"\"),\"Matthieu\")","v":"Matthieu"},{"$f":"IFERROR(__xludf.DUMMYFUNCTION(\"\"\"COMPUTED_VALUE\"\"\"),\"PAF non reçue\")","v":"PAF non reçue"}]
[{"$f":"IFERROR(__xludf.DUMMYFUNCTION(\"\"\"COMPUTED_VALUE\"\"\"),45303.0)","v":"2024-01-12"},{"$f":"IFERROR(__xludf.DUMMYFUNCTION(\"\"\"COMPUTED_VALUE\"\"\"),21.0)","v":21},null,{"$f":"IFERROR(__xludf.DUMMYFUNCTION(\"\"\"COMPUTED_VALUE\"\"\"),\"Maitreheu\")","v":"Maitreheu"},{"$f":"IFERROR(__xludf.DUMMYFUNCTION(\"\"\"COMPUTED_VALUE\"\"\"),\"Mélodie\")","v":"Mélodie"},{"$f":"IFERROR(__xludf.DUMMYFUNCTION(\"\"\"COMPUTED_VALUE\"\"\"),\"PAF non reçue\")","v":"PAF non reçue"},{"$f":"IFERROR(__xludf.DUMMYFUNCTION(\"\"\"COMPUTED_VALUE\"\"\"),\"Vacari\")","v":"Vacari"},{"$f":"IFERROR(__xludf.DUMMYFUNCTION(\"\"\"COMPUTED_VALUE\"\"\"),\"Lydia\")","v":"Lydia"},{"$f":"IFERROR(__xludf.DUMMYFUNCTION(\"\"\"COMPUTED_VALUE\"\"\"),\"PAF partielle\")","v":"PAF partielle"},null,null,null,{"$f":"IFERROR(__xludf.DUMMYFUNCTION(\"\"\"COMPUTED_VALUE\"\"\"),\"Duvert\")","v":"Duvert"},{"$f":"IFERROR(__xludf.DUMMYFUNCTION(\"\"\"COMPUTED_VALUE\"\"\"),\"Guy-Roger\")","v":"Guy-Roger"},{"$f":"IFERROR(__xludf.DUMMYFUNCTION(\"\"\"COMPUTED_VALUE\"\"\"),\"PAF finalisée\")","v":"PAF finalisée"},{"$f":"IFERROR(__xludf.DUMMYFUNCTION(\"\"\"COMPUTED_VALUE\"\"\"),\"Bullier \")","v":"Bullier "},{"$f":"IFERROR(__xludf.DUMMYFUNCTION(\"\"\"COMPUTED_VALUE\"\"\"),\"Maxime \")","v":"Maxime "},{"$f":"IFERROR(__xludf.DUMMYFUNCTION(\"\"\"COMPUTED_VALUE\"\"\"),\"PAF finalisée\")","v":"PAF finalisée"}]
[{"$f":"IFERROR(__xludf.DUMMYFUNCTION(\"\"\"COMPUTED_VALUE\"\"\"),45304.0)","v":"2024-01-13"},{"$f":"IFERROR(__xludf.DUMMYFUNCTION(\"\"\"COMPUTED_VALUE\"\"\"),3.0)","v":3},null,{"$f":"IFERROR(__xludf.DUMMYFUNCTION(\"\"\"COMPUTED_VALUE\"\"\"),\"Bonnecarrère \")","v":"Bonnecarrère "},{"$f":"IFERROR(__xludf.DUMMYFUNCTION(\"\"\"COMPUTED_VALUE\"\"\"),\"Julie\")","v":"Julie"},{"$f":"IFERROR(__xludf.DUMMYFUNCTION(\"\"\"COMPUTED_VALUE\"\"\"),\"PAF finalisée\")","v":"PAF finalisée"},{"$f":"IFERROR(__xludf.DUMMYFUNCTION(\"\"\"COMPUTED_VALUE\"\"\"),\"Lenouvel \")","v":"Lenouvel "},{"$f":"IFERROR(__xludf.DUMMYFUNCTION(\"\"\"COMPUTED_VALUE\"\"\"),\"Maryline \")","v":"Maryline "},{"$f":"IFERROR(__xludf.DUMMYFUNCTION(\"\"\"COMPUTED_VALUE\"\"\"),\"PAF finalisée\")","v":"PAF finalisée"},null,null,null,{"$f":"IFERROR(__xludf.DUMMYFUNCTION(\"\"\"COMPUTED_VALUE\"\"\"),\"Fabre\")","v":"Fabre"},{"$f":"IFERROR(__xludf.DUMMYFUNCTION(\"\"\"COMPUTED_VALUE\"\"\"),\"Alexandre\")","v":"Alexandre"},{"$f":"IFERROR(__xludf.DUMMYFUNCTION(\"\"\"COMPUTED_VALUE\"\"\"),\"PAF partielle + erreur\")","v":"PAF partielle + erreur"},{"$f":"IFERROR(__xludf.DUMMYFUNCTION(\"\"\"COMPUTED_VALUE\"\"\"),\"Ardalan\")","v":"Ardalan"},{"$f":"IFERROR(__xludf.DUMMYFUNCTION(\"\"\"COMPUTED_VALUE\"\"\"),\"Pouria\")","v":"Pouria"},{"$f":"IFERROR(__xludf.DUMMYFUNCTION(\"\"\"COMPUTED_VALUE\"\"\"),\"PAF finalisée\")","v":"PAF finalisée"}]
[{"$f":"IFERROR(__xludf.DUMMYFUNCTION(\"\"\"COMPUTED_VALUE\"\"\"),45305.0)","v":"2024-01-14"},{"$f":"IFERROR(__xludf.DUMMYFUNCTION(\"\"\"COMPUTED_VALUE\"\"\"),3.0)","v":3},null,{"$f":"IFERROR(__xludf.DUMMYFUNCTION(\"\"\"COMPUTED_VALUE\"\"\"),\"Dagrain\")","v":"Dagrain"},{"$f":"IFERROR(__xludf.DUMMYFUNCTION(\"\"\"COMPUTED_VALUE\"\"\"),\"Valerie\")","v":"Valerie"},{"$f":"IFERROR(__xludf.DUMMYFUNCTION(\"\"\"COMPUTED_VALUE\"\"\"),\"PAF non reçue\")","v":"PAF non reçue"},{"$f":"IFERROR(__xludf.DUMMYFUNCTION(\"\"\"COMPUTED_VALUE\"\"\"),\"Gresset\")","v":"Gresset"},{"$f":"IFERROR(__xludf.DUMMYFUNCTION(\"\"\"COMPUTED_VALUE\"\"\"),\"Véronique \")","v":"Véronique "},{"$f":"IFERROR(__xludf.DUMMYFUNCTION(\"\"\"COMPUTED_VALUE\"\"\"),\"PAF non reçue\")","v":"PAF non reçue"},null,null,null,{"$f":"IFERROR(__xludf.DUMMYFUNCTION(\"\"\"COMPUTED_VALUE\"\"\"),\"GANTET\")","v":"GANTET"},{"$f":"IFERROR(__xludf.DUMMYFUNCTION(\"\"\"COMPUTED_VALUE\"\"\"),\"Guillaume\")","v":"Guillaume"},{"$f":"IFERROR(__xludf.DUMMYFUNCTION(\"\"\"COMPUTED_VALUE\"\"\"),\"PAF partielle\")","v":"PAF partielle"},{"$f":"IFERROR(__xludf.DUMMYFUNCTION(\"\"\"COMPUTED_VALUE\"\"\"),\"Petit \")","v":"Petit "},{"$f":"IFERROR(__xludf.DUMMYFUNCTION(\"\"\"COMPUTED_VALUE\"\"\"),\"Vincent \")","v":"Vincent "},{"$f":"IFERROR(__xludf.DUMMYFUNCTION(\"\"\"COMPUTED_VALUE\"\"\"),\"PAF finalisée\")","v":"PAF finalisée"}]
[{"$f":"IFERROR(__xludf.DUMMYFUNCTION(\"\"\"COMPUTED_VALUE\"\"\"),45306.0)","v":"2024-01-15"},{"$f":"IFERROR(__xludf.DUMMYFUNCTION(\"\"\"COMPUTED_VALUE\"\"\"),1.0)","v":1},null,{"$f":"IFERROR(__xludf.DUMMYFUNCTION(\"\"\"COMPUTED_VALUE\"\"\"),\"Moynier\")","v":"Moynier"},{"$f":"IFERROR(__xludf.DUMMYFUNCTION(\"\"\"COMPUTED_VALUE\"\"\"),\"Bérénice\")","v":"Bérénice"},{"$f":"IFERROR(__xludf.DUMMYFUNCTION(\"\"\"COMPUTED_VALUE\"\"\"),\"PAF non reçue\")","v":"PAF non reçue"},{"$f":"IFERROR(__xludf.DUMMYFUNCTION(\"\"\"COMPUTED_VALUE\"\"\"),\"Trémoulière\")","v":"Trémoulière"},{"$f":"IFERROR(__xludf.DUMMYFUNCTION(\"\"\"COMPUTED_VALUE\"\"\"),\"Claire\")","v":"Claire"},{"$f":"IFERROR(__xludf.DUMMYFUNCTION(\"\"\"COMPUTED_VALUE\"\"\"),\"PAF non reçue\")","v":"PAF non reçue"},null,null,null,{"$f":"IFERROR(__xludf.DUMMYFUNCTION(\"\"\"COMPUTED_VALUE\"\"\"),\"Lorente\")","v":"Lorente"},{"$f":"IFERROR(__xludf.DUMMYFUNCTION(\"\"\"COMPUTED_VALUE\"\"\"),\"Yann\")","v":"Yann"},{"$f":"IFERROR(__xludf.DUMMYFUNCTION(\"\"\"COMPUTED_VALUE\"\"\"),\"PAF partielle\")","v":"PAF partielle"},{"$f":"IFERROR(__xludf.DUMMYFUNCTION(\"\"\"COMPUTED_VALUE\"\"\"),\"Fustec\")","v":"Fustec"},{"$f":"IFERROR(__xludf.DUMMYFUNCTION(\"\"\"COMPUTED_VALUE\"\"\"),\"Timothée\")","v":"Timothée"},{"$f":"IFERROR(__xludf.DUMMYFUNCTION(\"\"\"COMPUTED_VALUE\"\"\"),\"PAF non reçue\")","v":"PAF non reçue"}]
[{"$f":"IFERROR(__xludf.DUMMYFUNCTION(\"\"\"COMPUTED_VALUE\"\"\"),45310.0)","v":"2024-01-19"},{"$f":"IFERROR(__xludf.DUMMYFUNCTION(\"\"\"COMPUTED_VALUE\"\"\"),3.0)","v":3},null,{"$f":"IFERROR(__xludf.DUMMYFUNCTION(\"\"\"COMPUTED_VALUE\"\"\"),\"Servel\")","v":"Servel"},{"$f":"IFERROR(__xludf.DUMMYFUNCTION(\"\"\"COMPUTED_VALUE\"\"\"),\"Manon\")","v":"Manon"},{"$f":"IFERROR(__xludf.DUMMYFUNCTION(\"\"\"COMPUTED_VALUE\"\"\"),\"PAF partielle\")","v":"PAF partielle"},{"$f":"IFERROR(__xludf.DUMMYFUNCTION(\"\"\"COMPUTED_VALUE\"\"\"),\"Tallon\")","v":"Tallon"},{"$f":"IFERROR(__xludf.DUMMYFUNCTION(\"\"\"COMPUTED_VALUE\"\"\"),\"Anais (Anya)\")","v":"Anais (Anya)"},{"$f":"IFERROR(__xludf.DUMMYFUNCTION(\"\"\"COMPUTED_VALUE\"\"\"),\"PAF finalisée\")","v":"PAF finalisée"},null,null,null,{"$f":"IFERROR(__xludf.DUMMYFUNCTION(\"\"\"COMPUTED_VALUE\"\"\"),\"Lair\")","v":"Lair"},{"$f":"IFERROR(__xludf.DUMMYFUNCTION(\"\"\"COMPUTED_VALUE\"\"\"),\"François\")","v":"François"},{"$f":"IFERROR(__xludf.DUMMYFUNCTION(\"\"\"COMPUTED_VALUE\"\"\"),\"PAF finalisée\")","v":"PAF finalisée"},{"$f":"IFERROR(__xludf.DUMMYFUNCTION(\"\"\"COMPUTED_VALUE\"\"\"),\"Flamant\")","v":"Flamant"},{"$f":"IFERROR(__xludf.DUMMYFUNCTION(\"\"\"COMPUTED_VALUE\"\"\"),\"Julien\")","v":"Julien"},{"$f":"IFERROR(__xludf.DUMMYFUNCTION(\"\"\"COMPUTED_VALUE\"\"\"),\"PAF non reçue\")","v":"PAF non reçue"}]
[{"$f":"IFERROR(__xludf.DUMMYFUNCTION(\"\"\"COMPUTED_VALUE\"\"\"),45312.0)","v":"2024-01-21"},{"$f":"IFERROR(__xludf.DUMMYFUNCTION(\"\"\"COMPUTED_VALUE\"\"\"),1.0)","v":1},null,{"$f":"IFERROR(__xludf.DUMMYFUNCTION(\"\"\"COMPUTED_VALUE\"\"\"),\"MUNARO\")","v":"MUNARO"},{"$f":"IFERROR(__xludf.DUMMYFUNCTION(\"\"\"COMPUTED_VALUE\"\"\"),\"Perrine\")","v":"Perrine"},{"$f":"IFERROR(__xludf.DUMMYFUNCTION(\"\"\"COMPUTED_VALUE\"\"\"),\"PAF non reçue\")","v":"PAF non reçue"},{"$f":"IFERROR(__xludf.DUMMYFUNCTION(\"\"\"COMPUTED_VALUE\"\"\"),\"Philbert\")","v":"Philbert"},{"$f":"IFERROR(__xludf.DUMMYFUNCTION(\"\"\"COMPUTED_VALUE\"\"\"),\"SOPHIE\")","v":"SOPHIE"},{"$f":"IFERROR(__xludf.DUMMYFUNCTION(\"\"\"COMPUTED_VALUE\"\"\"),\"PAF finalisée\")","v":"PAF finalisée"},null,null,null,{"$f":"IFERROR(__xludf.DUMMYFUNCTION(\"\"\"COMPUTED_VALUE\"\"\"),\"Poimboeuf \")","v":"Poimboeuf "},{"$f":"IFERROR(__xludf.DUMMYFUNCTION(\"\"\"COMPUTED_VALUE\"\"\"),\"Thibault \")","v":"Thibault "},{"$f":"IFERROR(__xludf.DUMMYFUNCTION(\"\"\"COMPUTED_VALUE\"\"\"),\"PAF finalisée\")","v":"PAF finalisée"},{"$f":"IFERROR(__xludf.DUMMYFUNCTION(\"\"\"COMPUTED_VALUE\"\"\"),\"Trébosc\")","v":"Trébosc"},{"$f":"IFERROR(__xludf.DUMMYFUNCTION(\"\"\"COMPUTED_VALUE\"\"\"),\"David\")","v":"David"},{"$f":"IFERROR(__xludf.DUMMYFUNCTION(\"\"\"COMPUTED_VALUE\"\"\"),\"PAF non reçue\")","v":"PAF non reçue"}]
[{"$f":"IFERROR(__xludf.DUMMYFUNCTION(\"\"\"COMPUTED_VALUE\"\"\"),45313.0)","v":"2024-01-22"},{"$f":"IFERROR(__xludf.DUMMYFUNCTION(\"\"\"COMPUTED_VALUE\"\"\"),1.0)","v":1},null,{"$f":"IFERROR(__xludf.DUMMYFUNCTION(\"\"\"COMPUTED_VALUE\"\"\"),\"Lafosse\")","v":"Lafosse"},{"$f":"IFERROR(__xludf.DUMMYFUNCTION(\"\"\"COMPUTED_VALUE\"\"\"),\"Candice\")","v":"Candice"},{"$f":"IFERROR(__xludf.DUMMYFUNCTION(\"\"\"COMPUTED_VALUE\"\"\"),\"PAF partielle\")","v":"PAF partielle"},{"$nulls":6},{"$f":"IFERROR(__xludf.DUMMYFUNCTION(\"\"\"COMPUTED_VALUE\"\"\"),\"COSTERG\")","v":"COSTERG"},{"$f":"IFERROR(__xludf.DUMMYFUNCTION(\"\"\"COMPUTED_VALUE\"\"\"),\"Gaël\")","v":"Gaël"},{"$f":"IFERROR(__xludf.DUMMYFUNCTION(\"\"\"COMPUTED_VALUE\"\"\"),\"PAF finalisée\")","v":"PAF finalisée"},{"$f":"IFERROR(__xludf.DUMMYFUNCTION(\"\"\"COMPUTED_VALUE\"\"\"),\"PHILBERT\")","v":"PHILBERT"},{"$f":"IFERROR(__xludf.DUMMYFUNCTION(\"\"\"COMPUTED_VALUE\"\"\"),\"Charles\")","v":"Charles"},{"$f":"IFERROR(__xludf.DUMMYFUNCTION(\"\"\"COMPUTED_VALUE\"\"\"),\"PAF non reçue\")","v":"PAF non reçue"}]
[{"$f":"IFERROR(__xludf.DUMMYFUNCTION(\"\"\"COMPUTED_VALUE\"\"\"),45315.0)","v":"2024-01-24"},{"$f":"IFERROR(__xludf.DUMMYFUNCTION(\"\"\"COMPUTED_VALUE\"\"\"),1.0)","v":1},null,{"$f":"IFERROR(__xludf.DUMMYFUNCTION(\"\"\"COMPUTED_VALUE\"\"\"),\"Vandroux \")","v":"Vandroux "},{"$f":"IFERROR(__xludf.DUMMYFUNCTION(\"\"\"COMPUTED_VALUE\"\"\"),\"Karine \")","v":"Karine "},{"$f":"IFERROR(__xludf.DUMMYFUNCTION(\"\"\"COMPUTED_VALUE\"\"\"),\"PAF finalisée\")","v":"PAF finalisée"},{"$nulls":6},{"$f":"IFERROR(__xludf.DUMMYFUNCTION(\"\"\"COMPUTED_VALUE\"\"\"),\"Yogananthan \")","v":"Yogananthan "},{"$f":"IFERROR(__xludf.DUMMYFUNCTION(\"\"\"COMPUTED_VALUE\"\"\"),\"Karuna\")","v":"Karuna"},{"$f":"IFERROR(__xludf.DUMMYFUNCTION(\"\"\"COMPUTED_VALUE\"\"\"),\"PAF finalisée\")","v":"PAF finalisée"}]
[{"$f":"IFERROR(__xludf.DUMMYFUNCTION(\"\"\"COMPUTED_VALUE\"\"\"),45326.0)","v":"2024-02-04"},{"$f":"IFERROR(__xludf.DUMMYFUNCTION(\"\"\"COMPUTED_VALUE\"\"\"),2.0)","v":2},null,{"$f":"IFERROR(__xludf.DUMMYFUNCTION(\"\"\"COMPUTED_VALUE\"\"\"),\"Whittaker\")","v":"Whittaker"},{"$f":"IFERROR(__xludf.DUMMYFUNCTION(\"\"\"COMPUTED_VALUE\"\"\"),\"Isabelle\")","v":"Isabelle"},{"$f":"IFERROR(__xludf.DUMMYFUNCTION(\"\"\"COMPUTED_VALUE\"\"\"),\"PAF non reçue\")","v":"PAF non reçue"},{"$nulls":6},{"$f":"IFERROR(__xludf.DUMMYFUNCTION(\"\"\"COMPUTED_VALUE\"\"\"),\"Blanchard Quentin\")","v":"Blanchard Quentin"},{"$f":"IFERROR(__xludf.DUMMYFUNCTION(\"\"\"COMPUTED_VALUE\"\"\"),\"Quentin\")","v":"Quentin"},{"$f":"IFERROR(__xludf.DUMMYFUNCTION(\"\"\"COMPUTED_VALUE\"\"\"),\"PAF non reçue\")","v":"PAF non reçue"}]
[{"$f":"IFERROR(__xludf.DUMMYFUNCTION(\"\"\"COMPUTED_VALUE\"\"\"),45332.0)","v":"2024-02-10"},{"$f":"IFERROR(__xludf.DUMMYFUNCTION(\"\"\"COMPUTED_VALUE\"\"\"),5.0)","v":5},null,{"$f":"IFERROR(__xludf.DUMMYFUNCTION(\"\"\"COMPUTED_VALUE\"\"\"),\"Petitdemange\")","v":"Petitdemange"},{"$f":"IFERROR(__xludf.DUMMYFUNCTION(\"\"\"COMPUTED_VALUE\"\"\"),\"Floriane\")","v":"Floriane"},{"$f":"IFERROR(__xludf.DUMMYFUNCTION(\"\"\"COMPUTED_VALUE\"\"\"),\"PAF non reçue\")","v":"PAF non reçue"},{"$nulls":6},{"$f":"IFERROR(__xludf.DUMMYFUNCTION(\"\"\"COMPUTED_VALUE\"\"\"),\"grunemwald\")","v":"grunemwald"},{"$f":"IFERROR(__xludf.DUMMYFUNCTION(\"\"\"COMPUTED_VALUE\"\"\"),\"thomas\")","v":"thomas"},{"$f":"IFERROR(__xludf.DUMMYFUNCTION(\"\"\"COMPUTED_VALUE\"\"\"),\"PAF finalisée\")","v":"PAF finalisée"}]
[{"$f":"IFERROR(__xludf.DUMMYFUNCTION(\"\"\"COMPUTED_VALUE\"\"\"),45341.0)","v":"2024-02-19"},{"$f":"IFERROR(__xludf.DUMMYFUNCTION(\"\"\"COMPUTED_VALUE\"\"\"),1.0)","v":1},null,{"$f":"IFERROR(__xludf.DUMMYFUNCTION(\"\"\"COMPUTED_VALUE\"\"\"),\"Stoltz \")","v":"Stoltz "},{"$f":"IFERROR(__xludf.DUMMYFUNCTION(\"\"\"COMPUTED_VALUE\"\"\"),\"Charline\")","v":"Charline"},{"$f":"IFERROR(__xludf.DUMMYFUNCTION(\"\"\"COMPUTED_VALUE\"\"\"),\"PAF finalisée\")","v":"PAF finalisée"},{"$nulls":6},{"$f":"IFERROR(__xludf.DUMMYFUNCTION(\"\"\"COMPUTED_VALUE\"\"\"),\"Capitaine\")","v":"Capitaine"},{"$f":"IFERROR(__xludf.DUMMYFUNCTION(\"\"\"COMPUTED_VALUE\"\"\"),\"Bobby\")","v":"Bobby"},{"$f":"IFERROR(__xludf.DUMMYFUNCTION(\"\"\"COMPUTED_VALUE\"\"\"),\"PAF partielle\")","v":"PAF partielle"}]
[{"$f":"IFERROR(__xludf.DUMMYFUNCTION(\"\"\"COMPUTED_VALUE\"\"\"),45342.0)","v":"2024-02-20"},{"$f":"IFERROR(__xludf.DUMMYFUNCTION(\"\"\"COMPUTED_VALUE\"\"\"),3.0)","v":3},null,{"$f":"IFERROR(__xludf.DUMMYFUNCTION(\"\"\"COMPUTED_VALUE\"\"\"),\"Jullien\")","v":"Jullien"},{"$f":"IFERROR(__xludf.DUMMYFUNCTION(\"\"\"COMPUTED_VALUE\"\"\"),\"Agnes\")","v":"Agnes"},{"$f":"IFERROR(__xludf.DUMMYFUNCTION(\"\"\"COMPUTED_VALUE\"\"\"),\"PAF finalisée\")","v":"PAF finalisée"},{"$nulls":6},{"$f":"IFERROR(__xludf.DUMMYFUNCTION(\"\"\"COMPUTED_VALUE\"\"\"),\"Maréchal\")","v":"Maréchal"},{"$f":"IFERROR(__xludf.DUMMYFUNCTION(\"\"\"COMPUTED_VALUE\"\"\"),\"William\")","v":"William"},{"$f":"IFERROR(__xludf.DUMMYFUNCTION(\"\"\"COMPUTED_VALUE\"\"\"),\"PAF partielle\")","v":"PAF partielle"}]
[{"$f":"IFERROR(__xludf.DUMMYFUNCTION(\"\"\"COMPUTED_VALUE\"\"\"),45363.0)","v":"2024-03-12"},{"$f":"IFERROR(__xludf.DUMMYFUNCTION(\"\"\"COMPUTED_VALUE\"\"\"),1.0)","v":1},null,{"$f":"IFERROR(__xludf.DUMMYFUNCTION(\"\"\"COMPUTED_VALUE\"\"\"),\"Pichot\")","v":"Pichot"},{"$f":"IFERROR(__xludf.DUMMYFUNCTION(\"\"\"COMPUTED_VALUE\"\"\"),\"Claire\")","v":"Claire"},{"$f":"IFERROR(__xludf.DUMMYFUNCTION(\"\"\"COMPUTED_VALUE\"\"\"),\"PAF partielle\")","v":"PAF partielle"},{"$nulls":6},{"$f":"IFERROR(__xludf.DUMMYFUNCTION(\"\"\"COMPUTED_VALUE\"\"\"),\"Amoureux\")","v":"Amoureux"},{"$f":"IFERROR(__xludf.DUMMYFUNCTION(\"\"\"COMPUTED_VALUE\"\"\"),\"Erwan\")","v":"Erwan"},{"$f":"IFERROR(__xludf.DUMMYFUNCTION(\"\"\"COMPUTED_VALUE\"\"\"),\"PAF finalisée\")","v":"PAF finalisée"}]
[{"$f":"IFERROR(__xludf.DUMMYFUNCTION(\"\"\"COMPUTED_VALUE\"\"\"),45366.0)","v":"2024-03-15"},{"$f":"IFERROR(__xludf.DUMMYFUNCTION(\"\"\"COMPUTED_VALUE\"\"\"),1.0)","v":1},null,{"$f":"IFERROR(__xludf.DUMMYFUNCTION(\"\"\"COMPUTED_VALUE\"\"\"),\"Mousset \")","v":"Mousset "},{"$f":"IFERROR(__xludf.DUMMYFUNCTION(\"\"\"COMPUTED_VALUE\"\"\"),\"Valérie \")","v":"Valérie "},{"$f":"IFERROR(__xludf.DUMMYFUNCTION(\"\"\"COMPUTED_VALUE\"\"\"),\"PAF non reçue\")","v":"PAF non reçue"},{"$nulls":6},{"$f":"IFERROR(__xludf.DUMMYFUNCTION(\"\"\"COMPUTED_VALUE\"\"\"),\"PAYEN\")","v":"PAYEN"},{"$f":"IFERROR(__xludf.DUMMYFUNCTION(\"\"\"COMPUTED_VALUE\"\"\"),\"Renaud\")","v":"Renaud"},{"$f":"IFERROR(__xludf.DUMMYFUNCTION(\"\"\"COMPUTED_VALUE\"\"\"),\"PAF partielle\")","v":"PAF partielle"}]
[{"$f":"IFERROR(__xludf.DUMMYFUNCTION(\"\"\"COMPUTED_VALUE\"\"\"),45390.0)","v":"2024-04-08"},{"$f":"IFERROR(__xludf.DUMMYFUNCTION(\"\"\"COMPUTED_VALUE\"\"\"),1.0)","v":1},null,{"$f":"IFERROR(__xludf.DUMMYFUNCTION(\"\"\"COMPUTED_VALUE\"\"\"),\" Rollin\")","v":" Rollin"},{"$f":"IFERROR(__xludf.DUMMYFUNCTION(\"\"\"COMPUTED_VALUE\"\"\"),\"Cecile\")","v":"Cecile"},{"$f":"IFERROR(__xludf.DUMMYFUNCTION(\"\"\"COMPUTED_VALUE\"\"\"),\"PAF finalisée\")","v":"PAF finalisée"},{"$nulls":6},{"$f":"IFERROR(__xludf.DUMMYFUNCTION(\"\"\"COMPUTED_VALUE\"\"\"),\"Garcia-Cotte\")","v":"Garcia-Cotte"},{"$f":"IFERROR(__xludf.DUMMYFUNCTION(\"\"\"COMPUTED_VALUE\"\"\"),\"Hugo\")","v":"Hugo"},{"$f":"IFERROR(__xludf.DUMMYFUNCTION(\"\"\"COMPUTED_VALUE\"\"\"),\"PAF partielle + erreur\")","v":"PAF partielle + erreur"}]
[{"$f":"IFERROR(__xludf.DUMMYFUNCTION(\"\"\"COMPUTED_VALUE\"\"\"),45446.0)","v":"2024-06-03"},{"$f":"IFERROR(__xludf.DUMMYFUNCTION(\"\"\"COMPUTED_VALUE\"\"\"),1.0)","v":1},{"$nulls":10},{"$f":"IFERROR(__xludf.DUMMYFUNCTION(\"\"\"COMPUTED_VALUE\"\"\"),\"Gutierrez\")","v":"Gutierrez"},{"$f":"IFERROR(__xludf.DUMMYFUNCTION(\"\"\"COMPUTED_VALUE\"\"\"),\"Jeremy\")","v":"Jeremy"},{"$f":"IFERROR(__xludf.DUMMYFUNCTION(\"\"\"COMPUTED_VALUE\"\"\"),\"PAF finalisée\")","v":"PAF finalisée"}]
[{"$f":"IFERROR(__xludf.DUMMYFUNCTION(\"\"\"COMPUTED_VALUE\"\"\"),45460.0)","v":"2024-06-17"},{"$f":"IFERROR(__xludf.DUMMYFUNCTION(\"\"\"COMPUTED_VALUE\"\"\"),1.0)","v":1},{"$nulls":10},{"$f":"IFERROR(__xludf.DUMMYFUNCTION(\"\"\"COMPUTED_VALUE\"\"\"),\"FLAMMANN\")","v":"FLAMMANN"},{"$f":"IFERROR(__xludf.DUMMYFUNCTION(\"\"\"COMPUTED_VALUE\"\"\"),\"Sasha\")","v":"Sasha"},{"$f":"IFERROR(__xludf.DUMMYFUNCTION(\"\"\"COMPUTED_VALUE\"\"\"),\"PAF finalisée\")","v":"PAF finalisée"}]
[{"$f":"IFERROR(__xludf.DUMMYFUNCTION(\"\"\"COMPUTED_VALUE\"\"\"),45461.0)","v":"2024-06-18"},{"$f":"IFERROR(__xludf.DUMMYFUNCTION(\"\"\"COMPUTED_VALUE\"\"\"),1.0)","v":1},{"$nulls":10},{"$f":"IFERROR(__xludf.DUMMYFUNCTION(\"\"\"COMPUTED_VALUE\"\"\"),\"FAR\")","v":"FAR"},{"$f":"IFERROR(__xludf.DUMMYFUNCTION(\"\"\"COMPUTED_VALUE\"\"\"),\"William\")","v":"William"},{"$f":"IFERROR(__xludf.DUMMYFUNCTION(\"\"\"COMPUTED_VALUE\"\"\"),\"PAF partielle\")","v":"PAF partielle"}]
[{"$f":"IFERROR(__xludf.DUMMYFUNCTION(\"\"\"COMPUTED_VALUE\"\"\"),45465.0)","v":"2024-06-22"},{"$f":"IFERROR(__xludf.DUMMYFUNCTION(\"\"\"COMPUTED_VALUE\"\"\"),1.0)","v":1},{"$nulls":10},{"$f":"IFERROR(__xludf.DUMMYFUNCTION(\"\"\"COMPUTED_VALUE\"\"\"),\"Ortalo\")","v":"Ortalo"},{"$f":"IFERROR(__xludf.DUMMYFUNCTION(\"\"\"COMPUTED_VALUE\"\"\"),\"Pierre\")","v":"Pierre"},{"$f":"IFERROR(__xludf.DUMMYFUNCTION(\"\"\"COMPUTED_VALUE\"\"\"),\"PAF finalisée\")","v":"PAF finalisée"}]
[{"$f":"IFERROR(__xludf.DUMMYFUNCTION(\"\"\"COMPUTED_VALUE\"\"\"),45494.0)","v":"2024-07-21"},{"$f":"IFERROR(__xludf.DUMMYFUNCTION(\"\"\"COMPUTED_VALUE\"\"\"),4.0)","v":4},{"$nulls":10},{"$f":"IFERROR(__xludf.DUMMYFUNCTION(\"\"\"COMPUTED_VALUE\"\"\"),\"Garros\")","v":"Garros"},{"$f":"IFERROR(__xludf.DUMMYFUNCTION(\"\"\"COMPUTED_VALUE\"\"\"),\"Alban\")","v":"Alban"},{"$f":"IFERROR(__xludf.DUMMYFUNCTION(\"\"\"COMPUTED_VALUE\"\"\"),\"PAF finalisée\")","v":"PAF finalisée"}]
[{"$f":"IFERROR(__xludf.DUMMYFUNCTION(\"\"\"COMPUTED_VALUE\"\"\"),45495.0)","v":"2024-07-22"},{"$f":"IFERROR(__xludf.DUMMYFUNCTION(\"\"\"COMPUTED_VALUE\"\"\"),7.0)","v":7},{"$nulls":10},{"$f":"IFERROR(__xludf.DUMMYFUNCTION(\"\"\"COMPUTED_VALUE\"\"\"),\"Vidal \")","v":"Vidal "},{"$f":"IFERROR(__xludf.DUMMYFUNCTION(\"\"\"COMPUTED_VALUE\"\"\"),\"Jules\")","v":"Jules"},{"$f":"IFERROR(__xludf.DUMMYFUNCTION(\"\"\"COMPUTED_VALUE\"\"\"),\"PAF non reçue\")","v":"PAF non reçue"}]
[{"$f":"IFERROR(__xludf.DUMMYFUNCTION(\"\"\"COMPUTED_VALUE\"\"\"),45496.0)","v":"2024-07-23"},{"$f":"IFERROR(__xludf.DUMMYFUNCTION(\"\"\"COMPUTED_VALUE\"\"\"),4.0)","v":4},{"$nulls":10},{"$f":"IFERROR(__xludf.DUMMYFUNCTION(\"\"\"COMPUTED_VALUE\"\"\"),\"Barrere\")","v":"Barrere"},{"$f":"IFERROR(__xludf.DUMMYFUNCTION(\"\"\"COMPUTED_VALUE\"\"\"),\"Ludovic\")","v":"Ludovic"},{"$f":"IFERROR(__xludf.DUMMYFUNCTION(\"\"\"COMPUTED_VALUE\"\"\"),\"PAF non reçue\")","v":"PAF non reçue"}]
[{"$f":"IFERROR(__xludf.DUMMYFUNCTION(\"\"\"COMPUTED_VALUE\"\"\"),45497.0)","v":"2024-07-24"},{"$f":"IFERROR(__xludf.DUMMYFUNCTION(\"\"\"COMPUTED_VALUE\"\"\"),1.0)","v":1},{"$nulls":10},{"$f":"IFERROR(__xludf.DUMMYFUNCTION(\"\"\"COMPUTED_VALUE\"\"\"),\"JONAS\")","v":"JONAS"},{"$f":"IFERROR(__xludf.DUMMYFUNCTION(\"\"\"COMPUTED_VALUE\"\"\"),\"Thomas\")","v":"Thomas"},{"$f":"IFERROR(__xludf.DUMMYFUNCTION(\"\"\"COMPUTED_VALUE\"\"\"),\"PAF finalisée\")","v":"PAF finalisée"}]
[{"$f":"IFERROR(__xludf.DUMMYFUNCTION(\"\"\"COMPUTED_VALUE\"\"\"),45498.0)","v":"2024-07-25"},{"$f":"IFERROR(__xludf.DUMMYFUNCTION(\"\"\"COMPUTED_VALUE\"\"\"),2.0)","v":2},{"$nulls":10},{"$f":"IFERROR(__xludf.DUMMYFUNCTION(\"\"\"COMPUTED_VALUE\"\"\"),\"leveque\")","v":"leveque"},{"$f":"IFERROR(__xludf.DUMMYFUNCTION(\"\"\"COMPUTED_VALUE\"\"\"),\"Jonathan\")","v":"Jonathan"},{"$f":"IFERROR(__xludf.DUMMYFUNCTION(\"\"\"COMPUTED_VALUE\"\"\"),\"PAF non reçue\")","v":"PAF non reçue"}]
[{"$f":"IFERROR(__xludf.DUMMYFUNCTION(\"\"\"COMPUTED_VALUE\"\"\"),45499.0)","v":"2024-07-26"},{"$f":"IFERROR(__xludf.DUMMYFUNCTION(\"\"\"COMPUTED_VALUE\"\"\"),1.0)","v":1},{"$nulls":10},{"$f":"IFERROR(__xludf.DUMMYFUNCTION(\"\"\"COMPUTED_VALUE\"\"\"),\"Guyot\")","v":"Guyot"},{"$f":"IFERROR(__xludf.DUMMYFUNCTION(\"\"\"COMPUTED_VALUE\"\"\"),\"Romain\")","v":"Romain"},{"$f":"IFERROR(__xludf.DUMMYFUNCTION(\"\"\"COMPUTED_VALUE\"\"\"),\"PAF partielle\")","v":"PAF partielle"}]
[{"$f":"IFERROR(__xludf.DUMMYFUNCTION(\"\"\"COMPUTED_VALUE\"\"\"),45508.0)","v":"2024-08-04"},{"$f":"IFERROR(__xludf.DUMMYFUNCTION(\"\"\"COMPUTED_VALUE\"\"\"),1.0)","v":1},{"$nulls":10},{"$f":"IFERROR(__xludf.DUMMYFUNCTION(\"\"\"COMPUTED_VALUE\"\"\"),\"Navarro\")","v":"Navarro"},{"$f":"IFERROR(__xludf.DUMMYFUNCTION(\"\"\"COMPUTED_VALUE\"\"\"),\"Grégory \")","v":"Grégory "},{"$f":"IFERROR(__xludf.DUMMYFUNCTION(\"\"\"COMPUTED_VALUE\"\"\"),\"PAF non reçue\")","v":"PAF non reçue"}]
[{"$f":"IFERROR(__xludf.DUMMYFUNCTION(\"\"\"COMPUTED_VALUE\"\"\"),45540.0)","v":"2024-09-05"},{"$f":"IFERROR(__xludf.DUMMYFUNCTION(\"\"\"COMPUTED_VALUE\"\"\"),2.0)","v":2},{"$nulls":10},{"$f":"IFERROR(__xludf.DUMMYFUNCTION(\"\"\"COMPUTED_VALUE\"\"\"),\"saison\")","v":"saison"},{"$f":"IFERROR(__xludf.DUMMYFUNCTION(\"\"\"COMPUTED_VALUE\"\"\"),\"arthur\")","v":"arthur"},{"$f":"IFERROR(__xludf.DUMMYFUNCTION(\"\"\"COMPUTED_VALUE\"\"\"),\"PAF non reçue\")","v":"PAF non reçue"}]
[{"$f":"IFERROR(__xludf.DUMMYFUNCTION(\"\"\"COMPUTED_VALUE\"\"\"),45542.0)","v":"2024-09-07"},{"$f":"IFERROR(__xludf.DUMMYFUNCTION(\"\"\"COMPUTED_VALUE\"\"\"),1.0)","v":1},{"$nulls":10},{"$f":"IFERROR(__xludf.DUMMYFUNCTION(\"\"\"COMPUTED_VALUE\"\"\"),\"Beeckman\")","v":"Beeckman"},{"$f":"IFERROR(__xludf.DUMMYFUNCTION(\"\"\"COMPUTED_VALUE\"\"\"),\"Nathan\")","v":"Nathan"},{"$f":"IFERROR(__xludf.DUMMYFUNCTION(\"\"\"COMPUTED_VALUE\"\"\"),\"PAF non reçue\")","v":"PAF non reçue"}]
[{"$f":"IFERROR(__xludf.DUMMYFUNCTION(\"\"\"COMPUTED_VALUE\"\"\"),45543.0)","v":"2024-09-08"},{"$f":"IFERROR(__xludf.DUMMYFUNCTION(\"\"\"COMPUTED_VALUE\"\"\"),1.0)","v":1},{"$nulls":10},{"$f":"IFERROR(__xludf.DUMMYFUNCTION(\"\"\"COMPUTED_VALUE\"\"\"),\"VOINOT\")","v":"VOINOT"},{"$f":"IFERROR(__xludf.DUMMYFUNCTION(\"\"\"COMPUTED_VALUE\"\"\"),\"Sébastien\")","v":"Sébastien"},{"$f":"IFERROR(__xludf.DUMMYFUNCTION(\"\"\"COMPUTED_VALUE\"\"\"),\"PAF finalisée\")","v":"PAF finalisée"}]
[{"$f":"IFERROR(__xludf.DUMMYFUNCTION(\"\"\"COMPUTED_VALUE\"\"\"),45544.0)","v":"2024-09-09"},{"$f":"IFERROR(__xludf.DUMMYFUNCTION(\"\"\"COMPUTED_VALUE\"\"\"),2.0)","v":2},{"$nulls":10},{"$f":"IFERROR(__xludf.DUMMYFUNCTION(\"\"\"COMPUTED_VALUE\"\"\"),\"Moulin\")","v":"Moulin"},{"$f":"IFERROR(__xludf.DUMMYFUNCTION(\"\"\"COMPUTED_VALUE\"\"\"),\"Philippe\")","v":"Philippe"},{"$f":"IFERROR(__xludf.DUMMYFUNCTION(\"\"\"COMPUTED_VALUE\"\"\"),\"PAF finalisée\")","v":"PAF finalisée"}]
[{"$f":"IFERROR(__xludf.DUMMYFUNCTION(\"\"\"COMPUTED_VALUE\"\"\"),45548.0)","v":"2024-09-13"},{"$f":"IFERROR(__xludf.DUMMYFUNCTION(\"\"\"COMPUTED_VALUE\"\"\"),1.0)","v":1}]
[{"$f":"IFERROR(__xludf.DUMMYFUNCTION(\"\"\"COMPUTED_VALUE\"\"\"),45549.0)","v":"2024-09-14"},{"$f":"IFERROR(__xludf.DUMMYFUNCTION(\"\"\"COMPUTED_VALUE\"\"\"),2.0)","v":2}]
[{"$f":"IFERROR(__xludf.DUMMYFUNCTION(\"\"\"COMPUTED_VALUE\"\"\"),45551.0)","v":"2024-09-16"},{"$f":"IFERROR(__xludf.DUMMYFUNCTION(\"\"\"COMPUTED_VALUE\"\"\"),3.0)","v":3}]
[{"$f":"IFERROR(__xludf.DUMMYFUNCTION(\"\"\"COMPUTED_VALUE\"\"\"),45553.0)","v":"2024-09-18"},{"$f":"IFERROR(__xludf.DUMMYFUNCTION(\"\"\"COMPUTED_VALUE\"\"\"),5.0)","v":5}]
[{"$f":"IFERROR(__xludf.DUMMYFUNCTION(\"\"\"COMPUTED_VALUE\"\"\"),45555.0)","v":"2024-09-20"},{"$f":"IFERROR(__xludf.DUMMYFUNCTION(\"\"\"COMPUTED_VALUE\"\"\"),3.0)","v":3}]
[{"$f":"IFERROR(__xludf.DUMMYFUNCTION(\"\"\"COMPUTED_VALUE\"\"\"),45556.0)","v":"2024-09-21"},{"$f":"IFERROR(__xludf.DUMMYFUNCTION(\"\"\"COMPUTED_VALUE\"\"\"),1.0)","v":1}]
[{"$f":"IFERROR(__xludf.DUMMYFUNCTION(\"\"\"COMPUTED_VALUE\"\"\"),45557.0)","v":"2024-09-22"},{"$f":"IFERROR(__xludf.DUMMYFUNCTION(\"\"\"COMPUTED_VALUE\"\"\"),2.0)","v":2}]
[{"$f":"IFERROR(__xludf.DUMMYFUNCTION(\"\"\"COMPUTED_VALUE\"\"\"),45558.0)","v":"2024-09-23"},{"$f":"IFERROR(__xludf.DUMMYFUNCTION(\"\"\"COMPUTED_VALUE\"\"\"),1.0)","v":1}]
[{"$f":"IFERROR(__xludf.DUMMYFUNCTION(\"\"\"COMPUTED_VALUE\"\"\"),45560.0)","v":"2024-09-25"},{"$f":"IFERROR(__xludf.DUMMYFUNCTION(\"\"\"COMPUTED_VALUE\"\"\"),2.0)","v":2}]
[{"$f":"IFERROR(__xludf.DUMMYFUNCTION(\"\"\"COMPUTED_VALUE\"\"\"),45564.0)","v":"2024-09-29"},{"$f":"IFERROR(__xludf.DUMMYFUNCTION(\"\"\"COMPUTED_VALUE\"\"\"),4.0)","v":4}]
[{"$f":"IFERROR(__xludf.DUMMYFUNCTION(\"\"\"COMPUTED_VALUE\"\"\"),45574.0)","v":"2024-10-09"},{"$f":"IFERROR(__xludf.DUMMYFUNCTION(\"\"\"COMPUTED_VALUE\"\"\"),1.0)","v":1}]
[{"$f":"IFERROR(__xludf.DUMMYFUNCTION(\"\"\"COMPUTED_VALUE\"\"\"),45576.0)","v":"2024-10-11"},{"$f":"IFERROR(__xludf.DUMMYFUNCTION(\"\"\"COMPUTED_VALUE\"\"\"),2.0)","v":2}]
[{"$f":"IFERROR(__xludf.DUMMYFUNCTION(\"\"\"COMPUTED_VALUE\"\"\"),45577.0)","v":"2024-10-12"},{"$f":"IFERROR(__xludf.DUMMYFUNCTION(\"\"\"COMPUTED_VALUE\"\"\"),2.0)","v":2}]
[{"$f":"IFERROR(__xludf.DUMMYFUNCTION(\"\"\"COMPUTED_VALUE\"\"\"),45581.0)","v":"2024-10-16"},{"$f":"IFERROR(__xludf.DUMMYFUNCTION(\"\"\"COMPUTED_VALUE\"\"\"),1.0)","v":1}]
[{"$f":"IFERROR(__xludf.DUMMYFUNCTION(\"\"\"COMPUTED_VALUE\"\"\"),45585.0)","v":"2024-10-20"},{"$f":"IFERROR(__xludf.DUMMYFUNCTION(\"\"\"COMPUTED_VALUE\"\"\"),2.0)","v":2}]
[{"$f":"IFERROR(__xludf.DUMMYFUNCTION(\"\"\"COMPUTED_VALUE\"\"\"),45586.0)","v":"2024-10-21"},{"$f":"IFERROR(__xludf.DUMMYFUNCTION(\"\"\"COMPUTED_VALUE\"\"\"),2.0)","v":2}]
[{"$f":"IFERROR(__xludf.DUMMYFUNCTION(\"\"\"COMPUTED_VALUE\"\"\"),45588.0)","v":"2024-10-23"},{"$f":"IFERROR(__xludf.DUMMYFUNCTION(\"\"\"COMPUTED_VALUE\"\"\"),1.0)","v":1}]
[{"$f":"IFERROR(__xludf.DUMMYFUNCTION(\"\"\"COMPUTED_VALUE\"\"\"),45596.0)","v":"2024-10-31"},{"$f":"IFERROR(__xludf.DUMMYFUNCTION(\"\"\"COMPUTED_VALUE\"\"\"),1.0)","v":1}]
[{"$f":"IFERROR(__xludf.DUMMYFUNCTION(\"\"\"COMPUTED_VALUE\"\"\"),45597.0)","v":"2024-11-01"},{"$f":"IFERROR(__xludf.DUMMYFUNCTION(\"\"\"COMPUTED_VALUE\"\"\"),1.0)","v":1}]
[{"$f":"IFERROR(__xludf.DUMMYFUNCTION(\"\"\"COMPUTED_VALUE\"\"\"),45605.0)","v":"2024-11-09"},{"$f":"IFERROR(__xludf.DUMMYFUNCTION(\"\"\"COMPUTED_VALUE\"\"\"),1.0)","v":1}]
[{"$f":"IFERROR(__xludf.DUMMYFUNCTION(\"\"\"COMPUTED_VALUE\"\"\"),45613.0)","v":"2024-11-17"},{"$f":"IFERROR(__xludf.DUMMYFUNCTION(\"\"\"COMPUTED_VALUE\"\"\"),1.0)","v":1}]
[{"$f":"IFERROR(__xludf.DUMMYFUNCTION(\"\"\"COMPUTED_VALUE\"\"\"),45617.0)","v":"2024-11-21"},{"$f":"IFERROR(__xludf.DUMMYFUNCTION(\"\"\"COMPUTED_VALUE\"\"\"),1.0)","v":1}]
[{"$f":"IFERROR(__xludf.DUMMYFUNCTION(\"\"\"COMPUTED_VALUE\"\"\"),45618.0)","v":"2024-11-22"},{"$f":"IFERROR(__xludf.DUMMYFUNCTION(\"\"\"COMPUTED_VALUE\"\"\"),1.0)","v":1}]
[{"$f":"IFERROR(__xludf.DUMMYFUNCTION(\"\"\"COMPUTED_VALUE\"\"\"),45642.0)","v":"2024-12-16"},{"$f":"IFERROR(__xludf.DUMMYFUNCTION(\"\"\"COMPUTED_VALUE\"\"\"),1.0)","v":1}]
[{"$f":"IFERROR(__xludf.DUMMYFUNCTION(\"\"\"COMPUTED_VALUE\"\"\"),45660.0)","v":"2025-01-03"},{"$f":"IFERROR(__xludf.DUMMYFUNCTION(\"\"\"COMPUTED_VALUE\"\"\"),1.0)","v":1}]
[{"$f":"IFERROR(__xludf.DUMMYFUNCTION(\"\"\"COMPUTED_VALUE\"\"\"),45661.0)","v":"2025-01-04"},{"$f":"IFERROR(__xludf.DUMMYFUNCTION(\"\"\"COMPUTED_VALUE\"\"\"),3.0)","v":3}]
[{"$f":"IFERROR(__xludf.DUMMYFUNCTION(\"\"\"COMPUTED_VALUE\"\"\"),45662.0)","v":"2025-01-05"},{"$f":"IFERROR(__xludf.DUMMYFUNCTION(\"\"\"COMPUTED_VALUE\"\"\"),1.0)","v":1}]
[{"$f":"IFERROR(__xludf.DUMMYFUNCTION(\"\"\"COMPUTED_VALUE\"\"\"),45663.0)","v":"2025-01-06"},{"$f":"IFERROR(__xludf.DUMMYFUNCTION(\"\"\"COMPUTED_VALUE\"\"\"),1.0)","v":1}]
[{"$f":"IFERROR(__xludf.DUMMYFUNCTION(\"\"\"COMPUTED_VALUE\"\"\"),45664.0)","v":"2025-01-07"},{"$f":"IFERROR(__xludf.DUMMYFUNCTION(\"\"\"COMPUTED_VALUE\"\"\"),1.0)","v":1}]
[{"$f":"IFERROR(__xludf.DUMMYFUNCTION(\"\"\"COMPUTED_VALUE\"\"\"),45669.0)","v":"2025-01-12"},{"$f":"IFERROR(__xludf.DUMMYFUNCTION(\"\"\"COMPUTED_VALUE\"\"\"),1.0)","v":1}]
[{"$f":"IFERROR(__xludf.DUMMYFUNCTION(\"\"\"COMPUTED_VALUE\"\"\"),45670.0)","v":"2025-01-13"},{"$f":"IFERROR(__xludf.DUMMYFUNCTION(\"\"\"COMPUTED_VALUE\"\"\"),1.0)","v":1}]
[{"$f":"IFERROR(__xludf.DUMMYFUNCTION(\"\"\"COMPUTED_VALUE\"\"\"),45671.0)","v":"2025-01-14"},{"$f":"IFERROR(__xludf.DUMMYFUNCTION(\"\"\"COMPUTED_VALUE\"\"\"),1.0)","v":1}]
[{"$f":"IFERROR(__xludf.DUMMYFUNCTION(\"\"\"COMPUTED_VALUE\"\"\"),45672.0)","v":"2025-01-15"},{"$f":"IFERROR(__xludf.DUMMYFUNCTION(\"\"\"COMPUTED_VALUE\"\"\"),1.0)","v":1}]
[{"$f":"IFERROR(__xludf.DUMMYFUNCTION(\"\"\"COMPUTED_VALUE\"\"\"),45673.0)","v":"2025-01-16"},{"$f":"IFERROR(__xludf.DUMMYFUNCTION(\"\"\"COMPUTED_VALUE\"\"\"),3.0)","v":3}]
[{"$f":"IFERROR(__xludf.DUMMYFUNCTION(\"\"\"COMPUTED_VALUE\"\"\"),45674.0)","v":"2025-01-17"},{"$f":"IFERROR(__xludf.DUMMYFUNCTION(\"\"\"COMPUTED_VALUE\"\"\"),2.0)","v":2}]
[{"$f":"IFERROR(__xludf.DUMMYFUNCTION(\"\"\"COMPUTED_VALUE\"\"\"),45676.0)","v":"2025-01-19"},{"$f":"IFERROR(__xludf.DUMMYFUNCTION(\"\"\"COMPUTED_VALUE\"\"\"),4.0)","v":4}]
[{"$f":"IFERROR(__xludf.DUMMYFUNCTION(\"\"\"COMPUTED_VALUE\"\"\"),45677.0)","v":"2025-01-20"},{"$f":"IFERROR(__xludf.DUMMYFUNCTION(\"\"\"COMPUTED_VALUE\"\"\"),3.0)","v":3}]
[{"$f":"IFERROR(__xludf.DUMMYFUNCTION(\"\"\"COMPUTED_VALUE\"\"\"),45678.0)","v":"2025-01-21"},{"$f":"IFERROR(__xludf.DUMMYFUNCTION(\"\"\"COMPUTED_VALUE\"\"\"),4.0)","v":4}]
[{"$f":"IFERROR(__xludf.DUMMYFUNCTION(\"\"\"COMPUTED_VALUE\"\"\"),45679.0)","v":"2025-01-22"},{"$f":"IFERROR(__xludf.DUMMYFUNCTION(\"\"\"COMPUTED_VALUE\"\"\"),1.0)","v":1}]
[{"$f":"IFERROR(__xludf.DUMMYFUNCTION(\"\"\"COMPUTED_VALUE\"\"\"),45680.0)","v":"2025-01-23"},{"$f":"IFERROR(__xludf.DUMMYFUNCTION(\"\"\"COMPUTED_VALUE\"\"\"),1.0)","v":1}]
{"$rows_empty":50}
[{"$f":"IFERROR(__xludf.DUMMYFUNCTION(\"QUERY('validés septembre'!A3:AA219, \"\"select B,C,R where D='F' and P='Navire & Fort'\"\")\"),\"Warszawski \")","v":"Warszawski "},{"$f":"IFERROR(__xludf.DUMMYFUNCTION(\"\"\"COMPUTED_VALUE\"\"\"),\"Jessica\")","v":"Jessica"},{"$f":"IFERROR(__xludf.DUMMYFUNCTION(\"\"\"COMPUTED_VALUE\"\"\"),\"PAF finalisée\")","v":"PAF finalisée"}]
[{"$f":"IFERROR(__xludf.DUMMYFUNCTION(\"\"\"COMPUTED_VALUE\"\"\"),\"Giraud\")","v":"Giraud"},{"$f":"IFERROR(__xludf.DUMMYFUNCTION(\"\"\"COMPUTED_VALUE\"\"\"),\"Caroline\")","v":"Caroline"},{"$f":"IFERROR(__xludf.DUMMYFUNCTION(\"\"\"COMPUTED_VALUE\"\"\"),\"PAF finalisée\")","v":"PAF finalisée"}]
[{"$f":"IFERROR(__xludf.DUMMYFUNCTION(\"\"\"COMPUTED_VALUE\"\"\"),\"Maitreheu\")","v":"Maitreheu"},{"$f":"IFERROR(__xludf.DUMMYFUNCTION(\"\"\"COMPUTED_VALUE\"\"\"),\"Mélodie\")","v":"Mélodie"},{"$f":"IFERROR(__xludf.DUMMYFUNCTION(\"\"\"COMPUTED_VALUE\"\"\"),\"PAF non reçue\")","v":"PAF non reçue"}]
[{"$f":"IFERROR(__xludf.DUMMYFUNCTION(\"\"\"COMPUTED_VALUE\"\"\"),\"Bonnecarrère \")","v":"Bonnecarrère "},{"$f":"IFERROR(__xludf.DUMMYFUNCTION(\"\"\"COMPUTED_VALUE\"\"\"),\"Julie\")","v":"Julie"},{"$f":"IFERROR(__xludf.DUMMYFUNCTION(\"\"\"COMPUTED_VALUE\"\"\"),\"PAF finalisée\")","v":"PAF finalisée"}]
[{"$f":"IFERROR(__xludf.DUMMYFUNCTION(\"\"\"COMPUTED_VALUE\"\"\"),\"Dagrain\")","v":"Dagrain"},{"$f":"IFERROR(__xludf.DUMMYFUNCTION(\"\"\"COMPUTED_VALUE\"\"\"),\"Valerie\")","v":"Valerie"},{"$f":"IFERROR(__xludf.DUMMYFUNCTION(\"\"\"COMPUTED_VALUE\"\"\"),\"PAF non reçue\")","v":"PAF non reçue"}]
[{"$f":"IFERROR(__xludf.DUMMYFUNCTION(\"\"\"COMPUTED_VALUE\"\"\"),\"Moynier\")","v":"Moynier"},{"$f":"IFERROR(__xludf.DUMMYFUNCTION(\"\"\"COMPUTED_VALUE\"\"\"),\"Bérénice\")","v":"Bérénice"},{"$f":"IFERROR(__xludf.DUMMYFUNCTION(\"\"\"COMPUTED_VALUE\"\"\"),\"PAF non reçue\")","v":"PAF non reçue"}]
[{"$f":"IFERROR(__xludf.DUMMYFUNCTION(\"\"\"COMPUTED_VALUE\"\"\"),\"Servel\")","v":"Servel"},{"$f":"IFERROR(__xludf.DUMMYFUNCTION(\"\"\"COMPUTED_VALUE\"\"\"),\"Manon\")","v":"Manon"},{"$f":"IFERROR(__xludf.DUMMYFUNCTION(\"\"\"COMPUTED_VALUE\"\"\"),\"PAF partielle\")","v":"PAF partielle"}]
[{"$f":"IFERROR(__xludf.DUMMYFUNCTION(\"\"\"COMPUTED_VALUE\"\"\"),\"MUNARO\")","v":"MUNARO"},{"$f":"IFERROR(__xludf.DUMMYFUNCTION(\"\"\"COMPUTED_VALUE\"\"\"),\"Perrine\")","v":"Perrine"},{"$f":"IFERROR(__xludf.DUMMYFUNCTION(\"\"\"COMPUTED_VALUE\"\"\"),\"PAF non reçue\")","v":"PAF non reçue"}]
[{"$f":"IFERROR(__xludf.DUMMYFUNCTION(\"\"\"COMPUTED_VALUE\"\"\"),\"Lafosse\")","v":"Lafosse"},{"$f":"IFERROR(__xludf.DUMMYFUNCTION(\"\"\"COMPUTED_VALUE\"\"\"),\"Candice\")","v":"Candice"},{"$f":"IFERROR(__xludf.DUMMYFUNCTION(\"\"\"COMPUTED_VALUE\"\"\"),\"PAF partielle\")","v":"PAF partielle"}]
[{"$f":"IFERROR(__xludf.DUMMYFUNCTION(\"\"\"COMPUTED_VALUE\"\"\"),\"Vandroux \")","v":"Vandroux "},{"$f":"IFERROR(__xludf.DUMMYFUNCTION(\"\"\"COMPUTED_VALUE\"\"\"),\"Karine \")","v":"Karine "},{"$f":"IFERROR(__xludf.DUMMYFUNCTION(\"\"\"COMPUTED_VALUE\"\"\"),\"PAF finalisée\")","v":"PAF finalisée"}]
[{"$f":"IFERROR(__xludf.DUMMYFUNCTION(\"\"\"COMPUTED_VALUE\"\"\"),\"Whittaker\")","v":"Whittaker"},{"$f":"IFERROR(__xludf.DUMMYFUNCTION(\"\"\"COMPUTED_VALUE\"\"\"),\"Isabelle\")","v":"Isabelle"},{"$f":"IFERROR(__xludf.DUMMYFUNCTION(\"\"\"COMPUTED_VALUE\"\"\"),\"PAF non reçue\")","v":"PAF non reçue"}]
[{"$f":"IFERROR(__xludf.DUMMYFUNCTION(\"\"\"COMPUTED_VALUE\"\"\"),\"Petitdemange\")","v":"Petitdemange"},{"$f":"IFERROR(__xludf.DUMMYFUNCTION(\"\"\"COMPUTED_VALUE\"\"\"),\"Floriane\")","v":"Floriane"},{"$f":"IFERROR(__xludf.DUMMYFUNCTION(\"\"\"COMPUTED_VALUE\"\"\"),\"PAF non reçue\")","v":"PAF non reçue"}]
[{"$f":"IFERROR(__xludf.DUMMYFUNCTION(\"\"\"COMPUTED_VALUE\"\"\"),\"Stoltz \")","v":"Stoltz "},{"$f":"IFERROR(__xludf.DUMMYFUNCTION(\"\"\"COMPUTED_VALUE\"\"\"),\"Charline\")","v":"Charline"},{"$f":"IFERROR(__xludf.DUMMYFUNCTION(\"\"\"COMPUTED_VALUE\"\"\"),\"PAF finalisée\")","v":"PAF finalisée"}]
[{"$f":"IFERROR(__xludf.DUMMYFUNCTION(\"\"\"COMPUTED_VALUE\"\"\"),\"Jullien\")","v":"Jullien"},{"$f":"IFERROR(__xludf.DUMMYFUNCTION(\"\"\"COMPUTED_VALUE\"\"\"),\"Agnes\")","v":"Agnes"},{"$f":"IFERROR(__xludf.DUMMYFUNCTION(\"\"\"COMPUTED_VALUE\"\"\"),\"PAF finalisée\")","v":"PAF finalisée"}]
[{"$f":"IFERROR(__xludf.DUMMYFUNCTION(\"\"\"COMPUTED_VALUE\"\"\"),\"Pichot\")","v":"Pichot"},{"$f":"IFERROR(__xludf.DUMMYFUNCTION(\"\"\"COMPUTED_VALUE\"\"\"),\"Claire\")","v":"Claire"},{"$f":"IFERROR(__xludf.DUMMYFUNCTION(\"\"\"COMPUTED_VALUE\"\"\"),\"PAF partielle\")","v":"PAF partielle"}]
[{"$f":"IFERROR(__xludf.DUMMYFUNCTION(\"\"\"COMPUTED_VALUE\"\"\"),\"Mousset \")","v":"Mousset "},{"$f":"IFERROR(__xludf.DUMMYFUNCTION(\"\"\"COMPUTED_VALUE\"\"\"),\"Valérie \")","v":"Valérie "},{"$f":"IFERROR(__xludf.DUMMYFUNCTION(\"\"\"COMPUTED_VALUE\"\"\"),\"PAF non reçue\")","v":"PAF non reçue"}]
[{"$f":"IFERROR(__xludf.DUMMYFUNCTION(\"\"\"COMPUTED_VALUE\"\"\"),\" Rollin\")","v":" Rollin"},{"$f":"IFERROR(__xludf.DUMMYFUNCTION(\"\"\"COMPUTED_VALUE\"\"\"),\"Cecile\")","v":"Cecile"},{"$f":"IFERROR(__xludf.DUMMYFUNCTION(\"\"\"COMPUTED_VALUE\"\"\"),\"PAF finalisée\")","v":"PAF finalisée"}]

{"sheet":"stats preinscrits","index":14,"n_rows":171,"n_cols":11,"rows_kept":171,"cut":false,"hidden":false,"merged":[[0,0,0,3],[0,5,0,9]]}
["nombre de personnes ayant rempli le formulaire de préinscription :",null,null,null,{"$f":"'remplissage du jeu'!B1","v":153},"nombre de personnes ayant versé PAF intégralement ou partiellement (ou offerte) :",{"$nulls":4},{"$f":"'remplissage du jeu'!R217+'remplissage du jeu'!R218+'remplissage du jeu'!R219","v":107}]
{"$rows_empty":97}
["Intensité des inscriptions"]
[{"$f":"IFERROR(__xludf.DUMMYFUNCTION(\"QUERY('remplissage du jeu'!A14:A216,\"\"SELECT A, COUNT(A) GROUP BY A ORDER BY A ASC\"\")\"),\"\")","v":""},{"$f":"IFERROR(__xludf.DUMMYFUNCTION(\"\"\"COMPUTED_VALUE\"\"\"),\"count \")","v":"count "}]
[null,{"$f":"IFERROR(__xludf.DUMMYFUNCTION(\"\"\"COMPUTED_VALUE\"\"\"),0.0)","v":0}]
[{"$f":"IFERROR(__xludf.DUMMYFUNCTION(\"\"\"COMPUTED_VALUE\"\"\"),45303.0)","v":"2024-01-12"},{"$f":"IFERROR(__xludf.DUMMYFUNCTION(\"\"\"COMPUTED_VALUE\"\"\"),21.0)","v":21}]
[{"$f":"IFERROR(__xludf.DUMMYFUNCTION(\"\"\"COMPUTED_VALUE\"\"\"),45304.0)","v":"2024-01-13"},{"$f":"IFERROR(__xludf.DUMMYFUNCTION(\"\"\"COMPUTED_VALUE\"\"\"),3.0)","v":3}]
[{"$f":"IFERROR(__xludf.DUMMYFUNCTION(\"\"\"COMPUTED_VALUE\"\"\"),45305.0)","v":"2024-01-14"},{"$f":"IFERROR(__xludf.DUMMYFUNCTION(\"\"\"COMPUTED_VALUE\"\"\"),3.0)","v":3}]
[{"$f":"IFERROR(__xludf.DUMMYFUNCTION(\"\"\"COMPUTED_VALUE\"\"\"),45306.0)","v":"2024-01-15"},{"$f":"IFERROR(__xludf.DUMMYFUNCTION(\"\"\"COMPUTED_VALUE\"\"\"),1.0)","v":1}]
[{"$f":"IFERROR(__xludf.DUMMYFUNCTION(\"\"\"COMPUTED_VALUE\"\"\"),45310.0)","v":"2024-01-19"},{"$f":"IFERROR(__xludf.DUMMYFUNCTION(\"\"\"COMPUTED_VALUE\"\"\"),3.0)","v":3}]
[{"$f":"IFERROR(__xludf.DUMMYFUNCTION(\"\"\"COMPUTED_VALUE\"\"\"),45312.0)","v":"2024-01-21"},{"$f":"IFERROR(__xludf.DUMMYFUNCTION(\"\"\"COMPUTED_VALUE\"\"\"),1.0)","v":1}]
[{"$f":"IFERROR(__xludf.DUMMYFUNCTION(\"\"\"COMPUTED_VALUE\"\"\"),45313.0)","v":"2024-01-22"},{"$f":"IFERROR(__xludf.DUMMYFUNCTION(\"\"\"COMPUTED_VALUE\"\"\"),1.0)","v":1}]
[{"$f":"IFERROR(__xludf.DUMMYFUNCTION(\"\"\"COMPUTED_VALUE\"\"\"),45315.0)","v":"2024-01-24"},{"$f":"IFERROR(__xludf.DUMMYFUNCTION(\"\"\"COMPUTED_VALUE\"\"\"),1.0)","v":1}]
[{"$f":"IFERROR(__xludf.DUMMYFUNCTION(\"\"\"COMPUTED_VALUE\"\"\"),45326.0)","v":"2024-02-04"},{"$f":"IFERROR(__xludf.DUMMYFUNCTION(\"\"\"COMPUTED_VALUE\"\"\"),2.0)","v":2}]
[{"$f":"IFERROR(__xludf.DUMMYFUNCTION(\"\"\"COMPUTED_VALUE\"\"\"),45332.0)","v":"2024-02-10"},{"$f":"IFERROR(__xludf.DUMMYFUNCTION(\"\"\"COMPUTED_VALUE\"\"\"),5.0)","v":5}]
[{"$f":"IFERROR(__xludf.DUMMYFUNCTION(\"\"\"COMPUTED_VALUE\"\"\"),45341.0)","v":"2024-02-19"},{"$f":"IFERROR(__xludf.DUMMYFUNCTION(\"\"\"COMPUTED_VALUE\"\"\"),1.0)","v":1}]
[{"$f":"IFERROR(__xludf.DUMMYFUNCTION(\"\"\"COMPUTED_VALUE\"\"\"),45342.0)","v":"2024-02-20"},{"$f":"IFERROR(__xludf.DUMMYFUNCTION(\"\"\"COMPUTED_VALUE\"\"\"),3.0)","v":3}]
[{"$f":"IFERROR(__xludf.DUMMYFUNCTION(\"\"\"COMPUTED_VALUE\"\"\"),45363.0)","v":"2024-03-12"},{"$f":"IFERROR(__xludf.DUMMYFUNCTION(\"\"\"COMPUTED_VALUE\"\"\"),1.0)","v":1}]
[{"$f":"IFERROR(__xludf.DUMMYFUNCTION(\"\"\"COMPUTED_VALUE\"\"\"),45366.0)","v":"2024-03-15"},{"$f":"IFERROR(__xludf.DUMMYFUNCTION(\"\"\"COMPUTED_VALUE\"\"\"),1.0)","v":1}]
[{"$f":"IFERROR(__xludf.DUMMYFUNCTION(\"\"\"COMPUTED_VALUE\"\"\"),45390.0)","v":"2024-04-08"},{"$f":"IFERROR(__xludf.DUMMYFUNCTION(\"\"\"COMPUTED_VALUE\"\"\"),1.0)","v":1}]
[{"$f":"IFERROR(__xludf.DUMMYFUNCTION(\"\"\"COMPUTED_VALUE\"\"\"),45446.0)","v":"2024-06-03"},{"$f":"IFERROR(__xludf.DUMMYFUNCTION(\"\"\"COMPUTED_VALUE\"\"\"),1.0)","v":1}]
[{"$f":"IFERROR(__xludf.DUMMYFUNCTION(\"\"\"COMPUTED_VALUE\"\"\"),45460.0)","v":"2024-06-17"},{"$f":"IFERROR(__xludf.DUMMYFUNCTION(\"\"\"COMPUTED_VALUE\"\"\"),1.0)","v":1}]
[{"$f":"IFERROR(__xludf.DUMMYFUNCTION(\"\"\"COMPUTED_VALUE\"\"\"),45461.0)","v":"2024-06-18"},{"$f":"IFERROR(__xludf.DUMMYFUNCTION(\"\"\"COMPUTED_VALUE\"\"\"),1.0)","v":1}]
[{"$f":"IFERROR(__xludf.DUMMYFUNCTION(\"\"\"COMPUTED_VALUE\"\"\"),45465.0)","v":"2024-06-22"},{"$f":"IFERROR(__xludf.DUMMYFUNCTION(\"\"\"COMPUTED_VALUE\"\"\"),1.0)","v":1}]
[{"$f":"IFERROR(__xludf.DUMMYFUNCTION(\"\"\"COMPUTED_VALUE\"\"\"),45494.0)","v":"2024-07-21"},{"$f":"IFERROR(__xludf.DUMMYFUNCTION(\"\"\"COMPUTED_VALUE\"\"\"),4.0)","v":4}]
[{"$f":"IFERROR(__xludf.DUMMYFUNCTION(\"\"\"COMPUTED_VALUE\"\"\"),45495.0)","v":"2024-07-22"},{"$f":"IFERROR(__xludf.DUMMYFUNCTION(\"\"\"COMPUTED_VALUE\"\"\"),7.0)","v":7}]
[{"$f":"IFERROR(__xludf.DUMMYFUNCTION(\"\"\"COMPUTED_VALUE\"\"\"),45496.0)","v":"2024-07-23"},{"$f":"IFERROR(__xludf.DUMMYFUNCTION(\"\"\"COMPUTED_VALUE\"\"\"),4.0)","v":4}]
[{"$f":"IFERROR(__xludf.DUMMYFUNCTION(\"\"\"COMPUTED_VALUE\"\"\"),45497.0)","v":"2024-07-24"},{"$f":"IFERROR(__xludf.DUMMYFUNCTION(\"\"\"COMPUTED_VALUE\"\"\"),1.0)","v":1}]
[{"$f":"IFERROR(__xludf.DUMMYFUNCTION(\"\"\"COMPUTED_VALUE\"\"\"),45498.0)","v":"2024-07-25"},{"$f":"IFERROR(__xludf.DUMMYFUNCTION(\"\"\"COMPUTED_VALUE\"\"\"),2.0)","v":2}]
[{"$f":"IFERROR(__xludf.DUMMYFUNCTION(\"\"\"COMPUTED_VALUE\"\"\"),45499.0)","v":"2024-07-26"},{"$f":"IFERROR(__xludf.DUMMYFUNCTION(\"\"\"COMPUTED_VALUE\"\"\"),1.0)","v":1}]
[{"$f":"IFERROR(__xludf.DUMMYFUNCTION(\"\"\"COMPUTED_VALUE\"\"\"),45508.0)","v":"2024-08-04"},{"$f":"IFERROR(__xludf.DUMMYFUNCTION(\"\"\"COMPUTED_VALUE\"\"\"),1.0)","v":1}]
[{"$f":"IFERROR(__xludf.DUMMYFUNCTION(\"\"\"COMPUTED_VALUE\"\"\"),45540.0)","v":"2024-09-05"},{"$f":"IFERROR(__xludf.DUMMYFUNCTION(\"\"\"COMPUTED_VALUE\"\"\"),2.0)","v":2}]
[{"$f":"IFERROR(__xludf.DUMMYFUNCTION(\"\"\"COMPUTED_VALUE\"\"\"),45542.0)","v":"2024-09-07"},{"$f":"IFERROR(__xludf.DUMMYFUNCTION(\"\"\"COMPUTED_VALUE\"\"\"),1.0)","v":1}]
[{"$f":"IFERROR(__xludf.DUMMYFUNCTION(\"\"\"COMPUTED_VALUE\"\"\"),45543.0)","v":"2024-09-08"},{"$f":"IFERROR(__xludf.DUMMYFUNCTION(\"\"\"COMPUTED_VALUE\"\"\"),1.0)","v":1}]
[{"$f":"IFERROR(__xludf.DUMMYFUNCTION(\"\"\"COMPUTED_VALUE\"\"\"),45544.0)","v":"2024-09-09"},{"$f":"IFERROR(__xludf.DUMMYFUNCTION(\"\"\"COMPUTED_VALUE\"\"\"),2.0)","v":2}]
[{"$f":"IFERROR(__xludf.DUMMYFUNCTION(\"\"\"COMPUTED_VALUE\"\"\"),45548.0)","v":"2024-09-13"},{"$f":"IFERROR(__xludf.DUMMYFUNCTION(\"\"\"COMPUTED_VALUE\"\"\"),1.0)","v":1}]
[{"$f":"IFERROR(__xludf.DUMMYFUNCTION(\"\"\"COMPUTED_VALUE\"\"\"),45549.0)","v":"2024-09-14"},{"$f":"IFERROR(__xludf.DUMMYFUNCTION(\"\"\"COMPUTED_VALUE\"\"\"),2.0)","v":2}]
[{"$f":"IFERROR(__xludf.DUMMYFUNCTION(\"\"\"COMPUTED_VALUE\"\"\"),45551.0)","v":"2024-09-16"},{"$f":"IFERROR(__xludf.DUMMYFUNCTION(\"\"\"COMPUTED_VALUE\"\"\"),3.0)","v":3}]
[{"$f":"IFERROR(__xludf.DUMMYFUNCTION(\"\"\"COMPUTED_VALUE\"\"\"),45553.0)","v":"2024-09-18"},{"$f":"IFERROR(__xludf.DUMMYFUNCTION(\"\"\"COMPUTED_VALUE\"\"\"),5.0)","v":5}]
[{"$f":"IFERROR(__xludf.DUMMYFUNCTION(\"\"\"COMPUTED_VALUE\"\"\"),45555.0)","v":"2024-09-20"},{"$f":"IFERROR(__xludf.DUMMYFUNCTION(\"\"\"COMPUTED_VALUE\"\"\"),3.0)","v":3}]
[{"$f":"IFERROR(__xludf.DUMMYFUNCTION(\"\"\"COMPUTED_VALUE\"\"\"),45556.0)","v":"2024-09-21"},{"$f":"IFERROR(__xludf.DUMMYFUNCTION(\"\"\"COMPUTED_VALUE\"\"\"),1.0)","v":1}]
[{"$f":"IFERROR(__xludf.DUMMYFUNCTION(\"\"\"COMPUTED_VALUE\"\"\"),45557.0)","v":"2024-09-22"},{"$f":"IFERROR(__xludf.DUMMYFUNCTION(\"\"\"COMPUTED_VALUE\"\"\"),2.0)","v":2}]
[{"$f":"IFERROR(__xludf.DUMMYFUNCTION(\"\"\"COMPUTED_VALUE\"\"\"),45558.0)","v":"2024-09-23"},{"$f":"IFERROR(__xludf.DUMMYFUNCTION(\"\"\"COMPUTED_VALUE\"\"\"),1.0)","v":1}]
[{"$f":"IFERROR(__xludf.DUMMYFUNCTION(\"\"\"COMPUTED_VALUE\"\"\"),45560.0)","v":"2024-09-25"},{"$f":"IFERROR(__xludf.DUMMYFUNCTION(\"\"\"COMPUTED_VALUE\"\"\"),2.0)","v":2}]
[{"$f":"IFERROR(__xludf.DUMMYFUNCTION(\"\"\"COMPUTED_VALUE\"\"\"),45564.0)","v":"2024-09-29"},{"$f":"IFERROR(__xludf.DUMMYFUNCTION(\"\"\"COMPUTED_VALUE\"\"\"),4.0)","v":4}]
[{"$f":"IFERROR(__xludf.DUMMYFUNCTION(\"\"\"COMPUTED_VALUE\"\"\"),45574.0)","v":"2024-10-09"},{"$f":"IFERROR(__xludf.DUMMYFUNCTION(\"\"\"COMPUTED_VALUE\"\"\"),1.0)","v":1}]
[{"$f":"IFERROR(__xludf.DUMMYFUNCTION(\"\"\"COMPUTED_VALUE\"\"\"),45576.0)","v":"2024-10-11"},{"$f":"IFERROR(__xludf.DUMMYFUNCTION(\"\"\"COMPUTED_VALUE\"\"\"),2.0)","v":2}]
[{"$f":"IFERROR(__xludf.DUMMYFUNCTION(\"\"\"COMPUTED_VALUE\"\"\"),45577.0)","v":"2024-10-12"},{"$f":"IFERROR(__xludf.DUMMYFUNCTION(\"\"\"COMPUTED_VALUE\"\"\"),2.0)","v":2}]
[{"$f":"IFERROR(__xludf.DUMMYFUNCTION(\"\"\"COMPUTED_VALUE\"\"\"),45581.0)","v":"2024-10-16"},{"$f":"IFERROR(__xludf.DUMMYFUNCTION(\"\"\"COMPUTED_VALUE\"\"\"),1.0)","v":1}]
[{"$f":"IFERROR(__xludf.DUMMYFUNCTION(\"\"\"COMPUTED_VALUE\"\"\"),45585.0)","v":"2024-10-20"},{"$f":"IFERROR(__xludf.DUMMYFUNCTION(\"\"\"COMPUTED_VALUE\"\"\"),2.0)","v":2}]
[{"$f":"IFERROR(__xludf.DUMMYFUNCTION(\"\"\"COMPUTED_VALUE\"\"\"),45586.0)","v":"2024-10-21"},{"$f":"IFERROR(__xludf.DUMMYFUNCTION(\"\"\"COMPUTED_VALUE\"\"\"),2.0)","v":2}]
[{"$f":"IFERROR(__xludf.DUMMYFUNCTION(\"\"\"COMPUTED_VALUE\"\"\"),45588.0)","v":"2024-10-23"},{"$f":"IFERROR(__xludf.DUMMYFUNCTION(\"\"\"COMPUTED_VALUE\"\"\"),1.0)","v":1}]
[{"$f":"IFERROR(__xludf.DUMMYFUNCTION(\"\"\"COMPUTED_VALUE\"\"\"),45596.0)","v":"2024-10-31"},{"$f":"IFERROR(__xludf.DUMMYFUNCTION(\"\"\"COMPUTED_VALUE\"\"\"),1.0)","v":1}]
[{"$f":"IFERROR(__xludf.DUMMYFUNCTION(\"\"\"COMPUTED_VALUE\"\"\"),45597.0)","v":"2024-11-01"},{"$f":"IFERROR(__xludf.DUMMYFUNCTION(\"\"\"COMPUTED_VALUE\"\"\"),1.0)","v":1}]
[{"$f":"IFERROR(__xludf.DUMMYFUNCTION(\"\"\"COMPUTED_VALUE\"\"\"),45605.0)","v":"2024-11-09"},{"$f":"IFERROR(__xludf.DUMMYFUNCTION(\"\"\"COMPUTED_VALUE\"\"\"),1.0)","v":1}]
[{"$f":"IFERROR(__xludf.DUMMYFUNCTION(\"\"\"COMPUTED_VALUE\"\"\"),45613.0)","v":"2024-11-17"},{"$f":"IFERROR(__xludf.DUMMYFUNCTION(\"\"\"COMPUTED_VALUE\"\"\"),1.0)","v":1}]
[{"$f":"IFERROR(__xludf.DUMMYFUNCTION(\"\"\"COMPUTED_VALUE\"\"\"),45617.0)","v":"2024-11-21"},{"$f":"IFERROR(__xludf.DUMMYFUNCTION(\"\"\"COMPUTED_VALUE\"\"\"),1.0)","v":1}]
[{"$f":"IFERROR(__xludf.DUMMYFUNCTION(\"\"\"COMPUTED_VALUE\"\"\"),45618.0)","v":"2024-11-22"},{"$f":"IFERROR(__xludf.DUMMYFUNCTION(\"\"\"COMPUTED_VALUE\"\"\"),1.0)","v":1}]
[{"$f":"IFERROR(__xludf.DUMMYFUNCTION(\"\"\"COMPUTED_VALUE\"\"\"),45642.0)","v":"2024-12-16"},{"$f":"IFERROR(__xludf.DUMMYFUNCTION(\"\"\"COMPUTED_VALUE\"\"\"),1.0)","v":1}]
[{"$f":"IFERROR(__xludf.DUMMYFUNCTION(\"\"\"COMPUTED_VALUE\"\"\"),45660.0)","v":"2025-01-03"},{"$f":"IFERROR(__xludf.DUMMYFUNCTION(\"\"\"COMPUTED_VALUE\"\"\"),1.0)","v":1}]
[{"$f":"IFERROR(__xludf.DUMMYFUNCTION(\"\"\"COMPUTED_VALUE\"\"\"),45661.0)","v":"2025-01-04"},{"$f":"IFERROR(__xludf.DUMMYFUNCTION(\"\"\"COMPUTED_VALUE\"\"\"),3.0)","v":3}]
[{"$f":"IFERROR(__xludf.DUMMYFUNCTION(\"\"\"COMPUTED_VALUE\"\"\"),45662.0)","v":"2025-01-05"},{"$f":"IFERROR(__xludf.DUMMYFUNCTION(\"\"\"COMPUTED_VALUE\"\"\"),1.0)","v":1}]
[{"$f":"IFERROR(__xludf.DUMMYFUNCTION(\"\"\"COMPUTED_VALUE\"\"\"),45663.0)","v":"2025-01-06"},{"$f":"IFERROR(__xludf.DUMMYFUNCTION(\"\"\"COMPUTED_VALUE\"\"\"),1.0)","v":1}]
[{"$f":"IFERROR(__xludf.DUMMYFUNCTION(\"\"\"COMPUTED_VALUE\"\"\"),45664.0)","v":"2025-01-07"},{"$f":"IFERROR(__xludf.DUMMYFUNCTION(\"\"\"COMPUTED_VALUE\"\"\"),1.0)","v":1}]
[{"$f":"IFERROR(__xludf.DUMMYFUNCTION(\"\"\"COMPUTED_VALUE\"\"\"),45669.0)","v":"2025-01-12"},{"$f":"IFERROR(__xludf.DUMMYFUNCTION(\"\"\"COMPUTED_VALUE\"\"\"),1.0)","v":1}]
[{"$f":"IFERROR(__xludf.DUMMYFUNCTION(\"\"\"COMPUTED_VALUE\"\"\"),45670.0)","v":"2025-01-13"},{"$f":"IFERROR(__xludf.DUMMYFUNCTION(\"\"\"COMPUTED_VALUE\"\"\"),1.0)","v":1}]
[{"$f":"IFERROR(__xludf.DUMMYFUNCTION(\"\"\"COMPUTED_VALUE\"\"\"),45671.0)","v":"2025-01-14"},{"$f":"IFERROR(__xludf.DUMMYFUNCTION(\"\"\"COMPUTED_VALUE\"\"\"),1.0)","v":1}]
[{"$f":"IFERROR(__xludf.DUMMYFUNCTION(\"\"\"COMPUTED_VALUE\"\"\"),45672.0)","v":"2025-01-15"},{"$f":"IFERROR(__xludf.DUMMYFUNCTION(\"\"\"COMPUTED_VALUE\"\"\"),1.0)","v":1}]
[{"$f":"IFERROR(__xludf.DUMMYFUNCTION(\"\"\"COMPUTED_VALUE\"\"\"),45673.0)","v":"2025-01-16"},{"$f":"IFERROR(__xludf.DUMMYFUNCTION(\"\"\"COMPUTED_VALUE\"\"\"),3.0)","v":3}]
[{"$f":"IFERROR(__xludf.DUMMYFUNCTION(\"\"\"COMPUTED_VALUE\"\"\"),45674.0)","v":"2025-01-17"},{"$f":"IFERROR(__xludf.DUMMYFUNCTION(\"\"\"COMPUTED_VALUE\"\"\"),2.0)","v":2}]
[{"$f":"IFERROR(__xludf.DUMMYFUNCTION(\"\"\"COMPUTED_VALUE\"\"\"),45676.0)","v":"2025-01-19"},{"$f":"IFERROR(__xludf.DUMMYFUNCTION(\"\"\"COMPUTED_VALUE\"\"\"),4.0)","v":4}]
[{"$f":"IFERROR(__xludf.DUMMYFUNCTION(\"\"\"COMPUTED_VALUE\"\"\"),45677.0)","v":"2025-01-20"},{"$f":"IFERROR(__xludf.DUMMYFUNCTION(\"\"\"COMPUTED_VALUE\"\"\"),3.0)","v":3}]
[{"$f":"IFERROR(__xludf.DUMMYFUNCTION(\"\"\"COMPUTED_VALUE\"\"\"),45678.0)","v":"2025-01-21"},{"$f":"IFERROR(__xludf.DUMMYFUNCTION(\"\"\"COMPUTED_VALUE\"\"\"),4.0)","v":4}]
[{"$f":"IFERROR(__xludf.DUMMYFUNCTION(\"\"\"COMPUTED_VALUE\"\"\"),45679.0)","v":"2025-01-22"},{"$f":"IFERROR(__xludf.DUMMYFUNCTION(\"\"\"COMPUTED_VALUE\"\"\"),1.0)","v":1}]
[{"$f":"IFERROR(__xludf.DUMMYFUNCTION(\"\"\"COMPUTED_VALUE\"\"\"),45680.0)","v":"2025-01-23"},{"$f":"IFERROR(__xludf.DUMMYFUNCTION(\"\"\"COMPUTED_VALUE\"\"\"),1.0)","v":1}]

{"sheet":"Réponses au formulaire - copy-c","index":15,"n_rows":184,"n_cols":50,"rows_kept":184,"cut":false,"hidden":false,"merged":[]}
[null,"Statut","Mail envoyé","Adresse e-mail","Nom","Prénom","personnage attribué","genre","Adresse e-mail","Adresse","Numéro de téléphone","date de naissance","Pseudo facebook","J'ai lu la note d'intention et je l'ai comprise","Sur quelle session souhaites tu jouer? ","Souhaites tu être :","souhaites jouer: ","Souhaites tu conserver ton personnage (si non, réponds à la deuxième partie afin de nous orienter sur ton nouveau personnage)","Si ton perso devait être déja pris ou mort, maintiendrais tu ta participation ? (si oui, réponds à la suite des questions sur le personnage) ","1 Peux tu jouer l'homosexualité? \n2 Souhaites tu jouer l'homosexualité","Y-a-t-il des sujets que tu ne souhaites pas aborder en jeu ? (précise si leur mention en BG te dérange. Ex: je ne souhaite pas parler de viol en jeu mais que cela soit mentionné dans mon bg ne me pose pas de souci)","Y-a-t-il des situations que tu ne souhaites pas jouer ? Sois précis.e (ex: les combats à mains nus. Les combats au sabre ne me posent aucun souci)","Peux tu jouer une personne de nationalité africaine ou créole? (Il n'est pas nécessaire de se teindre la peau)","Il y a t-il des scènes/situations que tu souhaiterais jouer? (il ne sera sûrement pas possible de tout satisfaire mais au moins nous serons informés et pourrons penser à toi dans certaines situations. Pense aussi que même si cela n'apparaît pas dans ton BG, tu es libre de créer ces situations/scènes en jeu)","As-tu des choses à ajouter par rapport à la question précédente? ","Quelle est ton expérience de GN, à combien de GN as tu participé ?","As tu des connaissances sur la piraterie durant son grand âge d'or, quelle ambiance en ressort à tes yeux ?"," l'ambiance souhaitée est inspirée de la série black sails, nous aimerions que tu la regardes afin de t'aider dans l'incarnation du personnage et dans le choix de tes actions.","Ton exposition ?","Implication de ton personnage  ?","Veux tu jouer un personnage « théâtrale » ? (Extraverti dans son comportement)","Tu préfères jouer en groupe ou seul ?","Parmi les participants, il y a t-il des joueurs avec qui tu souhaites former un équipage?","Es tu prêt.e à préparer avec ton groupe quelques éléments en amont? (apprentissage de chants, préparer un rhum arrangé, chasse partie, Jolly Roger, etc..)","As-tu des compétences d'épéiste?","Les marins chantaient ! Et impossible pour moi de faire un GN pirate sans chanter :D \nChanter pour toi : ","Langage marin et connaissances marines ?","As-tu des compétences en jeux divers (dé, bras de fer, etc..)","As-tu des compétences artistiques ? (vas y lâche toi et laisse parler ta fibre artistique !)  Danse, arts martiaux, dessin,  macramé, lancé d'autruche etc...","Es-tu ok pour servir le gn car c'est ta joie à l'aide de tes compétences citées ci dessus?","As-tu des éléments que tu voudrais apporter? (ex: j'ai un jeu super sympa qui était utilisé par les marins en 1700. Je joue du violon, je peux l'apporter. J'ai un joli coffre en bois, ça pourrait être chouette sur le navire. J'ai acquis la compétence d'épeler mon prénom en rotant je lancerai bien un concours! ce sera pile mon anniv et ce serait de la balle de le fêter, serais t-il possible de l'inclure dans le bg d'équipage?, etc...)","Alimentation ","Allergies alimentaires, si tu en as, précise :","Est ce que tu viens avec ta voiture (en tant que conducteur/conductrice principal) ?","Serais tu intéressé pour que nous mangions ensemble pour débriefer le dimanche soir?","A bord du navire :","Une photo de ta trogne pour le trombi","IMPORTANT: il faut garder en tête que la Rochelle peut décider de fermer ses portes au Shtandart (rapport à sa provenance) Je suis  stressée de vous décevoir alors prenez le temps d'y réfléchir. J'espère très fort qu'il n'y aura pas de souci mais si nous devions perdre le Shtandart: ","","Commentaire Orga"]
["2024-01-12T12:30:50.657",null,1.0,"flofloab@yahoo.fr","ARVIN-BEROD ","Florence",null,"F","flofloab@yahoo.fr","1 rue de Figueras - Villa Claire - 13700 Marignane ","0617161474","30/08/1991","Florence ARVIN-BEROD ","Oui","7 et 8 juin 2025","Pur PJ","Navire et fort",null,null,"1 oui, 2 non","Je ne veux pas de viol, ni en jeu (en parler) ni dans mon BG svp","Rien ne me pose souci","Non","Combat à l'épée, Romance, Chanter, Danser, Jeux, chantage, camaraderie, animations","Non, tout me va ","Entre 6 et 10,","Oui, je suis passionnée de piraterie. J'ai même été plusieurs fois bénévole chantier sur l'Hermione, donc je sais pas mal de petites choses sur les navires. Et plein de chants pirates aussi !","Déja vu mais tu comptes la revoir pour t'immerger un max","Entre les deux","Impliqué autant que possible !!","Oui","Peu importe","Jean-Yves Lucarelli si possible ","oui","J'ai suivi des cours d'escrime (indique ton niveau stp dans la case \"Autre\" ci-dessous si c'est le cas ! :D ), J'ai pris pas mal de cours de rapière 17-18eme","Ouiiiiiiiiiiiiiii !!","Quelques-unes. Ce que j'ai appris sur l'Hermione. Mais je n'ai jamais navigué (enfin sauf petits bateaux moteurs). Mais je connais du vocabulaire en terme de vents, de combats... (Et les mots à ne pas prononcer 🤫)","Non","Danse orientale, chant, rapière, Couture, création de bijoux, cake design (mais pas sûre que ça soit très utile celui là 🤣)","oui","Prenez moi c'est mon rêve de faire ce GN !!!\nSinon que je suis prête à m'investir comme jamais pour aider à rendre ce GN genialissimomaximal","Tu manges de tout",null,"Non","Oui",null,"https://drive.google.com/open?id=1X0E-ZpmUhhbA4byLPpY3S63KHuw3HQEY","Tu participeras tout de même sur la version fort et seras remboursé de 200€"]
["2024-01-12T12:24:28.634",267.0,1.0,"bergeretmathieu.pro@gmail.com","Bergeret ","Mathieu / Leo Gueguen ,dit la teigne",null,"H","bergeretmathieu.pro@gmail.com","16bis rue des Landes 49410 beausse ","0684346225","24 septembre 1986","Spoiler TheThird ","Oui",null,"Pur PJ","Navire et fort","oui","Je préfère jouer mon perso mais je peux en jouer un autre si cela n'est pas possible","1 Non, 2 non","Néant ","Néant ","Non","Combat à mains nues, Joutes verbales/insultes, Jeux, vices, camaraderie",null,"Entre 6 et 10,","Quelques bases ","pas encore vu mais tu as hâte de découvrir le charisme exceptionnel de ses perso :D","Entre les deux","D'avantage sur les quêtes secondaire.","Modérement","Peu importe",null,"oui","Absolument pas","Je chante faux mais je m'en fous, j'aime ça !","Quelques bases ","Oui et ça me plairait de pratiquer lors du gn","Art martiaux ","oui",null,"Tu manges de tout",null,"Oui","Oui",null,"https://drive.google.com/open?id=1glw3ObtYcx2yLgNojwdgLGJcBGW8BQSn","Tu participeras tout de même sur la version fort et seras remboursé de 200€"]
["2024-04-23T19:00:38.047",400.0,1.0,"johanna.bessiere@gmail.com","Bessière","Johanna",null,"F","johanna.bessiere@gmail.com","32 rue du Parc 35830 Betton","0682042682","18/10/1983","Johanna Be","Oui","7 et 8 juin 2025, Les deux dates sont possibles","Pur PJ","Navire et fort",null,null,"1 oui","Pas de violences sexuelles du tout pour moi svp ","Les situations de violences sexuelles ou qui y font référence ","Non","Combat à l'épée, Combat à mains nues, Romance, Joutes verbales/insultes, Chanter, Danser, Jeux, superstition, camaraderie, animations","J'adore avoir du lien émotionnel fort avec d'autres personnages ","Bien plus ! Je suis un Vétéran !","Ching Shih was the Queen, et voilà ","Déja vu mais tu comptes la revoir pour t'immerger un max","Entre les deux","Impliqué autant que possible !!","Oui","En groupe","Morgan Rozier et Jean Philippe Peltier","oui!","Je suis autodidacte et pratique en GN, niveau d'épée moyen hahaha","Je chante faux mais je m'en fous, j'aime ça !","J'ai grandi au bord de la mer et déjà navigué  (je suis pas une spécialiste des bateaux mais très à l'aise avec la mer)","Non","Je suis dessinatrice pro et je fais de la capoeira depuis longtemps ","oui","Euh faut que j'y réfléchisse ! ","Tu manges de tout",null,"Non","Oui",null,"https://drive.google.com/open?id=1efzJYqMTu2yl9a2Xr3NcaV-LvcI4YJen","Tu participeras tout de même sur la version fort et seras remboursé de 200€"]
["2024-01-12T11:53:25.355",null,1.0,"mathis.a.bouchet@gmail.com","Bouchet","Mathis",null,"H","mathis.a.bouchet@gmail.com","4 Rue Mirabeau, 75016 Paris","0658061778","16 Juillet 1993","Mathis Gibert","Oui",null,"Pur PJ","Navire et fort, peu importe (si tu as une préférence, coche cette case et ta préférence)","oui","Je préfère jouer mon perso mais je peux en jouer un autre si cela n'est pas possible","1 oui, 2 non","Participant 1ere Session","Participant 1ere Session","oui","Combat à l'épée, Combat à mains nues, Romance, Joutes verbales/insultes, Chanter, Danser, Jeux, violence, menaces, chantage, vices, superstition, camaraderie, animations",null,"Bien plus ! Je suis un Vétéran !","Une ambiance de camaraderie, de liberté, de danger et d'ébriété !","Déja vu mais tu comptes la revoir pour t'immerger un max","Sur le devant de la scène","Impliqué autant que possible !!","Oui","Peu importe",null,"oui","Je suis autodidacte et pratique en GN","Ouiiiiiiiiiiiiiii !!",null,"oui et je peux même animer",null,"oui",null,"Tu es végétarien",null,"Non","Oui",null,"https://drive.google.com/open?id=1nasRCOkSmBwMHV3fwSRtOKfF7WQt1kPa","Tu participeras tout de même sur la version fort et seras remboursé de 200€"]
["2024-01-12T10:57:39.082",400.0,1.0,"clodoweg@gmail.com","Bourdette","Julien",null,"H","clodoweg@gmail.com","52 rue de Versailles, 78470 St Rémy les Chevreuse","0641780852","26/07/1981","ju.bourdette","Oui",null,"Pur PJ","Navire et fort","oui","Je préfère jouer mon perso mais je peux en jouer un autre si cela n'est pas possible","1 Non, 2 non","non","non","Non","Romance, Joutes verbales/insultes, Chanter, Jeux, camaraderie","C'était tellement bien !!","Entre 6 et 10,","Les chansons !","pas encore vu mais tu as hâte de découvrir le charisme exceptionnel de ses perso :D","Discret","Peu d'objectif, je me débrouille en jeu.","Non","En groupe","Le libertalia de la V2 !","oui","Absolument pas","Je chante faux mais je m'en fous, j'aime ça !","Les noeuds :)","Non","Non","oui",null,"Tu manges de tout",null,"Oui","Oui",null,"https://drive.google.com/open?id=1AGVOuhNQ0d4Z8bgDvRQvcNMlrNgBm7Pq","Tu participeras tout de même sur la version fort et seras remboursé de 200€"]
["2024-01-12T12:54:55.713",400.0,1.0,"sacub@sfr.fr","BUCAS","Ced",null,"H","sacub@sfr.fr","102 avenue des Pyrénées 31310 Montesquieu-Volvestre","0675585665","18.09.1974","Cire de Sacub","Oui",null,"Pur PJ","Navire et fort","oui","Je préfère jouer mon perso mais je peux en jouer un autre si cela n'est pas possible","1 oui, 2 non","non","non","Non","Combat à l'épée, Combat à mains nues, Romance, Joutes verbales/insultes, Chanter, Jeux, violence, menaces, chantage, vices, superstition, camaraderie, animations","non","Bien plus ! Je suis un Vétéran !","plutôt...","Tu as déja vu la série","Sur le devant de la scène","Au coeur de l'intrigue principale.","Oui","Peu importe","non","oui","Je suis autodidacte et pratique en GN","Ouiiiiiiiiiiiiiii !!","un peu...","Oui et ça me plairait de pratiquer lors du gn","chant","oui",null,"Tu manges de tout","non","Oui","Oui",null,"https://drive.google.com/open?id=1ACR3hoOIxv2dr-xib7oWtbxPqBGl5oW4","Tu participeras tout de même sur la version fort et seras remboursé de 200€",null,"Excellent joueur et très bon interprète"]
["2024-01-12T21:11:03.316",267.0,1.0,"elune.brisefer@gmail.com","CERUTTI","Laëtitia","Mia","F","laetitia.cerutti@gozmail.bzh","1, Ty Ar Bonniec 22140 BRELIDY",6.89400155E8,"1989-03-10","Laëtitia Elune","Oui",null,"Pur PJ, PJ/PNJ (il s'agit d'un moment du GN, le reste du temps tu joues ton perso. Cela concerne le fort))","Navire et fort","oui","Cela ne me pose pas de problème de changer de perso","1 oui, 2 oui, 2 non","Jouer l'homosexualité ne me dérange pas du tout. :)\nLe viol est un item que je ne souhaite pas aborder, en jeu et dans mon BG.","Le viol est une situation que je ne souhaite pas jouer.","oui","Combat à l'épée, Romance, Chanter, Danser, Jeux, menaces, superstition, camaraderie",null,"Bien plus ! Je suis un Vétéran !","Oui ! L'ambiance qui en ressort à mes yeux, en mots-clés:\nla liberté de voyager et de penser, la résistance et la rébellion vis-à-vis des royaumes et de leur flotte (militaire et marchande), les conditions de vie difficiles à bord des navires, la fidélité vis-à-vis de son équipage, l’esprit de corps et la fraternité entre les marins pirates, l’égalité de traitement entre le capitaine et son équipage, le respect, le courage au combat, l'idée que la vie pouvait se terminer dès le lendemain !","pas encore vu mais tu as hâte de découvrir le charisme exceptionnel de ses perso :D","Entre les deux","Au coeur de l'intrigue principale.","Modérement","En groupe","Les joueurs de mon équipage (Libertalia V2) ! :D","oui","J'ai suivi des cours d'escrime (indique ton niveau stp dans la case \"Autre\" ci-dessous si c'est le cas ! :D ), Après une longue pause, je me remets cette année à la pratique de l'AMHE (escrime médiévale 15ème). Je me débrouille mais n'ai pas un \"grand\" niveau. :)","Je chante faux mais je m'en fous, j'aime ça !","Oui, j'ai quelques connaissances marines. J'ai fait un peu de voile sur un vieux gréement. :)","Non","Je ne dirais pas que j'ai des compétences artistiques. :)\nJe dessine, je fais de la couture, j'apprends à jouer de la cornemuse. Voilà !","oui","J'aimerais, si c'est possible, rejouer mon personnage (Mia). :)","Tu manges de tout",null,"Non","Oui",null,"https://drive.google.com/open?id=1-N3rurHRPYRB0EmRxxshzEABckCTObCy","Tu participeras tout de même sur la version fort et seras remboursé de 200€"]
["2024-02-04T12:45:53.472",null,1.0,"gregoire.culot@gmail.com","Culot ","Grégoire",null,"H","gregoire.culot@gmail.com","200 Rue de Courcelles\n75017 Paris","0672817191","1985-02-05","Grégoire Culot","Oui","7 et 8 juin 2025","Pur PJ","Navire et fort","oui","Je préfère jouer mon perso mais je peux en jouer un autre si cela n'est pas possible","1 oui, 2 non","Non","Je préfère ne pas jouer de romance","Non","Joutes verbales/insultes, Jeux, violence, menaces, chantage, vices, superstition, camaraderie","non","Bien plus ! Je suis un Vétéran !","peu de connaissance en dehors des séries et quelques livres de fiction que j'ai lu. J'y vois plutôt une ambiance de camaraderie mêlé de peur dans un milieux très hostile et où la violence fait la loi","Déja vu mais tu comptes la revoir pour t'immerger un max","Entre les deux","Impliqué autant que possible !!","Modérement","Peu importe","j'ai des amis mais je peux jouer avec de nouvelles personnes sans problème.","oui","Je suis autodidacte et pratique en GN","Je chante faux mais je m'en fous, j'aime ça !","Légère","Non","non","oui",null,"Tu manges de tout","aucune","Oui","Oui",null,"https://drive.google.com/open?id=1zG--4iMTm66UnF5VJ9vXNhYT4Ssj0wQq","Tu participeras tout de même sur la version fort et seras remboursé de 200€",null,"Joueur très sympathique et adaptable. Je recommande"]
["2024-04-08T21:42:40.935",null,1.0,"tremblechene@gmail.com","David","Cédric",null,"H","tremblechene@gmail.com","17 rue d'Italie","0695107890","14/02/1980","cédric abitbol","Oui","13 et 14 septembre 2025","Pur PJ, PJ/PNJ (il s'agit d'un moment du GN, le reste du temps tu joues ton perso. Cela concerne le fort))","Navire et fort, peu importe (si tu as une préférence, coche cette case et ta préférence)","oui","Je préfère jouer mon perso mais je peux en jouer un autre si cela n'est pas possible, Cela ne me pose pas de problème de changer de perso","1 oui, 2 non","Non","Non, pas toujours à l'aise avec les scènes de diatribe publique.","Non","Combat à l'épée, Romance, Danser, vices, superstition, camaraderie, animations","Je suis prêt à tout jouer, j'ai coché ce qui me fait le plus plaisir. J'ai le plus de difficulté avec les joutes verbales.","Entre 6 et 10,","J'ai joué à la version 1, ça devrait répondre à la question non ? :)","pas encore vu mais tu as hâte de découvrir le charisme exceptionnel de ses perso :D","Entre les deux","Au coeur de l'intrigue principale.","Modérement","En groupe","Je ne sais pas qui participe donc et je ne m'inscris pas en groupe, donc...","oui","J'ai suivi des cours d'escrime (indique ton niveau stp dans la case \"Autre\" ci-dessous si c'est le cas ! :D ), Escrime artistique, et sinon, pratique d'escrime ludique en GN. C'est en général joli quand je me bats (mais pas forcément efficace)","Je chante faux mais je m'en fous, j'aime ça !","Ce que j'ai appris pour l'opus 1, que je réviserai","Non","Jeux de mots, ça compte ? S'occuper d'un p'tit cul ?","oui","Ma bonne humeur, et ma capacité à rester dans le personnage !","Tu es végétarien",null,"Non","Oui","Tu penses avoir le mal de mer","https://drive.google.com/open?id=1vLqr3DQhNKIfTvpXvIN1DI0Yio8Nb3Ja","Tu participeras tout de même sur la version fort et seras remboursé de 200€"]
["2024-06-03T19:10:10.327",null,1.0,"mithridate.vi@gmail.com","De Maupertuis","Renart",null,"H","mithridate.vi@gmail.com","17 rue des Lampes","0617175397","15 décembre 1980","Renart de Maupertuis","Oui","Les deux dates sont possibles","Pur PJ","Navire et fort",null,null,"1 oui, 2 non","Nup","Nup","Non","Combat à l'épée, Combat à mains nues, Romance, Joutes verbales/insultes, Chanter, Danser, Jeux, violence, menaces, camaraderie, animations","En vrai je suis un très mauvais répondeur de formulaire. Moi je joue que des GNs organisés par des potes qui me connaissent. Et je les laisse me mettre au meilleur endroit. ","Bien plus ! Je suis un Vétéran !","J'ai fait de la reconstit pirate XVIIIe mais faut que je révise :) je suis partant pour tout degré d'historicité, du documentaire à One Piece. ;) ","Déja vu mais tu comptes la revoir pour t'immerger un max","Sur le devant de la scène","Au coeur de l'intrigue principale.","Oui","Peu importe","Elena","oui","J'ai suivi des cours d'escrime (indique ton niveau stp dans la case \"Autre\" ci-dessous si c'est le cas ! :D ), Escrime artistique et pas mal de combat avec les Frères de la Côte","Ouiiiiiiiiiiiiiii !!","Nop","Oui et ça me plairait de pratiquer lors du gn","J'ai acheté un Ocarina !","oui","Hum, rien ne me vient pour le moment mais 2025 c'est loin.","Tu manges de tout",null,"Non","Oui",null,"https://drive.google.com/open?id=1bOZGUT00bVuqGwvw2qvjLKNh2r_eveeC","Tu participeras tout de même sur la version fort et seras remboursé de 200€"]
["2024-06-22T11:05:28.510",null,1.0,"lordfiendel@wanadoo.fr","DELAPORTE","Arnaud",null,"H","lordfiendel@wanadoo.fr","7 PARC DE LA TRAVERSIERE\n","0660682995","22 octobre 1976","Arnaud Delaporte","Oui","Les deux dates sont possibles","Pur PJ, PJ/PNJ (il s'agit d'un moment du GN, le reste du temps tu joues ton perso. Cela concerne le fort))","Navire et fort, peu importe (si tu as une préférence, coche cette case et ta préférence)",null,null,"1 oui, 2 non","néant","néant","Non","Combat à mains nues, Romance, Joutes verbales/insultes, violence, menaces, chantage, vices, superstition, camaraderie",null,"Bien plus ! Je suis un Vétéran !","quelques unes je pense...","pas encore vu mais tu as hâte de découvrir le charisme exceptionnel de ses perso :D","Sur le devant de la scène","Impliqué autant que possible !!","Oui","En groupe",null,"oui","Je suis autodidacte et pratique en GN","Je chante faux mais je m'en fous, j'aime ça !","pas fameux... ;)","Non",null,"oui",null,"Tu manges de tout",null,"Oui","Oui",null,"https://drive.google.com/open?id=1rB3UQw-qZO82TTzLXdi1TxzrDrWi-M9n","Tu participeras tout de même sur la version fort et seras remboursé de 200€"]
["2024-01-19T14:11:27.865",200.0,1.0,"markal.dumas@gmail.com","Dumas","Marc",null,"H","markal.dumas@gmail.com","4, place Marc Sangnier - 93260 Les lilas","0603192840","18/11/1970","Marc-Alain Dumas","Oui","7 et 8 juin 2025","PJ/PNJ (il s'agit d'un moment du GN, le reste du temps tu joues ton perso. Cela concerne le fort))","Seulement au fort","oui","Je préfère jouer mon perso mais je peux en jouer un autre si cela n'est pas possible","1 oui, 2 non","Peu Importe","Tout me va","Non","Combat à l'épée, Joutes verbales/insultes, violence, menaces, chantage, vices, camaraderie",null,"Bien plus ! Je suis un Vétéran !","Une ambiance de liberté et de joie de vivre teinté de désespoir et de révolte.","Tu as déja vu la série","Entre les deux","Au coeur de l'intrigue principale.","Modérement","Peu importe",null,"oui","J'ai suivi des cours d'escrime (indique ton niveau stp dans la case \"Autre\" ci-dessous si c'est le cas ! :D ), ça va, je me défend","Je préfère éviter, j'encouragerai les autres en tapant dans les mains ou avec mon godet !","Modérément","Oui et ça me plairait de pratiquer lors du gn",null,"oui",null,"Tu manges de tout",null,"Oui","Oui",null,"https://drive.google.com/open?id=1VYt24tcjVn2jiaUUumv7XBkRs6uwXE8A","Tu participeras tout de même sur la version fort et seras remboursé de 200€",null,"Joueur très sympathique et adaptable. Je recommande"]
["2024-02-10T17:06:36.525",405.0,1.0,"grduvert@gmail.com","Duvert","Guy-Roger",null,"H","grmuse@yahoo.fr","4 rue Sidi Brahim 75012 Paris","0616133285","1975-03-07","Guy-Roger Duvert","Oui","13 et 14 septembre 2025","Pur PJ","Navire et fort, peu importe (si tu as une préférence, coche cette case et ta préférence)","oui","Je préfère jouer mon perso mais je peux en jouer un autre si cela n'est pas possible","1 oui, 2 non","Pas envie de jouer un violeur ou un violé, mais je m'en fous que d'autres joueurs jouent ca près de moi.","Pas spécialement.","Non","Combat à l'épée, Combat à mains nues, Joutes verbales/insultes, Chanter, Danser, Jeux, violence, menaces, chantage, vices, superstition, camaraderie, animations","C'est dit de répondre à la partie 2 que si on ne garde pas son perso, mais apparemment, pas possible de valider la page sans avoir tout rempli. :p Ci-dessous, j'ai sélectionné une réponse à chaque fois car on ne pouvait pas plusieurs, mais souvent je suis ok avec différentes options.","Bien plus ! Je suis un Vétéran !","Celle de Black Sails","Déja vu mais tu comptes la revoir pour t'immerger un max","Entre les deux","D'avantage sur les quêtes secondaire.","Oui","Peu importe","Si Cyril Villalonga nous rejoint cette fois-ci, ca me plairait bien de jouer avec lui. Mais bon, si je garde le meme perso, a priori, mon équipage est déjà validé (j'avais rejoint un autre après la dissolution du mien).","oui","Absolument pas","Ouiiiiiiiiiiiiiii !!","J'ai certaines connaissances de navigation.","Oui et je peux apporter du matériel",null,"oui","J'ai des dés et gobelets en cuir pour jouer que je ramènerai comme la dernière fois.","Tu manges de tout",null,"Non","Oui",null,"https://drive.google.com/open?id=1uHgmrzsyaqe96_uwm_CIpPIh81QDJZFe","Tu participeras tout de même sur la version fort et seras remboursé de 200€"]
["2024-06-18T13:00:37.609",null,1.0,"alexandre.fabre@free.fr","Fabre","Alexandre",null,"H","alexandre.fabre@free.fr","20 Chemin de Nicol","0607341244","20/08/1985","Alexandre Fabre","Oui","Les deux dates sont possibles","Pur PJ","Navire et fort",null,null,"1 Non, 2 non","Pas de souci.","Pas d'objection","Non","Romance, Jeux, menaces, chantage, vices, superstition, camaraderie","Non","Entre 6 et 10,","Des Notions.","pas encore vu mais tu as hâte de découvrir le charisme exceptionnel de ses perso :D","Entre les deux","D'avantage sur les quêtes secondaire.","Modérement","Peu importe",null,"oui","Absolument pas","Je préfère éviter, j'encouragerai les autres en tapant dans les mains ou avec mon godet !","Non","Non",null,"oui","Coffre, je peux avoir. De la déco. Crânes, objets religieux, etc...","Tu es végétarien",null,"Non","Oui","Tu penses avoir le mal de mer","https://drive.google.com/open?id=1oY8krkao26vHAEb439HK4gqZAqyfeQE1","Tu participeras tout de même sur la version fort et seras remboursé de 200€"]
["2024-01-12T19:47:38.929",null,1.0,"versangre@gmail.com","Faure ","Guillaume",null,"H","Versangre@gmail.com","20 rue Auguste Blanqui, 94250 Gentilly","0681454981","24/03/1988","Yôm Guillaume Faure ","Oui",null,"Pur PJ, PJ/PNJ (il s'agit d'un moment du GN, le reste du temps tu joues ton perso. Cela concerne le fort)), PNJ","Seulement au fort, peu importe (si tu as une préférence, coche cette case et ta préférence)","oui, Non","Je préfère jouer mon perso mais je peux en jouer un autre si cela n'est pas possible, Cela ne me pose pas de problème de changer de perso","1 oui","Il ne me semble pas.","Pas spécialement. ","Non","Combat à l'épée, Combat à mains nues, Romance, Joutes verbales/insultes, superstition, camaraderie","Pas de problèmes avec violence, chantage, menace, vices, mais pas spécialement attiré par ça. ","Bien plus ! Je suis un Vétéran !","Oui, il s'agissait d'une époque difficile, mais proche de l'entreprenariat des temps modernes, avec plus de dangers de morts, et de chimères, où se mêlaient fantasmes et réalités.","Tu as déja vu la série","Entre les deux","Impliqué autant que possible !!","Oui","En groupe","Oui, Lyly, Guillaume Prigent, Chloé...","oui!","J'ai suivi des cours d'escrime (indique ton niveau stp dans la case \"Autre\" ci-dessous si c'est le cas ! :D ), Fleuret, Sabre, Kenjutsu. Entre Débutant et Adepte.","Je préfère éviter, j'encouragerai les autres en tapant dans les mains ou avec mon godet !","Novice.","Non","15 ans d'arts martiaux, éloquence...","oui","Pas d'idées ^^'","Tu manges de tout",null,"Non","Oui","Tu es un gros ronfleur","https://drive.google.com/open?id=10nsn2-gRLwd722vP88NQRfpNm4-qsIOI","Tu participeras tout de même sur la version fort et seras remboursé de 200€",null,"Excellent joueur et très bon interprète"]
["2024-01-22T01:07:01.937",null,1.0,"guilland@gmail.com","GANTET","Guillaume",null,"H","guilland@gmail.com","280 Route de la Blancarié. 81290 ESCOUSSENS",6.4919371E8,"1984-12-07","Guillaume GANTET","Oui","Les deux dates sont possibles","Pur PJ","Navire et fort",null,null,"1 oui, 2 non","RAS","RAS","Non","Combat à mains nues, Romance, Chanter, Jeux, chantage, vices, camaraderie","Je peux en chercher des jeux simples en bois, je dois en avoir des facilement transportables pour pouvoir faire des paris ou choses dans le genre","Bien plus ! Je suis un Vétéran !","Démocratie et fort esprit de camaraderie à l'échelle d'un équipage. Vivre sa vie à 100% car le métier fait que l'on peut tout perdre du jour au lendemain et déjà si on a la pance pleine c'est pas mal.","Déja vu mais tu comptes la revoir pour t'immerger un max","Entre les deux","Impliqué autant que possible !!","Modérement","Peu importe","Fabienne Raffy","oui!","Je suis autodidacte et pratique en GN","Je chante faux mais je m'en fous, j'aime ça !","Langage marin déjà appris pour faire d'autres GN Pirate et connaissances maritimes limités mais existantes pour faire du cata.","Non","Réalisations de rhums pour des GN, c'est artistique, non ?","oui","J'ai un coffre en bois magnifique, un pseudo-sextant, jeux en bois","Tu manges de tout, Tu es allergique à l'eau !","RAS pour les allergies. Concernant la dernière question, je préfèrerais un troisième choix, mais je ne sais pas si c'est possible par rapport à la réservation du fort : Je préfèrerais un report du GN sur le Shtandart  n'est pas disponible","Oui","Oui",null,"https://drive.google.com/open?id=1yTZwfn-sY5f09fYJidOpagOU8b6RwEm2","Tu préfères ne pas participer",null,"croisé en Gn, génère du jeu, sympa"]
["2024-07-22T11:56:15.305",267.0,1.0,"dodimails@gmail.com","gerberon ","Elodie",null,"F","dodimails@gmail.com","10 impasse bon secours 75011 Paris","0666617248","18/12/1981","Élodie Circlepuke ","Oui","7 et 8 juin 2025","Pur PJ","Navire et fort","oui","Je préfère jouer mon perso mais je peux en jouer un autre si cela n'est pas possible","1 Non","Mon seul trigger c’est le deuil d’un enfant en bg ou en jeu  ","Le combat c’est pas du tout mon truc en général je fuis","Non","Romance, Joutes verbales/insultes, Chanter, Danser, Jeux, menaces, chantage, vices, camaraderie, animations",null,"Bien plus ! Je suis un Vétéran !","Une vie joyeuse mais courte !","Tu as déja vu la série","Entre les deux","Impliqué autant que possible !!","Oui","En groupe","Si Elena joue ouiii, Mathis aussi. Et sinon les gens avec qui j’ai adoré jouer la 1e fois : Charles et Matthieu de l’hirondelle. James et Geoffrey aussi.","oui","Absolument pas","Ouiiiiiiiiiiiiiii !!","Pas trop ","Non","Franchement je sais pas faire grand chose à part chanter. Je sais imiter la cornemuse cela dit 😅","oui",null,"Tu manges de tout",null,"Non","Oui",null,"https://drive.google.com/open?id=19Gou4S4T_-AacRuEnwfUkFmq_-SFVFcH","Tu participeras tout de même sur la version fort et seras remboursé de 200€"]
["2024-01-14T12:29:07.894",null,1.0,"chloeharrand@gmail.com","Harrand ","Chloé",null,"F","chloeharrand@gmail.com","20 Rue Auguste Blanqui 94250 Gentilly ",6.11290595E8,"19/05/1995","Chloé Sardine","Oui",null,"Pur PJ, PJ/PNJ (il s'agit d'un moment du GN, le reste du temps tu joues ton perso. Cela concerne le fort))","Navire et fort","oui","Cela ne me pose pas de problème de changer de perso","1 oui, 2 oui, 2 non","Pas de souci ! ","Aucun souci ! ","oui","Combat à l'épée, Combat à mains nues, Joutes verbales/insultes, Chanter, Danser, violence, menaces, superstition, camaraderie",null,"Bien plus ! Je suis un Vétéran !","J'ai lu tout ce que tu as écrit et me suis un peu renseignée. Même si j'adore l'idéalisation de la vie de pirate, ça me plaît de penser que la plupart sont des gens normaux (voir un peu cons) qui font au mieux, et que la valeur d'un capitaine se mesure à sa capacité de s'entourer des bonnes personnes. ","Déja vu mais tu comptes la revoir pour t'immerger un max","Sur le devant de la scène","Au coeur de l'intrigue principale.","Oui","Peu importe","Guillaume Faure, Guillaume Pringent, Cécile Vera, Mads... Et tous mes camarades de l'Opus 2!","oui!","Je suis autodidacte et pratique en GN","Ouiiiiiiiiiiiiiii !!",null,"Oui et ça me plairait de pratiquer lors du gn","Peinture, dessin, chants etc ! ","oui",null,"Tu manges de tout",null,"Non","Oui",null,"https://drive.google.com/open?id=1XxSxNQ9_sCrWn73v3ujxPeYHHOe_BriY","Tu participeras tout de même sur la version fort et seras remboursé de 200€"]
["2024-01-12T13:09:01.098","Gratuit",1.0,"stevenlecointre0@gmail.com","Hawkins ","James",null,"H","stevenlecointre0@gmail.com","105 résidence du môle ","0631587139","29/05/1991","James Hawkins ","Oui",null,"PJ/PNJ (il s'agit d'un moment du GN, le reste du temps tu joues ton perso. Cela concerne le fort))","Seulement au fort","oui","Je préfère jouer mon perso mais je peux en jouer un autre si cela n'est pas possible, Cela ne me pose pas de problème de changer de perso","1 Non, 2 non","Nop ","Nop","oui","Combat à l'épée, Combat à mains nues, Romance, Joutes verbales/insultes, Chanter, Jeux, violence, menaces, chantage, vices, camaraderie",null,"Entre 1 et 5,","Ouai je connais 💪 ","Tu as déja vu la série","Entre les deux","Impliqué autant que possible !!","Modérement","En groupe","Seb Let et Marius Hund","oui","J'ai suivi des cours d'escrime (indique ton niveau stp dans la case \"Autre\" ci-dessous si c'est le cas ! :D )","Ouiiiiiiiiiiiiiii !!","Bac +3","Oui et ça me plairait de pratiquer lors du gn","Non ","oui",null,"Tu manges de tout",null,"Oui","Oui",null,"https://drive.google.com/open?id=1bkntR2zNBCjp9-GNEiZAGSsoqgoTpgve","Tu participeras tout de même sur la version fort et seras remboursé de 200€"]
["2024-01-12T20:07:45.920",400.0,1.0,"gaellejacq@yahoo.com","Jacq","Gaëlle",null,"F","gaellejacq@yahoo.com","184 rue du général Leclerc",6.30975006E8,"1978-02-01","Adira GJ","Oui","7 et 8 juin 2025","Pur PJ","Navire et fort","oui","Je préfère jouer mon perso mais je peux en jouer un autre si cela n'est pas possible","1 oui, 2 oui, 2 non","Viol ou agressions sexuelles","RAS","oui","Combat à l'épée, Romance, Chanter, superstition, camaraderie",null,"Bien plus ! Je suis un Vétéran !","Les docs de la dernière session ;p","pas encore vu mais tu as hâte de découvrir le charisme exceptionnel de ses perso :D","Entre les deux","Impliqué autant que possible !!","Modérement","En groupe","Les anciens de l'Isabella Opus 1 session 1, évidemment !!!","oui","Je suis autodidacte et pratique en GN","Je chante faux mais je m'en fous, j'aime ça !",null,"Non","Heu, pas vraiment ^^'","non","Vu que je vais dépendre du bon vouloir de gentils covoitureurs, je dirai non ;)","Tu manges de tout","RAS","Non","Oui",null,"https://drive.google.com/open?id=1V-oWB6Qf0ZSLOB6bKhD82KNRNAJ-1Jj2","Tu participeras tout de même sur la version fort et seras remboursé de 200€"]
["2024-02-10T12:50:07.771",null,1.0,"kilian.lamberdiere@gmail.com","Lamberdière ","Kilian",null,"H","kilian.lamberdiere@gmail.com","23 Rue Marie Rouault\nAppt. A131\n35000 Rennes","+33688637635",null,"Kilian Lamberdière ","Oui","7 et 8 juin 2025, Les deux dates sont possibles","Pur PJ","Navire et fort, peu importe (si tu as une préférence, coche cette case et ta préférence)","oui","Je préfère jouer mon perso mais je peux en jouer un autre si cela n'est pas possible, Cela ne me pose pas de problème de changer de perso","1 oui, 2 oui, 2 non","Aucun souci quelconque","Aucun souci quelconque","Non","Combat à l'épée, Combat à mains nues, Romance, Joutes verbales/insultes, Danser, violence, menaces, chantage, vices, superstition, camaraderie",null,"Bien plus ! Je suis un Vétéran !","Un moment de joyeux bordel où la mort est à chaque tournant mais où tout est aussi possible.\nJ'ai l'habitude d'incarner du pirate et me suis déjà renseigné sur la période, sans être une encyclopédie.","pas encore vu mais tu as hâte de découvrir le charisme exceptionnel de ses perso :D","Entre les deux","Impliqué autant que possible !!","Modérement","Peu importe","Ceux de l'Isabella v2 si possible (Solenne Pichon, Camille Quenet, Maryne Thiriez, Damien Lesiourd, Gilles Roux, Marius, Vincent), ou avec Bérénice Moynier.","oui","J'ai suivi des cours d'escrime (indique ton niveau stp dans la case \"Autre\" ci-dessous si c'est le cas ! :D ), Éducateur fédéral en escrime artistique + éducateur certifié en escrime ludique + débutant épéiste médiéval","Je chante faux mais je m'en fous, j'aime ça !","Jamais navigué, mais petites connaissances","Non","Jonglage de feu (staff) mais sur un navire...\nEscrime artistique.","oui","Bon courage pour l'organisation !","Tu manges de tout",null,"Non","Non",null,"https://drive.google.com/open?id=1ATwdVRdUqffDw01zj2P3YoW1clwU5F4p","Tu participeras tout de même sur la version fort et seras remboursé de 200€"]
["2024-06-16T22:03:21.932",null,1.0,"lafamillelehmann@gmail.com","LEHMANN","Christian",null,"H","drclehmann@aol.com","MAISON UHALDE, 55 CHEMIN DE SABALETTE\n64520 BIDACHE","0686883068","15/08/1958","christian lehmann","Oui","Les deux dates sont possibles","Pur PJ","Navire et fort",null,null,"1 oui, 2 non","non","les combats à mains nues ( ou ca va aller très vite vu mes compétences ;-)","oui","Romance, Joutes verbales/insultes, menaces, vices, superstition, camaraderie",null,"Bien plus ! Je suis un Vétéran !","non, mais ca s'arrange, ça","pas encore vu mais tu as hâte de découvrir le charisme exceptionnel de ses perso :D","Sur le devant de la scène","Impliqué autant que possible !!","Oui","Peu importe",null,"oui!","Absolument pas","Ouiiiiiiiiiiiiiii !!","non","Non","pas celles là ;-)","oui","non","Tu manges de tout",null,"Oui","Oui","Tu penses avoir le mal de mer","https://drive.google.com/open?id=1dxJvxcTgNC3FWrUQtvTPaqily2mirLDF","Tu participeras tout de même sur la version fort et seras remboursé de 200€"]
["2024-01-12T21:48:29.082",205.0,1.0,"sletteron74@gmail.com","Letteron ","Seb",null,"H","rencata@aliceadsl.fr","35 chemin des biches","0622546336","29/07/1968","Seb Lett","Oui",null,"PJ/PNJ (il s'agit d'un moment du GN, le reste du temps tu joues ton perso. Cela concerne le fort))","Seulement au fort","Non","Cela ne me pose pas de problème de changer de perso","1 oui, 2 non","Aucun","Discours ou dances seul en public, je suis très timide ;)","oui","Combat à l'épée, Combat à mains nues, Chanter, Danser, Jeux, violence, menaces, chantage, vices, superstition, camaraderie",null,"Entre 6 et 10,","Un peu 😜 ","Tu as déja vu la série","Entre les deux","Peu d'objectif, je me débrouille en jeu.","Non","Peu importe","Les membres du Vulture v1.2, Roland Maillot, la marque noire.","oui","Je suis autodidacte et pratique en GN, J'ai suivi des cours d'escrime (indique ton niveau stp dans la case \"Autre\" ci-dessous si c'est le cas ! :D ), 2ans de rapière XVII et épée XV","Je chante faux mais je m'en fous, j'aime ça !",null,"Non","Animation Artillerie et poudre noire.","oui","Possible de prendre des canons pour la déco ou plus, à voir pour le transport et la poudre.","Tu manges de tout",null,"Non","Oui",null,"https://drive.google.com/open?id=1Xb0O26Mrv6gz3156mINJ3qGtfyFYeyRH","Tu participeras tout de même sur la version fort et seras remboursé de 200€"]
["2024-01-12T17:23:47.701",null,1.0,"lorentemathieu@gmail.com","Lorente","Matthieu",null,"H","lorentemathieu@gmail.com","11, rue du Chêne Vert","0647832624","13 juillet 1983","Mathieu LORENTE","Oui","13 et 14 septembre 2025","Pur PJ","Seulement au fort","oui","Cela ne me pose pas de problème de changer de perso","1 oui, 2 non","Ras","Ras","oui","Combat à l'épée, Romance, Chanter, Jeux, menaces, chantage, vices, camaraderie, animations",null,"Bien plus ! Je suis un Vétéran !","AHOY !","Tu as déja vu la série","Entre les deux","Peu d'objectif, je me débrouille en jeu.","Modérement","En groupe","Yann LORENTE","oui","Je suis autodidacte et pratique en GN","Ouiiiiiiiiiiiiiii !!","Intermédiaire","Oui et ça me plairait de pratiquer lors du gn","Dessin, je veux bien tenter le lancer d'autruche !!!","oui","Je joue moyennement bien du ukulélé mais j'aime ça et j'ai un banjolélé 😎","Tu manges de tout, Tu es allergique à l'eau !",null,"Non","Oui",null,"https://drive.google.com/open?id=17Tt1MGQuXSnSvuYXE5YodkqwpHnzcYg8"]
["2024-01-12T11:53:35.065",133.4,1.0,"yannlorente@gmail.com","Lorente","Yann",null,"H","yann.lorente@gmail.com","31 Chemin de Lestang","+33630208984","1982-10-09","Yann lo","Oui",null,"Pur PJ, PJ/PNJ (il s'agit d'un moment du GN, le reste du temps tu joues ton perso. Cela concerne le fort))","Navire et fort","oui","Cela ne me pose pas de problème de changer de perso","1 oui","Non","Non","oui","Combat à l'épée, Combat à mains nues, Romance, Joutes verbales/insultes, Chanter, Danser, Jeux, violence, menaces, chantage, vices, superstition, camaraderie, animations",null,"Bien plus ! Je suis un Vétéran !","Oui","Tu as déja vu la série","Entre les deux","Peu d'objectif, je me débrouille en jeu.","Modérement","Peu importe",null,"oui","Je suis autodidacte et pratique en GN","Ouiiiiiiiiiiiiiii !!",null,"Oui et ça me plairait de pratiquer lors du gn","Mandoline","oui",null,"Tu manges de tout",null,"Oui","Oui",null,"https://drive.google.com/open?id=1UBo7ZMq7zamR3xPFr1qa8hMYdbypOkcp","Tu participeras tout de même sur la version fort et seras remboursé de 200€"]
["2024-01-14T19:45:10.499",267.0,1.0,"catherine.magnant@orange.fr","MAGNANT","Catherine",null,"F","catherine.magnant@orange.fr","85B rue de la Libération 76910 CRIEL SUR MER",null,"1976-02-03","Catherine Magnant","Oui",null,"PJ/PNJ (il s'agit d'un moment du GN, le reste du temps tu joues ton perso. Cela concerne le fort))","Navire et fort, peu importe (si tu as une préférence, coche cette case et ta préférence)","oui","Cela ne me pose pas de problème de changer de perso","1 oui, 2 oui","Non","Non","oui","Combat à l'épée, Combat à mains nues, Romance, Joutes verbales/insultes, Chanter, Jeux, violence, menaces, chantage, vices, superstition, camaraderie, animations","Surtout pas de danse !","Bien plus ! Je suis un Vétéran !","Celle acquise à la lecture des documents de l'opus 1","Déja vu mais tu comptes la revoir pour t'immerger un max","Entre les deux","Impliqué autant que possible !!","Modérement","Peu importe","Pas forcement, mais si je peux avoir quelques interactions avec ceux de l'opus 2 groupe Morgan, mon ancien groupe, ca serait cool","oui!","Je suis autodidacte et pratique en GN","Je chante faux mais je m'en fous, j'aime ça !","Babord et tribord et c'est tout...","Oui et ça me plairait de pratiquer lors du gn","Travail du cuir, je fais des chapeaux de pirates qui sont pas mal ","oui","Encore trop tot pour le dire mais pourquoi pas","Tu manges de tout","Rien","Oui","Oui","Tu es un gros ronfleur","https://drive.google.com/open?id=1psyVVu2IxGKHOqCMXLaTnZHbh7tKulhS","Tu participeras tout de même sur la version fort et seras remboursé de 200€"]
["2024-01-12T13:23:29.012",null,1.0,"rolarche11250@gmail.com","MAILLOT","Roland",null,"H","combatmedievalroland@hotmail.fr","5 chemin de la plaine 11250 LEUC","0660768099","21/06/1959","Roland Maillot","Oui",null,"Pur PJ, PJ/PNJ (il s'agit d'un moment du GN, le reste du temps tu joues ton perso. Cela concerne le fort)), PNJ","Navire et fort",null,null,"1 oui, 2 non","non rien en particulier","rien ne me dérange sauf les bras de fer au bras droit ","oui","Combat à l'épée, Combat à mains nues, Romance, Joutes verbales/insultes, Chanter, Danser, Jeux, violence, menaces, chantage, vices, superstition, camaraderie, animations","j'ai tout coché donc je ne vois pas ce que je peux faire de plus ","Aucun ! C'est ma première fois !","oui je fais de la reconstitution pirate et ce qu'il en ressort à mes yeux c'est vivre libre, à fond et vite, avec un peu de chance on peu vivre sinon ma tête ira rouler dans les flots ","Déja vu mais tu comptes la revoir pour t'immerger un max","Entre les deux","Impliqué autant que possible !!","Modérement","Peu importe","Seb Let, les potes de la Marque Noire et des 3 frontières s'ils en sont ;) ","oui","J'ai suivi des cours d'escrime (indique ton niveau stp dans la case \"Autre\" ci-dessous si c'est le cas ! :D ), je pratique l'escrime de spectacle depuis 2000","Ouiiiiiiiiiiiiiii !!","j'ai passé 21 ans dans la Royale","Oui et ça me plairait de pratiquer lors du gn","je fais du théâtre, de la figu au cinéma (3 Mousquetaires 1 et 2, entre autres) ","oui","j'ai pas mal de matos que je pourrai amener pour embellir de décorer le fort et rapières sabres pistolets, mousquet, mais je ferai, l'acquisition d'un sabre latex pour le GN","Tu manges de tout",null,"Oui","Oui",null,"https://drive.google.com/open?id=1D394NxmWxgKFA8h1VrFLJC4PLXaWP-ZK","Tu participeras tout de même sur la version fort et seras remboursé de 200€"]
["2024-02-10T15:18:20.968",null,1.0,"renaud.dehont@gmail.com","Perianwyr","Renaud","Peter","H","perianwyr@protonmail.com","c/o Mme Drustinac 14, rue adrien lejeune 93170 Bagnolet","+33667250984","1977-09-03","pas de facebook, ni de comptes RS","Oui","7 et 8 juin 2025","Pur PJ","Navire et fort",null,null,"1 oui, 2 non","aucun souci","aucun souci","Non","Combat à l'épée, Romance, menaces, chantage, vices, camaraderie","j'ai un (gros) background en matière de voile et de nautisme. 'jouer' un marin, un officier de pont, ou quoique ce soit de tres nautique, ne posera pas de souci. idem pour les compétences de navigation, ou sur les navires historiques.","Bien plus ! Je suis un Vétéran !","v'la la question qui mériterait des dissertations :D\n\nje dirais en résumé que ce 'grand age d'or' est surtout celui d'une république sans atours, constitué d'embryons de ce qui nourrira plus tard les bases des mouvements anarchistes et socialiste ^^ \n","Tu as déja vu la série","Entre les deux","Impliqué autant que possible !!","Modérement","Peu importe","n'ayant pas de visibilité sur les joueurs présents, je vais répondre 'presque tous' :D\nSi je peux jouer avec Bérénice Moynier, ce sera avec plaisir","oui","Je suis autodidacte et pratique en GN","Je chante faux mais je m'en fous, j'aime ça !","oh bah.... breton tombé dans un bateau tout minot, je fais de la voile depuis 30 ans, y compris régate, compétitions, et je passe mes vacances sur des navires historiques des que je peux. on se fait une compétition de RS700, pour voir ? :D","Non","en dehors du sport... pas trop ^^","oui",null,"Tu es végétarien",null,"Non","Oui",null,"https://drive.google.com/open?id=10y6yHEZUqcBUenqFnFAuUsqtQI10TXsM","Tu préfères ne pas participer"]
["2024-01-12T09:04:56.455",267.0,1.0,"philbert.charles@neuf.fr","PHILBERT","Charles",null,"H","Philbert.charles@neuf.fr","24 bis rue pierre joigneaux 92270 bois colombes","0688981791","1982-05-03","charles PHILBERT","Oui",null,"PJ/PNJ (il s'agit d'un moment du GN, le reste du temps tu joues ton perso. Cela concerne le fort))","Navire et fort","oui","Je préfère jouer mon perso mais je peux en jouer un autre si cela n'est pas possible","1 oui, 2 non","non","non","Non","Combat à mains nues, Romance, Joutes verbales/insultes, Chanter, Danser, Jeux, violence, chantage, superstition, camaraderie, animations","J'aimerais bcp que tu reussises à générer une partie de quête au trésor autour d indices compris dans des chants marins plus confidentiels que les 3-4 qu'on connaît tous : ceci pour donner dubsens à mon carnet de chant qui aurait inspiré ce code. ET pour pousser les gens à écouter les chansons et à questionner les interprètes sur les lègendes ayant amené leur création. Idem sur les contes et legendes de marins que je t'avais relayé sur YOU tube par le stryx... lien si besoin par MP...","Bien plus ! Je suis un Vétéran !","liberté","Tu as déja vu la série","Entre les deux","Peu d'objectif, je me débrouille en jeu.","Oui","En groupe","petit fut (le vrai et celui de ma V1), Mathis ","oui","Absolument pas, je suis fort en apnéisme ! discipline qui consiste à se cacher sous le niveau de la mer pendant toute la duree dun combat.","Ouiiiiiiiiiiiiiii !!","un peu","Oui et je peux apporter du matériel","bolas et jonglage de base, pitreries!","oui","de la déco mais que si tu mets dans un camion (tentes, fûts, filets...) car dans ma voiture je préférerais mettre des covoitureurs (le GN est déjà cher une fois tout compris. d'ailleurs évite si possible les restaurants à 40€ car 400+ hotels+ déplacement + 2 restaurants chers on est pas loin de l UW..\n\nBonne orga ma chérie !! et merci de continuer à nous faire vivre de si beaux moments.","Tu manges de tout, Tu es allergique à l'eau !",null,"Oui","Oui",null,"https://drive.google.com/open?id=1dXNpFK-OWEhGUqWtPMX5Po2PBGrWNnng","Tu participeras tout de même sur la version fort et seras remboursé de 200€",null,"Super joueur, très bon interprète et très sympathique"]
["2024-01-19T13:55:22.208",200.0,1.0,"marionpitel.scott@gmail.com","Pitel","Marion",null,"F","marionpitel.scott@gmail.com","4 place Marc Sangnier","0673467578","1995-03-07","Mads Croc","Oui","7 et 8 juin 2025","Pur PJ, PJ/PNJ (il s'agit d'un moment du GN, le reste du temps tu joues ton perso. Cela concerne le fort))","Seulement au fort","oui","Je préfère jouer mon perso mais je peux en jouer un autre si cela n'est pas possible","1 oui","je ne souhaite pas qu'un joueur joue mon père disparu retrouvé, mention BG ok","rien à part père disparu qui me retrouve.","Non","Danser, Jeux, violence, menaces, vices, camaraderie, animations",null,"Bien plus ! Je suis un Vétéran !","La liberté, la fourberie, le panache !","Tu as déja vu la série","Sur le devant de la scène","Impliqué autant que possible !!","Oui","En groupe",null,"oui","Je suis autodidacte et pratique en GN","Je préfère éviter, j'encouragerai les autres en tapant dans les mains ou avec mon godet !","Un ch'ti peu ","Non","j'ai un peu de matériel de feu (éventails et j'aimerai m'acheter des doigts) et un petit niveau de danse","oui",null,"Tu manges de tout",null,"Non","Oui",null,"https://drive.google.com/open?id=1teL9dlZtRQWb-QAjDplEH-7c9DP41wtO","Tu participeras tout de même sur la version fort et seras remboursé de 200€",null,"Joueuse très sympathique et adaptable. Je recommande"]
["2024-01-12T19:18:08.853",800.0,1.0,"marionjsphand@gmail.com","Richard","Marion",null,"F","marionjsphand@yahoo.fr","32b rue bellevue 81100 castres",7.81107844E8,"1988-12-05","Handmar","Oui","7 et 8 juin 2025","Pur PJ","Navire et fort","oui","Cela ne me pose pas de problème de changer de perso","2 non","Aucun","Non","oui","Combat à l'épée, Combat à mains nues, Joutes verbales/insultes, Chanter, menaces, chantage, superstition, camaraderie, animations","Non","Entre 1 et 5,","J'ai vu black sail et lu toute les doc du 1er opus. Mais je sui lui d'être une référence ou incollable","Tu as déja vu la série","Entre les deux","D'avantage sur les quêtes secondaire.","Modérement","En groupe","Richard patrice yom faure et aurélie trilles si possible","oui","J'ai suivi des cours d'escrime (indique ton niveau stp dans la case \"Autre\" ci-dessous si c'est le cas ! :D ), 2 ans d'escrime compet","Je chante faux mais je m'en fous, j'aime ça !","Minime","Non","Non ","oui","Non","Tu manges de tout",null,"Oui","Oui",null,"https://drive.google.com/open?id=12AM_H43afIV9bv79JA2mdDgBHPvaWvjS","Tu participeras tout de même sur la version fort et seras remboursé de 200€"]
["2024-04-25T21:28:14.769",null,1.0,"morgane.rozier@gmail.com","Rozier-Peltier","Morgan",null,"H","morgane.rozier@gmail.com","10 impasse de Dinan, 56380 Beignon","0652838378","19/01/1988","Morgan Rozier","Oui","7 et 8 juin 2025, Les deux dates sont possibles","Pur PJ","Navire et fort",null,null,"1 oui","Red flag absolu sur les violences conjugales et viols, je peux en avoir en background mais pas si mon personnage est défini entièrement par ces événements, même si je préférerai un truc plus original, j'avoue.","Les mêmes que plus haut : violences conjugales, viols et agressions sexuelles/sexisme de façon générale (je les vis déjà IRL, y'a tellement d'autres moyens d'être trash...) Ah et je veux bien éviter les grossesses aussi XD\n\nAussi, c'est pas que je ne souhaite pas le jouer mais j'y suis d'une nullité fabuleuse : je ne sais pas jouer quelqu'un de vraiment méchant très méchant pour être méchant, genre sadique à la Ramsey Bolton. Je peux jouer du moralement gris très très très foncé voire \"on voit plus la nuance de gris, y'a trop de sang dessus\", mais pas du \"pur Evil\"","Non","Combat à l'épée, Combat à mains nues, Joutes verbales/insultes, Chanter, Danser, violence, menaces, superstition, camaraderie, animations","Alors, je suis la première personne à pousser la chansonnette, mais je ne veux pas jouer de rôle de \"pur musicien\" genre barde/ménestrel ou équivalent pirate, ou du moins pas que ça. Parce que pareil IRL c'est mon boulot XD donc je préfère les rôles d'action, avec de la bagarre (je suis compétent) et de l'aventure, et j'irai chanter toutes les chansons que vous voudrez avec mon mari et ma guitare... mais quand je le déciderai. Bon, après, si vous avez des intrigues à base de chansons et que vous tenez à ce que j'en apprenne une ou deux pour les chanter méga-fort avec tous les couplets etc. je peux.\n\nJe peux jouer des romances... avec mon mari XD Si vous voulez nous coller en tant que couple, pas de souci. Par contre, je ne suis pas à l'aise à avoir des romances/relations romantiques sérieuses en GN depuis qu'on est mariés, encore moins quand il est à côté. Et comme mon dernier rôle de pirate était \"plusieurs conquêtes de tous les genres, couleurs, âges, classes sociales etc.\" dans chaque port je préfère jouer autre chose.\n\nDétail important, je suis une personne non-binaire et très androgyne quand je veux (c'est pas des gens annonçant des relations homos et demandant à regarder Black Sails qui vont m'en vouloir !) \nDu coup, sans demander à me genrer au neutre ou quoi, je veux bien un personnage au genre au moins très flou, et ça ne me dérange pas de jouer un personnage masculin, si vous voulez une romance homo avec mon mari, ça le dérangera pas non plus, il sait qui il a épousé et est ok. Par contre je hais les robes, je peux jouer une femme si vous y tenez, tant qu'elle n'est pas en robe/jupe/décolleté","Bien plus ! Je suis un Vétéran !","Alors oui, j'ai même écrit une nouvelle érotique lesbienne sur le sujet qui a été publiée XD (je vous l'envoie si vous voulez) et je scénarise actuellement un jeu vidéo dedans alors je NAGE dans l'époque XD\nCe que je trouve le plus fascinant dans la piraterie, outre évidement la vie brève, brutale et aventureuse, c'est l'aspect social qui en ressort, le côté \"parias de la Terre\", puisque s'y retrouvaient pêle-mêle esclaves évadés, gentilshommes en rupture de ban, femmes de toutes les vies et surtout de toutes les libertés, charriant toutes les cultures du monde et aucune à la fois, bref ce vaste \"bordel social\" aux moeurs outrageusement libres pour l'époque, et pourtant organisé autour de règles paradoxalement très strictes.","pas encore vu mais tu as hâte de découvrir le charisme exceptionnel de ses perso :D","Sur le devant de la scène","Impliqué autant que possible !!","Oui","En groupe","Alors, Eric Bucas/Cire de Sacub est mon parrain, c'est lui qui m'a rencardé ! Donc forcément je voudrais jouer avec lui !\nJe voudrais aussi jouer avec Jean-Philippe Rozier-Peltier, qui est mon mari (vous pouvez nous caler une romance si vous voulez, par contre on veut bien ne pas avoir de romance hors de notre couple, on est outrageusement amoureux et on s'en cogne bien que le monde soit au courant XD) et avec Johanna Bessière qui est une de mes meilleures amies. \nAvec ces 3 là je fonctionne super bien et j'adore jouer avec eux et elle. \n\nAh et coucou à Gilles Roux, qui fut autrefois dans un autre mien équipage XD du coup je peux pas t'ajouter à la liste, mais j'amènerai du thé parce qu'on n'a toujours pas pu le boire, ce thé !!!","oui","Je suis autodidacte et pratique en GN, alors, c'est pas des cours d'escrime classique mais... j'ai pratiqué (longtemps) les armes au kung-fu, dont la lance, les couteaux, et l'épée chinoise qui se manie à peu près comme une arme de GN. J'ai en plus appris, et pratique, l'escrime de GN avec mon mari et un voisin GNiste.","Ouiiiiiiiiiiiiiii !!","J'ai fait de la voile jusqu'à l'adolescence, je connais mes noeuds principaux, le nom de la plupart des voiles et cordages, et à peu près tout le vocabulaire de base. Après, un catamaran c'est pas un trois-mâts XD mais je sais tenir un gouvernail et faire les manoeuvres basiques, je réviserai avant, promis ! \nEt je connais des quantités astronomiques de jurons fleuris divers et variés, en breton, français et anglais.","Non","Alors... je suis musicienne, compositrice et chanteuse pro et je viens de sortir (avec mon mari, Jean-Philippe) un album de... rock celte pirate. Alors non seulement je chante, mais je chante juste, très fort, et j'ai du répertoire ! On a des guitares et quelques autres instruments (percus, flûtes) de GN \"à démolir\", et on sait s'en servir. \nEt en bonus je suis aussi conteuse pro (oui bah heu je fais de la scène pro, quoi, comédie aussi quand il faut) et je connais des TAS d'histoires de fantômes marins qui font TRÈPEUR (tm)\nAccessoirement, j'ai aussi été prof de danse trad bretonne XD donc je danse bien, et j'ai fait de la démo d'arts martiaux pendant quelques années.\nJe coiffe/tresse correctement s'il faut aider. \nBon par contre pitié pas de bras de fer, j'ai tiré 5 en force à la naissance et j'ai jamais pu augmenter cette stat malgré tous mes efforts XD","oui","Je peux apporter des tricornes en rab XD ils sont pas fifous mais y'a jamais trop de tricornes. On peut prévoir des carnets de chant s'il faut, on a des rapières de GN avec option \"vert-de-gris a pris la mer\"... On a aussi pas mal de matos varié, il y a forcément des trucs auxquels je ne pense pas mais qu'on pourra apporter/crafter.\n\nEt, ce sera pas mon anniversaire mais celui de Jean-Philippe (en juin), mon mari, donc je pense que ça serait cool qu'on le lui fête, mais il vous en reparlera, je pense XD","Tu manges de tout, Tu as des allergies alimentaires (à préciser dans la question ci dessous)","Le café. \nJ'ai aussi une aversion alimentaire (pas allergie mais ça revient au même) aux petits pois et aux fromages forts/mous type bleu/gorgonzolla/roquefort/camembert etc. (mais c'est ok pour manger de la mozarella, fromages frais, tomme, fromages à pâte dure en général...)\nBon normalement pour le reste je mange de tout.","Oui","Oui",null,"https://drive.google.com/open?id=1y6kV23rJIyAzqrO0E5GnIhWNyAFAUMOA","Tu participeras tout de même sur la version fort et seras remboursé de 200€"]
["2024-04-30T16:20:03.780",null,1.0,"jean.philippe.peltier@gmail.com","ROZIER-PELTIER","Jean-Philippe",null,"H","jean.philippe.peltier@gmail.com","10 impasse de Dinan",6.71075759E8,"1985-10-06","Jean-Philippe PELTIER","Oui","7 et 8 juin 2025, Les deux dates sont possibles","Pur PJ, PJ/PNJ (il s'agit d'un moment du GN, le reste du temps tu joues ton perso. Cela concerne le fort))","Navire et fort",null,null,"1 oui","Pas d'agression sexuelle ou de violence sexiste ni dans le BG ni en jeu","pas spécialement","Non","Combat à l'épée, Combat à mains nues, Joutes verbales/insultes, Chanter, Danser, Jeux, vices, superstition, camaraderie, animations","Eventuellement de la Romance, mais uniquement avec mon épouse (Morgan Rozier-Peltier)","Bien plus ! Je suis un Vétéran !","Alors, par rapport à l'historique, la vision qu'on en a est assez romancée (et ça me va) mais de cette vision, il en ressort la quête de liberté, du danger, de l'aventure, de la camaraderie, un certain code de l'honneur et des festivités en pagaille","Tu as déja vu la série","Entre les deux","Impliqué autant que possible !!","Modérement","En groupe","Morgan Rozier-Peltier et Johanna Bessiere","oui","Je suis autodidacte et pratique en GN, j'ai fait un peu de kobudo d'Okinawa, et j'ai des bons restes avec le baton long et certaines armes non conventionnelles","Ouiiiiiiiiiiiiiii !!","un peu, surtout acquis à travers les romans de pirates et certaines fiction","Oui et ça me plairait de pratiquer lors du gn","N'ayant ni Autruche, ni Emeu sous la main, je ne pourrais pas vous faire part de ce talent inné (merci papa) mais je joue de la guitare (et de la basse et du ukulele au besoin) et comme dit  plus haut j'ai des restes en arts martiaux (avec modération pour cause de genou blessé à cause de cette pratique)","oui","j'ai un jeu avec des pierres aimantées (un peu semblable au jeu kluster) que j'ai adapté pour les GN (avec un coffret en bois contenant une mousse alveolée bleue pouvant simuler des vagues) le but étant de se débarrasser de ses pierres avant son ou ses adversaires et sans agglomérer les autres pierres). en général, ça fait un bon petit jeu de table en taverne","Tu manges de tout, Tu as des allergies alimentaires (à préciser dans la question ci dessous)","Lait de Chevre (et donc fromage de chevre)","Non","Oui",null,"https://drive.google.com/open?id=13PuFHLlvF9BmWgbeT1TdI9RaMgyg2RG4","Tu participeras tout de même sur la version fort et seras remboursé de 200€"]
["2024-01-08T23:28:29.589",null,1.0,"","Tetard","Aurélie",null,"F","shindrayajade@hotmail.com","44 rue gabriel péri","0612596981","16/05/1982","shindrayajade","Oui","Les deux dates sont possibles","Pur PJ, PJ/PNJ (il s'agit d'un moment du GN, le reste du temps tu joues ton perso. Cela concerne le fort))","Navire et fort, peu importe (si tu as une préférence, coche cette case et ta préférence)","oui","Je préfère jouer mon perso mais je peux en jouer un autre si cela n'est pas possible","1 oui, 2 non","pas de souci","pas de souci","oui","Combat à l'épée, Combat à mains nues, Romance, Joutes verbales/insultes, Chanter, Danser, Jeux, violence, menaces, chantage, vices, superstition, camaraderie, animations",null,"Bien plus ! Je suis un Vétéran !","beaucoup","Déja vu mais tu comptes la revoir pour t'immerger un max","Sur le devant de la scène","Au coeur de l'intrigue principale.","Oui","En groupe",null,"oui!","Je suis autodidacte et pratique en GN","Ouiiiiiiiiiiiiiii !!",null,"oui et je peux même animer",null,"oui",null,"Tu manges de tout",null,"Oui",null,null,"https://drive.google.com/open?id=1rKZqj1UsvDFfJlrQjTWHP5NuWr8TL2b5","Tu participeras tout de même sur la version fort et seras remboursé de 200€"]
["2024-03-23T08:31:17.621",null,1.0,"michel.tournerie@club-internet.fr","Tournerie","Michel",null,"H","michel.tournerie@club-internet.fr","5 rue des Pins 31150 Lespinasse","0615701692","28/01/1972","Michel Tournerie","Oui","7 et 8 juin 2025","Pur PJ","Seulement au fort","oui","Je préfère jouer mon perso mais je peux en jouer un autre si cela n'est pas possible","1 oui, 2 non","Aucun","Aucune","oui","Combat à l'épée, Combat à mains nues, Romance, Joutes verbales/insultes, Chanter, Danser, Jeux, violence, menaces, chantage, vices, superstition, camaraderie, animations",null,"Bien plus ! Je suis un Vétéran !","J'ai lu quelques bouquins et vue Black Sails (2x)","Tu as déja vu la série","Sur le devant de la scène","Au coeur de l'intrigue principale.","Modérement","En groupe","Mon equipage du 1er opus, Kauldy, Sonia, Jean Luc, ... s'il rejoue et Greg si c'est toujours notre capitaine et si je n'ai pas pris sa place bien sur.","oui","Je suis autodidacte et pratique en GN","Ouiiiiiiiiiiiiiii !!","J'ai fait un peu de navigation","Oui et ça me plairait de pratiquer lors du gn","Arts martiaux","oui","J'ai des tonnes de matos pour agrementer un campement dans le fort ou une piece du fort si necessaire","Tu manges de tout",null,"Oui","Oui",null,"https://drive.google.com/open?id=1kd7qIUqU3Zjqo2uyunbowYk-6dtk0AqM","Tu participeras tout de même sur la version fort et seras remboursé de 200€"]
["2024-06-17T23:34:42.646",null,1.0,"vacarilydia@hotmail.fr","Vacari","Lydia",null,"F","vacarilydia@hotmail.fr","20 chemin de Nicol 31200 Toulouse","0607341244","26/09/1989","Lydia Vacari","Oui","13 et 14 septembre 2025","Pur PJ, PNJ","Seulement au fort","oui","Je préfère jouer mon perso mais je peux en jouer un autre si cela n'est pas possible","1 oui, 2 non","No limit","No limit","Non","Combat à l'épée, Romance, Chanter, Danser, Jeux, violence, menaces, camaraderie, animations",null,"Bien plus ! Je suis un Vétéran !","Liberté, sex, alcool, musique, fraternité !","Tu as déja vu la série","Entre les deux","Au coeur de l'intrigue principale.","Non","Peu importe",null,"oui","Je suis autodidacte et pratique en GN","Je chante faux mais je m'en fous, j'aime ça !","Niv Intermédiaire (mais lvl up rapidement grace aux documentaires et videos de vulgarisation)","Non",null,"oui","Pas d'idée sur l'instant ","Tu es végétarien","Aucune","Non","Oui",null,"https://drive.google.com/open?id=1_fAQ68kws58eEgNljMG0sVxlix6QqP7P","Tu participeras tout de même sur la version fort et seras remboursé de 200€"]
["2024-01-12T12:00:20.507",267.0,1.0,"jessica.warszawski@gmail.com","Warszawski ","Jessica",null,"F","jessica.warszawski@gmail.com","10 rue leopold bellan 75002","0689440259","18/09/1989","Jessica warszawski","Oui","13 et 14 septembre 2025","Pur PJ, PJ/PNJ (il s'agit d'un moment du GN, le reste du temps tu joues ton perso. Cela concerne le fort))","Navire et fort","oui","Cela ne me pose pas de problème de changer de perso","1 oui, 2 non","Pas de problème ","Pas de problème ","Non","Romance, Joutes verbales/insultes, Jeux, menaces, chantage, vices, camaraderie",null,"Bien plus ! Je suis un Vétéran !","Une ambiance du chacun pour sois tout en créant une franche camaraderie. Une ambiance de filou .","Tu as déja vu la série","Entre les deux","Au coeur de l'intrigue principale.","Modérement","En groupe","Yann lorente, Mathieu lorente mes anciens camarades et compagnons. Mes acolytes de bordel ","oui","Je suis autodidacte et pratique en GN","Je chante faux mais je m'en fous, j'aime ça !","Oui fille de marin","Oui et ça me plairait de pratiquer lors du gn","Pas spécialement ","oui","J ai pas mal de stock car je travaille sur des tournages et j ai récupérer de la déco . Me contacter pour plus d info.\n","Tu manges de tout",null,"Non","Oui",null,"https://drive.google.com/open?id=1W0WaouYrD230FzgcB0rZ9wwupg_I97TE","Tu participeras tout de même sur la version fort et seras remboursé de 200€"]
["2024-02-10T20:46:41.819",267.0,"1 ok ","marcouf.hurel@gmail.com","Hurel","Marcouf",null,"H","marcouf.hurel@gmail.com","Rue des Follaterres 54, 1920 Martigny, Suisse","+33619763483","27/01/1988","Dagoth Pat","Oui","7 et 8 juin 2025","Pur PJ","Navire et fort","oui","Je préfère jouer mon perso mais je peux en jouer un autre si cela n'est pas possible","1 Non, 2 non","Nop","Nop","oui","Combat à l'épée, Combat à mains nues, Joutes verbales/insultes, Chanter, Jeux, violence, menaces, chantage, vices, camaraderie",null,"Bien plus ! Je suis un Vétéran !","Un vue courte mais libre et flamboyante ","Tu as déja vu la série","Entre les deux","Peu d'objectif, je me débrouille en jeu.","Modérement","Peu importe","Grégoire culot ","oui","J'ai suivi des cours d'escrime (indique ton niveau stp dans la case \"Autre\" ci-dessous si c'est le cas ! :D ), Amhe bon niveau ","Je chante faux mais je m'en fous, j'aime ça !","Yep","Oui et je peux apporter du matériel",null,"oui",null,"Tu manges de tout, Tu es allergique à l'eau !",null,"Oui","Oui",null,"https://drive.google.com/open?id=1jeRkeI6Gwzmj1oraRqsq2cunOlTg52_F","Tu participeras tout de même sur la version fort et seras remboursé de 200€",null,"Joueur très sympathique et adaptable. Je recommande"]
["2024-01-19T12:51:59.733","liée Gil Alima","ok","clementine.barraban@gmail.com","Barraban","Clémentine ",null,"F","clementine.barraban@gmail.com","62 rue des Foulons","0618267633","05.09.1989","Clémentine Barraban","Oui","Les deux dates sont possibles","Pur PJ","Navire et fort","oui","Je préfère jouer mon perso mais je peux en jouer un autre si cela n'est pas possible","1 oui, 2 non","Fausse couche ou mort d’un enfant ","Pas de restriction ","Non","Combat à l'épée, Romance, Chanter, Danser, Jeux, menaces, chantage, superstition, camaraderie, animations","Avec Gilles on est jongleurs de feu ;)","Entre 6 et 10,","Oui ! Une ambiance à la fois crade et violente mais avec de la vraie camaraderie ","Tu as déja vu la série","Entre les deux","D'avantage sur les quêtes secondaire.","Modérement","Solo","Gilles Delville et globalement l’Antares de la V2 !","oui!","Je suis autodidacte et pratique en GN","Ouiiiiiiiiiiiiiii !!","Oui, dans les grandes lignes","Oui et ça me plairait de pratiquer lors du gn","Danse, chant, jonglage de feu","oui","On a des jeux de dés, du matos de jonglerie, des éventails voiles…","Tu es végétarien",null,"Non","Oui",null,"https://drive.google.com/open?id=1k4rK7KUeEGBLC2EJmnUWKFfhAt9EvPji","Tu participeras tout de même sur la version fort et seras remboursé de 200€"]
["2024-01-21T18:46:44.152",null,"ok","jeanflur@gmail.com","Doche De Laquintane ","Nicolas ",null,"H","jeanflur@gmail.com","5, rue souveraine","0672711392","16/03/1980","Jean Flur","Oui","7 et 8 juin 2025, Les deux dates sont possibles","Pur PJ, PJ/PNJ (il s'agit d'un moment du GN, le reste du temps tu joues ton perso. Cela concerne le fort)), PNJ","Navire et fort, peu importe (si tu as une préférence, coche cette case et ta préférence)","oui","Je préfère jouer mon perso mais je peux en jouer un autre si cela n'est pas possible, Cela ne me pose pas de problème de changer de perso","1 oui","Emanuel Macron et Kaamelot, j’aime bien Kaamelot mais plein le cul des citations 😬","La nuit sans mon duvet parce il y a déjà quelqu’un dedans 😬","oui","Combat à l'épée, Combat à mains nues, Romance, Joutes verbales/insultes, Jeux, violence, menaces, chantage, vices, superstition, camaraderie, animations","Je suis vraiment pas doué en chant et danse, ça reste jouable, mais à minima","Bien plus ! Je suis un Vétéran !","Navigation, camaraderie et coups tordus","Déja vu mais tu comptes la revoir pour t'immerger un max","Entre les deux","Impliqué autant que possible !!","Modérement","En groupe","L’Hirondelle V1.  Le seul véritable équipage de professeionnel.le.s","oui","J'ai suivi des cours d'escrime (indique ton niveau stp dans la case \"Autre\" ci-dessous si c'est le cas ! :D ), 7 ans d’escrime sportive, 25 ans de GN","Je préfère éviter, j'encouragerai les autres en tapant dans les mains ou avec mon godet !","Check (0-8-0, la base moussaillon). Pas mal de voile (dériveurs, cata, habitables et passager sur des  gros bateaux de régates)","Oui et ça me plairait de pratiquer lors du gn","Musique, dessin/peinture, cette fois j’essaie de prendre un banjo en plus des guimbardes ","oui","Pas trop de place sur le bateau… J’essaierai d’amener ma mouette de compagnie","Tu manges de tout",null,"Non","Oui",null,"https://drive.google.com/open?id=1ZK05C5vVrx-AZAQzkvNN82iYfYIQDpKh","Tu participeras tout de même sur la version fort et seras remboursé de 200€"]
["2024-02-20T18:51:39.304",null,"ok","blue.hirondelle@gmail.com","Giraud","Caroline",null,"F","blue.hirondelle@gmail.com","2 rue des Orfèvres, 77160 Provins","0754053891","1981-03-08","Caroline Giraud ","Oui","13 et 14 septembre 2025","Pur PJ","Navire et fort, peu importe (si tu as une préférence, coche cette case et ta préférence)",null,null,"1 oui, 2 non","Aucun abus sexuel","Non","oui","Combat à l'épée, Combat à mains nues, Romance, Joutes verbales/insultes, Chanter, Danser, Jeux, chantage, superstition, camaraderie, animations","Non","Entre 6 et 10,","Endurance, courage, jugement au mérite et bon sur le genre ","pas encore vu mais tu as hâte de découvrir le charisme exceptionnel de ses perso :D","Entre les deux","Impliqué autant que possible !!","Oui","Peu importe",null,"oui","Je suis autodidacte et pratique en GN, J'ai suivi des cours d'escrime (indique ton niveau stp dans la case \"Autre\" ci-dessous si c'est le cas ! :D ), Quelques chiffres d'escrime ludique entre gnistes","Ouiiiiiiiiiiiiiii !!","Moyennement","Oui et je peux apporter du matériel","Arts martiaux, lecture de tarot, hypnose, bricolage","oui",null,"Tu manges de tout",null,"Oui","Oui",null,"https://drive.google.com/open?id=1F1NZ3WR2fFdG0WgschqHfW5csScQeIt1","Tu participeras tout de même sur la version fort et seras remboursé de 200€"]
["2024-01-19T16:21:03.167",null,"ok","bjallet@gmail.com","Jallet","Benoit",null,"H","bjallet@gmail.com","27 Rue des Quatre Lieues 33390 CARTELEGUE","0674223846","21/03/1985","Benoit Jallet","Oui","7 et 8 juin 2025","Pur PJ","Navire et fort, peu importe (si tu as une préférence, coche cette case et ta préférence)","oui","Je préfère jouer mon perso mais je peux en jouer un autre si cela n'est pas possible, Cela ne me pose pas de problème de changer de perso","1 oui, 2 non","Non","Non","Non","Combat à l'épée, Combat à mains nues, Romance, Chanter, Danser, Jeux, camaraderie, animations","Pour préciser sur mon perso (je jouais François Hourdeaux de l'Hirondelle sur la v3) : je veux bien le reprendre si mes camarades de l'Hirondelle v3 reprennent le leur également (bon peut-être que pour Baltus c'est compliqué maintenant que tout le monde sait que c'était un espion du Roy... je comprendrais que ce ne soit pas possible pour lui ^^). Si ce n'est pas possible pour eux ou si ces rôles sont déjà attribués à d'autres, j'aime autant repartir sur un nouveau perso à ce moment-là. Dispo pour en discuter si besoin :-D","Bien plus ! Je suis un Vétéran !","Quelques connaissances historiques mais pas tant que ça finalement (je viens d'acquérir l'Histoire générale des plus fameux pyrates de D. Defoe, Shindra m'a donné envie de le lire), c'est un univers qui m'a toujours intéressé (j'ai fait pas mal de recherches pour des GN précédents et pour jouer au JdR Pavillon Noir par exemple). La vision de l'ambiance telle je le l'ai aujourd'hui : une vie dure et souvent violente (ils restent des criminels aux yeux du reste du monde) avec un désir d'émancipation et une soif de liberté, de plaisir et de bonheur où l'on pense essentiellement à aujourd'hui car la mort peut vite arriver (demain peut-être...)","Déja vu mais tu comptes la revoir pour t'immerger un max","Entre les deux","Impliqué autant que possible !!","Modérement","En groupe","L'équipage de l'Hirondelle v3 : Maxime Euvé, Kévin Bouroumeau, Fabien Laerin, Fanny Vgn, Camille Evey, Julien Wolf et Emmanuel Chasserat","oui!","Je suis autodidacte et pratique en GN","Ouiiiiiiiiiiiiiii !!","Quelques notions (j'ai appris surtout pour l'opus 1 v3 du Black Revenge et avec l'équipage à bord du Shtandart)","Oui et ça me plairait de pratiquer lors du gn","Quand même lancer des autruches... y'a peut-être moyen de faire plus simple nan ? Mais bon pourquoi pas après tout ? Pour ma part, ce serait plutôt lancé de charentaises ou faire des ricochets sur la plage pendant que d'autres s'entre-tuent. Je sais coudre (bon c'est pas toujours oufissime mais ça fait le taf quoi) ! Je joue un peu de guitare mais je suis très nul et je dessine un peu moins mal. Est-ce que la préparation de rhums arrangés ça compte ?","oui","Là tout de suite je ne vois pas mais je vais y réfléchir... (ceci dit j'ai compris qu'il fallait voyager léger sur le Shtandart, la place y est vraiment limitée).","Tu manges de tout, Tu es végétarien",null,"Oui","Oui","Tu es un gros ronfleur","https://drive.google.com/open?id=17AVWOEX4TNhLKOKxt7_RvvquUj1VXEBd","Tu participeras tout de même sur la version fort et seras remboursé de 200€"]
["2024-02-04T16:17:16.925",410.0,"ok","lair.francois@gmail.com","Lair","François",null,"H","lair.francois@gmail.com","18 impasse de la gruete 79180 chauray","0630479704","1986-05-03","Francois Lair","Oui","Les deux dates sont possibles","Pur PJ","Navire et fort, peu importe (si tu as une préférence, coche cette case et ta préférence)","oui","Cela ne me pose pas de problème de changer de perso","1 oui, 2 non","Pas de sujets particuliers","Open a ce qui se presente 😁","oui","Combat à l'épée, Combat à mains nues, Chanter, Danser, Jeux, camaraderie, animations",null,"Bien plus ! Je suis un Vétéran !","Une vie joyeuse mais courte","pas encore vu mais tu as hâte de découvrir le charisme exceptionnel de ses perso :D","Entre les deux","Impliqué autant que possible !!","Modérement","En groupe","Je rejouerai avec plaisirs avec mes compagnons du carolyn v2 mais decouvrirais avec plaisir de nouveaux compagnons","oui!","J'ai suivi des cours d'escrime (indique ton niveau stp dans la case \"Autre\" ci-dessous si c'est le cas ! :D ), Pratiquant d’escrime moderne dans ma jeunesse (niveau national en junior), ","Je chante faux mais je m'en fous, j'aime ça !","Pas un expert mais j’ai les bases","Oui et ça me plairait de pratiquer lors du gn","Rien d’exceptionnel malheureusement","oui",null,"Tu manges de tout","Pas allergique, mais si je peux eviter le fromage c’est mieux","Oui","Oui",null,"https://drive.google.com/open?id=1DLWZm_0-AM5l6isWV6VE9NP654aa1h04","Tu participeras tout de même sur la version fort et seras remboursé de 200€"]
["2024-01-12T16:08:34.324",null,"ok","laurielhoste@hotmail.fr","Lhoste","Laurie-Anne",null,"F","laurielhoste@hotmail.fr","38 avenue charles de gaulle, 69230 saint genis laval","0786017276","20/02/1996","Laurie-Anne Lhoste","Oui",null,"Pur PJ, PJ/PNJ (il s'agit d'un moment du GN, le reste du temps tu joues ton perso. Cela concerne le fort))","Navire et fort",null,null,"1 oui","Exactement le cas de l’exemple ! XD pas de soucis d’evoquer le viol mais je ne veux pas avoir a jouer de scene concernant cela, ou la mort d’un bébé / enfant","Auxun","Non","Combat à l'épée, Combat à mains nues, Romance, Chanter, Jeux, violence, camaraderie, animations","J’adore le drama donc… amusez vous x) ","Bien plus ! Je suis un Vétéran !","Je m’y connais un peu, je fais aussi du JDR 7eme mer ou j’ai ecrit des peuples inspiré piraterie du XVIIeme pour notre monde de GN. Pour moi c’est une ambiance d’emancipation, de profit, de commerce et de violence (on va pas se mentir)","Déja vu mais tu comptes la revoir pour t'immerger un max","Sur le devant de la scène","Impliqué autant que possible !!","Modérement","En groupe","Charlotte rodriguez et matthieu dreyfus (si présents dans les inscrits). Sinon je me ferais au groupe que mon back induis :) ","oui","J'ai suivi des cours d'escrime (indique ton niveau stp dans la case \"Autre\" ci-dessous si c'est le cas ! :D ), Escrime classique: blason rouge / Escrime de spectacle normand: 3 ans / Escrime GNistique: depuis 10 ans","Ouiiiiiiiiiiiiiii !!","Basique sue les termes spécifique, mais je reviserais pour l’occasion pour atteindre le niveau initié ! (En pratique zero, cependant)","Oui et ça me plairait de pratiquer lors du gn","Travail du cuir, flute traversiere, chant, percussion (jambe / tambour), kiné dans la vraie vie donc MASSAGE ! (Mais aussi secouriste au besoin)","oui","Je compte ramener ma flute irlandaise pour en jouer a bord ! J’adore le drama, l’histoire, le beau jeux et les belles scenes, j’ai ma belle rapière toute neuve à baptiser en GN, et mon vieux tricorne à ressortir des placards. J’adore voguer sur l’ocean et la mer car mon grand pere etait marin de métier et m’emmenait au large autrefois.. BREF! Motivée, à fond ! Et etant tant joueuse qu’orga de GN, je tiens à vous remercier pour tout le taf que vous faites pour rendre cela possible ! (Et merci aux skippers egalements! ;) )","Tu manges de tout",null,"Oui","Non",null,"https://drive.google.com/open?id=1a-IY8vv3yyaxaywSWzTg-VQNmxo9-aPl","Tu préfères ne pas participer",null,"Super crafteuse, tient bien les rôles à responsablilités, investie dans les jeux de faction"]
["2024-01-13T12:55:54.733",null,"ok","melodie.maitreheu@gmail.com","Maitreheu","Mélodie",null,"F","melodie.maitreheu@gmail.com","6Bis rue Hoche","0623465958","20/12/1989","Mélodie Maitreheu","Oui",null,"Pur PJ","Navire et fort","oui","Je préfère jouer mon perso mais je peux en jouer un autre si cela n'est pas possible","1 oui, 2 non","Du coup je jouais Elisabeth sur la v3. Toujours pas fan de jouer la romance avec de parfaits inconnus, mais ça s'est néanmoins passé impeccablement avec notre cher Billy de la v3 qui as été parfait.","Je compte bien m'entrainer un peu plus pour jouer de beaux combats, très déçue de n'avoir pas su créer l'occasion de faire un combat à mains nus contre Abigail","Non","menaces, chantage","Vraiment rien à redire. Le premier opus a su me faire sortir de ma zone de confort sur le RP. Néanmoins j'ai eu un rôle finalement assez \"facile\" et relativement sympa et appréciés des autres personnages, là où des joueurs ont eu des rôles très sombres qu'ils ont eu plus de mal a jouer. Pour le coup, ça ne me dérange pas du tout de partir dans une trame voire un personnage plus sombre au besoin.","Entre 6 et 10,","Du coup j'ai bien préparé le 1er opus donc je visualise bien.","Tu as déja vu la série","Entre les deux","D'avantage sur les quêtes secondaire.","Modérement","En groupe","De préférence, l'équipage du Carolyn devenu équipage du Shtandart de la v3 pour ceux qui seront là, et retrouver autant de joueurs de la V3 que possible serait un vrai plaisir ","oui","Je suis autodidacte et pratique en GN","Je chante faux mais je m'en fous, j'aime ça !","Maigres connaissance mais je différencie la proue de la poupe ","Non","Rien de spécifique pour de la prestation. Mais encore une fois, je peux aider pour des props ou décors en amont au besoin. SI vous avez besoin d'un truc trop spécifique pour le trouver dans le commerce par exemple.","oui",null,"Tu es végétarien",null,"Non","Oui",null,"https://drive.google.com/open?id=1KhAQkck1NjcfFHxN9tSLAEAC2QedoPl7","Tu participeras tout de même sur la version fort et seras remboursé de 200€"]
["2024-03-15T09:58:04.114",400.0,"ok","khalamar12@gmail.com","Poimboeuf ","Thibault ",null,"H","georin@live.fr","40 rue du corps franc Pommiès 31170 Tournefeuille ","0679585124","30/07/1993","Kalma San ","Oui","Les deux dates sont possibles","Pur PJ, PJ/PNJ (il s'agit d'un moment du GN, le reste du temps tu joues ton perso. Cela concerne le fort))","Navire et fort",null,null,"1 oui, 2 oui","Viol/pédophilie ","Non","oui","Combat à l'épée, Combat à mains nues, Romance, Joutes verbales/insultes, Chanter, Danser, violence, menaces, vices, superstition, camaraderie, animations","Vices : les addictions sont intéressantes à jouer, mais ne me donnez pas un pervers svp :)","Bien plus ! Je suis un Vétéran !","Moyennes","pas encore vu mais tu as hâte de découvrir le charisme exceptionnel de ses perso :D","Entre les deux","D'avantage sur les quêtes secondaire.","Oui","En groupe","Léo pegot ( infos à valider pour d'autres à qui je n'ai pas encore posé la question)","oui","Je suis autodidacte et pratique en GN","Ouiiiiiiiiiiiiiii !!","Quelques bases","Non","Chant! Peut être cornemuse ","oui",null,"Tu manges de tout",null,"Oui","Oui","Tu es un gros ronfleur","https://drive.google.com/open?id=1an-k2jiFp2d0poEnggIN_8l1I58ZQQ0q","Tu participeras tout de même sur la version fort et seras remboursé de 200€",null,"excellent joueur, intelligent, génère du jeu, a fait orga"]
["2024-01-22T01:24:02.493",null,"ok","fabienneraffy@hotmail.fr","Raffy","Fabienne ",null,"F","fabienneraffy@hotmail.fr","20allée André Puyade  Domaine de Kent 64600 Anglet",6.75958592E8,"17/11/1983","Sra Philo Fabie","Oui","Les deux dates sont possibles","Pur PJ","Navire et fort",null,null,"1 oui, 2 non","Non","Non","oui","Combat à l'épée, Romance, Joutes verbales/insultes, Chanter, chantage, vices, superstition, camaraderie",null,"Bien plus ! Je suis un Vétéran !","Vie rude et courte.Carpe diem!","pas encore vu mais tu as hâte de découvrir le charisme exceptionnel de ses perso :D","Entre les deux","D'avantage sur les quêtes secondaire.","Oui","En groupe","Guillaume Gantet","oui","Absolument pas","Ouiiiiiiiiiiiiiii !!","Pas vraiment ","Non","Théâtre,  danse","oui",null,"Tu manges de tout",null,"Oui","Oui",null,"https://drive.google.com/open?id=112-Kfz9NeUUHDNiepKxdX_bcX19YkI-4","Tu préfères ne pas participer",null,"très énergique, offre du jeu"]
["2024-01-13T11:22:25.955","ok","ok","vins.nicolas.chamalieres@gmail.com","Raimbault ","Cécile",null,"F","llialn@gmail.com","13 avenue pasteur 63400 chamalieres ","0620226425","30 janvier 1981","Llialn di Maluisien","Oui","7 et 8 juin 2025","Pur PJ","Navire et fort",null,null,"1 oui, 2 non","Et bien exactement comme l'exemple ci dessus !\nJe ne souhaite pas non plus jouer une grossesse (mais ok pour avoir eu ds enfants ds le bg)","Cf ci dessus \nJe rajoute également que je ne suis oas fan des bagarres (mais à voir selon les règles) et je ne pourrais pas investir dans des armes blanches en latex (par contre j'ai des repliques de pistolets)","Non","Joutes verbales/insultes, Chanter, Danser, Jeux, violence, menaces, chantage, superstition, camaraderie, animations","Jouer de la franche et sincère camaraderie ! ","Bien plus ! Je suis un Vétéran !","Ce serait long à expliquer mais je pense qu'on a la même vision ;) j'ai lu quelques bouquins sur le sujet.\nUne ambiance de liberté, on oublie les convenances (avec ce que ca implique), on respecte le statut (à défaut de grades), on commence petit et on fait des preuves, c'est violent faut faire son trou. Et surtout c'est la cohésion, le soutien (meme s'il faut supporter les cretins^^) et la joie de vivre. Faut profiter de tout au max !","Déja vu mais tu comptes la revoir pour t'immerger un max","Entre les deux","Impliqué autant que possible !!","Modérement","En groupe","Déja Yan Vigier qui est en train de remplir le questionnaire ;) \nEnsuite Chatles ! Évidemment !\nEnfin, Je ne sais pas s'ils vont s'inscrire mais avec Marc et Julien ce serait top ! Et toute la clique qui va bien de ce côté ;)\nKilian également.\nEnsuite là comme ca je sais pas qui va venir alors je ne me vois pas citer tout le monde :) \n","oui","Absolument pas","Je chante faux mais je m'en fous, j'aime ça !","J'ai des basounettes mais je peux clairement réviser ;) ","oui et je peux même animer","Je peux venir avec des fusins :) \nPeut-être un violon pour casser les oreilles des gens et si j'ai progressé d'ici là mais je pense pas qu'il faille trop compter dessus ahah","oui","Je peux apporter un ou deux jeux histo. \nLe violon bah voir l'autre réponse mais j'y crois pas trop .. \nJe peux apporter quelques accessoires de déco mais ça dépendra surtout de comment on vient sur le site je ne leux le savoir maintenant hélas ","Tu es végétarien","Ail et coriandre","Non","Oui",null,"https://drive.google.com/open?id=13XydxAB_NZ1jn8QYcGQRCtuwnFjD0BY-","Tu participeras tout de même sur la version fort et seras remboursé de 200€"]
["2024-01-12T21:29:08.608","ok","ok","pastbug@gmail.com","RICHARD","Patrice",null,"H","pastbug@msn.com","32b rue bellevue 81100 castres","0781481945","28 09 1977","Patrice rich","Oui","7 et 8 juin 2025","Pur PJ","Navire et fort","oui","Je préfère jouer mon perso mais je peux en jouer un autre si cela n'est pas possible","1 oui, 2 non","Aucun sujet taboo. Je suis ouvert d esprit en theorie ;p","Tout m ira. Je m adapterais. ","oui","Combat à l'épée, Combat à mains nues, Joutes verbales/insultes, Chanter, Danser, Jeux, violence, menaces, chantage, vices, superstition, camaraderie, animations",null,"Entre 1 et 5,","Oui, une ambiance unique de liberté, d excés en tout genre meme si la vie de pirate etait courte et dure.","Déja vu mais tu comptes la revoir pour t'immerger un max","Entre les deux","Impliqué autant que possible !!","Modérement","Peu importe","Marion RICHARD (handmar)","oui","Je suis autodidacte et pratique en GN, J ai fait quelques joutes de gn y a fort fort longtemps.","Je chante faux mais je m'en fous, j'aime ça !","Légers ","Oui et ça me plairait de pratiquer lors du gn","Dessin mais autofidacte pas pro","oui","Une bouteille de rhum en forme de crâne! Avec un petit rhum arrangé dedans voyons que je ferais avec soins ;)","Tu manges de tout",null,"Oui","Oui",null,"https://drive.google.com/open?id=1Ri4gPto5s8wvgF9a5qFIgrMWeIgXxJJR","Tu participeras tout de même sur la version fort et seras remboursé de 200€"]
["2024-01-12T23:43:56.941",267.0,"ok","mohamedzahed.78360@gmail.com","RIGAUD","Véronique",null,"F","rigaudvero@yahoo.fr","14 rue Franklin Roosevelt 78360 MONTESSON","0613792264","13 mars 1964","Véronique RiZa","Oui","7 et 8 juin 2025","Pur PJ","Navire et fort",null,null,"1 oui, 2 non","Non.","Aucune connaissance en combat au sabre.","Non","Romance, Joutes verbales/insultes, Danser, menaces, vices, superstition, camaraderie, animations","Non point.","Bien plus ! Je suis un Vétéran !","Rébellion, liberté, du rhum, des hommes et d'la bière nom de Dieu. ","pas encore vu mais tu as hâte de découvrir le charisme exceptionnel de ses perso :D","Entre les deux","Au coeur de l'intrigue principale.","Oui","En groupe","Je pourrai répondre quand je serai qui sont les participants. ;-) Mais, effectivement, je préfère jouer avec des personnes connues et appréciées.","oui","Absolument pas","Ouiiiiiiiiiiiiiii !!","J''ai fait pas mal de voile, \"dans le temps\".","Non","Je danse y compris avec du feu.","oui",null,"Tu manges de tout",null,"Oui","Oui",null,"https://drive.google.com/open?id=13Gd0Mbz1sNf51AaxAihRUa2YTo4rgHqU","Tu participeras tout de même sur la version fort et seras remboursé de 200€"]
["2024-02-06T11:47:24.972",null,"ok","m.thiriez.pro@gmail.com","Thiriez","maryne",null,"F","m.thiriez.pro@gmail.com","8 rue gabriel peri ","0695477223","1978-08-15","maryne thiriez","Oui","7 et 8 juin 2025","Pur PJ","peu importe (si tu as une préférence, coche cette case et ta préférence)","oui","Je ne veux jouer que mon perso de l'opus 1","1 oui","non ","non","Non","Romance, Chanter, Danser, chantage, superstition, camaraderie, animations",null,"Entre 6 et 10,","ce que j'ai appris pour l'opus 1, plus tout ce qui a etait approfondis lors du GN","Déja vu mais tu comptes la revoir pour t'immerger un max","Entre les deux","Impliqué autant que possible !!","Modérement","En groupe","non ","oui","J'ai suivi des cours d'escrime (indique ton niveau stp dans la case \"Autre\" ci-dessous si c'est le cas ! :D ), depuis 6 mois ","Ouiiiiiiiiiiiiiii !!",null,"Oui et ça me plairait de pratiquer lors du gn","dessin ","oui",null,"Tu manges de tout",null,"Non","Oui",null,"https://drive.google.com/open?id=1usayVX26fqSThihK0Kz5S0Ja5GkojLLz","Tu préfères ne pas participer"]
["2024-01-13T11:20:50.672",534.0,"ok","yanvigier63@gmail.com","VIGIER ","Yann",null,"H","yanvigier63@gmail.com","59 avenue de Royat 63400 Chamalières","0634991751","30/03/1976","Lialn Di Maluisien","Oui","7 et 8 juin 2025","PJ/PNJ (il s'agit d'un moment du GN, le reste du temps tu joues ton perso. Cela concerne le fort))","Navire et fort",null,null,"1 Non, 2 non","Viol et torture sont des sujets que je préfère éviter. ","Je suis mauvais perdant au jeu \"je te tiens, tu me tiens par la barbichette\" ;) Sinon, aucun pb pour la baston. ","oui","Combat à l'épée, Combat à mains nues, superstition, camaraderie","Débutant dans le GN, je manque de recul pour être précis. Désolé de ne pouvoir vous fournir plus d'éléments. ","Aucun ! C'est ma première fois !","Je me suis intéressé à une époque à l'histoire des corsaires de Saint Malo. Le reste de mes connaissance est très général. Mais je compte bien réviser et faire mes devoirs :) ","pas encore vu mais tu as hâte de découvrir le charisme exceptionnel de ses perso :D","Discret","D'avantage sur les quêtes secondaire.","Non","En groupe","Llialn Di Maluisien (Cécile Raimbault)","oui","Absolument pas, Ayant pratiqué l'aïkido et le kalarippayat (un art martial indien), je suis plus à l'aise avec un bâton. Mais épées, bâtons ou mains nues, tout n'est qu'une question de placement, non ? ","Je chante faux mais je m'en fous, j'aime ça !","Bien qu'affublé d'un prénom breton, je suis auvergnat. Faut pas compter sur moi pour souquer les artimuses. ","Non","Je suis pas mauvais en cuisine ","oui",null,"Tu manges de tout",null,"Oui","Oui","Tu es un gros ronfleur","https://drive.google.com/open?id=1CGIYzufP8Hj35kn9G4fKl4CA8wSmHs81","Tu participeras tout de même sur la version fort et seras remboursé de 200€"]
["2024-01-15T22:32:55.332",267.0,"ok","fannyvignier@gmail.com","Vignier","Fanny",null,"F","fannyvignier@hotmail.fr","4 Avenue de Bretagne",null,null,"Fanny Vgn","Oui","7 et 8 juin 2025, 13 et 14 septembre 2025","Pur PJ","Navire et fort","oui","Cela ne me pose pas de problème de changer de perso","1 oui","Je ne pense pas","Non","oui","Combat à mains nues, Romance, Chanter, Danser, Jeux, superstition, camaraderie","Je suis ouverte à tout type de jeu, en espérant répondre à vos attentes","Bien plus ! Je suis un Vétéran !","Regarder Black Sails, le documentaire \"dans le sillage des pirates\" et autre références sur la piraterie pour préparer l'opus 3 de Black Revenge en 2023 !!","Tu as déja vu la série","Entre les deux","Au coeur de l'intrigue principale.","Modérement","En groupe","Dans l'opus 1, il y avait pleins de personnes du GN the Witcher, ça serait un plaisir de me retrouver dans un équipage avec certains d'entre eux! Et je ne dis pas non à retrouver des joueurs de l'hirondelle de l'opus 3!","oui","Je suis autodidacte et pratique en GN","Je chante faux mais je m'en fous, j'aime ça !","Mes souvenirs de Black Revenge !","Non","Un peu de danse","oui","Pas spécialement mais partante pour suivre tout élément de jeu, même le concours de rot :)","Tu manges de tout",null,"Non","Oui",null,"https://drive.google.com/open?id=17tRSD5-2aN6nhajNGfYYcQ67bPZOdPRM","Tu participeras tout de même sur la version fort et seras remboursé de 200€",null,"Je connais la joueuse, très sympathique et adaptable"]
["2024-02-19T23:58:49.030",267.0,"ok 1","acp121a@gmail.com","Vaes","Thomas",null,"H","thomas.vaes@hotmail.com","rue François Lefebvre, 121a\n4000 Liège\nBelgique","0471502173","1993-03-21","Vaes Thomas","Oui","Les deux dates sont possibles","Pur PJ, PJ/PNJ (il s'agit d'un moment du GN, le reste du temps tu joues ton perso. Cela concerne le fort)), PNJ","Navire et fort",null,null,"1 oui, 2 non","/","les jeux de séductions/jeux de relations amoureuses. Les dépendances à la drogue.","oui","Combat à l'épée, superstition, camaraderie","Je participe volontiers à tout (sauf romance) si possibilité. Je n'ai juste pas d'envie focalisée sur un point particulier","Bien plus ! Je suis un Vétéran !","pas assez pour passer un test écrit mais un peu oui. Pour le commun des gens, c'était la misère, la piraterie était un boulot de nécessité (ou opportunisme) et qu'être marin c'était une vie dure avant tout.","Tu as déja vu la série","Entre les deux","Impliqué autant que possible !!","Modérement","En groupe","/","oui!","Ca dépend ce que vous entendez par compétences. Je ne suis pas un champion mais je ne suis pas complètement inexperimenté non plus","Je chante faux mais je m'en fous, j'aime ça !","2 ou 3 termes relatifs aux navires. Mais je peux étudier :D","Non","/","oui","là comme ça, je ne vois pas...","Tu manges de tout","/","Non","Oui",null,"https://drive.google.com/open?id=1vmM0BXRDWg3hnUkqqWDtph7EZ_u3V1Po","Tu préfères ne pas participer",null,"Très bon joueur, investi et sérieux"]
["2024-02-16T19:40:57.447",null,"ok 1","vera.cecile.cv@gmail.com","Vera","Cécile ",null,"F","cecilecv@hotmail.com","10 Rue du Dr charcot, 93130 NOISY-LE-SEC ","0778170825","13/07/1993","Cécile Vera ","Oui","7 et 8 juin 2025, Les deux dates sont possibles","Pur PJ, PJ/PNJ (il s'agit d'un moment du GN, le reste du temps tu joues ton perso. Cela concerne le fort))","Seulement au fort, peu importe (si tu as une préférence, coche cette case et ta préférence)","oui","Je préfère jouer mon perso mais je peux en jouer un autre si cela n'est pas possible","1 oui","Je ne veux pas jouer de scène de viol. ","Viol","oui","Combat à l'épée, Combat à mains nues, Romance, menaces, superstition, camaraderie, animations","Feu ou duel escrime ","Bien plus ! Je suis un Vétéran !","Aventure ","Tu as déja vu la série","Sur le devant de la scène","Impliqué autant que possible !!","Modérement","En groupe","Guillaume Prigent ","oui","Escrime artistique depuis 10ans ","Je chante faux mais je m'en fous, j'aime ça !","Basique ","Non","Escrime, feu basique ","oui",null,"Tu manges de tout",null,"Non","Oui",null,"https://drive.google.com/open?id=1EyIoltMq5WphjvD4ZtecHusKSv_Iy6O5","Tu participeras tout de même sur la version fort et seras remboursé de 200€",null,"Super joueuse"]
["2024-02-20T01:55:18.343",null,null,"julie@nebulae.world","Bonnecarrère ","Julie",null,"F","julie@nebulae.world","12 rue Miromesnil ","0640666077","11 mars 1995","Julie Baboudak","Oui","13 et 14 septembre 2025","Pur PJ","Navire et fort",null,null,"1 oui, 2 oui","Je ne souhaite pas aborder le viol.","Pas de souci à signaler.","Non","Combat à l'épée, Romance, Joutes verbales/insultes, Chanter, Danser, Jeux, violence, menaces, chantage, vices, superstition, camaraderie, animations","Je connais quelques chant pirates, et ai quelques notions de danses folk :) S’il fallait classer l’ensemble, je pense que je mettrais la camaraderie & les vices en premier, pour un personnage à dilemmes :)","Bien plus ! Je suis un Vétéran !","Du folklore :) j’avoue que je ne suis pas très calée, et surtout bercée aux films Pirates des Caraïbes!","pas encore vu mais tu as hâte de découvrir le charisme exceptionnel de ses perso :D","Sur le devant de la scène","Impliqué autant que possible !!","Modérement","En groupe","Isabelle Whittaker","oui","Je suis autodidacte et pratique en GN, J'ai suivi des cours d'escrime (indique ton niveau stp dans la case \"Autre\" ci-dessous si c'est le cas ! :D ), J’ai fait de la lutte armée à dague façon 15e pendant un semestre.... (mais je suis un poids plume!) pas sure que ce soit pertinent 😂","Ouiiiiiiiiiiiiiii !!","Limité!","oui et je peux même animer","Danse (si c’est en groupe), dessin, chant, poésie ","oui","Je viens souvent avec des dés, ou des cartes de tarot, j’aime bien dire la bonne aventure de manière complètement farfelue en GN 😏","Tu manges de tout","Je n’ai pas d’allergie mais je suis diabétique : besoin d’accès à des féculents (pain, maïs, pâtes, riz, patates, lentilles, etc.) à chaque repas","Non","Oui",null,"https://drive.google.com/open?id=1AwqKlvkZrUCPGaYJB_y3gqhdpGMsW2_T","Tu participeras tout de même sur la version fort et seras remboursé de 200€"]
["2024-01-14T19:48:09.750",null,null,"kevinbouroumeau@gmail.com","Bouroumeau","Kevin",null,"H","kevinbouroumeau@gmail.com","11 rue Marguerite d'Angoulême ","0688492254","1985-05-12","Kevin Caoimhin","Oui","7 et 8 juin 2025","PJ/PNJ (il s'agit d'un moment du GN, le reste du temps tu joues ton perso. Cela concerne le fort))","Navire et fort","Non","Cela ne me pose pas de problème de changer de perso","1 oui, 2 non","Non","Non","oui","Chanter, Jeux, violence, superstition, camaraderie",null,"Entre 1 et 5,","Camaraderie, violence, privation, une vie dure mais libre","Déja vu mais tu comptes la revoir pour t'immerger un max","Discret","D'avantage sur les quêtes secondaire.","Modérement","En groupe","L'équipage de l'Hirondelle V3 !!!","oui!","J'en ai fais un peu enfant","Ouiiiiiiiiiiiiiii !!","un peu","Non",null,"oui",null,"Tu manges de tout",null,"Non","Oui","Tu es un gros ronfleur","https://drive.google.com/open?id=1BA0KMveL3p9UegzEa2LTo5L_L5Ij-nJn","Tu participeras tout de même sur la version fort et seras remboursé de 200€"]
["2024-01-12T15:11:48.705",null,null,"manumeuh@gmail.com","Chasserat","Emmanuel",null,"H","chasserat@yahoo.fr","9 Place de la Gabare 17440 Aytré","0613517679","16/05/1985","Manu Rathunter","Oui","7 et 8 juin 2025","Pur PJ","Navire et fort","oui","Cela ne me pose pas de problème de changer de perso","1 oui, 2 non","RAS","RAS","Non","Combat à l'épée, Joutes verbales/insultes, menaces, chantage, superstition, camaraderie",null,"Entre 1 et 5,","La quête desespérée de richesse, la vacuité de la vie humaine. ","Tu as déja vu la série","Entre les deux","Impliqué autant que possible !!","Oui","En groupe","Benoît Jallet, Kevin Bouroumeau, Maxime Euvé","oui","Je suis autodidacte et pratique en GN","Je préfère éviter, j'encouragerai les autres en tapant dans les mains ou avec mon godet !","Permis bateau de base","Non",null,"oui","Je suis végétarien, j'étais inscrits sur une session précédente et j'ai été recalé par un COVID au dernier moment, donc j'ai le feu pour, pas louper celle là !! ","Tu es végétarien",null,"Non","Oui",null,"https://drive.google.com/open?id=1I0FWxvLpswdzt0yiZRh9hwNuf3jXLGK1","Tu participeras tout de même sur la version fort et seras remboursé de 200€"]
["2024-01-12T12:15:02.113",null,null,"colnard.alexandre@gmail.com","Colnard ","Alexandre",null,"H","colnard.alexandre@gmail.com","36 rue de la cote du nord 93100 Montreuil ","0658075238","1994-05-02","Alexandre Colnard","Oui",null,"Pur PJ","Navire et fort","Non",null,"1 oui, 2 non","Je préfère éviter le jeu autour des violences sexuels","Il n'y a pas de situation que je ne souhaite pas jouer ","oui","Combat à l'épée, Combat à mains nues, Romance, Joutes verbales/insultes, violence, menaces, chantage, vices",null,"Bien plus ! Je suis un Vétéran !","Je n'ai pas de grande connaissance sur la piraterie.","Tu as déja vu la série","Sur le devant de la scène","Au coeur de l'intrigue principale.","Oui","En groupe","Camille Quenet","oui","Je suis autodidacte et pratique en GN","Je préfère éviter, j'encouragerai les autres en tapant dans les mains ou avec mon godet !","Non","Non","Pas spécialement ","oui",null,"Tu manges de tout, Tu as des allergies alimentaires (à préciser dans la question ci dessous)","Pas de fromage.","Oui","Oui",null,"https://drive.google.com/open?id=1aM_hz84mG8cHvk363-zxH9nndeOY6D9Y","Tu participeras tout de même sur la version fort et seras remboursé de 200€"]
["2024-02-20T19:09:04.792",null,null,"g.costerg@gmail.com","COSTERG","Gaël",null,"H","g.costerg@gmail.com","Route de Rans\n23","0638057198","26/03/1997","Gaël costerg","Oui","13 et 14 septembre 2025","PJ/PNJ (il s'agit d'un moment du GN, le reste du temps tu joues ton perso. Cela concerne le fort))","Navire et fort",null,null,"1 oui, 2 non","ras a priori, d'autant plus dans le bg","aucunes compétences en pugilat (a découvrir peut être^^)","oui","Combat à l'épée, Combat à mains nues, Romance, Joutes verbales/insultes, Chanter, Danser, Jeux, violence, menaces, chantage, vices, superstition, camaraderie, animations",null,"Bien plus ! Je suis un Vétéran !","historiquement ça dépend de la situation, dans l'imaginaire plutôt de camaraderie mais ça reste, en bonne partie, des tueurs","pas encore vu mais tu as hâte de découvrir le charisme exceptionnel de ses perso :D","Entre les deux","Impliqué autant que possible !!","Modérement","Peu importe","Julie Baboudak bien évidemment ","oui","J'ai suivi des cours d'escrime (indique ton niveau stp dans la case \"Autre\" ci-dessous si c'est le cas ! :D ), AMHE sur de l'épée longue donc ça va pas tant me servir sur un sabre^^","Je chante faux mais je m'en fous, j'aime ça !","bâbord tribord... souquez les artimuses? (débutant dirons nous)","Oui et ça me plairait de pratiquer lors du gn","Peut être d'ici 2025 des bases d'harmonica","oui","si je joue de l'harmonica, un harmonica haha\nprobablement de quoi dessiner un peu aussi","Tu manges de tout",null,"Non","Oui",null,"https://drive.google.com/open?id=1_25diMrsMMyfzafzpARTOF2Sbcqvk7_k","Tu participeras tout de même sur la version fort et seras remboursé de 200€"]
["2024-02-10T13:52:27.839",null,null,"m.derrico2014@gmail.com","D'Errico ","Marina ",null,"F","m.derrico@live.fr","7 le haut du bozet 88220 Xertigny ",null,"08/06/1993","Marina D'Errico ","Oui","7 et 8 juin 2025, Les deux dates sont possibles","Pur PJ","Navire et fort","Non",null,"1 oui","Pas d'inceste BG ni en jeu","La négociation commerciale ! Je suis vraiment une quiche pour estimer la valeur marchande des choses !","oui","Combat à l'épée, Combat à mains nues, Joutes verbales/insultes, Chanter, Danser, Jeux, violence, menaces, chantage, vices, superstition, camaraderie, animations","Romance je peux jouer mais a définir de quelle nature et avec qui","Bien plus ! Je suis un Vétéran !","J'ai vu une partie de black sails y a quelques années, c'est l'ambiance que je garde de la piraterie (du monde réel, sinon je suis en plein de la lecture des aventuriers de la mer et ça inspire beaucoup sur la piraterie !!)","Déja vu mais tu comptes la revoir pour t'immerger un max","Entre les deux","Impliqué autant que possible !!","Oui","En groupe","Bérénice Monier","oui","J'ai suivi des cours d'escrime (indique ton niveau stp dans la case \"Autre\" ci-dessous si c'est le cas ! :D ), Plutôt bon niveau à la rapière (ou au bouclier mais je vois ça mal pour un pirate). J'ai fait quelques années d'entraînements hebdomadaires à rafraîchir :)","Ouiiiiiiiiiiiiiii !!","Un peu d'argot, quelques éléments de l'anatomie d'un navire. J'apprendrai tout ce que j'ai besoin de savoir pour rendre mon rôle cohérent ","oui et je peux même animer","Faudra que j'essaye le lancer d'autruche, mais sinon je m'y connais pas mal en chansons de marins ! Je dessine aussi et je craft beaucoup s'il fait préparer des éléments de jeu ou de décor en amont \nOh ! Et je fais du make-up FX aussi !! J'adore casser des gueules (avec du maquillage aussi) ","oui","C'EST MON ANNIVERSAIRE LE 8 JUIN /0/\nEt sinon je ramènerai des jeux, probablement au moins un coffre, de ressortir mon tin whistle du placard pour apprendre à jouer l'une ou l'autre gigue ","Tu manges de tout, Tu as des allergies alimentaires (à préciser dans la question ci dessous)","Je ne peux pas manger de plats relevés (ça fait des ulcères :( )","Non","Oui",null,"https://drive.google.com/open?id=1xcP6LEVnqtPKMggBbyO4GnCjf3z_hq8P","Tu participeras tout de même sur la version fort et seras remboursé de 200€",null,"Joueuse investie et très sérieuse dans ses rôles. "]
["2024-03-12T14:47:14.278",null,null,"valerie.dagrainw@gmail.com","Dagrain","Valerie",null,"F","valerie.dagrain@protonmail.com","32 Avenue Leon Blum","0663614215","29/12/1973","Valérie Dagrain ","Oui","Les deux dates sont possibles","PJ/PNJ (il s'agit d'un moment du GN, le reste du temps tu joues ton perso. Cela concerne le fort))","Navire et fort",null,null,"1 oui, 2 non","Je fais du GN depuis 25 ans et j'ai appris à gérer et jouer les sujets sensibles ou illégaux (ex: l'esclavagisme), en interprétant, faisant attention aux joueurs-ses et sans exagérations inutiles.  ","Je ne souhaite pas jouer ce qui est que de l'ordre de la séduction si ça dure plus de 5mn. Je ne suis pas une courtisane ^^","Non","Joutes verbales/insultes, Chanter, menaces, camaraderie, animations",null,"Bien plus ! Je suis un Vétéran !","J'ai été au bureau de la Guilde de Bretagne, j'ai interprété des rôles d'animations Corsaires et j'ai une veste rouge de Corsaire digne d'un capitaine (à prêter si je ne l'utilise pas) + un GN en PNJ Pirate gestionnaire de tripot pour faire sortir des plans secrets + des animations en costume lors de festival des jeux... et j'ai vécu aussi au Canada où j'ai assisté aux concerts de l'équipage de la Murène! Incontournables pirates ^^ ","Tu as déja vu la série","Discret","D'avantage sur les quêtes secondaire.","Modérement","Peu importe","Je suis de Toulouse mais je suis très sociable et ouverte à des alliances! Écrevisse de rempart!","oui","Je suis autodidacte et pratique en GN, J'ai suivi des cours d'escrime (indique ton niveau stp dans la case \"Autre\" ci-dessous si c'est le cas ! :D )","Ouiiiiiiiiiiiiiii !!","Par la malepeste ! je peux jurer, chanter, mettre de l'ambiance et vaguement faire 3 noeuds de marin, asticoter l'équipage, rapiner, esquiver ^^","Non","Ma principale est de crafter des décors/objets de GN pour les orgas depuis 25 ans! Côté spectacle: j'embarque les joueur-s réservés dans l'ambiance taverne.","oui","Je ferai la liste de ce que je pourrai emporter. Ce sera selon la place disponible et si je pars avec un groupe de Toulousain ^^","Tu es végétarien",null,"Non","Oui",null,"https://drive.google.com/open?id=13nTR8_WeoVcj1XktcAxvrXPGMvc5TdIR","Tu préfères ne pas participer"]
["2024-01-12T17:37:38.959","lié clementine B",null,"alima.shoptider@gmail.com","Delville","Gil Alima",null,"H","alima.shoptider@gmail.com","62 rue des Foulons - 59500 Douai","06-60-48-26-56","15/05/1976","Gil Alima Delville","Oui",null,"Pur PJ","Navire et fort","Non","Cela ne me pose pas de problème de changer de perso","1 oui, 2 non","RAS","RAS","Non","Combat à l'épée, Romance, Joutes verbales/insultes, Danser, Jeux, violence, camaraderie, animations",null,"Bien plus ! Je suis un Vétéran !","Mes connaissances sont basées sur la série Black Sails et mes parties de JDR \"Pavillon Noir\" et ma précédente expérience sur votre GN.","Déja vu mais tu comptes la revoir pour t'immerger un max","Entre les deux","Impliqué autant que possible !!","Modérement","Peu importe","Clémentine Barraban - Élodie Circlepuke (pseudo FB) - James Hawkins (pseudo FB) - Marie Aueo (pseudo FB)","oui","Je suis autodidacte et pratique en GN","Je chante faux mais je m'en fous, j'aime ça !","Moyenne","Oui et je peux apporter du matériel","Cracheur et jongleur (un peu) de feu.","oui",null,"Tu manges de tout","RAS","Oui","Oui",null,"https://drive.google.com/open?id=1ItQkIlwVvuBtWiC-Dm_Zc6CkRACZlnOG","Tu participeras tout de même sur la version fort et seras remboursé de 200€"]
["2024-01-24T16:58:25.425",null,null,"maxime.euve@gmail.com","EUVE","MAXIME",null,"H","maxime.euve@gmail.com","83 rue Marcelin Jourdan - 33200 BORDEAUX",6.7154282E8,"19/12/1982","max_ev","Oui","7 et 8 juin 2025","Pur PJ, PJ/PNJ (il s'agit d'un moment du GN, le reste du temps tu joues ton perso. Cela concerne le fort))","Navire et fort","Non","Cela ne me pose pas de problème de changer de perso","1 oui, 2 non","Je ne souhaite pas interpréter un violeur ou un personnage \"trop\" sadique.","Je ne serai pas dedans si je dois torturer quelqu'un.  Etre victime c'est OK.","Non","Combat à l'épée, Combat à mains nues, Romance, Joutes verbales/insultes, Chanter, Danser, Jeux, superstition, camaraderie, animations",null,"Entre 6 et 10,","Se battre au jour le jour dans un environnement difficile.  Chaque matin, une opportunité en or ou bien la mort.  Profiter au mieux de la courte et riche vie.","Déja vu mais tu comptes la revoir pour t'immerger un max","Discret","D'avantage sur les quêtes secondaire.","Modérement","En groupe","Equipage Hirondelle V3 : Benoit Jallet, Kevin Bourroumeau, Camille Evey, Fabien Laerin, Fanny, Julien Wolf, Emmanuel Chasserat","oui","J'ai suivi des cours d'escrime (indique ton niveau stp dans la case \"Autre\" ci-dessous si c'est le cas ! :D ), 3 années escrime sportive (fleuret)","Ouiiiiiiiiiiiiiii !!",null,"Oui et ça me plairait de pratiquer lors du gn",null,"oui","Je profite de cette case pour louer encore une fois la qualité de votre boulot et vous remercier de nous faire rêver.","Tu es végétarien",null,"Oui","Oui",null,"https://drive.google.com/open?id=1m5bJyuZk0HfbdjuYFsryn_tpcL9bE8lc","Tu participeras tout de même sur la version fort et seras remboursé de 200€"]
["2024-01-12T14:28:55.370",null,null,"gouryfabien@gmail.com","Goury","Fabien",null,"H","gouryfabien@gmail.com","295 Route de Vienne 69200 Vénissieux","0623498552","1991-10-09","Fabien Laerin","Oui",null,"Pur PJ","Navire et fort","oui","Cela ne me pose pas de problème de changer de perso","1 oui, 2 non","Je suis plutôt intéressé par la partie \"a merry life\" que la partie \"sombre\". Ca ne me dérange pas d'avoir un contact avec des personnages qui font de l'esclavage ou du viol, mais je préfère jouer un personnage avec une conscience propre et m'amuser en tant que joueur sur des sujets qui ne ressembleraient pas à ceux de la vraie vie ! ","Avoir un personnage sans émotions ni conscience me déplairait beaucoup. Je veux vivre une expérience pleine de rebondissements et de partage !","oui","Combat à l'épée, Romance, Chanter, Danser, Jeux, camaraderie, animations","A merry LARP, but a short one!","Bien plus ! Je suis un Vétéran !","\"Toute société civilisée réunit des maîtres et leurs laquais. Les Pirates ne sont ni les uns, ni les autres.\"","Tu as déja vu la série","Entre les deux","Peu d'objectif, je me débrouille en jeu.","Modérement","Peu importe","Tous les gens sympa, mais vu que vous avez prévu de ne recruter que des joueurs comme ça, pas de préférence :D \nJ'aime bien rencontrer de nouvelles personnes.","oui","J'ai suivi des cours d'escrime (indique ton niveau stp dans la case \"Autre\" ci-dessous si c'est le cas ! :D ), Compétiteur en escrime ancienne et moderne depuis de nombreuses années.","Ouiiiiiiiiiiiiiii !!","J'ai un niveau moniteur de voile et je vais être matelot sur le Shtandart pendant 2 semaines en mars/avril !","Oui et ça me plairait de pratiquer lors du gn","Je peux faire maître à danser en danse médiéval et folk. Je connais pas mal de chants de marins.","oui","Mon enthousiasme ! ","Tu manges de tout",null,"Non","Oui",null,"https://drive.google.com/open?id=1nMSa96ZV38PdDHWAndYdFKCPKfthi_W1","Tu participeras tout de même sur la version fort et seras remboursé de 200€"]
["2024-01-12T12:31:18.809",null,null,"lucarelli.jy@gmail.com","Lucarelli","Jean-Yves",null,"H","lucarelli.jy@gmail.com","1 avenue de Figueres 13700 MARIGNANE","0667748530","24/02/1985","Jean-Yves LC","Oui","7 et 8 juin 2025","Pur PJ","Navire et fort",null,null,"1 oui, 2 non","OK pour tout","non","Non","Combat à l'épée, Combat à mains nues, Jeux, violence, menaces, chantage, vices, camaraderie","non","Bien plus ! Je suis un Vétéran !","J'ai des bases, jy vois la soif de liberté","Tu as déja vu la série","Entre les deux","Impliqué autant que possible !!","Modérement","En groupe","Florence Arvin Berod Goset, Robin Nicolet","oui","Je suis autodidacte et pratique en GN","Je chante faux mais je m'en fous, j'aime ça !","tres peu","Oui et ça me plairait de pratiquer lors du gn","Peinture de figurine","oui","non","Tu manges de tout","fruits de mer","Oui","Non",null,"https://drive.google.com/open?id=1PkVvF6uPgs6HCsOfimzkwfNlLOZk3kv4","Tu participeras tout de même sur la version fort et seras remboursé de 200€"]
["2024-02-10T12:18:39.551",null,null,"berenicemoynier@gmail.com","Moynier","Bérénice",null,"F","berenicemoynier@gmail.com","2 quai du Cheval-Blanc, 1227 Carouge, Suisse","00.41.77.449.23.78","20.07.1994","Baby Suisse ","Oui","7 et 8 juin 2025, Les deux dates sont possibles","Pur PJ","Navire et fort",null,null,"1 oui, 2 oui","Non, aucun connu.","Je ne suis pas très agile en combat mais je peux le jouer. J'ai une préférence pour les fusils/tromblons (armes à feu à longue portée) ou être soigneuse/médecin.","oui","Romance, Chanter, Danser, Jeux, violence, superstition, camaraderie, animations","Les joutes verbales me tentent bien mais je ne sais pas si je serais à la hauteur.\nAucun problème pour la violence, le chantage ou la menace même si j'ai une préférence pour être la personne qui subit le chantage ou la menace que celle qui le fait.","Bien plus ! Je suis un Vétéran !","Liberté, excès, questionnements sur comment faire que cet âge d'or se prolonge, construire une société durable, querelles intestines parfois, aventure, faim","pas encore vu mais tu as hâte de découvrir le charisme exceptionnel de ses perso :D","Entre les deux","Impliqué autant que possible !!","Modérement","En groupe","Marina d'errico (nom Facebook)\nRenaud Dehont (Orchal)","oui!","Absolument pas","Ouiiiiiiiiiiiiiii !!","Un mini peu","Non","Crochet, danse, j'apprends volontiers des jeux à proposer durant le jeu, dessin un peu","oui","C'est l'anniversaire de Marina en juin et ça me ferait très plaisir de le fêter avec elle ! (Je peux aussi en septembre si vous n'avez pas la place.)","Tu manges de tout",null,"Non","Oui",null,"https://drive.google.com/open?id=1mmXjHfUI-XhkkfHRgNl3VYHX0TYCAB8q","Tu participeras tout de même sur la version fort et seras remboursé de 200€"]
["2024-02-10T10:54:14.187","Gratuit",null,"piodella.geoffrey@gmail.com","Piodella","Geoffrey",null,"H","piodella-geoffrey@hotmail.fr","821 route de chez Dubois 74130 Faucigny","0670631495","14/03/1990","Geoffrey piodella","Oui","7 et 8 juin 2025, 13 et 14 septembre 2025, Les deux dates sont possibles","Pur PJ, PJ/PNJ (il s'agit d'un moment du GN, le reste du temps tu joues ton perso. Cela concerne le fort))","Navire et fort","oui","Cela ne me pose pas de problème de changer de perso","1 Non","Non","Non","oui","Chanter, Danser, Jeux, menaces, chantage, superstition, camaraderie, animations","Non","Entre 1 et 5,","La fraternité.... Et le rhum","pas encore vu mais tu as hâte de découvrir le charisme exceptionnel de ses perso :D","Entre les deux","Impliqué autant que possible !!","Modérement","Peu importe",null,"oui","Absolument pas","Ouiiiiiiiiiiiiiii !!","Bonne connaissance ","Oui et ça me plairait de pratiquer lors du gn","Guitare,harmonica,chant ","oui",null,"Tu manges de tout",null,"Oui","Oui","Tu es un gros ronfleur","https://drive.google.com/open?id=1I6YZVub67NWuxnacGhKxIEMg1kxCFAK0","Tu participeras tout de même sur la version fort et seras remboursé de 200€"]
["2024-02-10T13:34:06.973",null,null,"melicente@gmail.com","Quenet","Camille",null,"F","melicente@gmail.com","36 rue de la côte du Nord","0626915513","18/02/1993","Camille Quenet","Oui","Les deux dates sont possibles","Pur PJ","Navire et fort","oui","Cela ne me pose pas de problème de changer de perso","1 oui, 2 non","/","Un personnage totalement isolé, sans groupe","oui","Combat à l'épée, Romance, Chanter, Danser, Jeux, violence, menaces, chantage, vices, superstition, camaraderie, animations",null,"Bien plus ! Je suis un Vétéran !","La série Black sail, deux trois détails historiques et les docs du précédant Black revenge mais ça s’arrête là. Pour l'ambiance je dirais, des gens qui essayent de survivre, qui bien que ne respectant pas la loi se sont construit de nombreuses règles, pour qui la mort fait partie du quotidien et qui sachant leur fin proche profitent au maximum des plaisirs de la vie.","Déja vu mais tu comptes la revoir pour t'immerger un max","Sur le devant de la scène","Impliqué autant que possible !!","Oui","En groupe","On est resté très soudés avec l'Isabella mais si besoin je peux atterrir où il y a besoin","oui","Je suis autodidacte et pratique en GN","Je chante faux mais je m'en fous, j'aime ça !","Au besoin je peux apprendre quelques trucs, mais a part des cours de voile en primaire j'ai pas grandes connaissances","Oui et ça me plairait de pratiquer lors du gn","Danse, dessin","oui","/","Tu manges de tout","/","Non","Oui",null,"https://drive.google.com/open?id=1I8jd7O-z4Lw1ab7ZepU2Ezw3GPhX6Dyg","Tu participeras tout de même sur la version fort et seras remboursé de 200€",null,"Joueuse sympathique"]
["2024-01-12T16:11:47.850",null,null,"carotte.rodriguez@orange.fr","RODRIGUEZ","Charlotte ",null,"F","charlotte.rodriguez07@orange.fr","450 avenue des Valérianes","0760921030","1997-04-02","Charlotte Rdgz","Oui",null,"Pur PJ","Navire et fort",null,null,"1 oui, 2 oui","Je ne souhaite pas jouer de scène de viol en jeu, mais ça ne me dérange pas que cela soit mentionné dans mon back","Combat de lutte/main nue, scène sexuelle (viol ou non)","Non","Romance, Joutes verbales/insultes, Chanter, Danser, Jeux, superstition, camaraderie, animations",null,"Entre 6 et 10,","Connaissances des films/séries, c'est le côté \"créer une nouvelle société, car celle des rois ne nous convient pas\" que j'apprécie particulièrement. Une vision sûrement trop romancée, mais j'aimerai aussi un peu m'éloigner du côté \"on boit du rhum et on est toujours bourrés\" que certain médias (et GN) mettent en avant","Déja vu mais tu comptes la revoir pour t'immerger un max","Entre les deux","D'avantage sur les quêtes secondaire.","Oui","En groupe","Laurie-Anne LHOSTE","oui","Absolument pas","Je chante faux mais je m'en fous, j'aime ça !","J'ai l'intégrale du JDR pavillon noir et je compte l'éplucher si je suis prise. Je devrais retenir quelques termes","Oui et ça me plairait de pratiquer lors du gn","Couture, tricot, je barbouille mais c'est pas fou, didgeridoo, improvisation de danse sous alcool, apparemment je fais peur avec des couteaux","oui",null,"Tu manges de tout","Oignons, poivrons (pas allergique, mais ça me rend malade)","Oui","Oui",null,"https://drive.google.com/open?id=1kIdRWKG-DEDCRyn67PsEv94LqwsZ64Yl","Tu préfères ne pas participer"]
["2024-01-12T15:49:46.975",null,null,"julie.ser75@gmail.com","Ser-Istin","Julie",null,"F","julie.ser@istin.fr","7 rue Titon 75011 Paris","0662109130","24/12/1974","Jul Res-Ist","Oui",null,"Pur PJ, PJ/PNJ (il s'agit d'un moment du GN, le reste du temps tu joues ton perso. Cela concerne le fort))","Navire et fort",null,null,"1 oui, 2 oui","pas d'infanticide (ni en jeu ni dans mon bg)","je ne souhaite pas jouer de viol (est-ce interdit ?)","oui","Romance, Joutes verbales/insultes, Chanter, menaces, superstition, camaraderie","je ne souhaite pas jouer un personnage avare ou haineux","Bien plus ! Je suis un Vétéran !","une nécessaire camaraderie, des conditions de vie dures, du rêve","pas encore vu mais tu as hâte de découvrir le charisme exceptionnel de ses perso :D","Entre les deux","Impliqué autant que possible !!","Oui","Peu importe",null,"oui!","Absolument pas","Ouiiiiiiiiiiiiiii !!",null,"Non","broderie","oui","ma bonne humeur :)","Tu manges de tout",null,"Non","Oui",null,"https://drive.google.com/open?id=1ppeXoGlvAGlUyuhb-S3G9q5TSQ5R3xh4","Tu participeras tout de même sur la version fort et seras remboursé de 200€"]
["2024-01-12T13:54:52.311",null,null,"servel.manon51@gmail.com","Servel","Manon",null,"F","servel.manon@orange.fr","2 rue la Bremaudais - 35450 Dourdain","0668554965","1992-11-05","Manon la Dioux","Oui",null,"Pur PJ, PJ/PNJ (il s'agit d'un moment du GN, le reste du temps tu joues ton perso. Cela concerne le fort))","Navire et fort",null,null,"1 oui","Non je suis très à l'aise pour aborder ces sujets sensibles. ","Les scènes de torture sur des animaux je peux cependant en jouer sur des humains sans soucis (pas d'inquiétude je ne suis pas pour autant une psychopathe 😉).","oui","Romance, Joutes verbales/insultes, Danser, Jeux, violence, menaces, vices, superstition, camaraderie, animations","Sur un autre GN je vais proposer un numéro de pôle dance (pour un rituel à un Dieu Noir). Si cela peut être intégré au jeu, je possède un podium (une barre de pôle transportable) que je peux ramener 😁","Entre 1 et 5,","Je connais l'histoire de Nassau et de deux trois de ces grandes figures ainsi que les grandes lignes de l'histoire de la piraterie. ","Déja vu mais tu comptes la revoir pour t'immerger un max","Sur le devant de la scène","Impliqué autant que possible !!","Oui","En groupe","Avec tout bon membre d'équipage 😁","oui","Absolument pas","Je chante faux mais je m'en fous, j'aime ça !","Coureuse des bas fonds va !!","Non","La pôle dance et l'effeuillage burlesque (avec un tout petit peu de cerceau aérien) 🔥","oui","Comme dis plus haut je peux venir avec un podium de pôle dance pour une choré qui enflammera ou brisera le coeur de ces flibustiers puants.","Tu manges de tout",null,"Oui","Oui","Tu es un gros ronfleur","https://drive.google.com/open?id=1s8D5CG3f-noZ1yy02OPd3s3bpHW0FhEX","Tu participeras tout de même sur la version fort et seras remboursé de 200€"]
["2024-02-10T15:48:58.564",null,null,"trocquetdaniel@gmail.com","Trocquet","Daniel",null,"H","trocquetdaniel@gmail.com","Impasse de la saboterie, 37220 l'Île Bouchard","0762920768","22/07/1950","Cui-cui","Oui","7 et 8 juin 2025",null,"Navire et fort","oui",null,"1 Non, 2 non","Comme lors de la cession précédante je ne souhaite pas aborder les questions de viols et violences sur les femmes.","Je ne souhaite pas participer aux combat à mains nues ","Non","Chanter, Jeux, camaraderie",null,"Entre 1 et 5,","La piraterie est le résultat du licenciement de la marine de guerre des pays ayant participé à la guerre de 7 ans. Il en ressort à mon avis, une grande misère de ces hommes peu ont réussi à s'enrichir...ceux qui ont réussi le firent souvent sur le dos de leurs camarades.\nD'un autre côté, il ont su inventer une certaine sécurité sociale entre eux. ","Déja vu mais tu comptes la revoir pour t'immerger un max","Discret","Peu d'objectif, je me débrouille en jeu.","Non","En groupe","Ceux de l'hirondelle","oui","Absolument pas, Connaissance en tir armes anciennes & canons.","Ouiiiiiiiiiiiiiii !!","Quelques connaissances mais peu de pratique","Oui et je peux apporter du matériel","Je travaille le cuir, je me tiens à disposition pour fabriquer si des joueurs veulent des baudriers, holster ceintures et autres sacoches. Connaissance en coutures pour gilets, culottes et autres","oui","Possède un jeu de Sieben sur cuir, divers jeux bois pratiqué à l'époque.","Tu manges de tout",null,"Oui","Oui","Tu es un gros ronfleur","https://drive.google.com/open?id=1VZY_JdMYHHVzKc4Cv7wj2irTD83yzOJc","Tu participeras tout de même sur la version fort et seras remboursé de 200€"]
["2024-07-21T11:12:15.251",null,null,"florian.moussi.beylie@gmail.com","Moussi-beylie","Florian",null,"H","oreillepointue@gmail.com","29 Rue Michelin neuilly plaisance 93360 ","0679866556","1996-07-04","Flo Med-Gn","Oui","7 et 8 juin 2025","PJ/PNJ (il s'agit d'un moment du GN, le reste du temps tu joues ton perso. Cela concerne le fort))","Navire et fort, peu importe (si tu as une préférence, coche cette case et ta préférence)",null,null,"1 oui, 2 non","Ras","Ras","oui","Combat à l'épée, Combat à mains nues, Danser, Jeux, vices, superstition, camaraderie",null,"Bien plus ! Je suis un Vétéran !","Je dirais aventure, liberté et rébellion, avec des idées des lumières. ","Déja vu mais tu comptes la revoir pour t'immerger un max","Entre les deux","D'avantage sur les quêtes secondaire.","Oui","En groupe","Clément Moussi-beylie","oui","Je suis autodidacte et pratique en GN","Je chante faux mais je m'en fous, j'aime ça !","Rien","oui et je peux même animer","Non","oui","J'ai déjà joué un super nain pirate et ce fut une excellente expérience aussi pour les autres joueurs nains :) ","Tu manges de tout",null,"Oui","Oui","Tu es un gros ronfleur","https://drive.google.com/open?id=1x16t7aZS9DyJbJb0q1ZEenJ7L-_Q6w9-","Tu participeras tout de même sur la version fort et seras remboursé de 200€"]
["2024-07-21T11:20:52.438",null,null,"oreillepointue@gmail.com","Moussi-Beylie","Clement",null,"H","oreillepointue@gmail.com","8 rue de chèvre 77200 Torcy","0651877786","1998-11-12","Clem GN-Med","Oui","7 et 8 juin 2025","Pur PJ","Navire et fort",null,null,"1 oui, 2 oui","RAS","RAS","oui","Combat à l'épée, Combat à mains nues, Joutes verbales/insultes, Chanter, Danser, Jeux, camaraderie","Je suis moi même martiniquais ","Bien plus ! Je suis un Vétéran !","Oui, nassau, les caraïbes, tout un idéale de liberté de renouveau, teinté de misère sociale","Déja vu mais tu comptes la revoir pour t'immerger un max","Sur le devant de la scène","Au coeur de l'intrigue principale.","Oui","En groupe","Florian Moussi-Beylie","oui","Je suis autodidacte et pratique en GN","Je chante faux mais je m'en fous, j'aime ça !","Rien, j'ai fait de l'optimist plus jeune ","oui et je peux même animer","J'ai des gros muscles pour faire monsieur muscle","oui","J'ai déja fait un nain pirate, c'était super :)","Tu manges de tout",null,"Non","Oui",null,"https://drive.google.com/open?id=1kKGKULIFBakZBC6Y0iXlkTPZ9RJOP9BZ","Tu participeras tout de même sur la version fort et seras remboursé de 200€"]
["2024-07-21T11:51:52.825",null,null,"lallierf@gmail.com","Lallier ","Frédéric ",null,"H","lallierf@gmail.com","14 rue de la Paix 57100 Thionville ","0611029361","1970-09-09","Fred lorelyn loretoile","Oui","7 et 8 juin 2025","Pur PJ","Navire et fort",null,null,"1 Non, 2 non","Ras","Ras","Non","Combat à l'épée, Combat à mains nues, Romance, Joutes verbales/insultes, Chanter, Danser, Jeux, violence, menaces, chantage, vices, superstition, camaraderie, animations","Ras","Bien plus ! Je suis un Vétéran !","Plutôt un avis idéalisé d aventure. De courage. De faits d armes. D histoires epiques. Tous les livres que j ai lu et lis encore ont bercé mon imaginaire ","Tu as déja vu la série","Sur le devant de la scène","Au coeur de l'intrigue principale.","Modérement","Peu importe","Ras","oui","Je suis autodidacte et pratique en GN","Je chante faux mais je m'en fous, j'aime ça !","Oui","Oui et ça me plairait de pratiquer lors du gn","Ras","oui","Milles sabords !","Tu manges de tout","Ras","Oui","Oui",null,"https://drive.google.com/open?id=1klesNPH192KztDnabZrtgGMtR782I9nj","Tu participeras tout de même sur la version fort et seras remboursé de 200€"]
["2024-07-21T15:55:22.665",null,null,"maxime.bullier@hotmail.fr","Bullier ","Maxime ",null,"H","maxime.bullier@hotmail.fr","123 la ville Macé 35750 saint maugan","0669056818","25/08/1982","Max du boulet","Oui","13 et 14 septembre 2025","Pur PJ","Navire et fort, peu importe (si tu as une préférence, coche cette case et ta préférence)",null,null,"1 oui, 2 non","Romance amoureuse","Non","oui","Combat à l'épée, Combat à mains nues, Joutes verbales/insultes, Jeux, violence, menaces, superstition, camaraderie","En soit je veux bien tout jouer sauf une romance ","Bien plus ! Je suis un Vétéran !","En gros mes references sont black sails et assassin's creed black flag ","Tu as déja vu la série","Entre les deux","Au coeur de l'intrigue principale.","Modérement","Peu importe","Maryline Lenouvel ","oui","Je suis autodidacte et pratique en GN, Je menbat beaucoup mieux a la lance ou au harpon","Je chante faux mais je m'en fous, j'aime ça !","Vite fait bâbord tribord mais je peux apprendre à lire des cartes et choisir des itinéraires s'il faut","Oui et ça me plairait de pratiquer lors du gn","Jonglage Bâton de feu","oui",null,"Tu manges de tout",null,"Oui","Non","Tu es un gros ronfleur","https://drive.google.com/open?id=1cYzQB1LfHbwuMnNE0mm4O4FED-VheLy_","Tu participeras tout de même sur la version fort et seras remboursé de 200€"]
["2024-07-21T16:17:42.890",null,null,"benoitchiodo156@gmail.com","Chiodo ","Benoît ",null,"H","benoitgaia@hotmail.com","222 rue de l'abreuvoir 76520 franqueville Saint Pierre ",6.59969475E8,"15 juin 1987","Benoit chiodo","Oui","7 et 8 juin 2025","Pur PJ","Navire et fort",null,null,"1 oui, 2 non","Non","Non","Non","Combat à l'épée, Combat à mains nues, Romance, Jeux, violence, menaces, chantage, vices, camaraderie",null,"Bien plus ! Je suis un Vétéran !","Sincèrement les grandes lignes mais je suis loin de tout savoir","Tu as déja vu la série","Entre les deux","Au coeur de l'intrigue principale.","Modérement","Peu importe",null,"oui","Je suis autodidacte et pratique en GN, J'ai suivi des cours d'escrime (indique ton niveau stp dans la case \"Autre\" ci-dessous si c'est le cas ! :D ), J'ai fait de l'escrime compétitif en club durant 3 ans cependant je ne suis pas un crack ","Je chante faux mais je m'en fous, j'aime ça !","Non","Oui et ça me plairait de pratiquer lors du gn","Non","oui",null,"Tu manges de tout","Non","Oui","Non",null,"https://drive.google.com/open?id=13_UV_LRA20vYUxug0EkeeVBZ5pWbB-m-","Tu participeras tout de même sur la version fort et seras remboursé de 200€"]
["2024-07-21T17:16:35.630",null,null,"lylou_07@hotmail.com","Lenouvel ","Maryline ",null,"F","lylou_07@hotmail.com","123 La Ville Macé 35750 Saint-Maugan",null,null,"Bellis Lylou Ajola","Oui","13 et 14 septembre 2025","Pur PJ","Seulement au fort",null,null,"1 oui","Non","Non","oui","Danser",null,"Bien plus ! Je suis un Vétéran !","Quelques connaissances, j'en retiens principalement une géopolitique et une situation commerciale complexes et changeantes, une ambiance violente (tant entre les Etats et/ou les individus que du point de vue sanitaire et social) et un souffle de changement.","Tu as déja vu la série","Entre les deux","Impliqué autant que possible !!","Modérement","Peu importe",null,"oui","Absolument pas","Ouiiiiiiiiiiiiiii !!","Langage marin caricatural et connaissances superficielles (mais peux apprendre)","Oui et ça me plairait de pratiquer lors du gn",null,null,null,"Tu manges de tout",null,"Oui","Oui",null,"https://drive.google.com/open?id=1PRYG4vJd3F6eYm4vxkW6zHKzoNGPjNeL"]
["2024-07-21T23:03:36.952",null,null,"melanie.brule1906bb@gmail.com","Brule","Mélanie ",null,"F","melanie.brule1906@orange.fr","34 Grande Rue","0762198427","19/06/2001","Mélanie BRULE ","Oui","7 et 8 juin 2025, 13 et 14 septembre 2025, Les deux dates sont possibles","Pur PJ, PJ/PNJ (il s'agit d'un moment du GN, le reste du temps tu joues ton perso. Cela concerne le fort)), PNJ","Navire et fort",null,null,"1 Non, 2 non","/","/","Non","Combat à l'épée, Romance, Jeux, violence, camaraderie, animations",null,"Entre 1 et 5,","Une passion d'enfance ","pas encore vu mais tu as hâte de découvrir le charisme exceptionnel de ses perso :D","Entre les deux","Impliqué autant que possible !!","Modérement","En groupe",null,"oui","Je suis autodidacte et pratique en GN","Je chante faux mais je m'en fous, j'aime ça !","Tribord/ Bâbord ... La base et quelques partie de bateau ","Non",null,"oui",null,"Tu manges de tout",null,"Oui","Oui",null,"https://drive.google.com/open?id=1s43zw0yCBPgqcts4BmQlzMP51RtjjJtX","Tu participeras tout de même sur la version fort et seras remboursé de 200€"]
["2024-07-22T10:53:56.726",null,null,"perrine.munaro@gmail.com","MUNARO","Perrine",null,"F","perrine.munaro@gmail.com","19, Chemin des Vignes","0673120151","23/12/1984","Perrine Duracell","Oui","Les deux dates sont possibles","Pur PJ","Navire et fort",null,null,"1 oui, 2 non","Je n'ai pas de tabou de jeu à évoquer","Je suis un peu nulle à la simulation de combat, mais d'ici 2025 je peux m'entrainer ^^\n\nPar contre je refuse de jouer l'humiliation et l'isolement seule contre tous.tes en jeu, c'est vraiment un coup à me faire passer par dessus bord. ","oui","Romance, Chanter, violence, superstition, camaraderie",null,"Bien plus ! Je suis un Vétéran !","Je n'ai d'autres connaissances que le visionnage d'oeuvres cinématographiques, et j'en garde la notion d'âpreté, de camaraderie mais d'instinct de survie. De l'honneur et de la confiance qui se distillent moins bien que le rhum. D'un univers impitoyable où chaque action a des conséquences.","Déja vu mais tu comptes la revoir pour t'immerger un max","Entre les deux","Au coeur de l'intrigue principale.","Modérement","En groupe",null,"oui","Absolument pas","Ouiiiiiiiiiiiiiii !!","J'ai bossé le sujet pour des besoins personnels d'écriture","Non","chant, piano, crochet, joaillerie","oui","Alors moi j'ai rien de tout ça hormis mon enthousiasme. Sauf peut-être la possibilité d'avoir un jeu convaincant en tant que toubib/chirurgienne/anthropologue/joaillère (genre expertise de pierres toussa) vu que c'est tout des trucs dont je suis diplômée  ^^\".  Et des bisous, plein. Voilà.","Tu es végétarien",null,"Oui","Non",null,"https://drive.google.com/open?id=1CqPRRVPNg-CYwLahMvMQkpTZNUoedNNB","Tu participeras tout de même sur la version fort et seras remboursé de 200€"]
["2024-07-22T12:31:24.466",null,null,"karuna.yogananthan@gmail.com","Yogananthan ","Karuna",null,"H","karuna.yogananthan@gmail.com","3 Impasse Pierre Sorin","0610838975","24/05/1905","Karuna Yogananthan ","Oui","Les deux dates sont possibles","Pur PJ","Navire et fort",null,null,"1 Non, 2 non","Non","Non","oui","Combat à l'épée, Combat à mains nues, Romance, Joutes verbales/insultes, Chanter, Jeux, menaces, chantage, vices, superstition, camaraderie",null,"Bien plus ! Je suis un Vétéran !","Rude","pas encore vu mais tu as hâte de découvrir le charisme exceptionnel de ses perso :D","Sur le devant de la scène","Impliqué autant que possible !!","Oui","En groupe",null,"oui","Je suis autodidacte et pratique en GN","Je chante faux mais je m'en fous, j'aime ça !","Oui","oui et je peux même animer","Non","oui","J'ai un violon en latex ","Tu manges de tout",null,"Non",null,null,"https://drive.google.com/open?id=1pcDTXMgcUfXKbaGMwXbFiHYho9s9cWck","Tu préfères ne pas participer"]
["2024-07-22T15:06:57.813",null,null,"chloe.voumard@gmail.com","VOumard","Zohnya Chloé",null,"H","chloe.voumard@gmail.com","Avenue d'Epenex 17, 1027 Ecublens, Suisse","0041765748109","09.12.1993","Zohnya Voumard","Oui","13 et 14 septembre 2025, Les deux dates sont possibles","Pur PJ","Navire et fort",null,null,"1 oui, 2 oui, 2 non","Je ne souhaite pas être confrontée a du viol que ce soit en jeu ou dans mon bg. Je ne souhaite pas jouer du harcellement mais n'ai pas de soucis a ce que ce soit mentionné","Je ne souhaite pas subir du harcellement et être mis a l'écart","oui","Combat à l'épée, Romance, Chanter, Jeux, camaraderie",null,"Bien plus ! Je suis un Vétéran !","Mon meilleur ami étant passionné de pirate, j'ai eu l'occasion de beaucoup en entendre parler haha (il a fait une partie de son mémoire d'historien dessus ).  Je dirais en terme d'ambiance le côté compagnons d(e) (in)fortune.  L'appel de l'aventure et une notion différente d'appréhender les besoins du quotidien comparé au quidam lambda. C'est plus terre à terre, trouver à bouffer notamment, survivre. ","pas encore vu mais tu as hâte de découvrir le charisme exceptionnel de ses perso :D","Entre les deux","Au coeur de l'intrigue principale.","Modérement","En groupe","Thomas Cornaz","oui","Je suis autodidacte et pratique en GN, J'ai suivi des cours d'escrime (indique ton niveau stp dans la case \"Autre\" ci-dessous si c'est le cas ! :D ), Je saurais pas évaluer mon niveau. J'ai fais de l'escrime médiévale, je m'en sors pas trop mal comparé au commun du GNiste moyen, mais je tiens pas quelqu'un qui en fait sa passion","Ouiiiiiiiiiiiiiii !!","Je connais les noeuds (je sais conduire un bateau à voile et j'ai fais pas mal de voile ) (un seul mat le bateau xD )","Oui et ça me plairait de pratiquer lors du gn","Je sais dessiner et chanter","oui","Je sais maquiller les gens (maquillage de fête )et j'ai VLA le matos donc je peux aider les gens avec ça ","Tu manges de tout, Tu as des allergies alimentaires (à préciser dans la question ci dessous)","Ananas/fruit de la passion,  je déteste  sincèrement les épinards","Non","Non",null,"https://drive.google.com/open?id=18dVWdCa3V_0PMfx6yPCrs6O-XbmGopYr","Tu participeras tout de même sur la version fort et seras remboursé de 200€"]
["2024-07-22T15:10:13.268",null,null,"swissnuggetz@gmail.com","Cornaz","Thomas",null,"F","swissnuggetz@gmail.com","Rue des Bossons 2 Onex  Suisse",null,null,"Thomas Cnrz","Oui","13 et 14 septembre 2025","Pur PJ","Navire et fort",null,null,"1 oui, 2 non","Isolement, bullying, viol, agression sexuelle. Tout peut apparaître dans mon BG, mais je ne souhaite pas le jouer. ","Tout me va hormis les choses précitées. ","Non","Combat à l'épée, Romance, Chanter, Jeux, menaces, chantage, superstition, camaraderie",null,"Bien plus ! Je suis un Vétéran !","J'ai fait une étape de mon mémoire d'histoire ainsi qu'une conférence sur la question de la représentation de la piraterie au 18e siècle et leur adaptation. Du coup la réponse sur la représentation de l'ambiance serait qu'elle est très centrée sur la camaraderie, l'amitié, l'égalité, l'aventure, et une fougue des individus qui se lancent dans cette entreprise qui apparaît transgressive des lois et règles sociales de l'époque, d'où la présence de femmes pirates, de notions égalitaristes et de mythes d'hommes et de femmes sans attaches. La vérité historique est beaucoup plus pragmatique et terre-à-terre dans la majorité des cas et se concentre surtout sur la question de la survie en mer et de la nécessité d'obtenir des ressources alimentaires; la piraterie dépend ainsi souvent d'une opportunité de tenter sa chance quand les commanditaires paient mal, que les vivres manquent ou que la possibilité d'arrondir un peu la paie se présente. ","pas encore vu mais tu as hâte de découvrir le charisme exceptionnel de ses perso :D","Entre les deux","Au coeur de l'intrigue principale.","Modérement","En groupe","Zohnya Voumard","oui","Je suis autodidacte et pratique en GN","Je chante faux mais je m'en fous, j'aime ça !","babord tribord, connaissance rapide des signaux de phares d'iroise","oui et je peux même animer","Poésie, chansons de timbre","oui","J'ai un coffret en bois qui peut aider sur le navire; en général je mets mes habits et costumes dedans. J'ai des restes de connaissance historique et même si je n'étudie plus trop le sujet, j'ai quelques restes","Tu manges de tout, Tu es végétarien, Tu as des allergies alimentaires (à préciser dans la question ci dessous)","Je suis flexitarien, donc si manger végétarien vous complique la tâche, je peux courber sans souci. \n\nAllergie : müesli (Bircher en suisse), maïs","Oui","Oui","Tu es un gros ronfleur, Tu penses avoir le mal de mer","https://drive.google.com/open?id=1jQXoenYlxhh1Zzigd8a78mNUTJ18k8YT","Tu participeras tout de même sur la version fort et seras remboursé de 200€"]
["2024-07-22T15:38:04.011",null,null,"liislarp@gmail.com","le merdy","claire",null,"F","claire.lem@hotmail.fr","38 rue noire ",6.74802559E8,"1992-08-07","claire LM","Oui","Les deux dates sont possibles","PNJ","Navire et fort, peu importe (si tu as une préférence, coche cette case et ta préférence)",null,null,"1 oui, 2 non","Il n'y a pas de sujets dont je ne souhaite pas parler. Ou évoquer. ","Je ne souhaites pas jouer une femme enceinte en jeu (elle peut l'avoir été mais pas l'être en jeu. Je n'ai cependant pas de problème avec les sujets autour de l'avortement ou la perte d'enfant.). Je ne souhaite pas jouer en jeu des scènes de violences sexuelles (viol, agressions sexuelles, je ne prends pas en compte la prostitution, ou le harcèlement en lien avec le contexte historique). Mais la mention dans mon bg de ce genre de scène ne me dérange pas. ","oui","Combat à mains nues, Joutes verbales/insultes, Chanter, Danser, Jeux, violence, menaces, chantage, superstition, camaraderie, animations",null,"Bien plus ! Je suis un Vétéran !","J'ai des notions classiques de la piraterie. Cependant je suis carrément intéressée pour me renseigner plus longuement sur ce sujet! (par des livres, des documentaires, des traités... ). J'ai cependant une connaissance plus approfondie sur la vie portuaire, sur le fonctionnement des navires et des connaissances un peu plus importante sur la navigation. J'ai vécu sur un voilier pendant plusieurs mois. Je me suis intéressée à la façon dont les bateaux étaient fabriqués notamment les frégates et les 3 mats. Je suis très intéressée et sensible à la traite négrière (je suis nantaise et cela fait partie pour moi de mon devoir de mémoire). Je me suis donc pas mal renseignée sur les bateaux négriers. \nJe reste très motivée pour lire et découvrir de nouvelles données historiques. S'il me faut travailler pour enrichir mes connaissances et pouvoir alimenter une conversation autour de thématique particulières (concernant le commerce, la fabrication de navire, des personnages historiques... ) je suis prête à m'y investir pleinement! \nJ'ai vu que vous faites mention de la série black sails, j'ai vu quelques épisode mais n'ai pas encore pris le temps de m'y plonger pleinement (j'attendais de pouvoir m'y interesser vraiment vraiment) mais je suis une inconditionnelle de Master And Commander <3","pas encore vu mais tu as hâte de découvrir le charisme exceptionnel de ses perso :D","Entre les deux","Au coeur de l'intrigue principale.","Oui","Peu importe","des joueurs présents à l'opus 1 je ne crois connaitre que Cédric Fitoussi et sa compagne. Je serais ravie de jouer avec eux mais si ce n'est pas possible, je suis prête à découvrir de nouvelles personnes :) ","oui!","Je suis autodidacte et pratique en GN","Ouiiiiiiiiiiiiiii !!","Vouiiiii je connais notamment pas mal de termes maritimes et je sortirais mes meilleures chansons de marins <3 ça vraiment que du bonheur! ","Oui et je peux apporter du matériel","je sais danser, chanter, je peux déclamer un texte devant une assemblée, je sais dessiner à peu près correctement, je peux écrire un texte à déclamer en peu de temps, je connaît beaucoup de jeux de société qui peuvent s'adapter à un contexte d'équipage marins, je sais coudre (genre repriser des habits en GN c'est ma passion), et broder (chose que j'aime beaucoup faire en GN également), je peux également animer (c'est mon métier de base) des \"concours\" de noeud de marins, de reconnaissance de poissons ou de cri de goéland... ","oui","Mon père à une couleuvrine issu d'une épave qu'il a trouver sur les côtes de Belle ïle en mer (j'ai manger le nom du bâtiment). Si envie d'avoir un objet de jeu lourd et encombrant (mais histo) c'est avec plaisir! ","Tu manges de tout",null,"Oui","Oui",null,"https://drive.google.com/open?id=1Huv0OaO05gy9-PjUmH2xelNOT3j3hvXS","Tu participeras tout de même sur la version fort et seras remboursé de 200€"]
["2024-07-22T17:30:49.075",null,null,"","Gayot","Eléna",null,"F","elena.gayot@gmail.com","32 chemin des prés ronds, 74600 Montagny-les-Lanches","0750498366","22/02/1999","Eléna Gayot","Oui","7 et 8 juin 2025","Pur PJ","Navire et fort","oui","Je préfère jouer mon perso mais je peux en jouer un autre si cela n'est pas possible","1 oui, 2 oui","Viol en jeu","Je ne suis pas une excellente combattante, pour le reste je me débrouille !","Non","Romance, Chanter, Danser, Jeux, menaces, chantage, vices, superstition, camaraderie, animations",null,"Bien plus ! Je suis un Vétéran !","A force, je finis par en avoir ! C'est un idéal de vie anarchiste, une vie dure, très souvent  courte, pleine de danger et qui mène donc à profiter au maximum des plaisirs de la vie, car on ne sait pas de quoi demain sera fait. Alors buvons et chantons !","Tu as déja vu la série","Entre les deux","D'avantage sur les quêtes secondaire.","Modérement","En groupe","LES CHOUCHOUS DE LA V1 <3\nFranchement, n'importe quel copain, vous les connaissez de toute façon :)","oui!","Je suis autodidacte et pratique en GN","Ouiiiiiiiiiiiiiii !!","ça s'est un peu construit avec trois navigations sur le shtandart :)","Oui et ça me plairait de pratiquer lors du gn","Danse, je m'améliore doucement mais sûrement aux bolas, tin whistle (flûte irlandaise), chants marins français inculqués par Charles, et tirage de cartes","oui","Je donne tout à ce jeu ! Mon corps, mon âme, et tous mes biens (bon qui sont assez peu nombreux, mais je peux apporter ma flûte pour en jouer, j'ai un petit coffre, et je peux en piquer au travail mais idem ils sont assez petits)","Tu manges de tout",null,"Non","Oui",null,"https://drive.google.com/open?id=1_I63UMC1aQCwSOpnKIjUgCIbhcx9TpHR","Tu participeras tout de même sur la version fort et seras remboursé de 200€"]
["2024-07-22T17:54:44.498",null,null,"","cornu","FRANCOISE",null,"F","wamael@aol.com","53 Rue de Nantouar 53 , 22660 Trélévern, Bretagne France","0681186863","23/02/1960","Mamie Soaz","Non","Les deux dates sont possibles","PNJ","Navire et fort",null,null,"1 Non, 2 non","non","combats mains nues","oui","Combat à l'épée, Jeux, camaraderie",null,"Bien plus ! Je suis un Vétéran !","non","pas encore vu mais tu as hâte de découvrir le charisme exceptionnel de ses perso :D","Entre les deux","D'avantage sur les quêtes secondaire.","Modérement","Peu importe",null,"oui","Je suis autodidacte et pratique en GN","Ouiiiiiiiiiiiiiii !!","oui","Non","non","oui","peut être","Tu manges de tout","non","Oui","Oui","Tu es un gros ronfleur, Tu penses avoir le mal de mer","https://drive.google.com/open?id=1270oCLZQ5zgu9eUgB59-EAl4RqRiEvAo","Tu participeras tout de même sur la version fort et seras remboursé de 200€"]
["2024-07-22T19:06:19.428",null,null,"","HUARD","Tristan",null,"H","tristan.huard@outlook.fr","3ifa 45 rue du roselet","0628587885","18/11/1990","Tristan HUArd","Oui","Les deux dates sont possibles","Pur PJ, PJ/PNJ (il s'agit d'un moment du GN, le reste du temps tu joues ton perso. Cela concerne le fort))","Navire et fort",null,null,"1 oui, 2 non","je n'ai pas de sujet qui  me Triger ","je suis pas très à l'aise avec les situation impliquant un rapprochement amoureux, mais je peut jouer l'amant timide pour le coup ","oui","Combat à l'épée, Combat à mains nues, Joutes verbales/insultes, Chanter, Jeux, violence, menaces, chantage, vices, superstition, camaraderie",null,"Bien plus ! Je suis un Vétéran !","pour être totalement transparent ça m'évoque pirate des caraïbes dans l'ambiance, mais je peux bosser le sujet ","pas encore vu mais tu as hâte de découvrir le charisme exceptionnel de ses perso :D","Entre les deux","Impliqué autant que possible !!","Oui","En groupe",null,"oui","je fais et organise des entrainement d'escrime ludique à raison d'une fois par semaine depuis 3 ans ","Je chante faux mais je m'en fous, j'aime ça !","pas terrible, bâbord (gauche)  tribord (droite) à l'abordage voilà !!!","Oui et ça me plairait de pratiquer lors du gn","la cuisine ça compte ? ","oui",null,"Tu manges de tout",null,"Oui","Oui","Tu es un gros ronfleur","https://drive.google.com/open?id=1xo8gFbqFRRU1RQcWI0dRSZGbvCHnjwBt","Tu participeras tout de même sur la version fort et seras remboursé de 200€"]
["2024-07-22T22:55:53.624",null,null,"","Ardalan","Pouria",null,"H","pepebicho@yahoo.com","8 Rue François Verdier","0622217382","1982-04-02","Pepebicho Leroy","Oui","7 et 8 juin 2025","Pur PJ, PJ/PNJ (il s'agit d'un moment du GN, le reste du temps tu joues ton perso. Cela concerne le fort))","Seulement au fort","Non","Cela ne me pose pas de problème de changer de perso","1 Non, 2 non","RAS","Je ne suis pas fan de la baston mais je m'adapte :)","Non","Romance, camaraderie, animations","On en avait déjà parlé avec Shindra mais j'apporterai mon bodhran pour jouer avec les autres musicos ! ","Bien plus ! Je suis un Vétéran !","Même si j'ai souvent joué des pirates et que j'ai des connaissances dessus, je ne saurai pas répondre. Je dirai que la soif de liberté et de richesse prime :) ","Déja vu mais tu comptes la revoir pour t'immerger un max","Entre les deux","Impliqué autant que possible !!","Modérement","En groupe","Je dois connaitre la moitié des gens qui ont participé à ce jeu lol. Mais effectivement, le kiff principal pour moi serait de pouvoir jouer avec mes ami(e)s proche. Dans la liste (et je vais probablement en oublier la moitié) : Mercredi Bourdeix-Marcaud , P'tit Fût l'Apostat, Ollivier Boguais , Renart de Maupertuis , Damien Croky , Rhiannon GN, Wanda EleganceduChaos, Typhn Krt, Éléna Gayot ","oui","Je suis autodidacte et pratique en GN","Ouiiiiiiiiiiiiiii !!","Très basique on va dire :)","Non","Comme dit plus haut, je joue du bodhran. Dans l'idéal, je sais qu'il y a aussi de vrai musicien. Comme je le disais à Shindra, c'est toujours la frustration de ne pas pouvoir jouer de la musique en gn avec des gens qui ont un bon niveau. Pour une fois, cela devrait être jouable :)","oui","La musique en gn, c'est la vie! Donc j'apporterai cela :) ","Tu manges de tout","RAS","Oui","Oui","Tu penses avoir le mal de mer","https://drive.google.com/open?id=1ZkKxZCaHfuYHc2LbO0NiI9CgjNF4KRza","Tu participeras tout de même sur la version fort et seras remboursé de 200€"]
["2024-07-23T07:37:25.811",null,null,"","Petit ","Vincent ",null,"H","vincentsterne@yahoo.fr","8 rue du Révérend Père Aubry 94120 Fontenay sous Bois ","0619600814","1977-01-04","Vincent Petit","Oui","13 et 14 septembre 2025","PJ/PNJ (il s'agit d'un moment du GN, le reste du temps tu joues ton perso. Cela concerne le fort))","Seulement au fort, peu importe (si tu as une préférence, coche cette case et ta préférence)","oui","Je préfère jouer mon perso mais je peux en jouer un autre si cela n'est pas possible, Cela ne me pose pas de problème de changer de perso","1 oui, 2 non","Rien a priori, même si je ne cours pas après la violence gratuite de manière générale. ","Idem que ci-dessus, jouer une violence froide et sans raison ne m'intéresse pas, mais si ça doit être fait pour le bien de l'histoire et du jeu, je devrais pouvoir m'y coller.","Non","Combat à l'épée, Joutes verbales/insultes, Chanter, Jeux, menaces, chantage, camaraderie, animations",null,"Entre 6 et 10,","A part les classiques littéraires et cinématographiques, j'ai déjà participé à 2 GN \"embarqués\", le Pirate academy italien et THE Black Revenge ! ","Tu as déja vu la série","Entre les deux","D'avantage sur les quêtes secondaire.","Modérement","En groupe","Les membres de l'Antares sur la V2 de l'opus 1.","oui","Je suis autodidacte et pratique en GN","Ouiiiiiiiiiiiiiii !!","Oui","Oui et je peux apporter du matériel","Craft, décors, accessoires et costumes ","oui","J'apporterai un jeu de cartes pour organiser des paris hippiques, ça avait bien marché à bord la dernière fois. ","Tu manges de tout",null,"Non","Oui",null,"https://drive.google.com/open?id=1la-n9frdnntW2BxLZFPaIOjZNoVPzumS","Tu participeras tout de même sur la version fort et seras remboursé de 200€"]
["2024-07-23T13:23:12.695",null,null,"","battung","coralie",null,"F","corabattung@gmail.com","28 carrière de la funquée","0611246957","1990-11-09","Cora la rousse","Oui","7 et 8 juin 2025","Pur PJ","Navire et fort",null,null,"1 oui, 2 oui","Je n'ai pas de problème sur la plupart des thématiques, mais étant une femme ronde, j'avouerai que ce serait plus facile pour moi de jouer une femme pirate (quitte à ce qu'elle soit marginale par sa sexualité ou autre, je suis assez souvent cantonnée dans les rôles de lesbiennes). J'ai déjà été grimée en homme sur des jeux, mais une bonne partie de mes costumes de pirateries sont des pièces coupées \"féminine\" et ce serait plus difficile de récupérer des nouvelles pièces pour faire un homme spécifiquement pour ce gn-ci, car je dois les faire faire sur mesure. (Même si de base je joue souvent des perso très garçon manqué)","J'adore mimer des combats à mains nus, mais j'ai moins de connaissance en escrime ludique.","Non","Combat à mains nues, Romance, Joutes verbales/insultes, violence, menaces, chantage, vices, superstition, camaraderie","Je suis naturellement extravertie et je n'ai aucun problème à jouer la vulgarité, donc jouer des personnages de premier plan ne me pose pas de problème. Pour le coup, je me verrai plutôt en second, le genre de personnage très sympa, qui sort des vannes, mais qu'il ne faut pas faire trop chier non plus. Jouer une femme très masculine m'irait parfaitement.","Bien plus ! Je suis un Vétéran !","Pour moi c'est un mélange de camaraderie dans une vie de marginal. Le fait aussi que cela ne signifie pas que un bateau, c'est une grande famille : chacun à son passif et c'est aussi une cocote minute qui peut exploser à n'importe quel moment a vu des choix de vies traumatisants qui ont menés les gens à ce type d'existence. Mais il y a ce coté \"on a signé tous ensemble\". Je trouve ça intéressant, et j'adore les jeux de proximités et de vie en communauté. ","pas encore vu mais tu as hâte de découvrir le charisme exceptionnel de ses perso :D","Entre les deux","Impliqué autant que possible !!","Oui","Peu importe","Elodie Circlepuke","oui","Absolument pas","Je chante faux mais je m'en fous, j'aime ça !","J'ai quelques notions (mon père est marin), mais je peux me refaire un lexique.","Non",null,null,"Je crois qu'il me reste encore un paquet de carte d'époque et des jeux de dès ancien, il faut que je retrouve ça.","Tu as des allergies alimentaires (à préciser dans la question ci dessous)","Je ne mange pas de porc.","Non","Oui",null,"https://drive.google.com/open?id=139lcA0CK63rglLrKyHjUShzPZtZFbuYZ","Tu participeras tout de même sur la version fort et seras remboursé de 200€"]
["2024-07-23T13:37:47.342",null,null,"","FRACHON","Aurélia",null,"F","aureliafrachon@gmail.com","17bis rue de la République, 77210 Avon","0643592580","1905-12-06","Aurélia Frachon","Oui","7 et 8 juin 2025","Pur PJ, PJ/PNJ (il s'agit d'un moment du GN, le reste du temps tu joues ton perso. Cela concerne le fort))","Navire et fort","Non",null,"1 oui, 2 non","Je n'ai pas envie de parler de viol, mais ok pour BG. ","Aucune (hors viol). ","oui","Combat à l'épée, Combat à mains nues, camaraderie","Je serais avec mon conjoint, nous aimerions jouer ensemble.","Bien plus ! Je suis un Vétéran !","Oui ; ce qui ressort le plus à mes yeux, importance de son équipage (hiérarchie sur le pont, etc.), loyauté (ou traîtrise...), course aux trésors et violence. ","pas encore vu mais tu as hâte de découvrir le charisme exceptionnel de ses perso :D","Entre les deux","Peu d'objectif, je me débrouille en jeu.","Oui","Peu importe","Mon conjoint ; et j'ai également des amis qui ont déjà participé à ce GN, ou pas, qui souhaiteraient être là (à voir la liste des personnes présentes ! Ça fait 15 ans que je joue) ","oui","OUI ! Kendo, AMHE, escrimes artistiques. Ambidextre, plusieurs armes. ","Ouiiiiiiiiiiiiiii !!","Oui, quelques une. Je suis bretonne et aime naviguer. ","Oui et ça me plairait de pratiquer lors du gn","Dessin, macramé, sports et arts martiaux, chant, que sais-je ^^°... (et je suis comédienne irl). ","oui","J'aimerais pouvoir jouer avec mon conjoint, dans le sens qu'il soit entièrement intégré à  mon jeu : Il a déjà fait un GN, mais ça reste un petit piou, je ne veux pas le lâcher dans la nature ^^°.","Tu manges de tout",null,"Oui","Oui",null,"https://drive.google.com/open?id=1bH5eTz1SKaXu8SacIr_TdMhxNXR_iHjV","Tu préfères ne pas participer"]
["2024-07-23T14:29:18.198",null,null,"","Cornu ","Nathan",null,"H","nathancornu@gmail.com","97 RTE de lanleff 22290 plehedel","0646031612","25/01/1995","Nathan cornu","Oui","Les deux dates sont possibles","PNJ","Seulement au fort, Navire et fort, peu importe (si tu as une préférence, coche cette case et ta préférence)",null,null,"1 Non, 2 non","Non aucun\n","Non aucune","Non","Combat à l'épée, Combat à mains nues, Chanter, Danser, Jeux, violence, menaces, chantage, vices, superstition, camaraderie, animations",null,"Bien plus ! Je suis un Vétéran !","Je connais passablement bien","pas encore vu mais tu as hâte de découvrir le charisme exceptionnel de ses perso :D","Sur le devant de la scène","Impliqué autant que possible !!","Modérement","En groupe",null,"oui!","Je suis autodidacte et pratique en GN","Ouiiiiiiiiiiiiiii !!","Très bonne connaissance en langage maritime en general","Oui et je peux apporter du matériel",null,"oui","Je peux apporter un canon","Tu manges de tout",null,"Oui","Oui",null,"https://drive.google.com/open?id=1Zgffes-b1sYm-SxN2fZBWTZHYvXlusfp","Tu participeras tout de même sur la version fort et seras remboursé de 200€"]
["2024-07-24T08:00:44.822",null,null,"","orfeuvre","emilie",null,"F","emilie.orfeuvre@gmail.com","28 rue des fleurs 69500 BRON","0688550880","21/10/1989","Milie oh","Oui","13 et 14 septembre 2025","Pur PJ, PJ/PNJ (il s'agit d'un moment du GN, le reste du temps tu joues ton perso. Cela concerne le fort))","Seulement au fort",null,null,"1 oui, 2 non","RAS","RAS. par contre je n'ai pas grand compétences au sabre ^^","Non","Romance, Joutes verbales/insultes, Jeux, violence, menaces, chantage, vices, camaraderie, animations","J'ai mis celles qui m'attirent le plus! mais les autres sont très séduisantes aussi!\nPour le combat à l'épée ou mains nues ca serait sympa aussi mais c'est moins prioritaire. \nDanser : dans un bal pirate oui (surtout si tous les spectateurs sont bourrés^^)\n seule devant le public je n'ai pas le talent requis.\nChanter? je ne suis pas timide, j'aime chanter mais ne suis pas une diva non plus. \nPareil, dans un bal pirate, chanter pour \"la fête\" pourquoi pas, chanter en tant que \"La chanteuse des mers\"...","Bien plus ! Je suis un Vétéran !","une période, un univers complexe, mêlant violence, romantisme, liberté et dangers.\nDes aventuriers en quête de liberté et indépendance vis à vis des lois et sociétés dès lors.\nUne certaine violence physique et verbale, un monde de force et d'intimidation...\nMais aussi de la camaraderie, de la fraternité au sein d'un équipage, une solidarité au sein du groupe qui conditionnait aussi la réussite\nCa n'empêchait pas les rebellions ou les trahisons, sinon c'est trop simple\nQuelques légendes sur les trésors enfouis \nDes femmes et les intrigues qui s'y associent\nUne grande diversité culturelle, ethnique et religieuse aux sein des pirates\nUn monde complexe et exaltant!\nDes codes et principes mais aussi de l'imprévu","pas encore vu mais tu as hâte de découvrir le charisme exceptionnel de ses perso :D","Sur le devant de la scène","Au coeur de l'intrigue principale.","Oui","Peu importe","je suis ouverte aux rencontres ou à revoir des connaissances","oui","Absolument pas","Je chante faux mais je m'en fous, j'aime ça !","pas plus que ça mais je peux m'y pencher (au moins sur la théorie^^)","Oui et ça me plairait de pratiquer lors du gn","Concours d'insultes absurdes ou subtiles au choix, prononcées d'une voix absolument mélodieuse...\nL'art de la manipulation (en GN je précise)\nlancé de perroquet si on me fourni le perroquet\nje gagne les concours de rôt mais je peux aussi être une belle pirate classe, c'est juste pour montrer aux gars qui commande\nJe peux aussi jeter les pirates inutiles ou insupportables par dessus bord mais par convenance j'éviterai\nJe peux être créative et n'ai pas peur du ridicule (et puis le rhum effacera la mémoire des spectateurs)","oui","épeler mon prénom... mais pas que... en rotant.... mais oui!!\nMon non anniversaire oui, mon anniv c'est le début d'un lonnnnnnnnng mensonge\n\nPlus sérieusement, je suis médecin, dites moi si ca vous intéresse, si y a besoin d'amener du matos... même si en pleine mer si quelqu'un meurt...","Tu es végétarien",null,"Oui","Oui",null,"https://drive.google.com/open?id=1EgO68xzHfy0QqQepDThj9ua--OlX24Ru","Tu participeras tout de même sur la version fort et seras remboursé de 200€"]
["2024-07-25T00:15:36.087",null,null,"","Planquette ","Thomas",null,"H","thomas_atome@hotmail.com","43 rue du président loubet",7.64840623E8,"22/12/1977","Thomas Planquette","Oui","Les deux dates sont possibles","Pur PJ","Navire et fort",null,null,"1 oui, 2 non","Pas de trigger pour moi","Pas de trigger pour moi","Non","Combat à l'épée, Combat à mains nues, Romance, Danser, Jeux, violence, menaces, vices, superstition, camaraderie",null,"Bien plus ! Je suis un Vétéran !","Un peu de connaissance via différentes lectures ou visionnages.  Une période noire où la vie est courte et brutale pourtant avec un certain espoir sans dieu ni maître ","Déja vu mais tu comptes la revoir pour t'immerger un max","Entre les deux","Impliqué autant que possible !!","Modérement","En groupe","Sans connaître la liste finale des participants c'est un peu dur mais je dirais les amis avec qui j'ai déjà joué et avec qui je me sens safe de jouer à certains niveaux d'intensité.  Mais je m'adapte assez bien aux gens en général ","oui","Je suis autodidacte et pratique en GN","Je chante faux mais je m'en fous, j'aime ça !","Connaissance au ras des moules","Oui et ça me plairait de pratiquer lors du gn",null,"oui","Pas spécialement mais ça peut se travailler \n. Je pensais me mettre au yukulele ou toute autre sorte de petite guitare","Tu manges de tout",null,"Oui","Oui","Tu es un gros ronfleur, Tu penses avoir le mal de mer","https://drive.google.com/open?id=1qdmLVxuGURS70nbk0aiZtnEEQD8T-y2h","Tu participeras tout de même sur la version fort et seras remboursé de 200€"]
["2024-07-25T00:47:14.468",null,null,"","Blanchard Quentin","Quentin",null,"H","blanchard.quentin1@gmail.com","9 place des sorbiers 91560 crosne","0676788950","20/10/1992","Quentin Kando","Oui","13 et 14 septembre 2025","PJ/PNJ (il s'agit d'un moment du GN, le reste du temps tu joues ton perso. Cela concerne le fort))","Navire et fort",null,null,"1 oui, 2 non","Non","Non","oui","Combat à l'épée, Combat à mains nues, Jeux, violence, menaces, chantage, camaraderie, animations","Ouvert à tout, selon le déroulement du jeu ","Bien plus ! Je suis un Vétéran !","Non mais d'ici là mais d'ici j'aurais le de me renseigner :)","Tu as déja vu la série","Discret","Impliqué autant que possible !!","Non","Peu importe","Stéphanie Birat","oui!","Je suis autodidacte et pratique en GN","Je chante faux mais je m'en fous, j'aime ça !","Basique","Oui et ça me plairait de pratiquer lors du gn","Je suis ébéniste si besoin... :)","oui","Je dois surement avoir des choses sympas mais à voir, il est encore tôt pour dire ce qui pourrait jouer !","Tu manges de tout",null,"Non","Oui",null,"https://drive.google.com/open?id=1lU0-LO6JP3rCFQwX0FqbZ6Iea4b3TXd-","Tu préfères ne pas participer"]
["2024-07-25T16:17:49.236",null,null,"","Maestracci","Céline",null,"F","celine.gulby.1@gmail.com","119 Rue de Verdun","0688579737","1985-08-05","Gulby Pata","Oui","7 et 8 juin 2025","Pur PJ, PJ/PNJ (il s'agit d'un moment du GN, le reste du temps tu joues ton perso. Cela concerne le fort))","Navire et fort",null,null,"1 oui, 2 oui","A priori, tout me va, en jeu comme dans mon BG, tant que c'est bien établi que c'est IG et pas IRL.","Je me sens pas à l'aise avec l'idée d'être torturé·e, mais pour le reste, je crois que ça va.","Non","Combat à mains nues, Chanter, vices, superstition, camaraderie","Tout me va a priori !","Entre 6 et 10,","OH QUE OUI. C'est un de mes intérêts spécifiques. J'aime beaucoup beaucoup beaucoup étudier les pirates, la marine, l'Histoire et les histoires dans l'Histoire, et l'ambiance qui en ressort c'est avant tout le choix de vivre libre même si c'est vivre peu, plutôt que de livre enchaîné à une patrie et à un monarque qui ne donne pas cher de notre peau. C'est aussi une époque marquée par le commerce des navires d'esclave, et de ce point de vue, je déteste l'Olonnais et préfère largement Barbe-Noire ou Bartholomew Roberts. Mes deux piratesses préférées sont Mary Read et Anne Bonney, déjà parce que je les shipe en tant que couple lesb/transmasc, mais aussi parce qu'elles représentent un affranchissement du joug masculin à travers leurs vies et leur \"signature\" : montrer à leurs ennemis défaits que ce sont des femmes pour rajouter à leur humiliation. Je me suis marié·e sur le thème des pirates, j'adore les chansons de marins, j'aimerais passer mon permis bateau, bref, ce serait le kif.","pas encore vu mais tu as hâte de découvrir le charisme exceptionnel de ses perso :D","Entre les deux","D'avantage sur les quêtes secondaire.","Modérement","Peu importe","Cela fait presque 8 ans que je n'ai participé à aucun GN, je ne sais pas si des genstes que je connais comptent participer ou pas.","oui!","Absolument pas","Ouiiiiiiiiiiiiiii !!","Des connaissances de bases, je sais ce qu'est le grément et la vigie, je sais qu'on appelle les cordes des bouts... Pi... voilà... xD (et qu'une bonne partie de notre argot moderne vient du langage des marins, aussi)","Oui et ça me plairait de pratiquer lors du gn","Oui ! (bon, pas lancer d'autruche, encore que : j'ai fait du lancer de poids.)","oui","Là de suite je ne sais pas, je ne sais même pas si je vais pouvoir me ramener moi, mais j'aimerais vraiment beaucoup beaucoup !","Tu es végétarien","Intolérance aux amandes sous toutes leurs formes (mais pas allergie : juste, j'irai passer 2h aux toilettes à me tordre de douleur)","Non","Oui",null,"https://drive.google.com/open?id=1OPxpwbNOD4GSixQXUpo43Nv7IxDGpFPI","Tu participeras tout de même sur la version fort et seras remboursé de 200€"]
["2024-07-25T18:22:50.735",null,null,"","BRANDELY","Guillaume",null,"H","yom@mythoz.org","3 rue du Château, 31380 Montastruc-la-conseillère","+33661799673","15/09/1973","Guillaume BRANDELY","Oui","7 et 8 juin 2025, 13 et 14 septembre 2025, Les deux dates sont possibles","Pur PJ","Navire et fort",null,null,"1 Non, 2 non","je ne souhaite pas parler de viol en jeu mais que cela soit mentionné dans mon bg ne me pose pas de souci","j'aimerai ne pas avoir a sauter du bateau en pleine mer, pas de soucis pour les combats main nues ou arme blanche","oui","Combat à l'épée, Combat à mains nues, Chanter, Jeux, violence, menaces, chantage, superstition, camaraderie",null,"Bien plus ! Je suis un Vétéran !","peu","Déja vu mais tu comptes la revoir pour t'immerger un max","Entre les deux","Au coeur de l'intrigue principale.","Non","Peu importe","Thomas Planquette","oui","Je suis autodidacte et pratique en GN, J'ai suivi des cours d'escrime (indique ton niveau stp dans la case \"Autre\" ci-dessous si c'est le cas ! :D ), c'était il y a lontemps mais j'ai pratiqué l'escrime, et la canne de combat","Je chante faux mais je m'en fous, j'aime ça !","très peu","Non","malheureusement pas ","oui",null,"Tu manges de tout",null,"Oui","Oui","Tu penses avoir le mal de mer","https://drive.google.com/open?id=16hmIsY50VlbKQp54JjB7lw7pzQWMXsZY","Tu préfères ne pas participer"]
["2024-07-26T12:54:08.974",null,null,"","Birat ","Stéphanie ",null,"F","birat.stephanie@gmail.com","14 rue de Lorraine 16800 Soyaux",6.95850677E8,"24/07/1989","Steph birat","Oui","13 et 14 septembre 2025","PJ/PNJ (il s'agit d'un moment du GN, le reste du temps tu joues ton perso. Cela concerne le fort))","Navire et fort",null,null,"1 oui, 2 non","RAS","RaS","Non","Combat à l'épée, Romance, Jeux, camaraderie, animations","Tout bord, je suis désolé je vous renvoi le formulaire,  j'ai eu le temps de réfléchir un peu et des choses on changé, comme le fait que je suis motivé à participer au GN même si me bateau n'est pas possible. Je n'ai pas trouvé le moyen de lettre mon formulaire à jour. Alors je vous le renvoi, je suis vraimznt désolé pour l'inconvénient. \n\nEt sinon pour les scènes,  c'est comme cela vous arrange, je sais qu'avec beaucoup de monde c'est compliqué.  Il y a pas de soucis.","Entre 6 et 10,","L'aventure,  la liberté, tenter sa chance.","Déja vu mais tu comptes la revoir pour t'immerger un max","Discret","Au coeur de l'intrigue principale.","Non","En groupe",null,"oui!","Je suis autodidacte et pratique en GN, Je commence les cours d'AHME en septembre , du coup ca fera un an de cours d'ici là.","Je chante faux mais je m'en fous, j'aime ça !","Basique","Oui et ça me plairait de pratiquer lors du gn","Je fais pas mal de découpe laser. C'est pratique pour faire des enseignes ou de la déco par exemple.  Sinon les arts and crafts en général. ","oui","Comme je disais si vous avez besoin d'une enseigne pour la taverne ou autre élément de déco.\nSinon je suis conviviale et de bonne humeur , j'aime bien chanter et danser avec tout le monde ","Tu manges de tout",null,"Oui","Oui",null,"https://drive.google.com/open?id=1KZ2lYbjdjuIzui3oNnVspyyK6OyTqryd","Tu participeras tout de même sur la version fort et seras remboursé de 200€"]
["2024-07-27T10:29:17.729",null,null,"lisa.wolfrum@gmail.com","Wolfrum ","Lisa",null,"F","lisa.wolfrum@gmail.com","Clos des Oliviers 26110 Vinsobres","0606506988","1993-05-06","Lisa Julia Wolfrum","Oui","13 et 14 septembre 2025","Pur PJ","Navire et fort",null,null,"1 oui, 2 non","Non :)","Non :)","Non","Romance, Chanter, Jeux, violence, menaces, chantage, vices, superstition, camaraderie","Je connais des chansons en anglais. J’ai pas mal de costumes d’époque pour des rangs sociaux différents (tenue pirate, robe pour femme de noblesse, servante, etc)","Bien plus ! Je suis un Vétéran !","Je joue le GN Jacobite ayant lieu en 1720-1725 ou mon personnage a dû participer à des actes de piraterie contre son gré. Je connais donc pas mal l’histoire d’un point de vue anglo-saxon. Le début du 18eme est l’âge d’or pour les pirates mais aussi pour la marine anglaise et la West India Company et la VoC néerlandaise. J’aimerais énormément jouer sur les valeurs, superstitions, dangers etc. de l’époque. Que ce soit en hors la loi, en traître, esclave, noble, etc.","Tu as déja vu la série","Entre les deux","Au coeur de l'intrigue principale.","Modérement","Peu importe","Thomas Planquette","oui","Je suis autodidacte et pratique en GN","Ouiiiiiiiiiiiiiii !!",null,"Oui et ça me plairait de pratiquer lors du gn","Je peux dessiner et chanter. J’ai aussi des compétences en couture s’il y a des drapeaux de pirate à coudre 😄","oui","Je travaille pour Epic Armoury et je peux apporter quelques truc et bidules qu’on aurait en stock si nécessaire. J’aurais sûrement une valise en soute (je viendrai du Danemark). Sinon j’ai un assortiment de petite fioles, un assez grand livre avec une couverture en cuir (ça pourrait servir comme journal de bord).","Tu manges de tout, Tu as des allergies alimentaires (à préciser dans la question ci dessous)","Fruits de mer 😄 (non pour de vrai)","Non","Non",null,"https://drive.google.com/open?id=1Y9fkfCIWxk99X0XOL7Zp5RXagnNhxrVv","Tu participeras tout de même sur la version fort et seras remboursé de 200€"]
["2024-08-04T18:27:15.042",null,null,"candice.lafosse@gmail.com","Lafosse","Candice",null,"F","candice.lafosse@gmail.com","240 boulevard Voltaire 75011 Paris","0613046704","17/07/1973","Candice Impératrice","Oui","7 et 8 juin 2025","Pur PJ","Navire et fort",null,null,"1 oui, 2 non","Pas de violence sur animaux dont mon perso serait responsable","pas de combats ni de viol ni de violence sur animaux","oui","Romance, Jeux, superstition, camaraderie","Je ne suis pas douée pour jouer les méchantes. ","Bien plus ! Je suis un Vétéran !","Pas de connaissances spéciales","pas encore vu mais tu as hâte de découvrir le charisme exceptionnel de ses perso :D","Entre les deux","Impliqué autant que possible !!","Modérement","En groupe","Thomas Grunemwald","oui","Absolument pas","Je préfère éviter, j'encouragerai les autres en tapant dans les mains ou avec mon godet !","Je suis à l'aise sur un bateau mais pas plus de connaissance que cela","Non","Couture (mais je ne sais pas si ca peut servir)","oui","J'ai eu un très bon retour de Thomas et du coup, on vient tous les 2 pour cette session. Je suis très motivée !","Tu as des allergies alimentaires (à préciser dans la question ci dessous)","champignons et béchamel","Non","Non",null,"https://drive.google.com/open?id=1C79VpYYW8H06dIUgHu12qk7--7bAaGrC","Tu participeras tout de même sur la version fort et seras remboursé de 200€"]
["2024-08-24T00:25:40.079",null,null,"cyril.villalonga@gmail.com","Villalonga","Cyril",null,"H","cyril.villalonga@gmail.com","80B vieux chemin des figons 13510 Eguilles","0603100681","13/10/1974","Cyril Villalonga","Oui","7 et 8 juin 2025","Pur PJ","Navire et fort",null,null,"1 oui, 2 non","RAS","Non. ","oui","Combat à l'épée, Romance, Jeux, camaraderie","Nqn. ","Bien plus ! Je suis un Vétéran !","Un savant chaos rempli de camaraderie et de trahisons ","Déja vu mais tu comptes la revoir pour t'immerger un max","Sur le devant de la scène","Au coeur de l'intrigue principale.","Oui","En groupe",null,"oui","Je suis autodidacte et pratique en GN","Je chante faux mais je m'en fous, j'aime ça !","L'univers, l'histoire .... ","Oui et ça me plairait de pratiquer lors du gn",null,"oui","Oui, je dois bien avoir un faux canon, ou des trucs comme ça ;) ","Tu manges de tout",null,"Non","Oui","Tu es un gros ronfleur","https://drive.google.com/open?id=1B86iCybLjtd_vdYumbD34icJ25ZTigzH","Tu participeras tout de même sur la version fort et seras remboursé de 200€"]
["2024-09-05T14:43:51.464",null,null,"olivier.lallier@gmail.com","Lallier","Olivier",null,"H","olivier.lallier@gmail.com","46 rue du laurencon 77600 conches","0627213127","1973-10-05","Olivier sailoff","Oui","7 et 8 juin 2025","Pur PJ, PJ/PNJ (il s'agit d'un moment du GN, le reste du temps tu joues ton perso. Cela concerne le fort))","Navire et fort, peu importe (si tu as une préférence, coche cette case et ta préférence)",null,null,"1 oui, 2 non","Je prefere ne pas jouer les troufions. Ni des personnes maltraitees. J’ai un certain age et j’aimerais un role qui corresponde a cet age, meme si un vagabond en fait partie.","Aucun","oui","Combat à l'épée, Combat à mains nues, Romance, Joutes verbales/insultes, Chanter, Danser, Jeux, violence, menaces, chantage, vices, superstition, camaraderie","En ce qui concerne les animations je peux faire certaines choses comme guitare ukulele harmonica jonglerie mais cela necessite un reentrainement preliminaire","Bien plus ! Je suis un Vétéran !","Revolte au depart de marins demunis et fraternels, puis marketing de la peur et forbands. Neanmoins une vraie societe a anarchiste avec des principes initiaux forts.","Tu as déja vu la série","Entre les deux","Au coeur de l'intrigue principale.","Modérement","Peu importe","Ma compagne nawel bouhedja\nSi elle participe et mon frere frederic lallier","oui","Je suis autodidacte et pratique en GN, J'ai suivi des cours d'escrime (indique ton niveau stp dans la case \"Autre\" ci-dessous si c'est le cas ! :D ), 2 ans d’escrime","Ouiiiiiiiiiiiiiii !!","J’ai vecu sur un voilier","Oui et ça me plairait de pratiquer lors du gn","Dessin, musique moyennant un peu d’entrainement (voir instruments cites plus haut), jonglerie, ","oui","La distance est la difficulté mais sur le principe j’ai quelques coffres","Tu manges de tout","Non","Oui","Oui",null,"https://drive.google.com/open?id=1h4jJcl7KdLM6WbLoIY3MFSdX4l8U_Mbj","Tu participeras tout de même sur la version fort et seras remboursé de 200€"]
["2024-09-05T22:25:27.019",null,null,"gregoire.lefebvre38@gmail.com","Lefebvre ","Gregoire ",null,"H","gregoire.lefebvre38@gmail.com","85 rue Saint Marc Orléans ","0615337655","1973-02-23","Grégoire Lefebvre ","Oui","7 et 8 juin 2025","PJ/PNJ (il s'agit d'un moment du GN, le reste du temps tu joues ton perso. Cela concerne le fort))","peu importe (si tu as une préférence, coche cette case et ta préférence)",null,null,"1 oui, 2 non","Aucun sujet","Aucune situation si répét préalable ","Non","Romance, Joutes verbales/insultes, Chanter, Danser, Jeux, violence, menaces, chantage, vices, superstition, camaraderie, animations","Je ne suis pas porté combat :)","Bien plus ! Je suis un Vétéran !","Rien ne sort de mes yeux ! ....quelques perles parfois !","Déja vu mais tu comptes la revoir pour t'immerger un max","Sur le devant de la scène","Peu d'objectif, je me débrouille en jeu.","Oui","Peu importe",null,"oui","Absolument pas","Je chante faux mais je m'en fous, j'aime ça !","Hobie cat","oui et je peux même animer","A base de n'importe quoi, tout est possible ","oui","Ravi d'être à bord ! ","Tu manges de tout",null,"Oui","Oui",null,"https://drive.google.com/open?id=12LVyCEbKDJh-aZ54pj01muF61aGw0U-A","Tu participeras tout de même sur la version fort et seras remboursé de 200€"]
["2024-09-06T20:36:03.079",null,null,"pbm.vadot@gmail.com","Vadot","Pauline",null,"F","pbm.vadot@gmail.com","42 rue des Péjoces Dijon","0782744346","19/09/2004","Pauline vadot","Non","7 et 8 juin 2025","PJ/PNJ (il s'agit d'un moment du GN, le reste du temps tu joues ton perso. Cela concerne le fort))","Navire et fort","Non",null,"1 oui, 2 non","Non","Non","oui","Combat à l'épée, Romance, Joutes verbales/insultes, Danser, menaces, chantage, camaraderie",null,"Entre 1 et 5,","Oui les connaissances de base","pas encore vu mais tu as hâte de découvrir le charisme exceptionnel de ses perso :D","Entre les deux","Impliqué autant que possible !!","Oui","Peu importe","Non","oui","J'ai appris de mes parents GNistes","Je chante faux mais je m'en fous, j'aime ça !","Sur l'orientation en mer un peu mais assez peu sur le vocabulaire plus poussé de l'anatomie du bateau","Oui et ça me plairait de pratiquer lors du gn","J'aime danser même si je n'ai jamais pris de cours et je peux relativement bien dessiner (je peux faire des portaits sans probleme)","oui","Je peux jouer des morceaux de pirates au piano si on me les transmet assez tot pour que j'ai le temps de les apprendre","Tu es végétarien",null,"Non","Oui","Tu es un gros ronfleur","https://drive.google.com/open?id=1n1PF-y1R5NllQSlKCknqjjjTNPhRY5zu","Tu participeras tout de même sur la version fort et seras remboursé de 200€"]
["2024-09-07T13:01:34.300",null,null,"abbe.valentin@gmail.com","Abbé","Valentin ",null,"H","abbe.valentin@gmail.com","187A rue de la Touviere 74540 Saint-Felix","0621641087","1993-09-05","Abbé Valentin","Oui","7 et 8 juin 2025","Pur PJ","Seulement au fort","Non","Cela ne me pose pas de problème de changer de perso","1 Non, 2 non","Non","Non","Non","Combat à l'épée, Joutes verbales/insultes, Chanter, Jeux, violence, menaces, chantage, vices, superstition, camaraderie, animations",null,"Entre 1 et 5,","Oui","Tu as déja vu la série","Entre les deux","Peu d'objectif, je me débrouille en jeu.",null,"Peu importe",null,"oui","Je suis autodidacte et pratique en GN","Ouiiiiiiiiiiiiiii !!",null,"Non",null,null,"Musicien - Lépala avec James Hawkins","Tu manges de tout, Tu es allergique à l'eau !",null,"Oui","Oui","Tu es un gros ronfleur","https://drive.google.com/open?id=15-SZBdbV6Wxv_lorS81pohCidcnUOkl4","Tu participeras tout de même sur la version fort et seras remboursé de 200€"]
["2024-09-08T10:27:19.884",null,null,"dr.grunemwald@gmail.com","grunemwald","thomas",null,"H","virtualthomas@yahoo.fr","88 RUE DE LA FOLIE MERICOURT","0630609519","1974-10-10","thomas grunemwald","Oui","7 et 8 juin 2025","Pur PJ","Navire et fort","Non","Cela ne me pose pas de problème de changer de perso","1 oui, 2 oui, 2 non","non","non","Non","Romance, Jeux, vices, superstition, camaraderie",null,"Bien plus ! Je suis un Vétéran !","j'ai adoré l'opus un et je souhaite revivre une expérience de ce type","pas encore vu mais tu as hâte de découvrir le charisme exceptionnel de ses perso :D","Entre les deux","D'avantage sur les quêtes secondaire.","Non","En groupe","Candice Lafosse, et d'autres parisiens, pour pouvoir se retrouver avant","oui","Absolument pas","Je chante faux mais je m'en fous, j'aime ça !","quelques unes","Non","non","oui","non","Tu es végétarien",null,"Oui","Oui",null,"https://drive.google.com/open?id=1iYXo6hXQfgaK_W_L2LigKU8OzKytVEVa","Tu participeras tout de même sur la version fort et seras remboursé de 200€"]
["2024-09-09T17:08:16.669",null,null,"robin.nicolet@gadz.org","Nicolet","Robin",null,"H","robin.nicolet@gadz.org","6 impasse des Lavandes 13700 Marignane","0615493964","1990-07-05","Robin NCLT","Oui","7 et 8 juin 2025","Pur PJ","Navire et fort",null,null,"1 oui, 2 non","Aucun soucis","Aucun soucis ","Non","Combat à l'épée, Combat à mains nues, Jeux, violence, menaces, chantage, vices, camaraderie",null,"Bien plus ! Je suis un Vétéran !","Je ne suis pas un expert mais pour moi la piraterie est un mélange assez fou de notions presques antagonistes.\nIl y a l'esprit de liberté auquel tout le monde pense en général, la volonté de suivre ses propres règles. Mais même si elle reste vraie, cette idée s'oppose au fait que dans de nombreux cas la piraterie n'était pas un choix : entre les cas où on forçait la main à un équipage capturé de devenir pirate (surtout pour les savoir faire clefs type médecin, charpentier, ..), ou encore les cas où le manque de travail, le fait de ne pas recevoir sa solde poussait les marins à changer de vie.\nEnsuite il y a l'ambiance folle et désinvolte des pirates, mais celle ci était en réalité plutôt à terre car sur le navire il fallait conserver une rigueur militaire (pas difficile puisque la plupart des pirates étaient en fait d'anciens marins militaires). Sur le bateau une loi dure était en place pour assurer la survie de l'équipage car a l'époque vivre sur mer était un défi immense et le moindre faux pas ou brebis galeuse dans l'équipage pouvait condamner tout le monde donc le capitaine se devait d'être intransigeant et même d'exécuter le moindre signe de mutinerie.\nMais en dehors de ça vivre sur un navire rapproche forcément et un vrai esprit de camaraderie existait à bord (du moins entre les mêmes \"strates\" : les gradés d'un côté avec capitaine, second, bosco, ... Et l'équipage de l'autre bien que le bosco faisait justement le lien).\nBref on pourrait en parler pendant des heures, la période est fascinante sur de nombreux points ^^","Déja vu mais tu comptes la revoir pour t'immerger un max","Sur le devant de la scène","Impliqué autant que possible !!","Oui","En groupe","Jean-Yves Lucarelli et Florence Arvin","oui","Je suis autodidacte et pratique en GN, J'ai suivi des cours d'escrime (indique ton niveau stp dans la case \"Autre\" ci-dessous si c'est le cas ! :D ), Les cours d'escrime sont loins, j'ai passé 1 ou 2 blasons au sabre quand j'étais plus jeune","Je chante faux mais je m'en fous, j'aime ça !","Je ne suis pas capable de naviguer seul mais je fais régulièrement des sorties en mer sur des voiliers avec des amis donc oui j'ai un socle de connaissances de navigation ","Non",null,"oui",null,"Tu manges de tout",null,"Oui","Non",null,"https://drive.google.com/open?id=1VSarQV24C4rfgv_YNibqVfPFj9UA9ecA","Tu participeras tout de même sur la version fort et seras remboursé de 200€"]
["2024-09-09T21:51:56.768",null,null,"eluriel9@gmail.com","Guex","Benjamin",null,"H","benji91@netplus.ch","Ch. de la Rasse 17, 1921 Martigny-Croix, Suisse","+41792687562","09.05.1991","benjamin.guex","Oui","7 et 8 juin 2025","Pur PJ, PJ/PNJ (il s'agit d'un moment du GN, le reste du temps tu joues ton perso. Cela concerne le fort))","Navire et fort",null,null,"1 oui, 2 oui, 2 non","Rien de spécial","Rien de spécial","Non","Combat à l'épée, Romance, Joutes verbales/insultes, Jeux, menaces, chantage, vices, superstition, camaraderie","Assez ouvert à plein de propositions","Bien plus ! Je suis un Vétéran !","Une ambiance de liberté, d'aventure et de rébellion, où les pirates défient les lois et les puissances impériales en quête de richesse et d'aventures","pas encore vu mais tu as hâte de découvrir le charisme exceptionnel de ses perso :D","Entre les deux","Au coeur de l'intrigue principale.","Modérement","Peu importe",null,"oui!","Je suis autodidacte et pratique en GN","Ouiiiiiiiiiiiiiii !!","Je peux apprendre ;)","Oui et ça me plairait de pratiquer lors du gn",null,"oui","Là comme ça, j'ai pas d'idées","Tu manges de tout",null,"Oui","Non","Tu es un gros ronfleur","https://drive.google.com/open?id=1v56rPyb8iZkkX-rNmwMyzpEDHqAwXUL4","Tu préfères ne pas participer"]
["2024-09-13T12:53:38.250",null,null,"nawelbouhedja2000@gmail.com","Bouhedja ","Nawel",null,"F","nawelbouhedja2000@gmail.com","2A rue de Cernay 95130 Franconville ","0650643633","16/07/1978","Nawel Land","Oui","7 et 8 juin 2025","Pur PJ","Navire et fort","Non","Cela ne me pose pas de problème de changer de perso","1 oui, 2 non","RAS","RAS","oui","Combat à mains nues, Romance, Chanter, Danser, Jeux, chantage, superstition, camaraderie","Je souhaiterai seulement une scène de romance avec mon compagnon de vie : Olivier Lallier si possible ","Entre 1 et 5,","Il y a eu beaucoup de vol sur les ports et en haute mer, de meurtres et de violence","pas encore vu mais tu as hâte de découvrir le charisme exceptionnel de ses perso :D","Entre les deux","D'avantage sur les quêtes secondaire.","Modérement","Peu importe","Oui mon compagnon de vie Olivier Lallier et mon beau frère Frederic Lallier ","oui","Absolument pas","Ouiiiiiiiiiiiiiii !!","Pas encore je m’y metterai ","Non","Rhum arrangé lol, chant, artiste peintre abstrait ","oui","Pas d’idée à cet heure ci mais j’y réfléchirai ","Tu manges de tout","Non ","Oui","Oui",null,"https://drive.google.com/open?id=1bVJJwsX7c2DRlK8ojkaS_ycptwdJIQ3s","Tu participeras tout de même sur la version fort et seras remboursé de 200€"]
["2024-09-14T20:53:40.504",null,null,"besnardau@gmail.com","Besnard","Audrey",null,"F","besnardau@gmail.com","7 rue Christian Dewet, 75012 Paris","0678718660","17/02/1987","Audrey Besnard","Oui","Les deux dates sont possibles","Pur PJ","Navire et fort",null,null,"1 oui, 2 non","Je ne souhaite plus jouer la personne amoureuse de quelqu'un qui s'est fiancé/marié/mis en couple avec un.e autre et qui va devoir les regarder vivre leur bonheur !","Je n'aime pas être seule contre tous, et je n’aime pas être seule tout court, via un personnage isolé. J’aime avoir des liens forts avec un ou plusieurs autres PJ (amicaux, familiaux, romantiques…) De même, bien que je sois prête à subir beaucoup, j'ai besoin d'un soutien, ou d'une lueur d'espoir. Je n'aime pas enchaîner les déboires sans cesse et sans un seul point positif. J'ai du mal avec le sentiment d'abandon. Ca peut être joué, et même donner des choses intéressantes, mais je préfère qu'il y ait du positif derrière (exemple : un BG où il y a eu cela, pour mieux pallier à ce manque après en se trouvant un groupe qui nous accepte). De même, j'ai du mal avec l'injustice (exemple : si je joue un perso droit mais qui va se faire complètement avoir et finira mal là où ceux qui l'auront roulé dans la farine s'en sortiront tranquillement, ça m'est parfois difficile, mais si je suis bien préparée, ça n'est pas insurmontable).\nJ’aime bien également sentir que j’ai un lien avec l’histoire, et même idéalement, avoir quelque chose à y apporter, aussi minime soit-il. Je n’aime pas trop les rôles où j’ai l’impression que, que le PJ soit là ou non, ça ne changera absolument rien.\nEt globalement, j'aime être bien occupée et courir partout (mais pas forcément tout diriger).\nJe n’ai rien contre jouer des rôles sous les feux de la rampe, mais je n’aime pas jouer les perso cherchant le pouvoir. Je préfère largement jouer ceux sur qui ça tombe et qui doivent faire avec. Ce que je ne veux clairement plus : être la dirigeante qui devra gérer tous les soucis impliqués par le scénario (sur lesquels elle n’aura pas forcément de prise au final) et s’en prendra plein le dos à cause de cela, et que l’entourage peu fiable n’aura de cesse de trahir.","oui","Romance, camaraderie","Je peux danser ou chanter (et même m'accompagner d'un ukulélé à l'allure de luth) au besoin. Je ne souhaite pas particulièrement le faire, mais je n'ai aucun souci non plus à le faire. ","Bien plus ! Je suis un Vétéran !","Je n'ai pas particulièrement de connaissances, mais je suis prête à étudier le sujet.","Déja vu mais tu comptes la revoir pour t'immerger un max","Entre les deux","Impliqué autant que possible !!","Modérement","En groupe","Bruno Richet","oui","Absolument pas","Ouiiiiiiiiiiiiiii !!",null,"Non","J'en avais parlé au dessus : je peux chanter (et m'accompagner d'un instrument) et je peux danser au besoin.","oui","Je pourrais parler de ma queue de sirène mais je ne pense pas qu'il y ait de sirène dans ce jeu :p Sinon, pas de souci à amener mon ukuléluth, et j'ai aussi une lyre que je peux amener.","Tu manges de tout",null,"Non",null,null,"https://drive.google.com/open?id=1x5qOiQBH24CWoWSxt3LbswwgyUxzBC0p","Tu préfères ne pas participer"]
["2024-09-14T21:24:40.854",null,null,"macfly.bruno@gmail.com","Richet ","Bruno",null,"H","macfly.bruno@gmail.com","30 avenue de la gare ","0660745209","30/03/1973","Bruno Macfly","Oui","13 et 14 septembre 2025, Les deux dates sont possibles","Pur PJ","Navire et fort",null,null,"1 oui","Tout va bien ","Rien de spécial ","oui","Combat à l'épée, Combat à mains nues, Romance, Joutes verbales/insultes","Je souhaite prendre ma revanche sur le witcher et ne pas mourir de suite ;) bien envie d'être des vôtres ","Bien plus ! Je suis un Vétéran !","Corsaire, flibustier, ou pirate, de quoi parlons nous très chère ? :)","Tu as déja vu la série","Sur le devant de la scène","Au coeur de l'intrigue principale.","Oui","Peu importe","Peu importe","oui","Je suis autodidacte et pratique en GN","Je préfère éviter, j'encouragerai les autres en tapant dans les mains ou avec mon godet !","J'ai eu voilier et bateaux moteur, plus permis, donc je gère de la fougère","Non","La créativité et imaginations ça compte ?!","oui","J'ai plusieurs vieux jeux et suis capable d'investir sur des éléments poyr le jeu","Tu manges de tout","Les cons","Oui","Oui","Tu es un gros ronfleur","https://drive.google.com/open?id=1tIWHfM4Vrxg1vQZXNb-2flPp26npHBq3","Tu préfères ne pas participer"]
["2024-09-16T17:58:26.824",null,null,"dylan.picq@gmail.com","Picq","Dylan",null,"H","dylanp.yg@live.fr","6 impasse Laurendon 33000 Bordeaux","0680536919","20/08/1990","Dylan Picq","Oui","7 et 8 juin 2025","Pur PJ, PJ/PNJ (il s'agit d'un moment du GN, le reste du temps tu joues ton perso. Cela concerne le fort))","Seulement au fort",null,null,"1 oui, 2 non","Je ne souhaite pas jouer de romance. Pas de problème pour jouer un personnage marié/en couple je pense ? Mais pas d'intrigue à base de séduction ou d'amants  maudits !","Pas de scène de romance.","Non","menaces, chantage, vices, superstition, camaraderie","J'ai participé à 3 GN et j'ai toujours été le gars bien, responsable et fiable. J'aimerais essayer autre chose !","Entre 1 et 5,","Romans, films... pas de connaissances historiques poussées !","pas encore vu mais tu as hâte de découvrir le charisme exceptionnel de ses perso :D","Entre les deux","D'avantage sur les quêtes secondaire.","Oui","Peu importe","On laisse faire le hasard !","oui","Absolument pas","Je chante faux mais je m'en fous, j'aime ça !","Très peu !","Non","Je dessine un peu, j'ai beaucoup aimé faire mon blason sur tissu pour mon dernier GN","oui","J'ai un coffre en bois vermoulu si ça vous dit !","Tu manges de tout",null,"Oui","Oui",null,"https://drive.google.com/open?id=1XyNcdjlnTBVTXY2ZxKOZ6oJRqU9FAyia"]
["2024-09-16T20:29:30.055",null,null,"pierre.dejarnac@gmail.com","Dejarnac ","Pierre ",null,"H","pierre.dejarnac@gmail.com","222 rue de Suzon\nRésidence le Voltaire appt 256","0610366894","30/03/1987","Pierre Dejarnac ","Oui","7 et 8 juin 2025","Pur PJ","Navire et fort, peu importe (si tu as une préférence, coche cette case et ta préférence)",null,null,"1 oui, 2 non","Non","Je suis pas forcément à l'aise à danser ou chanter.","oui","Romance, Jeux, superstition",null,"Entre 1 et 5,","J'aime bcq cette période et ai lu beaucoup d'ouvrages (fiction et docu) sur cette période. J'ai pu travailler sur l'aspect utopie dans l'imaginaire pirate au lycée. J'ai egalement envisage cette spécialité pour mon cursus d'archeologie. L'ambiance que j'en garde c'est une ambiance de révolte envers les conditions des marins de l'époque. L'envie d'autre chose et d'indépendance malgré un respect de la hiérarchie sur les navires et d équité entre les hommes.","pas encore vu mais tu as hâte de découvrir le charisme exceptionnel de ses perso :D","Entre les deux","Impliqué autant que possible !!","Modérement","Peu importe",null,"oui","J'ai suivi des cours d'escrime (indique ton niveau stp dans la case \"Autre\" ci-dessous si c'est le cas ! :D ), J'ai suivi des cours d'escrime ado pendant 1 an et fais du sabre laser pendant 1 an il y a quelques annees","Je préfère éviter, j'encouragerai les autres en tapant dans les mains ou avec mon godet !","Débutant mais quelques notions ","Oui et ça me plairait de pratiquer lors du gn","Prestidigitation close up cartes principalement. Dessin un peu","oui",null,"Tu manges de tout",null,"Oui","Oui","Tu es un gros ronfleur","https://drive.google.com/open?id=153f6__WcFtmNzJHDvhxeC0KqCBdvFiFN","Tu participeras tout de même sur la version fort et seras remboursé de 200€"]
["2024-09-16T22:46:54.968",null,null,"liosemp@gmail.com","Sempéré","Lionel",null,"H","semplio@hotmail.fr","12 rue d'Arcachon 31200 Toulouse","0687966454","14/09/1988","Lio Nel","Oui","7 et 8 juin 2025","Pur PJ, PJ/PNJ (il s'agit d'un moment du GN, le reste du temps tu joues ton perso. Cela concerne le fort))","Seulement au fort",null,null,"1 oui, 2 oui, 2 non","En BG aucun sujet tabou. En jeu dans le cadre des discussions pas de tabous non plus.","Aucun soucis pour les combats armés ou non. Pas de romance tactile. Pas de VSS simulée et pas de légitimation du racisme.","Non","Combat à l'épée, Combat à mains nues, Romance, menaces, chantage, vices, superstition",null,"Entre 1 et 5,","Des connaissances de base. Le croisement entre l'essor du commerce triangulaire, le développement du colonialisme, les injustices sociales et les rigueurs du voyage en mer ont incité certaines personnes à sortir du cadre de la légalité pour trouver une nouvelle forme de liberté. À la vie déjà difficile en mer ne devait pas s'ajouter les inégalités de traitement issues de l'ordre social des puissances coloniales.","pas encore vu mais tu as hâte de découvrir le charisme exceptionnel de ses perso :D","Entre les deux","D'avantage sur les quêtes secondaire.","Modérement","Peu importe",null,"oui!","J'ai suivi des cours d'escrime (indique ton niveau stp dans la case \"Autre\" ci-dessous si c'est le cas ! :D ), Deux ans de sabre-laser, deux de gladiature, pratique loisir de l'escrime ludique depuis quelques années. Je n'ai pas de niveau pro mais je me débrouille généralement plutôt bien en duel et sur le champ de bataille en général ^^","Je chante faux mais je m'en fous, j'aime ça !","Nope","Non","Artistique au sens large, je pratique la boxe thaï depuis plusieurs années. Je donne quelques cours en asso (pur loisir). J'ai fait un peu de combat chorégraphié en Kung-fu mais ça remonte à loin ^^'","oui",null,"Tu es végétarien",null,"Non","Oui",null,"https://drive.google.com/open?id=1wplNXR4y_O2FibqGHW84cf0zkXxxaquu","Tu participeras tout de même sur la version fort et seras remboursé de 200€"]
["2024-09-18T09:22:11.230",null,null,"tsoline30@gmail.com","Testard ","Soline ",null,"F","tsoline30@gmail.com","101 chemin des hauts de St Joseph 30130 Pont-saint-esprit ",7.60113818E8,"27/08/90","Soline Yggdrasil ","Oui","Les deux dates sont possibles","Pur PJ, PJ/PNJ (il s'agit d'un moment du GN, le reste du temps tu joues ton perso. Cela concerne le fort))","Navire et fort",null,null,"1 oui, 2 non","Aucun souci","J'aime bien tout globalement : je cherche à m'améliorer sur la romance quand je peux (je suis nulle) mais par contre j'adore les combats ! Armée d'une lame ou à mains nues : tout me va !\n\nEn revanche j'ai plus de mal à jouer des perso racistes et je prends moins de plaisir à jouer des traitres","oui","Combat à l'épée, Combat à mains nues, Romance, Jeux, violence, camaraderie, animations","Danser et chanter ok mais uniquement en groupe !","Bien plus ! Je suis un Vétéran !","Pour moi,  je l'imagine bien comme dans la (superbe) série Black Sails !! \nEdit : ah super,  on en parle dans la question suivante en plus !!! <3","Déja vu mais tu comptes la revoir pour t'immerger un max","Entre les deux","Impliqué autant que possible !!","Oui","En groupe","Oui ! Mais je me dis que ce serait bien de changer pour vivre cette avanture à fond ! Donc je ne citerais personne :)","oui","Je suis autodidacte et pratique en GN","Je chante faux mais je m'en fous, j'aime ça !","Non mais j'apprends vite !","Oui et ça me plairait de pratiquer lors du gn","Lancer de haches, ça compte ? 🥰\nSinon j'ai bien ma danse avec le fouet si besoin ou même des éventails lumineux ou même encore des ailes à led 😁","oui","J'ai du petit decorum (bijoux/boîte en fer version pirate/ etc...) \nJ'ai le Hnefatafl mais c'est plus viking (il date du IVeme siecle). Sinon j'ai divers jeux en bois qui peuvent être amusants pour l'ambiance","Tu manges de tout","Aucune","Oui","Oui",null,"https://drive.google.com/open?id=1pKRrb2WopNUPUez7ltf3eAbJWh-RYaUg","Tu participeras tout de même sur la version fort et seras remboursé de 200€"]
["2024-09-18T09:44:05.035",null,null,"romain.chapelon@gmail.com","Chapelon ","Romain ",null,"H","romain.chapelon@gmail.com","43 rue du 19 mars 1962 30130 Pont Saint Esprit ",6.32456597E8,"18/09/1994","Romain Chapelon ","Oui","Les deux dates sont possibles","Pur PJ","peu importe (si tu as une préférence, coche cette case et ta préférence)",null,null,"1 oui, 2 non","Peu importe ","Peu importe ","oui","Combat à l'épée, Combat à mains nues, Romance, violence, menaces, chantage, vices, superstition, camaraderie",null,"Bien plus ! Je suis un Vétéran !","Un peu ","pas encore vu mais tu as hâte de découvrir le charisme exceptionnel de ses perso :D","Entre les deux","Au coeur de l'intrigue principale.","Oui","En groupe",null,"oui","Je suis autodidacte et pratique en GN","Je chante faux mais je m'en fous, j'aime ça !",null,"Non",null,"oui",null,"Tu manges de tout",null,"Non","Non",null,"https://drive.google.com/open?id=1NBLzFjlm4N_IavWbp78ZBjrUPYEQIkgU","Tu participeras tout de même sur la version fort et seras remboursé de 200€"]
["2024-09-18T14:31:14.676",null,null,"jegonday1212@gmail.com","Jegonday ","Xavier",null,"H","Xavier.jegonday@hotmail.fr","1 avenue Paul Langevin\nAppartement 59","0786189956","12/12/1992","Kurai Ketsurui","Oui","Les deux dates sont possibles","Pur PJ","Navire et fort",null,null,"1 Non, 2 non","Je ne serais pas à l'aise de jouer une personne féminin(e) ou axé sur orientation sexuelle autre, à part cela vous êtes totalement libre n'hésitez pas à franchir les tabous :)","J'évite les combats au corps a corps pour le bien de tous, j'ai du mal à retenir ma force bien que cela ne pose aucun souci a distance (Arc , pistolet par exemple)","oui","Combat à mains nues, Romance, Joutes verbales/insultes, Chanter, Danser, Jeux, violence, menaces, chantage, vices, superstition, camaraderie, animations","Je suis friand du commerce ou marchandage ","Bien plus ! Je suis un Vétéran !","Sur la piraterie historique j'y vois une période axée en plusieurs thèmes selon les points de vues , concernant les pirates j'y vois des équipages sous aucune bannière définitive, des équipages soudés en quête de richesses, de plaisirs et de gloire, guidés par un instinct de liberté. Pour les civils, des hors la loi qui ne sont bon qu'à dépenser et piller selon leurs envies du moment , des êtres imprévisibles. Pour les instances de pouvoir , une force militaire semblable a des mercenaires qui pouvait faire pencher la balance a l'échelle de conflits, enfin pour les commerçant, une terreur sans nom qui annonçaient que pertes et désolation. Pour ma part, c'était un véritable âge où choisir son camp avait un sens, sous une bannière ou une autre, afin de rester libre, et la trahison était monnaie courante.","pas encore vu mais tu as hâte de découvrir le charisme exceptionnel de ses perso :D","Entre les deux","D'avantage sur les quêtes secondaire.","Oui","En groupe","Soline Testard, Romain Chapelon , Florian Chamontin ","oui","J'ai la connaissance des armes liées au Kung Fu, bien que j'évite de m'en servir","Ouiiiiiiiiiiiiiii !!","Je peux apprendre d'ici là !","Oui et ça me plairait de pratiquer lors du gn","Je sais faire de la guitare et de la percussion en tout genre ","oui","Ça peux se réfléchir en amont car nous avons une association de GN avec Soline Testard et Florian Chamontin ","Tu manges de tout, Tu es allergique à l'eau !",null,"Non","Oui","Tu es un gros ronfleur","https://drive.google.com/open?id=14k_X6RYYfkBcab4Pqi5dolLLn8DCnolU","Tu participeras tout de même sur la version fort et seras remboursé de 200€"]
["2024-09-18T15:00:34.794",null,null,"amelia.bonfy@gmail.com","Bonfy","Amélia ",null,"F","Amelia.Bonfy@gmail.com","14 rue André thomé 30200 Bagnols-sur-cèze ",6.81619704E8,"05/09/1993","Bonfy Amélia","Oui","Les deux dates sont possibles","Pur PJ","Navire et fort",null,null,"1 Non, 2 non","Le viol, ni en parler, ni dan son BG","Les combats de sabres","Non","Combat à mains nues, Romance, Joutes verbales/insultes, Jeux, violence, menaces, camaraderie",null,"Bien plus ! Je suis un Vétéran !","Chasse aux trésors, combats au pistolets, bataille naval, mutineries","pas encore vu mais tu as hâte de découvrir le charisme exceptionnel de ses perso :D","Entre les deux","Impliqué autant que possible !!","Modérement","En groupe","Soline Yggdrasil testard","oui","Je suis autodidacte et pratique en GN","Je chante faux mais je m'en fous, j'aime ça !","Bâbord et tribor, ça compte ? 🤔 ","Oui et ça me plairait de pratiquer lors du gn","Nop, pas plus que ça ","oui",null,"Tu manges de tout, Tu es allergique à l'eau !",null,"Non","Oui","Tu penses avoir le mal de mer","https://drive.google.com/open?id=1kBVW3fQiEtQEnG_Hr-GAFTmj8yssgLs_","Tu participeras tout de même sur la version fort et seras remboursé de 200€"]
["2024-09-18T17:25:47.046",null,null,"florianchamontin@gmail.com","Chamontin","Florian",null,"H","chamontinflorian@hotmail.fr","21 rue des coquelicots 26700 Pierrelatte","0604422064","24/11/1995","Florian Chamontin","Oui","Les deux dates sont possibles","Pur PJ","Navire et fort",null,null,"1 oui, 2 non","non","non","Non","Combat à l'épée, Combat à mains nues, Chanter, Danser, Jeux, superstition, camaraderie",null,"Bien plus ! Je suis un Vétéran !","pas vraiment, juste que tout ce beau monde s'en mettait joyeusement plein la gueule","pas encore vu mais tu as hâte de découvrir le charisme exceptionnel de ses perso :D","Entre les deux","D'avantage sur les quêtes secondaire.","Modérement","Peu importe","Soline Testard","oui","Je suis autodidacte et pratique en GN","Je chante faux mais je m'en fous, j'aime ça !","pas du tout","Non",null,"oui",null,"Tu manges de tout",null,"Non","Oui","Tu penses avoir le mal de mer","https://drive.google.com/open?id=1wz-s6XH1A7CMvuqwePX1RG8gnajrCu3N","Tu participeras tout de même sur la version fort et seras remboursé de 200€"]
["2024-09-20T12:50:40.410",null,null,"tom.bonaventure.mayor@gmail.com","Mayor ","Tom Bonaventure ",null,"H","tom.bonaventure.mayor@gmail.com","18 rue Jean-Violette, 1205 Genève ","+41 77 268 19 97","19/04/1997","Tom Bonaventure ","Oui","Les deux dates sont possibles","Pur PJ","Navire et fort",null,null,"1 oui, 2 oui, 2 non","Aucun","Aucune","Non","Combat à l'épée, Combat à mains nues, Romance, Joutes verbales/insultes, violence, menaces, camaraderie, animations",null,"Bien plus ! Je suis un Vétéran !","Oui j’ai de nombreuses connaissances sur ce sujet. Une envie de liberté, d’aventure, d’équité et de justice. De richesse et d’émancipation.","Tu as déja vu la série","Sur le devant de la scène","Impliqué autant que possible !!","Modérement","Peu importe","J’ignore encore qui participe ","oui!","Je suis autodidacte et pratique en GN, Je pratique de l’escrime de spectacle, je m’entraîne souvent avec des escrimeurs. J’ai suis une fine lame je crois.","Je chante faux mais je m'en fous, j'aime ça !","Un peu et je peux apprendre!","Oui et ça me plairait de pratiquer lors du gn","J’ai beaucoup de créativité, quelques compétences en dessin et en scénographie.","oui","J’ai beaucoup de décoration et d’accessoires ","Tu as des allergies alimentaires (à préciser dans la question ci dessous)","Poivrons ","Non","Oui",null,"https://drive.google.com/open?id=1sMDRubVaq7XXxou9JUWIWjXGwr5nDgfI","Tu participeras tout de même sur la version fort et seras remboursé de 200€"]
["2024-09-20T13:00:10.716",null,null,"scheuber.joachim@gmail.com","Capitaine","Bobby",null,"H","scheuber.joachim@gmail.com","246 chemin du Furgou Bas 24560 MONTAUT","0619802857","19/10/1685","Capitaine Bobby","Non","Les deux dates sont possibles","PJ/PNJ (il s'agit d'un moment du GN, le reste du temps tu joues ton perso. Cela concerne le fort))","Navire et fort",null,null,"1 Non, 2 non","Non","Je suis plutôt mâlin & intellectuel que bourrin & physique ;)","Non","Romance, Joutes verbales/insultes, Chanter, Jeux, menaces, chantage, vices, superstition, camaraderie, animations","Je suis totalement débutant, mais bougrement motivé","Aucun ! C'est ma première fois !","Je suis extrêmement câlé d'un point de vu historique sur l'âge d'or de la piraterie (mœurs & coutume, tec.) & j'ai beaucoup d'imagination fantastique dans mon bardage.","pas encore vu mais tu as hâte de découvrir le charisme exceptionnel de ses perso :D","Entre les deux","D'avantage sur les quêtes secondaire.","Modérement","Peu importe","Je ne connais pas les autres participant-e-s pour l'instant, mais je suis très sociable :P","oui","Absolument pas","Je chante faux mais je m'en fous, j'aime ça !","J'ai de très bonnes notions ","Oui et je peux apporter du matériel","Je suis un bon cartographe ","oui","Mon chat n'est pas partant, mais j'ai une bien jolie barre à roue !!","Tu manges de tout","Aucune !","Oui","Oui",null,"https://drive.google.com/open?id=13WNPuPumY-kWCdjuRHuqroTScvfa1N5O","Tu participeras tout de même sur la version fort et seras remboursé de 200€"]
["2024-09-20T16:26:23.112",null,null,"spoutnick213@gmail.com","Tudoux","Charly",null,"H","cet49@wanadoo.fr","9 rue des hauts prés 49123 Champtocé","0683159265","07/06/1974","charlygn","Oui","Les deux dates sont possibles","Pur PJ, PJ/PNJ (il s'agit d'un moment du GN, le reste du temps tu joues ton perso. Cela concerne le fort))","peu importe (si tu as une préférence, coche cette case et ta préférence)",null,null,"1 oui, 2 non","non aucuns","non aucuns","Non","Combat à l'épée, Combat à mains nues, Romance, Joutes verbales/insultes, Danser, Jeux, violence, menaces, chantage, vices, superstition, camaraderie, animations","non non","Bien plus ! Je suis un Vétéran !","oui, plus sombre que ce que montre les films sur les conditions de vie ect, très codifiée","Déja vu mais tu comptes la revoir pour t'immerger un max","Entre les deux","D'avantage sur les quêtes secondaire.","Oui","Peu importe",null,"oui","Je suis autodidacte et pratique en GN","Je chante faux mais je m'en fous, j'aime ça !","oui correcte","oui et je peux même animer","je tapotte sur des percussions et je connais des chansons paillardes","oui","jeu maitrise et j'anime aux dés le \"jeu de la taverne\"","Tu manges de tout","non","Oui","Non",null,"https://drive.google.com/open?id=1YgDGlByn8SyRTnnpf2W0e1_WbEjoBzYP","Tu participeras tout de même sur la version fort et seras remboursé de 200€"]
["2024-09-21T10:44:12.436",null,null,"willmarechal87@gmail.com","Maréchal","William",null,"H","willmarechal87@gmail.com","159 avenue Maurice Utrillo apt 223 95100 Argenteuil","+33679462220","30/04/1987","William Maréchal","Oui","Les deux dates sont possibles","PJ/PNJ (il s'agit d'un moment du GN, le reste du temps tu joues ton perso. Cela concerne le fort)), PNJ","Navire et fort",null,null,"1 Non, 2 non","Non","Non","Non","Combat à l'épée, Danser, Jeux, chantage, vices, superstition","Je suis ouvert aux autres.","Entre 6 et 10,","La série \"Dans le sillage des pirates\" sur Netflix.","Déja vu mais tu comptes la revoir pour t'immerger un max","Entre les deux","Impliqué autant que possible !!","Non","Peu importe","Non","oui","Je suis autodidacte et pratique en GN, J'ai suivi des cours d'escrime (indique ton niveau stp dans la case \"Autre\" ci-dessous si c'est le cas ! :D ), 8 ans","Je chante faux mais je m'en fous, j'aime ça !","à apprendre","Non","Bof, jadis, j'en faisais.","oui","Non","Tu as des allergies alimentaires (à préciser dans la question ci dessous)","J'ai horreur de la plupart des fromages.","Non","Oui",null,"https://drive.google.com/open?id=1ZU3mOIjimt-743sVHC2sYqXysaYKpjXc","Tu participeras tout de même sur la version fort et seras remboursé de 200€"]
["2024-09-22T21:50:39.255",null,null,"erwan.amoureux@gmail.com","Amoureux","Erwan",null,"H","erwan.amoureux@gmail.com","7 rue de belfort","0620489095","0620489095","Erwan Amoureux","Oui","13 et 14 septembre 2025","PJ/PNJ (il s'agit d'un moment du GN, le reste du temps tu joues ton perso. Cela concerne le fort))","Navire et fort, peu importe (si tu as une préférence, coche cette case et ta préférence)",null,null,"1 oui, 2 non","Viol, pédophilie & Co , pas fan dans le background non plus...","Je ne suis pas un fan des scène de romance mais cela ne me dérange pas de jouer \"en couple\" ... Peut être même une légère spécialité sur les \"vieux couples\" qui s'engueule lol","oui","Combat à l'épée, Combat à mains nues, Chanter, camaraderie",null,"Entre 6 et 10,","Quelques expo, film, documentaire roman.... Un roman historique \"le marin des sables\" m'a beaucoup marqué. Un pauvre gars (au sens propre), breton, qui pour payer ses dettes va être vendu à deses boucaniers et qui va à l'origine devenir pirate essentiellement pour survivre... De tout ça mon impression c'est que les pirates c'est 10% d'aventuriers (et je suis gentils...) 20-30 % de criminels et tout les reste des gars qui parce qu'ils sont pauvres ou de mauvaise couleur et veulent échapper à une forme d'esclavage officielle ou officieuse, ou à cause de leur opinion politiques (voir celle de leur parent) n'ont pas beaucoup d'autres choix que ça pour survivre...","pas encore vu mais tu as hâte de découvrir le charisme exceptionnel de ses perso :D","Entre les deux","Impliqué autant que possible !!","Modérement","Peu importe",null,"oui","J'ai suivi des cours d'escrime (indique ton niveau stp dans la case \"Autre\" ci-dessous si c'est le cas ! :D ), un peu de canne, 1 an de chanbarra, + de deux ans d'escrime ludique en asso (orienté thétral/artistique), et d'ici le GN je devrais avoir aussi 1 an d'escrime artistique","Ouiiiiiiiiiiiiiii !!","Pas spécifiquement en vieux gréements (mais ça se travaille) mais il y a fort longtemps j'étais moniteur de voile","Non","J'aime bien chanter, et j'aime bien composer des chansons (sur des airs existants...malheureusement aucune compétence en musique)","oui","A priori non","Tu manges de tout",null,"Non","Oui","Tu es un gros ronfleur","https://drive.google.com/open?id=1wrv0izoRpgPwvAR7nsXJGgY2WSN4tK03","Tu participeras tout de même sur la version fort et seras remboursé de 200€"]
["2024-09-22T21:50:49.500",null,null,"kadroux@gmail.com","Vandroux ","Karine ",null,"F","kadroux@gmail.com","94210 la varenne st hilaire","0662101693","02/05/1969","Karine vandroux","Oui","Les deux dates sont possibles","PJ/PNJ (il s'agit d'un moment du GN, le reste du temps tu joues ton perso. Cela concerne le fort))","Navire et fort",null,null,"1 Non, 2 non","Non pas vraiment ","Torture","oui","Combat à l'épée, Combat à mains nues, Chanter, camaraderie","Vices c'est pas clair mais vol, pari clandestins c'est ok","Entre 6 et 10,","J'ai lu exemelin","pas encore vu mais tu as hâte de découvrir le charisme exceptionnel de ses perso :D","Entre les deux","Impliqué autant que possible !!","Modérement","Peu importe","Erwan amoureux","oui","Je suis autodidacte et pratique en GN","Je chante faux mais je m'en fous, j'aime ça !","J'ai mon niveau 4 en catamaran ","Non","Je jouotte de la lyre","oui",null,"Tu manges de tout","Épinards,  certains fruits de mer","Oui","Non",null,"https://drive.google.com/open?id=1ELD8QDtawQnCXwPMEMB9VfS-mHQX2cIz","Tu participeras tout de même sur la version fort et seras remboursé de 200€"]
["2024-09-23T18:50:49.756",null,null,"larasupiot@gmail.com","Supiot","Lara",null,"F","larasupiot@gmail.com","8 rue de Valenton",6.70468778E8,"10 mars 1890","Lara Lambada","Oui","Les deux dates sont possibles","PJ/PNJ (il s'agit d'un moment du GN, le reste du temps tu joues ton perso. Cela concerne le fort))","Navire et fort",null,null,"1 oui, 2 non","Non","Je ne suis pas une grande fan de combats de manière générale, j'ai tendance à faire des pjs d'ambiance.","oui","Romance, Danser, Jeux, menaces, chantage, superstition, animations","Je joue souvent danseuse pour animer, j'adore ! ","Bien plus ! Je suis un Vétéran !","Je n'ai en tête que des personnalités connues.","Déja vu mais tu comptes la revoir pour t'immerger un max","Sur le devant de la scène","Peu d'objectif, je me débrouille en jeu.","Oui","Peu importe","Charly","oui!","Absolument pas","Je chante faux mais je m'en fous, j'aime ça !","Pas grand chose !","Non","La danse du coup ! Et le dessin aussi.","oui","Là tout de suite dans le métro j'ai rien qui me vient mais j'y réfléchirai !","Tu es végétarien",null,"Non","Oui",null,"https://drive.google.com/open?id=1Gak9t6Uk29VoOCXurGWuciHBBl0oNnk6","Tu participeras tout de même sur la version fort et seras remboursé de 200€"]
["2024-09-25T04:15:09.866",null,null,"cest.ticaly@gmail.com","Réveil","Jean Carly",null,"H","cest.ticaly@gmail.com","Route du Velodrome 6, 1228 Plan-les-Ouates, Suisse","+41782687980","28.08.1996","Carly Réveil","Oui","Les deux dates sont possibles","Pur PJ","Navire et fort","Non","Cela ne me pose pas de problème de changer de perso","1 oui, 2 non","Je suis ouvert ","Je suis prêt à découvrir pleinement l'aventure","oui","Combat à l'épée, Romance, Joutes verbales/insultes, Chanter, Jeux, menaces, chantage, vices, superstition, camaraderie, animations",null,"Aucun ! C'est ma première fois !","Une augmentation de pirates sur les mers 😁, j'ai un ami qui s'y connait super bien et qui va me briefer avant de venir (il fera aussi partie de l'aventure c'est lui qui m'a motivé à venir) ","pas encore vu mais tu as hâte de découvrir le charisme exceptionnel de ses perso :D","Entre les deux","D'avantage sur les quêtes secondaire.","Modérement","Peu importe","Il s'appelle Tom Bonaventure Mayor, si je peux etre avec lui c'est chouette ! ","oui!","Absolument pas","Je chante faux mais je m'en fous, j'aime ça !","Aucune mais je vais apprendre ","oui et je peux même animer","Danse, imitation et pitreries ","oui",null,"Tu manges de tout",null,"Oui","Oui","Tu es un gros ronfleur","https://drive.google.com/open?id=12Kfu0PBdjNX1UI0qXwI7JDph-KAoPxpv","Tu participeras tout de même sur la version fort et seras remboursé de 200€"]
["2024-09-25T12:00:46.544",null,null,"renaud.payen@gmail.com","PAYEN","Renaud",null,"H","rpayen@outlook.com","27 rue Victor Recourat, 94170 Le perreux sur Marne",null,"21/09/1978","Renaud PAYEN ou RenoPayen","Oui","Les deux dates sont possibles","Pur PJ","Navire et fort",null,null,"1 Non, 2 non","Aucun sujet tabou","Aucune situation","Non","Combat à l'épée, Combat à mains nues, Romance, Joutes verbales/insultes, Chanter, Danser, Jeux, violence, camaraderie, animations","A défaut de vouloir particulièrement une scène, Je ne suis pas trop doué pour les escrocs (chantage, tromperie)","Bien plus ! Je suis un Vétéran !","Comme évoqué dans la question ci dessous, je n'ai pas de connaissance historique de la piraterie. Donc majoritairement des films, series, jeux de roles (pavillon noir). Ok ils ont très souvent les dents trop blanches...Donc pour moi c'est très romancé, j'imagine la réalité plus sombre, moins flamboyant","Déja vu mais tu comptes la revoir pour t'immerger un max","Sur le devant de la scène","Impliqué autant que possible !!","Modérement","En groupe","Lara Supiot","oui","J'ai suivi des cours d'escrime (indique ton niveau stp dans la case \"Autre\" ci-dessous si c'est le cas ! :D ), Qq années d'escrime ancienne (epee longue principalement), mais j'ai arrêté depuis 4 ans","Je chante faux mais je m'en fous, j'aime ça !","Aucune","Non","Poser avec élégance et panache? Relativiser avec flegme ? :)","oui","En dehors d'un jeu de dé en fer (pot et dés), que je pensais garder à la ceinture, je ne pense pas. Ayant été à l'étranger qq années je n'ai pas gardé beaucoup de matériel de déco GN.","Tu manges de tout",null,"Oui","Non",null,"https://drive.google.com/open?id=15WGZ0TE_NhmN051C-UG_FrsSxIt6gTPS","Tu participeras tout de même sur la version fort et seras remboursé de 200€"]
["2024-09-29T12:51:25.266",null,null,"riedweg.aurelie@gmail.com","Maury","Aurélie",null,"F","riedweg.aurelie@gmail.com","22 route du Vélodrome 1228 Plan les Ouates (CH)","+41797681703","28.07.1995","Aurélie Riedweg","Oui","7 et 8 juin 2025","Pur PJ","Navire et fort",null,null,"1 oui, 2 oui, 2 non","Aucun sujets tabous pour moi :)","Je ne sais pas si c'est pertinent mais dans le doute : \n- J'ai le vertige (tant qu'il ne faut pas grimper à des trucs c'est tout bon)\n- J'ai un peu le mal de mer, je prendrais ce qui faut, mais c'est pas impossible que je ne sois pas la plus vive du monde à bord. \n\nJe n'aime pas jouer les situations de trahison (faire semblant d'être proche de qqn pour ensuite lui planter un couteau dans le dos). Avoir une relation conflictuelle ne me pose aucun problème.","Non","Romance, Joutes verbales/insultes, Chanter, Danser, Jeux, menaces, vices, superstition, camaraderie, animations","Si je dois mettre un ordre de priorité (des fois que ça vous aide pour le casting, si c'est pas le cas, vous pouvez ignorez le commentaire) \n1. camaraderie, chanter, menace\n2. romance, joutes verbales, danser, jeux, menaces\n3. animation, superstition, vices","Bien plus ! Je suis un Vétéran !","Honnêtement, aucune. Mais je me réjouis de regarder Black Sails. J'imagine un esprit de camaraderie et d’entraide nécessaire pour le bien de tous à bord. Des alternances entre des moments éprouvants et dangereux qui contrastent avec ceux où on profite de la vie. Ces derniers sont d'autant plus précieux car nous sommes bien conscients qu'il s'agit peut-être des derniers.  ","pas encore vu mais tu as hâte de découvrir le charisme exceptionnel de ses perso :D","Entre les deux","Impliqué autant que possible !!","Modérement","En groupe","Raphaël Maury (mon mari, volontiers pas de relation de romance avec lui), possiblement d'autres si vous transmettez une liste des personnes inscrites (ou je vous tiendrai au courant s'il y a d'autres personnes que je connais). ","oui","Je suis autodidacte et pratique en GN","Ouiiiiiiiiiiiiiii !!","Malheureusement non, promis, j'essaierai de ne pas confondre bâbord et tribord. ","Oui et je peux apporter du matériel","J'imagine amener de quoi faire un perudo (jeu de paris avec des dés)\nJe sais jouer de l'alto (violon), mais peu de compétences sur les musiques d'époques ou ce qui passerait bien dans l'ambiance. Je joue volontiers pas un personnage dont c'est l'arc narratif principal, mais le prendre avec et le sortir pour faire danser des gens, selon quoi volontiers. \nD'ailleurs en parlant de danse, je connais et peux faire apprendre aux autres PJ deux danses de groupes (folk).\nOh, et je joue de la guitare aussi, mais moins sûre que ça colle avec l'univers. ","oui","J'aimerais énormément pouvoir participer, c'est un rêve depuis longtemps de pouvoir faire un GN sur un navire ! Après, j'ai bien lu la note d'intention et s'il ne devait pas être possible de jouer sur le Shtandart pour des questions géopolitiques, je pourrais jouer au fort. \n\nJ'ai répondu non à la question sur la nationalité créole ou africaine, parce que j'ai de la peine à me représenter ce que ça implique et du coup j'ai peur de tomber dans de mauvais clichés. Mais en soit, avec plus de précisions, ça ne me pose aucun soucis. \n\nVolontiers pour un repas le dimanche soir au resto !\n\nSi vous cherchez plus de joueurs.euses, j'essaie volontiers de ramener plus de monde de Suisse Romande.\n\nAu plaisir de vous rencontrer j'espère, bon courage pour l'orga et MERCI !\n\nAurélie","Tu manges de tout","Rien","Non","Oui","Tu penses avoir le mal de mer","https://drive.google.com/open?id=1eX7PZhLbLg2c13GoCJ6gWTapImEFGgd2","Tu participeras tout de même sur la version fort et seras remboursé de 200€"]
["2024-09-29T13:18:01.811",null,null,"raphu.maury@hotmail.com","Maury","Raphael",null,"H","raphael.maury@hotmail.com","Route du Vélodrome 22, 1228 Plan-les-Ouates, Suisse","+41 76 496 31 79","11/03/1991","Raphu Scargo","Oui","7 et 8 juin 2025","Pur PJ","Navire et fort",null,null,"1 oui, 2 non","Tout ce qui est maltraitance infantile (Genre que mon personnage a un enfant qu'il a abandonné. C'est pas mon truc). Que je sois confronté à ça indirectement (une connaissance du personnage) ok. \n\nSi vous avez une liste de trigger warning je pourrais être plus précis mais sinon je peux jouer avec tout à priori. J'ai pas de phobie ou trigger particulier. Juste que les sujets type viol, maltraitance ne n’intéressent pas dans un jeu. ","Je ne souhaite pas être enfermé dans une boite. Une salle sombre ok. \n\nLes romances de manière générale je ne sais pas vraiment comment aborder ça avec un.e inconnu.e en jeu, et il y a bien assez de jeu sur d'autres aspects :) ","Non","Combat à l'épée, Jeux, violence, vices, superstition, camaraderie, animations","Jouer un personnage croyant, superstitieux est un super axe de jeu à mon avis. \n\nDe manière générale j'aime construire des relations positives avec les autres joueurs, essayer de les aider au mieux dans leurs objectifs pour que tout le monde s'en sorte le mieux. ","Bien plus ! Je suis un Vétéran !","J'ai lu des trucs y a longtemps. J'ai des souvenirs de pirates ayant une bonne réputation (c'est à dire qu'ils étaient connu pour ne pas tuer/saccager si on leur remettait simplement la cargaison). \n\nJ'ai en tête que finalement les pirates sont simplement des personnes cherchant une certaine liberté, se tournant vers des actes de piraterie par nécessité plus que par envie. ","Déja vu mais tu comptes la revoir pour t'immerger un max","Sur le devant de la scène","Impliqué autant que possible !!","Modérement","En groupe","Aurélie Maury, ma femme avec qui on s'inscrit pour cette aventure =) ","oui","J'ai suivi des cours d'escrime (indique ton niveau stp dans la case \"Autre\" ci-dessous si c'est le cas ! :D ), J'ai pas fait de compétitions mais je me débrouille bien lors d'échange/sparing. On fait du sabre actuellement à l'école d'escrime ;)","Je chante faux mais je m'en fous, j'aime ça !","J'ai quelques bases et fait des cours de voiles. Sans plus, mais je suis motivé à apprendre. \nSinon j'ai aucun problème à marcher sur un pont mobile, déjà eu quelques expérience (en temps que passager) sur des bateaux en eaux agitées. ","Oui et je peux apporter du matériel","Je peins plutôt bien sur figurines. Ou écrire des histoires. ","oui","On vient avec ma femme (Aurélie Maury) et c'est un rêve qu'on a de faire un GN sur un bateau =) \n\nMerci pour l'orga =)","Tu manges de tout",null,"Non","Oui",null,"https://drive.google.com/open?id=1ZauEpDiPTnp1cTvCchn0vN5dks0ftsY2","Tu participeras tout de même sur la version fort et seras remboursé de 200€"]
["2024-09-29T19:42:30.530",null,null,"olivier.dancot@gmail.com","DANCOT ","Olivier ",null,"H","olivier.dancot@hotmail.fr","4 chemin de Lou Jun 33610 Cestas","0625484900","04/02/1981","Olivier d-t","Oui","7 et 8 juin 2025","Pur PJ, PJ/PNJ (il s'agit d'un moment du GN, le reste du temps tu joues ton perso. Cela concerne le fort))","Navire et fort","Non","Cela ne me pose pas de problème de changer de perso","1 oui, 2 non","Inceste ","Tout est ok en terme de simulation, du combat à main nu au combat de sabres ","oui","Romance, Joutes verbales/insultes, Chanter, Danser, Jeux, camaraderie, animations","Non","Bien plus ! Je suis un Vétéran !","Oui, une ambiance à la fois sombre, de fripouille et de camaraderie, une ambiance de liberté et de profondeur des relations car elles étaient brève ","pas encore vu mais tu as hâte de découvrir le charisme exceptionnel de ses perso :D","Sur le devant de la scène","Impliqué autant que possible !!","Oui","Peu importe","Priscillia Schmid","oui","Je suis autodidacte et pratique en GN","Ouiiiiiiiiiiiiiii !!","Langue de pirate, pute borgne ! Connaissance marine un peu également ","Oui et ça me plairait de pratiquer lors du gn","Danse, ukulele, dessin à l'aquarelle ","oui","J'adorerai jouer avec Priscillia sont ce serait le premier gn, et vous savez que je peux faire plein de chose dont épeler mon prénom en rotant si besoin 😀","Tu manges de tout",null,"Oui","Oui",null,"https://drive.google.com/open?id=1tpTWCXHZ8RULm7HGOTt__OuqVa3lbXgU","Tu participeras tout de même sur la version fort et seras remboursé de 200€"]
["2024-09-29T19:49:18.665",null,null,"richerpriscillia@gmail.com","Schmid ","Priscillia ",null,"F","richerpriscillia@gmail.com","2 allée du mail 33121 carcans ","0663055621","11/12/1986","Priscillia Schmid ","Oui","7 et 8 juin 2025","Pur PJ, PJ/PNJ (il s'agit d'un moment du GN, le reste du temps tu joues ton perso. Cela concerne le fort))","Navire et fort",null,null,"1 oui, 2 oui, 2 non","Relations non consentantes","Scènes de rapprochement physique entre les joueurs","Non","Combat à l'épée, Romance, Jeux, superstition, animations",null,"Aucun ! C'est ma première fois !","Non pas encore \n, davantage en navigation qu'en piraterie ","pas encore vu mais tu as hâte de découvrir le charisme exceptionnel de ses perso :D","Discret","D'avantage sur les quêtes secondaire.","Non","En groupe","Olivier Dancot","oui","Absolument pas","Je chante faux mais je m'en fous, j'aime ça !","Oui - permis côtier ","Non","Toujours partante pour créer des décors et des props ","oui","J'ai l'habitude de gérer des nains (enfants) je me sens prête à rejoindre les pirates ! ","Tu manges de tout",null,"Oui","Oui",null,"https://drive.google.com/open?id=1gSGsxyrakwrgjtjajlf9HwyKuoXi_Jtr","Tu participeras tout de même sur la version fort et seras remboursé de 200€"]
["2024-10-09T19:46:02.062",null,null,"hillgrob@hotmail.com","Mérand","Nicolas",null,"H","hillgrob@hotmail.com","1 allée du mail, 37600 Ferrière sur Beaulieu","0623412629","25/08/1977","Nicolas Mérand","Oui","7 et 8 juin 2025","Pur PJ","Navire et fort",null,null,"1 Non, 2 non","Aucun","Je m'adapterai, au besoin :)","Non","Combat à l'épée, Combat à mains nues, Romance, Joutes verbales/insultes, Jeux, violence, menaces, chantage, vices, superstition, camaraderie, animations",null,"Bien plus ! Je suis un Vétéran !","Une période de 15 ans libre et incroyablement prospère sur le plan de l'imaginaire et des histoires qu'elle a su composer.","pas encore vu mais tu as hâte de découvrir le charisme exceptionnel de ses perso :D","Entre les deux","Au coeur de l'intrigue principale.","Non","En groupe","Véronique Rigaud","oui","Je suis autodidacte et pratique en GN","Ouiiiiiiiiiiiiiii !!","Pas beaucoup, mais je vais m'y coller !","Non","Poésie (parfois érotiques) et écriture.\nOn dit vos jeux de mots à nulle autre pareille ?\nMoi je dis :\n...Que c'est votre chapeau qui retient vos oreilles !\nVous avez de bons mots, de la voix, du panache,\nTout autant qu'un taureau... n'en aurait pour sa vache !","oui",null,"Tu manges de tout",null,"Oui","Oui","Tu es un gros ronfleur","https://drive.google.com/open?id=1ucWTMI9so3yITeIpKKAYkyOvyF5WCwvN","Tu participeras tout de même sur la version fort et seras remboursé de 200€"]
["2024-10-11T14:54:34.325",null,null,"hugo@cypheme.com","Garcia-Cotte","Hugo",null,"H","hugo@garcia-cotte.com","5 rue aux prêtres 77650 Savins","+33698964090","30/01/1988","Hugo Garcia-Cotte","Oui","7 et 8 juin 2025, Les deux dates sont possibles","Pur PJ, PJ/PNJ (il s'agit d'un moment du GN, le reste du temps tu joues ton perso. Cela concerne le fort))","Navire et fort",null,null,"1 Non, 2 non","Rien en particulier.","Non tout va bien.","oui","Combat à l'épée, Romance, Chanter, Danser, Jeux, violence, menaces, chantage, vices, superstition, camaraderie, animations",null,"Bien plus ! Je suis un Vétéran !","Mis à part que j'ai vu toute la série Black Sail en entier, pas énormément de connaissance","Tu as déja vu la série","Sur le devant de la scène","Au coeur de l'intrigue principale.","Oui","Peu importe",null,"oui!","J'ai suivi des cours d'escrime (indique ton niveau stp dans la case \"Autre\" ci-dessous si c'est le cas ! :D ), Quand j'était petit j'ai fait des championats. Mais sinon je ne suis pas un énorme cador de nos jours.","Ouiiiiiiiiiiiiiii !!","Yarrr !","Non","Non","oui",null,"Tu as des allergies alimentaires (à préciser dans la question ci dessous)","Poissons et fruits de mers","Oui",null,null,"https://drive.google.com/open?id=1fjx-1qGCyokEO6uz3-7i6Qx1pknp4jgq","Tu participeras tout de même sur la version fort et seras remboursé de 200€"]
["2024-10-11T18:17:49.912",null,null,"maitrechaos@gmail.com","Secher","Gaël",null,"H","maitre-chaos@hotmail.fr","15 rue des fougères","0637877378","14/04/1994","Sikna Kaosu","Oui","Les deux dates sont possibles","Pur PJ, PJ/PNJ (il s'agit d'un moment du GN, le reste du temps tu joues ton perso. Cela concerne le fort))","Navire et fort",null,null,"1 oui, 2 oui","Pas d'histoire de grossesse, accouchement... en jeu et bg si possible","Tout est ok","oui","Combat à l'épée, Combat à mains nues, Chanter, Jeux, superstition, camaraderie","Nope","Bien plus ! Je suis un Vétéran !","Un peu. J'ai pas d'idée précise  Oo\"","pas encore vu mais tu as hâte de découvrir le charisme exceptionnel de ses perso :D","Entre les deux","D'avantage sur les quêtes secondaire.","Modérement","Peu importe","Tout le monde me va","oui","J'ai suivi des cours d'escrime (indique ton niveau stp dans la case \"Autre\" ci-dessous si c'est le cas ! :D ), entrainements réguliers(bimensuels) depuis plus de 10 ans","Ouiiiiiiiiiiiiiii !!","Quelques année de navigation loisir (club de voile)","Oui et ça me plairait de pratiquer lors du gn","Bolas, quelques accrobaties","oui","Euuuh ","Tu manges de tout",null,"Oui","Oui",null,"https://drive.google.com/open?id=1tXOXAEHUK4ryph70H4XzLy07DfAX2VWA","Tu participeras tout de même sur la version fort et seras remboursé de 200€"]
["2024-10-12T20:16:56.476",null,null,"solenn.chojnicki@gmail.com","Chojnicki","Solenn",null,"F","solenn.chojnicki@gmail.com","248 C rue de nantes ","0664300187",null,"Solenn Soho","Oui","7 et 8 juin 2025","Pur PJ, PJ/PNJ (il s'agit d'un moment du GN, le reste du temps tu joues ton perso. Cela concerne le fort))","Navire et fort",null,null,"1 Non, 2 non","C’est ma première expérience de GN. Je préfère jouer qqc de simple et de pas trop engageant ","C’est ma première expérience de GN. Je préfère jouer qqc de simple et de pas trop engageant ","oui","Romance, Chanter, Danser, camaraderie","Romance avec Guillaume uniquement ","Aucun ! C'est ma première fois !","Les seules connaissances autour de la piraterie sont les références à pirates des Caraïbes mais avec Guillaume nous pensons regarder la série que tu nous as recommandé ","pas encore vu mais tu as hâte de découvrir le charisme exceptionnel de ses perso :D","Entre les deux","D'avantage sur les quêtes secondaire.","Modérement","En groupe","Guillaume et Circlepuke pour être bien accompagnée pour mon premier GN, je pense ça serait plus facile pour moi d’incarner un rôle qui est proche de moi par exemple l’aide à la navigation du bateau (réglage de voile, monter à la vigie), étant kinésithérapeute je peux aussi veiller au bien être de l’équipage… dans l’idéal j’aurais besoin d’être driver , ","oui","Absolument pas","Je chante faux mais je m'en fous, j'aime ça !","Navigation a la voile ","Non","Danse, Capoiera, escalade, macramé, gymnastique, prof de yoga, chant brésilien, percussion transportable (pandeiro-berimbau), connaissance des Antilles","oui","percussion transportable (pandeiro-berimbau- petit djembé ","Tu es végétarien",null,"Oui","Oui",null,"https://drive.google.com/open?id=1b2Ko-jGP-YydwlHmlxNMsZcQLFT1IFs9","Tu préfères ne pas participer"]
["2024-10-12T16:31:20.762",null,null,"guillaume.surflife@gmail.com","Carpentier ","Guillaume ",null,"H","guillaume.surflife@gmail.com","62 Rue de l'Alma, 35000 Rennes, France","0670134925","11/06/1992","Guillaume Carpentier ","Oui","7 et 8 juin 2025","Pur PJ, PJ/PNJ (il s'agit d'un moment du GN, le reste du temps tu joues ton perso. Cela concerne le fort))","Navire et fort",null,null,"1 oui, 2 oui","Non","Je ne veux pas être enfermé ","oui","Combat à l'épée, Combat à mains nues, Romance, Joutes verbales/insultes, Chanter, Danser, Jeux, violence, menaces, chantage, vices, superstition, camaraderie, animations","Pour la Romance, c'est important que ce soit uniquement avec Solenn mon amoureuse car elle a besoin de cela pour se sentir bien.","Bien plus ! Je suis un Vétéran !","Pas vraiment, j'imagine une ambiance mercenaire avec un code particulier a suivre. D'anciens marins qui ont eu envie de gagner beaucoup ou être plus libre. On va regarder la série pour bien sentir l'univers :)","pas encore vu mais tu as hâte de découvrir le charisme exceptionnel de ses perso :D","Sur le devant de la scène","Impliqué autant que possible !!","Oui","En groupe","Oui Élodie et Solenn. Solenn pour une romance (c'est mon amoureuse ;) Élodie j'ai déjà joué avec elle des scènes intenses émotionnellement, #GNhippies ;) j'aimerais être le plus possible avec elle pour qu'elle se sente bien pour son 1er GN, sans pour autant être collés ;)","oui!","Je suis autodidacte et pratique en GN, J'ai suivi des cours d'escrime (indique ton niveau stp dans la case \"Autre\" ci-dessous si c'est le cas ! :D ), Avec Killian a Rennes depuis 1 an les mercredis soirs ","Je chante faux mais je m'en fous, j'aime ça !","J'ai plus de 30 sorties bateau a mon actif, dont 2 semaines a la voile, j'ai mon niveau 2 des Glénan et kiffe. Je sais lire des cartes marines et me repérer en mer.","oui et je peux même animer","Capoeira, danse contact, salsa, objets en latex","oui","Ce sera presque mon anniversaire (11 Juin) et c'est vrai que ce serait cool de le fêter ^^\nJ'ai un djembé et j'adore en jouer / accompagner des groupes. J'ai des compétences en management/ résolution de conflits pour de la gestion d'équipage ;)","Tu es végétarien",null,"Oui","Oui",null,"https://drive.google.com/open?id=1uD4winVqfSrk477zOCMAE2-17xsrgaej","Tu participeras tout de même sur la version fort et seras remboursé de 200€"]
["2024-10-16T12:50:31.613",null,null,"isabelle.whittaker@gmail.com","Whittaker","Isabelle",null,"F","isabelle.whittaker@gmail.com","5 rue Antoine Darquier 31000 Toulouse","0786144580","25/09/1987","Isabelle Whittaker","Oui","7 et 8 juin 2025","Pur PJ","Navire et fort, peu importe (si tu as une préférence, coche cette case et ta préférence)",null,null,"1 oui, 2 non","Rien à signaler !","Les combats à main nue effectivement ce n'est pas trop mon truc ! ","oui","Romance, Chanter, Danser, Jeux, vices, superstition, camaraderie",null,"Entre 6 et 10,","Pas énormément, je dirais aventure, liberté, et violence ! Explorer les océans inconus, vivre de manière spartiate sur le navire et profiter de tout ce que la vie à a offrire lors des escales, rebellion contre les puissances coloniale.. ","pas encore vu mais tu as hâte de découvrir le charisme exceptionnel de ses perso :D","Entre les deux","Impliqué autant que possible !!","Oui","En groupe","Caroline Giraud, Julie Bonnecarrère pour n'en citer que deux, je ne sais pas qui d'autre participe mais je suis sûre que je retrouverai plein de têtes connues !","oui!","Absolument pas","Ouiiiiiiiiiiiiiii !!","Pas plus que ca, mais je peux apprendre !","Non","le chant, l'accordéon (j'espère me mettre au bandonéon un de ces jours)... ","oui","J'ai un petit peu de déco que je peux apporter mais rien de grandiose !","Tu manges de tout",null,"Oui","Oui",null,"https://drive.google.com/open?id=1vFbyjUNvj6XWc1t6tVMtakD2H9ZtgrSt","Tu participeras tout de même sur la version fort et seras remboursé de 200€"]
["2024-10-20T17:59:10.551",null,null,"floriane.petitdemange@gmail.com","Petitdemange","Floriane",null,"F","floriane.petitdemange@gmail.com","4 rue de Bollwiller - 67100 Strasbourg","06.02.36.57.68.","28/06/1988","Floriane Senami","Oui","Les deux dates sont possibles","Pur PJ","Navire et fort",null,null,"1 oui, 2 oui, 2 non","Pas de viol dans le bg et en jeu","Je souhaiterais si possible éviter d'avoir à me battre à main nues sauf si calibrage au préalable entre joueurs car j'ai des petites douleurs à la sciatique. ","oui","Romance, Joutes verbales/insultes, Chanter, violence, menaces, chantage, vices, superstition, camaraderie, animations","J'adorerai pouvoir interpréter un personnage supersticieux, comme la possibilité d'avoir un jeu tourné autour du vaudou, pour qui ses croyances sont importante, également avoir des choix moraux, que ce soit dans le domaine relationnel amical ou sentimental, des temps de camaraderie et d'amitié forte mais également de tensions vives... ","Bien plus ! Je suis un Vétéran !","Ma connaissance se limite aux films et séries sur la période, mais d'ici au GN aucun problème pour approfondir les connaissances Amen la matière 🙂","Déja vu mais tu comptes la revoir pour t'immerger un max","Entre les deux","D'avantage sur les quêtes secondaire.","Oui","En groupe","Charline Stoltz, Sasha Flamman et William Far\nNous souhaitons participer au jeu et être casté ensemble (covoiturage depuis l'est avec Sasha et Charline) ","oui","Je suis autodidacte et pratique en GN","Ouiiiiiiiiiiiiiii !!","Je sais faire les noeuds marins","Non",null,"oui",null,"Tu manges de tout",null,"Non","Oui",null,"https://drive.google.com/open?id=1Wci8yg57MR0C18jH4ZAGtgEMeRKZquVp","Tu participeras tout de même sur la version fort et seras remboursé de 200€"]
["2024-10-20T19:02:52.476",null,null,"charline.stoltz@gmail.com","Stoltz ","Charline",null,"F","charline.stoltz@gmail.com","8 Rue De La Paix 57000 Thionville ","0687014130","17/11/1990","Charline Sltz","Oui","Les deux dates sont possibles","Pur PJ","Navire et fort",null,null,"1 oui, 2 non","Je ne souhaite pas parler de viol en jeu mais si mentionné dans le BG c'est ok","Viol et agression sexuelle mais jouer une relation amoureuse tendue, avec de la manipulation voire une emprise (subie ou créé), soumission/domination psychologique, prostitution...\nC'est ok si bien calibré en amont. \nJe ne suis pas une grande fan des combats de sabres mais à mains nues c'est ok.","oui","Romance, Joutes verbales/insultes, violence, menaces, chantage, vices, superstition, camaraderie","Chanter : j'aimerai bien chanter en groupe mais pas seule en mode représentation.\n\nJe ne sais si vous intégrer la question du vaudou (surtout côté Louisiane, Baron Samedi) mais c'est un pan de jeu qui me plairait beaucoup.","Bien plus ! Je suis un Vétéran !","Globalement basée sur la série Black Sails et certains mythes et superstitions mais peu de choses historiquement parlant. ","Déja vu mais tu comptes la revoir pour t'immerger un max","Sur le devant de la scène","Au coeur de l'intrigue principale.","Oui","En groupe","Sasha Flammann, Floriane Petitdemange, William Far \n\nNous covoiturons avec Sasha et Floriane depuis l'est de la France, nous souhaitons donc être castés sur le bateau (à défaut le fort si le bateau ne peut pas partir) sur la même session, sinon nous ne viendrons malheureusement pas pour des raisons de logistique. \n\nNous souhaitons dans la mesure du possible, d'être dans le même équipage et partager du jeu ensemble (surtout qu'on se connait très bien donc il est assez facile pour nous d'interpréter des relations conflictuelles, intenses ou justes proches) mais si cela n'est pas le cas, nous viendrons quand même si nous sommes castés :) ","oui","Absolument pas","Ouiiiiiiiiiiiiiii !!","Bâbord c'est a gauche, tribord c'est a droite.","Oui et ça me plairait de pratiquer lors du gn","De la couture, broderie et tricot, pas sûre que ce soit très utile","oui","Je peux trouver un jeu de dé ou d'osselet","Tu as des allergies alimentaires (à préciser dans la question ci dessous)","Banane ","Non","Oui",null,"https://drive.google.com/open?id=1iErY3_pR0XCzPNCFgKenO_Tzj_AvvdaT","Tu participeras tout de même sur la version fort et seras remboursé de 200€"]
["2024-10-21T18:19:33.426",null,null,"jeremy.gutierrez.pharma@gmail.com","Gutierrez","Jeremy",null,"H","jeremy.gutierrez.pharma@gmail.com","74 bvd pdt Franklin Rossevelt, 33800 Bordeaux","0633788347","05/05/1994","Jereùy Gutiairré'z","Oui","Les deux dates sont possibles","Pur PJ","Seulement au fort",null,null,"1 oui, 2 non","RàS","RàS","Non","Romance, Joutes verbales/insultes, menaces, chantage, vices, superstition, camaraderie, animations","Dans l'absolu tout est chouette, mais je chante mal et je danse pire :P","Bien plus ! Je suis un Vétéran !","C'est une ruée vers la sensation de liberté pour ceux qui y ont eu accès, loin des lois des pays","pas encore vu mais tu as hâte de découvrir le charisme exceptionnel de ses perso :D","Entre les deux","Impliqué autant que possible !!","Oui","Peu importe","Ouvert à tous","oui","Je suis autodidacte et pratique en GN","Je chante faux mais je m'en fous, j'aime ça !","Mon grand père avait un bateau, mon père avait son permis pour l'utiliser, et moi... de très vagues notions","Oui et ça me plairait de pratiquer lors du gn","Malheureusement RàS","oui","J'ai quelques coffres en bois mais rien d'histo, ça peut dépanner s'il y a que ça","Tu manges de tout",null,"Oui","Oui",null,"https://drive.google.com/open?id=1QA3E6dxhCPeXmebLrr8A0R_NDcpXZRhc","Tu participeras tout de même sur la version fort et seras remboursé de 200€"]
["2024-10-21T21:31:49.692",null,null,"sasha.flammann@gmail.com","FLAMMANN","Sasha",null,"H","sasha.flammann@gmail.com","7b rue du général picquart 67000 Strasbourg","0659086247","21/01/1995","Sasha WAELES","Oui","Les deux dates sont possibles","Pur PJ, PJ/PNJ (il s'agit d'un moment du GN, le reste du temps tu joues ton perso. Cela concerne le fort))","Navire et fort",null,null,"1 oui, 2 non","Je ne souhaite pas être un violeur.","//","oui","Combat à l'épée, Combat à mains nues, Romance, Joutes verbales/insultes, Chanter, Danser, Jeux, violence, menaces, chantage, vices, superstition, camaraderie","J'aime la romance et le drama plus que tout ! <3","Bien plus ! Je suis un Vétéran !","Mes connaissances sont parcellaire, je sais cependant que les hommes et femmes libres, comme ils aimaient s'appeler possédaient un fort instinct de camaraderie, ne tuaient que pour se venger des abordages ou l'équipage s'était défendu (généralement)  et tenter de vivre au maximum leurs vies sans rendre de compte à personne","Déja vu mais tu comptes la revoir pour t'immerger un max","Sur le devant de la scène","Impliqué autant que possible !!","Oui","En groupe","Charline Stoltz et Floriane Petitdemange, nous prévoyons de covoiturer et souhaitons être caster sur la même session, si ce n'est pas faisable, pour des raisons logistique nous ne pourront pas venir.\nA noter qu'en cas de maladie/empêchement de l'un d'entre nous, nous viendront quand même avec les moussaillons disponible!\nWilliam Far","oui","J'ai suivi des cours d'escrime (indique ton niveau stp dans la case \"Autre\" ci-dessous si c'est le cas ! :D ), J'ai pratiqué le fleuret et l'épée pendant 5 ans. Sinon je me débrouille comme je peux lors de combats de GN","Je chante faux mais je m'en fous, j'aime ça !","La proue c'est devant, babord c'est à gauche. Et le nom de l'animal au longue oreille est aussi tabou que celui de voldemort","Non",null,"oui",null,"Tu manges de tout",null,"Oui","Oui",null,"https://drive.google.com/open?id=1MFM0dyJ6SGm6QJBrIisUfvoBIrfb-1nA","Tu participeras tout de même sur la version fort et seras remboursé de 200€"]
["2024-10-23T20:09:10.815",null,null,"william.daniel.far@gmail.com","FAR","William",null,"H","william.daniel.far@gmail.com","57 route d'orléans 91310 MONTLHERY","0681330259","09/02/1994","William FAR","Oui","7 et 8 juin 2025, 13 et 14 septembre 2025, Les deux dates sont possibles","Pur PJ","Navire et fort",null,null,"1 oui, 2 oui","RAS","RAS","Non","Combat à l'épée, Jeux, violence, menaces, chantage, vices, superstition, camaraderie","RAS","Bien plus ! Je suis un Vétéran !","J'ai vu toute la série Black Sails (que j'ai adoré bien que le dénouement final soit un peu trop happy end à mon gout, je suis en train de la refaire). L'age d'or de la piraterie est représentatif de la fin du XVIIIème : se monde où l'argent et les plus forts dominent, et où les plus faibles sont écrasés mais en même temps, et c'est ce que montre la République des pirates, un envol des idéaux de liberté et d'indépendance des modèles établis, un idéal que chacun peut réussir s'il s'en donne les moyens et s'il en a la volonté","Déja vu mais tu comptes la revoir pour t'immerger un max","Entre les deux","Impliqué autant que possible !!","Modérement","En groupe","Florian Petitdemange / CHarline Sltz / Sacha Waeles","oui","Je suis autodidacte et pratique en GN","Je chante faux mais je m'en fous, j'aime ça !","Je connais bâbord/tribord/Poupe/Proue, quelques expressions et concept marins mais c'est tout. Si je devais occupé un poste sur le navire, on serait plus proche de cambusier que pilote","Non","Non","oui","Rien qui me vienne","Tu manges de tout","RAS","Oui","Oui",null,"https://drive.google.com/open?id=1myicA_89nhIhILsVsI1hjLQELCg6AIRi","Tu participeras tout de même sur la version fort et seras remboursé de 200€"]
["2024-10-31T16:24:44.855",null,null,"veronique.gresset@gmail.com","Gresset","Véronique ",null,"F","veronique.gresset@gmail.com","26 VILLA AUGUSTE BLANQUI","0783736968","1968-08-17","charlottesurlenet","Oui","13 et 14 septembre 2025","Pur PJ","Seulement au fort",null,null,"1 oui, 2 non","Pas de tabou particulier, même si je ne prends pas de plaisir à jouer des choses trop trash (ex torture donnée ou subie) ","Pas fan de cérémonies de sorcellerie. Je peux jouer les combats que ce soit à l'épée ou à mains nues, mais très franchement j'ai peur de ne pas être ultra convaincante. Donc OK pour les combats de groupes mais pas en combat singulier en mode \"spectacle\" ","oui","Combat à l'épée, Romance, Joutes verbales/insultes, Chanter, Danser, Jeux, violence, menaces, chantage, camaraderie, animations","Je ne saurai pas danser ou chanter en solo, mais en groupe, très très volontiers !!","Bien plus ! Je suis un Vétéran !","La liberté, le rêve de fortune et de gloire, vivre intensément l'instant présent, la mort, la superstition, une certaine forme de fraternité, le code de l'honneur. ","pas encore vu mais tu as hâte de découvrir le charisme exceptionnel de ses perso :D","Entre les deux","Impliqué autant que possible !!","Modérement","En groupe","Je ne sais pas encore qui joue parmi mes amis, mais en général, je m'intègre bien dans un groupe et c'est l'occasion aussi de nouvelles rencontres","oui!","Honnêtement, peu, mais je peux m'entrainer avant au besoin","Je chante faux mais je m'en fous, j'aime ça !","J'ai fait un peu de voile donc je connais des termes ","Oui et ça me plairait de pratiquer lors du gn","Franchement pas vraiment. Par contre je suis très à l'aise pour me lancer, encore plus en groupe","oui","J'ai un joli petit coffre en bois (30 * 40 * 20). Je suis vraiment prête à bosser des choses particulières pour le gn. ","Tu manges de tout",null,"Non","Oui",null,"https://drive.google.com/open?id=1jsrSr1Zzt2bhoYjFrp6nwvrqE2WFnJFr"]
["2024-11-01T17:26:02.780",null,null,"pierre.ortalo@gmail.com","Ortalo","Pierre",null,"H","pierre@yuzupulse.eu","61 rue du Curoir",null,"20 mars 1990","Pierre ortalo","Oui","Les deux dates sont possibles","Pur PJ, PJ/PNJ (il s'agit d'un moment du GN, le reste du temps tu joues ton perso. Cela concerne le fort)), PNJ","Navire et fort",null,null,"1 oui, 2 oui","Nan ça va","Hmm nan ça va, j'ai beaucoup trop de privilèges","oui","Combat à l'épée, Combat à mains nues, Romance, Joutes verbales/insultes, Chanter, Danser, Jeux, violence, menaces, chantage, vices, superstition, camaraderie, animations","Pas forcément a l'aise mais envie de me challenger.\n\nJe suis plutôt peace et calme.\nJe peux préparer de la guitare et du chant j'ai un niveau intermédiaire.\n","Entre 1 et 5,","Je suis en train de lire pavillon noir et je tombe amoureux instant.\nAmbiance : vie courte mais libre. Pirates précurseurs de l'anarchisme. Rébellion face au système.\nAventure et violence.","pas encore vu mais tu as hâte de découvrir le charisme exceptionnel de ses perso :D","Discret","D'avantage sur les quêtes secondaire.","Modérement","En groupe",null,"oui!","Absolument pas","Ouiiiiiiiiiiiiiii !!","Un chouille en lisant le JDR pavillon noir 🙂\n","Non","Je danse ... Le hip hop ahah\n\nJe fais de la guitare et du chant niveau soirée avec les copaings.\nJe suis aussi batteur donc je peux préparer des rythmes caisse claire.\n\nJe connais un peu la langue des signes","oui","Une guitare 🙂","Tu es végétarien",null,"Non","Oui",null,"https://drive.google.com/open?id=1jJQ3DTj_aA28CIQmYTre6dOxnkdPU8jg","Tu participeras tout de même sur la version fort et seras remboursé de 200€"]
["2024-11-09T15:03:40.920",null,null,"alban.garros@gmail.com","Garros","Alban",null,"H","alban.garros@gmail.com","8 rue d'aulede 33490 st Macaire","0686285280","24/06/1986","Greffier Vicious Soul","Oui","13 et 14 septembre 2025","Pur PJ, PJ/PNJ (il s'agit d'un moment du GN, le reste du temps tu joues ton perso. Cela concerne le fort))","Navire et fort, peu importe (si tu as une préférence, coche cette case et ta préférence)",null,null,"1 oui, 2 non","/","/","Non","Romance, Jeux, chantage, vices, camaraderie","Je pense pouvoir m'adapter à pas mal de situations, je ne pense pas pouvoir incarner un gros bourrin qui fait peur et en impose tout le long du jeu.","Entre 1 et 5,","Quelques bouquins par ci par là. Hormis quelques magnifiques idéaux qui font rêver. La réalité est et les conditions de vie (courte) étaient cotons ;)","Déja vu mais tu comptes la revoir pour t'immerger un max","Entre les deux","Impliqué autant que possible !!","Oui","Peu importe","Je ne sais pas qui s'est inscrit (j'ai joué avec Valou sur un GN on pourra s'appeler si jamais) mais après tout me va, je m'adapte vite même si je ne connais personne. On tissera des liens en amont.","oui","J'ai suivi des cours d'escrime (indique ton niveau stp dans la case \"Autre\" ci-dessous si c'est le cas ! :D ), Je débute l'escrime (épée) depuis septembre 2024","Je chante faux mais je m'en fous, j'aime ça !","Fort peu (optimiste et catamaran étant petit, donc peu) bâbord tribord, proue poupe, cale.... ","Oui et ça me plairait de pratiquer lors du gn",null,"oui","Pour approfondir le style de personnage que je désire jouer, mes réponses ne sont pas définitives, nous pouvons nous appeler et en discuter. S'adapter pour un rôle c'est chouette aussi. Il peut ne pas être extraverti, plus discret ou autre, je ne sais pas si je serai crédible en créole ou africain (sans se teindre la peau cela va de soi) c'est pour ça que j'ai mis non mais si besoin on discute de l'éventualité d'un rôle.","Tu as des allergies alimentaires (à préciser dans la question ci dessous)","Je ne mange pas de poisson","Oui","Non",null,"https://drive.google.com/open?id=1kNRvOlZmaiNpLe_u2jlEqDTgR4rDazyr","Tu participeras tout de même sur la version fort et seras remboursé de 200€"]
["2024-11-17T15:56:56.051",null,null,"kily.33@hotmail.fr","quintero y perez","Flori",null,"F","florieveillon@hotmail.fr","29 Rue de la Landille 33290 Blanquefort ","0642989902","1983-02-01","Florie BackTo TheBeat ","Oui","Les deux dates sont possibles","Pur PJ, PJ/PNJ (il s'agit d'un moment du GN, le reste du temps tu joues ton perso. Cela concerne le fort))","Seulement au fort",null,null,"1 oui","Je n'ai pas de sujets qui me limitent. ","Les combats à main nue je ne souhaite pas du tout. Je ne suis pas forcement à l'aise en combat même armé mais je peux faire semblant. ","oui","Romance, Joutes verbales/insultes, Chanter, Danser, Jeux, violence, menaces, chantage, vices, superstition, camaraderie, animations",null,"Bien plus ! Je suis un Vétéran !","Oui j'ai des connaissances sur la piraterie. J'ai lu pas mal de vivre concernant la piraterie et j'ai vu et revu black sails, pirates des caraïbes, etc.. Ce qui ressort à mes yeux c'est certes de la violence, de la pauvreté et des conditions de vie dures mais aussi la tentative de construction d'une société plus égalitaire. Cela a permis à ceux vivant de la piraterie (à bord ou autour) une liberté qui n'existait pas à l'époque et une émancipation pour une certaine catégorie de personnes. ","Tu as déja vu la série","Entre les deux","Impliqué autant que possible !!","Modérement","En groupe",null,"oui","Je suis une catastrophe ne me mettez pas d'arme dans les mains je vais crever un oeil.","Ouiiiiiiiiiiiiiii !!","J'ai des connaissances de base","oui et je peux même animer","Non mais je sais coudre et j'ai une machine (si il faut faire des trucs en amont)","oui","J'ai quelques elements de petite decoration (longue vue, petits coffres etc)","Tu manges de tout",null,"Oui","Non","Tu penses avoir le mal de mer","https://drive.google.com/open?id=1E3ZiPTw9mxc6O3ADy9XdDvJHR_Nu201B","Tu participeras tout de même sur la version fort et seras remboursé de 200€"]
["2024-11-21T15:21:01.117",null,null,"claire.mangalove93@gmail.com","Trémoulière","Claire",null,"F","claire.tremouliere@gmail.com","14 rue de la préjentais 22100 Dinan","0647932215","30/01/1995","Claire Trml","Oui","13 et 14 septembre 2025","Pur PJ","Seulement au fort",null,null,"1 oui, 2 oui","Violences sexuelles (viols, etc) : ok pour en parler dans le BG, pas en jeu.","Je préfère éviter de me battre (armes ou main nues). ","Non","Romance, Jeux, chantage, superstition, camaraderie",null,"Entre 6 et 10,","Très honnêtement, mes connaissances s'arrêtent à Pirates des Caraïbes... Aventures, danger, trésor... Des enjeux de liberté et d'argent, à l'échelle de l'individu comme des entités politiques","pas encore vu mais tu as hâte de découvrir le charisme exceptionnel de ses perso :D","Entre les deux","Au coeur de l'intrigue principale.","Non","En groupe",null,"oui","Absolument pas","Je préfère éviter, j'encouragerai les autres en tapant dans les mains ou avec mon godet !","aucune ^^\"","Non","c'est pas artistique, mais je peux tirer les carte de tarot si vous voulez :)","oui",null,"Tu manges de tout",null,"Oui","Non",null,"https://drive.google.com/open?id=1WwXvUW0VnE2DpwwzCfUmzlKT-WDf5_cU","Tu participeras tout de même sur la version fort et seras remboursé de 200€"]
["2024-11-22T19:34:43.794",null,null,"timothee.fustec@gmail.com","Fustec","Timothée",null,"H","timothee.fustec@gmail.com","1 Ty Ar Bonniec 22140 Brélidy","0679313968","17/05/1993","L'Homme À Tentacules","Oui","13 et 14 septembre 2025","Pur PJ, PJ/PNJ (il s'agit d'un moment du GN, le reste du temps tu joues ton perso. Cela concerne le fort))","peu importe (si tu as une préférence, coche cette case et ta préférence)",null,null,"1 oui, 2 oui","je ne souhaite pas parler de viol en jeu mais que cela soit mentionné dans mon bg ne me pose pas de souci","Les scènes de viol","oui","Combat à l'épée, Combat à mains nues, Romance, Joutes verbales/insultes, Chanter, Danser, Jeux, violence, menaces, chantage, vices, superstition, camaraderie, animations","Je suis très ouvert sur le type de personnage que vous pourriez me proposer","Bien plus ! Je suis un Vétéran !","Je n'ai pas beaucoup de connaissances sur le sujet ","pas encore vu mais tu as hâte de découvrir le charisme exceptionnel de ses perso :D","Sur le devant de la scène","Au coeur de l'intrigue principale.","Oui","En groupe","Claire Trémoulière","oui","Je suis autodidacte et pratique en GN","Ouiiiiiiiiiiiiiii !!","Très peu ","Non","J'ai fait du théâtre","oui",null,"Tu manges de tout",null,"Non","Non",null,"https://drive.google.com/open?id=1-ywskrIfq3u7GyJbisNWQP4oRTjaTOlM","Tu participeras tout de même sur la version fort et seras remboursé de 200€"]
["2024-12-16T15:39:00.959",null,null,"anya.tallon@gmail.com","Tallon","Anais (Anya)",null,"F","anya.tallon@gmail.com","Rankenstrasse 5, 26121, Oldenburg, Allemagne","0780727728","05/06/1992","Pas de FB","Oui","13 et 14 septembre 2025","PJ/PNJ (il s'agit d'un moment du GN, le reste du temps tu joues ton perso. Cela concerne le fort))","Seulement au fort",null,null,"1 oui, 2 oui, 2 non","Aucun sujet ne me pose souci (j'ecris sur un clavier etranger d'ou le manque d'accent - desolee)","Je ne suis pas specialement douee en combats, mais cela ne me derange pas d'en jouer","oui","Romance, Joutes verbales/insultes, Danser, Jeux, menaces, chantage, vices, superstition, camaraderie, animations","J'adore filouter, espionner, arnaquer (et me faire arnaquer) et abuser d'intrigues politiques... ","Entre 1 et 5,","Il en ressort un fort sentiment d'appartenance a une communaute (regie par l'entraide, mais egalement les manigances). Pour survivre en tant que pirates, il faut etre fourbe, se moquer de ce que la societe pense de nous, et etre extremement resilient. Dans son age d'or, les pirates sont les empereurs de l'ocean; ils se craignent plus les uns des autres (qui va tenter de prendre la place de qui?) plutot que de la garde en general. Le rhum, le sable chaud, les corps bronzes, et la musique exotique se melangent sous le ciel bleu des Caraibes!","pas encore vu mais tu as hâte de découvrir le charisme exceptionnel de ses perso :D","Sur le devant de la scène","Impliqué autant que possible !!","Oui","Peu importe",null,"oui","Je fais du Kendo","Je chante faux mais je m'en fous, j'aime ça !","Je suis Normande et ai grandit sur la Cote d'Opale ;)","Oui et je peux apporter du matériel","Je peux jouer de la musique (percussions africaines si d'autres personnes veulent se joindre a moi, et violon bien que je debute tres gentiment). Je sais jongler et je peux danser avec des jeux de lumieres. Je fais des rhums arranges et j'ai des jeux en bois DIY (echecs vikings, Onitama...) pour animer les soirees bar!","oui","La moitie de mon appart ressemble a un cabinet de curiosites avec beaucoup d'objets qui fonctionnent bien en GN comme le votre (cranes, chandeliers, tentures, hamacs)","Tu manges de tout",null,"Oui","Oui","Tu penses avoir le mal de mer","https://drive.google.com/open?id=1AJ5GKY3rFfU50UiyxUNVZfcjjRKJ_Fk8","Tu participeras tout de même sur la version fort et seras remboursé de 200€"]
["2025-01-03T20:35:59.744",null,null,"jules.vidal@live.fr","Vidal ","Jules",null,"H","jules.vidal@live.fr","85 Bd de la Perche, 17200 Royan, France",6.45063353E8,"28 Décembre 1993","Jules Vidal ","Oui","Les deux dates sont possibles","Pur PJ, PJ/PNJ (il s'agit d'un moment du GN, le reste du temps tu joues ton perso. Cela concerne le fort))","Navire et fort","oui","Cela ne me pose pas de problème de changer de perso","1 oui, 2 non","Pas de sujet particulier ","De même, je n'ai pas de réticence particulière à jouer un type de scène. ","oui","Combat à mains nues",null,"Bien plus ! Je suis un Vétéran !","Connaissances assez rudimentaires, issues aussi bien d'ouvrages historiques que de romans, bandes dessinées et films (etc...). Il en ressort, sans trop aller dans les clichés, un désir de liberté et d'émancipation (notamment politique).\n Une forme de rébellion envers les règles terrestres. C'est une vie rude sur les mers et de durs labeurs, mais dans un esprit tourné vers l'équipage / l'entraide. Tout comme chez les militaire, il y a une telle notion de hiérarchie, chaque poste ayant son importance, nécessitant certaines connaissances particulières et donnant accès à un \"salaire\" plus élevé (part des \"revenus\" obtenus). Le mérite me semble plus important chez eux, bien que cet aspect savoirs et connaissances reste présent. \nBasiquement, les pirates sont à mes yeux ni plus ni moins que des marins rebelles, œuvrant pour leur intérêt propre (équipage / armadas) et non pour un homme politique. ","Tu as déja vu la série","Entre les deux","Impliqué autant que possible !!","Oui","Peu importe","Si jamais il y a des joueurs de mon ancien équipage, je serai ravis de re monter à bord à leurs côtés. Sinon, je n'ai pas d'attente particulière. Je préfère être surpris de revoir des visages connus que de chercher à être ou non avec des personnes précises :) ","oui!","Je suis autodidacte et pratique en GN","Je chante faux mais je m'en fous, j'aime ça !","Rudimentaire, mais je suis prêt à en apprendre plus encore ! ","Oui et je peux apporter du matériel","Bolas, avec possibilité de faire un petit spectacle enflammé au fort ^^","oui","S'il reste des disponibilités en Juin, j'aurai une préférence sur ce créneau, quitte à jouer un personnage PJ/PNJ si vous en avez besoin. ","Tu manges de tout","Fruits de mer","Oui","Oui",null,"https://drive.google.com/open?id=15pMBknzbcFPuCLRQ_uFyic91ZPaUkRTm","Tu participeras tout de même sur la version fort et seras remboursé de 200€"]
["2025-01-04T10:34:16.562",null,null,"magalimarcelin@orange.fr","marcelin-gabriel","magali",null,"F","magalimarcelin@orange.fr","637 rue de nicot 46350 cales","0684115179","30/12/67","magali marcelin","Non","Les deux dates sont possibles",{"$nulls":4},"1 oui","BG ?","je n'en vois pas \n","oui","Romance, Joutes verbales/insultes, Jeux, violence, menaces, chantage, vices, superstition, camaraderie, animations",null,"Aucun ! C'est ma première fois !","mon premier livre a été la tigresse des mers. ","pas encore vu mais tu as hâte de découvrir le charisme exceptionnel de ses perso :D","Entre les deux","Peu d'objectif, je me débrouille en jeu.",null,"Peu importe",null,"oui!","Absolument pas","Je chante faux mais je m'en fous, j'aime ça !",null,"Non","couture","oui",null,"Tu manges de tout",null,"Oui","Oui",null,"https://drive.google.com/open?id=1v8tKSn5mvZnSCB-yNJqsLYp_I8uQFgyK","Tu participeras tout de même sur la version fort et seras remboursé de 200€"]
["2025-01-04T14:24:47.556",null,null,"ludobarrere08@gmail.com","Barrere","Ludovic",null,"H","ludobarrere@hotmail.fr","8 rue auguste gué ","0617981351",2.5101981E7,"Lu Dovic","Oui","13 et 14 septembre 2025","Pur PJ","Navire et fort",null,null,"1 Non, 2 non","Aucun sujet ne me dérange ","Aucune situation ne me posent problème ","oui","Combat à l'épée, Combat à mains nues, Romance, violence, menaces, chantage, vices, superstition, camaraderie, animations",null,"Bien plus ! Je suis un Vétéran !","Liberté avant tout ","Déja vu mais tu comptes la revoir pour t'immerger un max","Discret","D'avantage sur les quêtes secondaire.","Non","En groupe","Non","oui","Je suis autodidacte et pratique en GN","Je préfère éviter, j'encouragerai les autres en tapant dans les mains ou avec mon godet !","\nBasique","Non","Aucune","oui","Malheureusement non ...","Tu manges de tout","Aucune ","Oui","Oui","Tu es un gros ronfleur","https://drive.google.com/open?id=1Aq5f679Q2uhB1mj6YFPQ6BzGOEQvmcFJ","Tu participeras tout de même sur la version fort et seras remboursé de 200€"]
["2025-01-04T17:55:34.890",null,null,"caninepointue@gmail.com","Dubois ","Patrick ",null,"H","caninepointue@yahoo.fr","16 rue de la mairie 29370 Elliant","0681649536","17.10.70","Patrick Dubois ","Oui","7 et 8 juin 2025","Pur PJ","Navire et fort, peu importe (si tu as une préférence, coche cette case et ta préférence)",null,null,"1 Non, 2 non","Rien ne me dérange ","Rien","oui","Combat à mains nues, Romance, Joutes verbales/insultes, violence, menaces, chantage, vices, superstition",null,"Bien plus ! Je suis un Vétéran !","Du rhum parbleu","pas encore vu mais tu as hâte de découvrir le charisme exceptionnel de ses perso :D","Sur le devant de la scène","Impliqué autant que possible !!","Modérement","Peu importe","Claire kerfriden ... ","oui","Je suis autodidacte et pratique en GN, Un peu en arts martiaux","Je chante faux mais je m'en fous, j'aime ça !","La base ","Non","Nope les arts c'est pour les bourgeois pas pour les pirates ","oui","J'ai du matériel de gn qui peut bien aller","Tu manges de tout",null,"Oui","Oui",null,"https://drive.google.com/open?id=1aQB5HOzEyXtt7U96OHGtr1T7wLeI8y84","Tu participeras tout de même sur la version fort et seras remboursé de 200€"]
["2025-01-05T12:17:23.975",null,null,"claire.kerfriden@gmail.com","Kerfriden ","Claire ",null,"F","claire.kerfriden@gmail.com","Kerganet, ma nouvelle piscine ","06-09-73-55-13 ","25 janvier 2003","Claire Kerfriden ","Oui","7 et 8 juin 2025","Pur PJ","peu importe (si tu as une préférence, coche cette case et ta préférence)",null,null,"1 Non, 2 non","Je ne sais pas ","Je ne sais pas ","Non","Combat à l'épée, Combat à mains nues, Joutes verbales/insultes, Danser, violence, menaces, camaraderie, animations",null,"Entre 1 et 5,","Non","pas encore vu mais tu as hâte de découvrir le charisme exceptionnel de ses perso :D","Discret","Impliqué autant que possible !!","Oui","En groupe","Patrick Dubois ","oui!","Je suis autodidacte et pratique en GN","Je chante faux mais je m'en fous, j'aime ça !","Non","Oui et ça me plairait de pratiquer lors du gn",null,"oui",null,"Tu manges de tout",null,"Non","Oui","Tu penses avoir le mal de mer","https://drive.google.com/open?id=1sKBjmcESjUurxML3zHBDtfZcylKXN6Hl","Tu préfères ne pas participer"]
["2025-01-06T15:11:06.329",null,null,"baron.tremendor@gmail.com","JONAS","Thomas",null,"H","black_writer@hotmail.fr","10 rue du Priez 59800 Lille","0651389187",null,"Baron von Bismarck","Oui","13 et 14 septembre 2025","Pur PJ","Navire et fort",null,null,"1 oui, 2 oui","Non, je n'ai pas d'interdits.","Non, je n'ai pas d'interdits.","oui","Combat à l'épée, Joutes verbales/insultes, Jeux, chantage, vices","J'aime bien tenir de grands discours grandiloquents =)","Bien plus ! Je suis un Vétéran !","Par bribes via la littérature et le cinéma, mais j'ai surtout en tête le côté égalitaire des équipages (je sais que chacun.e récupérait un tas de butin de même hauteur, quelque soit son rôle sur le navire, y compris le/la capitaine). Il y a aussi le côté \"lieu de vie\", j'ai souvenir du navire de Barbe Noire où l'on trouvait un chirurgien-dentiste à bord, un maître-artisan, du matériel de qualité pour vivre longtemps en autonomie, etc.","pas encore vu mais tu as hâte de découvrir le charisme exceptionnel de ses perso :D","Sur le devant de la scène","Au coeur de l'intrigue principale.","Oui","Peu importe","S'ils s'inscrivent : Kévin Jonas, Elodie Guesnon, Florian Guilbert, Véronique Riza","oui!","Je suis autodidacte et pratique en GN","Je chante faux mais je m'en fous, j'aime ça !","Quelques bribes par lectures et jdr : organisation (gabiers, cambusier, coq, maître d'équipage, etc.), mâture (misaine, hunes...)... Je réviserai avec plaisir pour le GN !","Oui et ça me plairait de pratiquer lors du gn","J'ai une belle expertise en improvisation verbale (discours, débat, poésie), j'ai pratiqué le karaté plusieurs années et je suis doué pour créer de fameux cocktails / mocktails :D ","oui","Je peux amener des dés (dont certains avec motifs de crânes) pour jouer au perudo comme dans Pirates de Caraïbes, j'ai un jeu de carte appelé le \"Jolly Roger\" qui met en scène l'univers pirate","Tu manges de tout",null,"Non","Oui",null,"https://drive.google.com/open?id=1U1RA-d0zHi-9c1ZiR5tBJFmEET9MooZr","Tu participeras tout de même sur la version fort et seras remboursé de 200€"]
["2025-01-07T14:02:56.342",null,null,"j.leveque44@gmail.com","leveque","Jonathan",null,"H","j.leveque44@gmail.com","Rue saint germain 140 1410 waterloo","0474450053","03/04/1985","John Calias","Oui","7 et 8 juin 2025, 13 et 14 septembre 2025","Pur PJ, PJ/PNJ (il s'agit d'un moment du GN, le reste du temps tu joues ton perso. Cela concerne le fort)), PNJ","Navire et fort","Non","Cela ne me pose pas de problème de changer de perso","1 oui, 2 non","Les violences sexuelles dans leur ensemble.","Les violences sexuelles dans leur ensemble.","Non","Combat à l'épée, Combat à mains nues, camaraderie","Je n'ai pas participé au premier opus mais votre GN me hype de malade. Merci pour ce que vous proposez.","Bien plus ! Je suis un Vétéran !","Je n'estimes pas avoir de grande connaissances en sur ce sujet, mis à part les film et ce qui en sort dans la litérature classique, mais je suis tout à fait pret à me documenter sur le sujet.","Déja vu mais tu comptes la revoir pour t'immerger un max","Entre les deux","Impliqué autant que possible !!","Oui","Peu importe",null,"oui","Je suis autodidacte et pratique en GN, J'ai suivi des cours d'escrime (indique ton niveau stp dans la case \"Autre\" ci-dessous si c'est le cas ! :D ), J'ai fait du sabre il y a longtemps jusqu'a aller en compétition (orange je crois)","Je chante faux mais je m'en fous, j'aime ça !","J'ai le niveau 2 des glénants et adore la voile, j'ai aussi le permis cotier.","Oui et ça me plairait de pratiquer lors du gn","Je me débrouille avec du bois, je fais pas mal de chose moi meme, mais je suis pas un artiste désolé.","oui","Une motivation sans borne ^^'","Tu manges de tout",null,"Oui","Oui","Tu penses avoir le mal de mer","https://drive.google.com/open?id=1klYpPYzemxWQEmUpEOtjFI7i_Z8GOVB7","Tu participeras tout de même sur la version fort et seras remboursé de 200€"]
["2025-01-12T22:19:01.308",null,null,"meronthomas6@gmail.com","Méron ","Thomas ",null,"H","meronthomas6@gmail.com","77 allée de Mortier 49680 Vivy ",6.24838163E8,"26.09.87 ","JACK DANIEL ","Oui","7 et 8 juin 2025","PJ/PNJ (il s'agit d'un moment du GN, le reste du temps tu joues ton perso. Cela concerne le fort))","Navire et fort",null,null,"1 Non, 2 non","Aucune contrainte de sujets","Aucune contrainte de situations","Non","Combat à l'épée, Combat à mains nues, Jeux, violence, menaces, superstition, camaraderie, animations","Aucune remarques","Aucun ! C'est ma première fois !","Mes connaissances sont d'abord cinématographiques puis littéraires, c'est devenu une fascination et une passion pour l'époque et l'univers. Les grands espaces et la liberté, peut-être idyllique, par rapport à leurs conditions de vie à l'époque. Leurs aventures et leurs forces d'équipages à travers le joue des puissances en place afin (d'essayer) de vivre et d'exister font rêver. Le texte pourrait être encore beaucoup plus long mais pour moi l'ambiance qui en ressort est en plusieurs mots: voyage, découverte, combat, frères et fêtes.","Déja vu mais tu comptes la revoir pour t'immerger un max","Entre les deux","Impliqué autant que possible !!","Modérement","En groupe",null,"oui","Absolument pas","Ouiiiiiiiiiiiiiii !!","Permis bateau et navigation loisirs (manque de côtes dans le lieu de résidence)","Oui et ça me plairait de pratiquer lors du gn","Dessin, musique, sculpture argile, bois et pierre, travaux manuels.","oui","Éventuellement une sélection de ruhms 😁et suffisamment d'équipements sur la tenue et autres afin de coller au mieux à la période.","Tu manges de tout, Tu es allergique à l'eau !",null,"Oui","Oui","Tu es un gros ronfleur","https://drive.google.com/open?id=1UHZIvB7fXkLsRvGwCYbdlU5EagYZqjrc","Tu participeras tout de même sur la version fort et seras remboursé de 200€"]
["2025-01-13T19:20:00.033",null,null,"laursaad@gmail.com"," Saada","laurent",null,"H","laursaad@gmail.com","13 rue carnot","0614462023","18/02/76","Laurent S lolo","Oui","7 et 8 juin 2025","Pur PJ","Navire et fort",null,null,"1 Non, 2 non","ne pas jouer un violeur","ras","Non","Combat à l'épée, Combat à mains nues, Romance, Joutes verbales/insultes, Chanter, Danser, Jeux, violence, menaces, chantage, vices, superstition, camaraderie","J'aime les romances en jeu , l'action et l'ambiance bien immersive","Bien plus ! Je suis un Vétéran !","j'ai organisé un gros GN pirate , je fais du jdr pirate bref pas mal de connaissances . Au niveau ambiance , je dirais Epic /Liberté / Aventure/mystères ","Tu as déja vu la série","Entre les deux","Au coeur de l'intrigue principale.","Modérement","En groupe",null,"oui","Je suis autodidacte et pratique en GN","Je chante faux mais je m'en fous, j'aime ça !","un peu ","Oui et ça me plairait de pratiquer lors du gn","j'aime bien raconter des histoires mais pas en trop gros comité ","oui","pas grand chose hélas à part une bonne bouteille de rhum ","Tu as des allergies alimentaires (à préciser dans la question ci dessous)","porc et poivrons ","Oui","Non",null,"https://drive.google.com/open?id=1ktHJLtgSt5f1kvKQ3fIfOsn0WHh0AHSs","Tu participeras tout de même sur la version fort et seras remboursé de 200€"]
["2025-01-14T15:18:59.072",null,null,"rogguyot@gmail.com","Guyot","Romain",null,"H","rogguyot@gmail.com","60 rue jean le galleu 94200 Ivry sur Seine","0680168165","10 mai 1990","romain.guyot.334","Oui","Les deux dates sont possibles","Pur PJ","Navire et fort",null,null,"1 oui, 2 oui, 2 non","Ras","Jouer de crier très fort sur des gens ne m'amuse pas trop je préfère la colère froide. ","Non","Chanter, Danser, menaces, vices, camaraderie, animations",null,"Entre 1 et 5,","J'ai quelques notions sur la piraterie, en ressort une ambiance assez flamboyo-sombre : entre vices, puissance et liberté","pas encore vu mais tu as hâte de découvrir le charisme exceptionnel de ses perso :D","Entre les deux","Impliqué autant que possible !!","Oui","Peu importe",null,"oui!","Absolument pas","Ouiiiiiiiiiiiiiii !!","Quelques mots pour me repérer et décrire un bateau ","Non","Je suis comédien conteur et je chanteur et danse aussi. J'ai quelques habilités en travaux manuels couture et autre craft.","oui",null,"Tu es végétarien",null,"Non","Oui",null,"https://drive.google.com/open?id=1w1xVzai4y6PZj7OQFC-aph951Oh6Pw2C","Tu participeras tout de même sur la version fort et seras remboursé de 200€"]
["2025-01-15T10:15:05.807",null,null,"julien.flamant@gmail.com","Flamant","Julien",null,"H","julien.flamant@gmail.com","31 Allée des Bouleaux","0679705430","28/10/1982","P'tit Fût l'Apostat","Oui","13 et 14 septembre 2025","Pur PJ","Seulement au fort",null,null,"1 oui, 2 non","Absolument aucune limite ","Je suis pas un combattant et j'aime pas que mon perso soit uniquement centré sur l'enquête ","Non","Romance, Joutes verbales/insultes, Chanter, Danser, Jeux, violence, menaces, chantage, vices, superstition, camaraderie, animations","J'adore les romances et les relations d'amitié ","Bien plus ! Je suis un Vétéran !","Oui beaucoup. J'ai pas mal de connaissances sur les coutumes pirates","Tu as déja vu la série","Sur le devant de la scène","Au coeur de l'intrigue principale.","Oui","En groupe","Audrey et Charles","oui","Absolument pas","Je chante faux mais je m'en fous, j'aime ça !","Oui. ","Oui et ça me plairait de pratiquer lors du gn","Pas vraiment ","oui","J'aimerais de fou être quartier maître. Gardien de la chasse partie et le contre pouvoir de l'équipage auprès du capitaine et du second ","Tu manges de tout",null,"Oui","Oui",null,"https://drive.google.com/open?id=1lVUZ1GB2MUclMICInf-lTEN3NKfPYXBR"]
["2025-01-16T19:11:20.612",null,null,"agnesj2101@gmail.com","Jullien","Agnes",null,"F","ag9734@yahoo.com","3 rue Leopold Sedar Senghor 31520 Ramonville Saint Agne","0642584516","21/01/1981","Agnès Jullien","Oui","13 et 14 septembre 2025","Pur PJ","Navire et fort, peu importe (si tu as une préférence, coche cette case et ta préférence)",null,null,"1 oui, 2 non","Pas de viol","Rien à signaler","oui","Romance, Jeux, superstition, camaraderie, animations","Non","Entre 6 et 10,","Ambiance pirate des caraibes","pas encore vu mais tu as hâte de découvrir le charisme exceptionnel de ses perso :D","Entre les deux","D'avantage sur les quêtes secondaire.","Modérement","En groupe","Valérie Mousset, Greg Navarro, Claire Pichot","oui","Absolument pas","Ouiiiiiiiiiiiiiii !!","Non","Non","Non","oui","Non","Tu as des allergies alimentaires (à préciser dans la question ci dessous)","Pomme de terre","Oui","Non","Tu penses avoir le mal de mer","https://drive.google.com/open?id=1KRcej5gu8EoaZgDit2BMJiN5gw3ktKCy","Tu participeras tout de même sur la version fort et seras remboursé de 200€"]
["2025-01-16T19:50:12.544",null,null,"gregory.navarro@googlemail.com","Navarro","Grégory ",null,"H","gregory.navarro@googlemail.com","15 rue Marie Thérèse Eyquem 31520 Ramonville Saint Agne ",null,"28/08/1979","Gregaf Tapdurhörson","Oui","13 et 14 septembre 2025","Pur PJ","Navire et fort",null,null,"1 Non, 2 non","Non","Non","Non","Combat à mains nues, Chanter, Jeux, camaraderie",null,"Entre 6 et 10,","La volonté d'être libre quoi qu'il en coûte, c'est à mon sens la philosophie de vie des pirates de cette époque là. Donc une propension à brûler la chandelle par les 2 bouts, à profiter de la vie et à ne se soumettre à une autorité d'un capitaine que si cela contribue à ces principes.","pas encore vu mais tu as hâte de découvrir le charisme exceptionnel de ses perso :D","Entre les deux","D'avantage sur les quêtes secondaire.","Non","En groupe","Claire Pichot, Agnès Jullien, Valérie Mousset","oui","Je suis autodidacte et pratique en GN","Je chante faux mais je m'en fous, j'aime ça !","Très modéré, on peut se servir des expressions du capitaine haddock ? 😁","Oui et ça me plairait de pratiquer lors du gn","J'ai des notions de dessin mais je pratique peu ces derniers temps","oui",null,"Tu manges de tout",null,"Oui","Oui",null,"https://drive.google.com/open?id=1Yw5BjGg2L3mFFisl4U-T4zHZ6LeR3SY1","Tu participeras tout de même sur la version fort et seras remboursé de 200€"]
["2025-01-16T22:14:36.844",null,null,"pichot.cl@gmail.com","Pichot","Claire",null,"F","pichot.cl@gmail.com","1 rue Alexis Piecq 78700 Conflans sainte Honorine ","0684298287","14/10/1994","Claire Ette","Oui","13 et 14 septembre 2025","Pur PJ","Navire et fort, peu importe (si tu as une préférence, coche cette case et ta préférence)",null,null,"1 oui, 2 non","Pas d'araignée ni viol en jeu mais dans mon BG c'est ok ","Non","Non","Combat à l'épée, Romance, Jeux, menaces, chantage, vices, superstition, camaraderie",null,"Entre 1 et 5,","Je demande un pour parler !","pas encore vu mais tu as hâte de découvrir le charisme exceptionnel de ses perso :D","Entre les deux","Au coeur de l'intrigue principale.","Non","En groupe","Oui ! C'est surtout pour être avec eux donc peux importe mon personnage : Grégory Navarro Agnès Julien Valérie Mousset","oui!","Absolument pas, Mais je peux me lancer dans l'apprentissage !","Je chante faux mais je m'en fous, j'aime ça !","Bâbord tribord la proue les écoutilles la cale hisser la grande voile sous le vent, hisser haut santiano et voilà ","Oui et ça me plairait de pratiquer lors du gn","Danse couture cuisine tricot jeux de société dessin simple","oui","Alors pour l'instant rien ne me vient mais je vais y réfléchir et je vous tiens au jus ! ","Tu manges de tout",null,"Oui","Non","Tu penses avoir le mal de mer","https://drive.google.com/open?id=1_A1nwOyEDZpIqfQ12q_7eqoOd220N8sw","Tu participeras tout de même sur la version fort et seras remboursé de 200€"]
["2025-01-17T22:25:31.761",null,null,"valmousset@gmail.com","Mousset ","Valérie ",null,"F","valmousset@gmail.com","15 rue Marie Thérèse Eyquem 31520 Ramonville Saint Agne ","0620784623","13 11 1978","Valeriemousset","Oui","13 et 14 septembre 2025","Pur PJ","Navire et fort",null,null,"1 Non, 2 non","Le viol est un bon exemple. Pas de souci dans le bg mais un peu plus de mal a le jouer en réalité","Trahison vis a vis du perso joué par mon conjoint inscrit aussi pour le gn","oui","Chanter, Danser, Jeux, superstition, camaraderie","Je ne suis pas à l'aise dans les jours verbales ni les rôles politiques de premier plan","Entre 1 et 5,","Découverte d' un nouveau monde","pas encore vu mais tu as hâte de découvrir le charisme exceptionnel de ses perso :D","Entre les deux","D'avantage sur les quêtes secondaire.","Non","En groupe","Gregory Navarro, Claire pichot, Agnès Jullien","oui","Absolument pas","Je chante faux mais je m'en fous, j'aime ça !","J'ai connu une pieuvre :-)","Oui et ça me plairait de pratiquer lors du gn","Je sais a peu près jouer au petit palets et je fais de la couture et du crochet. ","oui",null,"Tu manges de tout",null,"Oui","Oui",null,"https://drive.google.com/open?id=1E0fWep4vcV1_06MjwpmEfphew88G0LSr","Tu participeras tout de même sur la version fort et seras remboursé de 200€"]
["2025-01-17T22:50:16.454",null,null,"trebosc.david@gmail.com","Trébosc","David",null,"H","trebosc.david@gmail.com","1259 route de Manzeix 87130 Linards",6.18811757E8,"14/10/83","David Trébosc","Oui","13 et 14 septembre 2025","PJ/PNJ (il s'agit d'un moment du GN, le reste du temps tu joues ton perso. Cela concerne le fort))","Seulement au fort",null,null,"1 Non, 2 non","Nooe","Nope","Non","Combat à mains nues, Romance, Joutes verbales/insultes, Chanter, Danser, Jeux, menaces, superstition, camaraderie, animations",null,"Entre 6 et 10,","Pas vraiment, mis à part Black Sails","Tu as déja vu la série","Entre les deux","Peu d'objectif, je me débrouille en jeu.","Modérement","En groupe","La Manticore ! (Pouria, Ju, Audrey, Charles, Sophie...)","oui","Absolument pas","Ouiiiiiiiiiiiiiii !!","Nope","Non","Je chante, je peux jouer des morceaux simples au tin whistle,","oui",null,"Tu manges de tout",null,"Non","Non",null,"https://drive.google.com/open?id=1vkaLemaSfPDbrl5Ysza-TznW_wjeXIG2","Tu participeras tout de même sur la version fort et seras remboursé de 200€"]
["2024-07-24T08:00:44.822",null,null,"","orfeuvre","emilie",null,"F","emilie.orfeuvre@gmail.com","28 rue des fleurs 69500 BRON","0688550880","21/10/1989","Milie oh","Oui","13 et 14 septembre 2025","Pur PJ, PJ/PNJ (il s'agit d'un moment du GN, le reste du temps tu joues ton perso. Cela concerne le fort))","Seulement au fort",null,null,"1 oui, 2 non","RAS","RAS. par contre je n'ai pas grand compétences au sabre ^^","Non","Romance, Joutes verbales/insultes, Jeux, violence, menaces, chantage, vices, camaraderie, animations","J'ai mis celles qui m'attirent le plus! mais les autres sont très séduisantes aussi!\nPour le combat à l'épée ou mains nues ca serait sympa aussi mais c'est moins prioritaire. \nDanser : dans un bal pirate oui (surtout si tous les spectateurs sont bourrés^^)\n seule devant le public je n'ai pas le talent requis.\nChanter? je ne suis pas timide, j'aime chanter mais ne suis pas une diva non plus. \nPareil, dans un bal pirate, chanter pour \"la fête\" pourquoi pas, chanter en tant que \"La chanteuse des mers\"...","Bien plus ! Je suis un Vétéran !","une période, un univers complexe, mêlant violence, romantisme, liberté et dangers.\nDes aventuriers en quête de liberté et indépendance vis à vis des lois et sociétés dès lors.\nUne certaine violence physique et verbale, un monde de force et d'intimidation...\nMais aussi de la camaraderie, de la fraternité au sein d'un équipage, une solidarité au sein du groupe qui conditionnait aussi la réussite\nCa n'empêchait pas les rebellions ou les trahisons, sinon c'est trop simple\nQuelques légendes sur les trésors enfouis \nDes femmes et les intrigues qui s'y associent\nUne grande diversité culturelle, ethnique et religieuse aux sein des pirates\nUn monde complexe et exaltant!\nDes codes et principes mais aussi de l'imprévu","pas encore vu mais tu as hâte de découvrir le charisme exceptionnel de ses perso :D","Sur le devant de la scène","Au coeur de l'intrigue principale.","Oui","Peu importe","je suis ouverte aux rencontres ou à revoir des connaissances","oui","Absolument pas","Je chante faux mais je m'en fous, j'aime ça !","pas plus que ça mais je peux m'y pencher (au moins sur la théorie^^)","Oui et ça me plairait de pratiquer lors du gn","Concours d'insultes absurdes ou subtiles au choix, prononcées d'une voix absolument mélodieuse...\nL'art de la manipulation (en GN je précise)\nlancé de perroquet si on me fourni le perroquet\nje gagne les concours de rôt mais je peux aussi être une belle pirate classe, c'est juste pour montrer aux gars qui commande\nJe peux aussi jeter les pirates inutiles ou insupportables par dessus bord mais par convenance j'éviterai\nJe peux être créative et n'ai pas peur du ridicule (et puis le rhum effacera la mémoire des spectateurs)","oui","épeler mon prénom... mais pas que... en rotant.... mais oui!!\nMon non anniversaire oui, mon anniv c'est le début d'un lonnnnnnnnng mensonge\n\nPlus sérieusement, je suis médecin, dites moi si ca vous intéresse, si y a besoin d'amener du matos... même si en pleine mer si quelqu'un meurt...","Tu es végétarien",null,"Oui","Oui",null,"https://drive.google.com/open?id=1EgO68xzHfy0QqQepDThj9ua--OlX24Ru","Tu participeras tout de même sur la version fort et seras remboursé de 200€"]
["2025-01-19T16:31:38.186",null,null,"arthursaison59@gmail.com","saison","arthur",null,"H","arthur.saison@hotmail.com","arthur.saison@hotmail.com","0674426558","15/10/1999","Arthur Saison","Oui","13 et 14 septembre 2025","Pur PJ","Navire et fort",null,null,"1 oui, 2 oui","non","non","oui","Combat à l'épée, Combat à mains nues, Romance, Joutes verbales/insultes, Chanter, Danser, Jeux, violence, menaces, chantage, vices, superstition, camaraderie, animations","non","Bien plus ! Je suis un Vétéran !","oui j'ai je m'intéresse beaucoup à cette univers que ce soit histo et fantasy, j'ai vu les films et series emblématique et j'ai lu quelques livres\n\net j'apprécie l'idée de l'aventure, de la liberté et de la rébellion au règles \nJ'ai également déjà joué un capitaine des bas fond ( type davy jones )  sur un autres gn ","Déja vu mais tu comptes la revoir pour t'immerger un max","Entre les deux","Impliqué autant que possible !!","Modérement","Peu importe","Nathan beeckman, Ambre compère, Bernard cappar ( ils vont bientôt s'inscrire )","oui","J'ai suivi des cours d'escrime (indique ton niveau stp dans la case \"Autre\" ci-dessous si c'est le cas ! :D ), J'ai 12ans de gn dans les pattes et j'ai combattu sur moulte champ de bataille j'a également suivi le cours d'escrime ludique de la riddle of steel plusieurs années","Je chante faux mais je m'en fous, j'aime ça !","amateur","Oui et je peux apporter du matériel","Je suis artisan, forgeron, menuisier, sculpteur, et maroquinier ( voir Arteus atelier sur les réseaux ) ","oui","Nous pouvons produire du matos et nous avons un stock de décors ","Tu manges de tout","aucune ","Oui","Oui",null,"https://drive.google.com/open?id=1ZHdcV8cvt5vC03ts-M1233oa4MfTVSRy","Tu participeras tout de même sur la version fort et seras remboursé de 200€"]
["2025-01-19T18:10:18.375",null,null,"lucky-12@hotmail.fr","Richard","Lea",null,"F","lea.p.y.richard@outlook.fr","Chau. de Charleroi 26, 1060 Saint-Gilles, Belgium","0032494182566","26/02/1992","Lea Richard ","Oui","Les deux dates sont possibles","Pur PJ, PJ/PNJ (il s'agit d'un moment du GN, le reste du temps tu joues ton perso. Cela concerne le fort)), PNJ","peu importe (si tu as une préférence, coche cette case et ta préférence)",null,null,"1 oui, 2 oui","je ne souhaite pas parler de viol en jeu mais que cela soit mentionné dans mon bg ne me pose pas de souci 😉 ","Je n'ai pas de problème avec la violence mais je n'aime pas vraiment les combats. Si l'intégrité physique de mon personnage est en danger, elle aura tendance a se replier. C'est pas de la fuite c'est de la stratégie ","Non","Romance, Chanter, Danser, Jeux, violence, menaces, chantage, vices, superstition, camaraderie, animations",null,"Entre 6 et 10,","La soif de liberté face à l'injustice de la société.\nJ'adore les chants pirate! Avoir recréer une société dure certe mais où l'espoir d'une vue meilleure est plus accessible ","pas encore vu mais tu as hâte de découvrir le charisme exceptionnel de ses perso :D","Entre les deux","Impliqué autant que possible !!","Modérement","Peu importe","Mes amis belge doivent s'inscrire mais je ne sais pas si ils l'on deja fait.\n","oui!","Je suis autodidacte et pratique en GN","Je chante faux mais je m'en fous, j'aime ça !","Non mais je peux apprendre ","Non","Je craft et je couds, broderie etc....","oui","J'ai une superbe robe plutôt noble qui serai du plus belle effet mais si je joue autre chose, je m'adapterai à mon perso","Tu as des allergies alimentaires (à préciser dans la question ci dessous)","Je suis allergique au fruit et légumes crus... Enfin au pesticides s'ils peuvent contenir mais dans le doute je mange tous cuit afin d'éviter de mourir bêtement ","Non","Oui",null,"https://drive.google.com/open?id=1Wy8NzDUBIzX7YqpRhc0_Eb7_HmGKSC4R","Tu participeras tout de même sur la version fort et seras remboursé de 200€"]
["2025-01-19T21:48:01.451",null,null,"nbee@live.be","Beeckman","Nathan",null,"H","nbee@live.be","Avenue d'Itterbeek 105 Anderlecht Bruxelles","+32 471541547","23/12/1994","Nathan Beeckman","Oui","13 et 14 septembre 2025","Pur PJ","Navire et fort",null,null,"1 Non, 2 non","Pas de soucis","Pas de soucis","oui","Combat à l'épée, Combat à mains nues, Joutes verbales/insultes, Chanter, Jeux, violence, menaces, chantage, superstition, camaraderie",null,"Bien plus ! Je suis un Vétéran !","J'ai vu Black Sails, j'aime assez l'univers de la piraterie. Vivre libre ou mourrir","Tu as déja vu la série","Entre les deux","Impliqué autant que possible !!","Modérement","En groupe","Arthur Saison","oui","Je suis autodidacte et pratique en GN, J'ai aussi fais un peu d'escrime.","Je chante faux mais je m'en fous, j'aime ça !","Oui, j'ai fais un peu de voile. Et je suis passionné d'histoire militaire et donc marine aussi. ","Oui et ça me plairait de pratiquer lors du gn","Je dessine et je sculpte. ","oui","Je travaille dans un atelier, Arteus Atelier, nous produisons des décors, des costumes , accessoires de Gn, armes, ferronnerie etc \nsi celà vous interresse à la location ou à l'achat. \nhttps://www.instagram.com/arteus_atelier/#  voici le lien instagram \n","Tu manges de tout",null,"Non","Oui","Tu es un gros ronfleur","https://drive.google.com/open?id=1l8F-fVtfd-Z6Bf9JUCXdhKN0GfVBPvz2","Tu participeras tout de même sur la version fort et seras remboursé de 200€"]
["2025-01-19T23:42:55.319",null,null,"sofides@wanadoo.fr","Philbert","SOPHIE",null,"F","sofides@wanadoo.fr","24 bis rue Pierre joigneaux bois colombes","0669724980","08/03/1983","Sophie Philbert","Oui","13 et 14 septembre 2025","PJ/PNJ (il s'agit d'un moment du GN, le reste du temps tu joues ton perso. Cela concerne le fort))","Seulement au fort",null,null,"1 Non, 2 non","Viol","RAS","Non","Combat à l'épée, Chanter, Jeux, chantage, superstition, camaraderie",null,"Entre 6 et 10,","Vivre intensément et mourir libre","pas encore vu mais tu as hâte de découvrir le charisme exceptionnel de ses perso :D","Entre les deux","Impliqué autant que possible !!","Modérement","En groupe","Charles, Audrey, Julien, pourrais-tu, Kévin Lepage, David Trebosc","oui","Absolument pas","Ouiiiiiiiiiiiiiii !!",null,"Oui et je peux apporter du matériel",null,"oui",null,"Tu manges de tout",null,"Non","Non",null,"https://drive.google.com/open?id=1OpS8R9bIftj3_ftDd7jUlmnzLop7h53u"]
["2024-01-12T09:04:56.455",267.0,1.0,"philbert.charles@neuf.fr","PHILBERT","Charles",null,"H","Philbert.charles@neuf.fr","24 bis rue pierre joigneaux 92270 bois colombes","0688981791","05/03/1982","charles PHILBERT","Oui","13 et 14 septembre 2025","PJ/PNJ (il s'agit d'un moment du GN, le reste du temps tu joues ton perso. Cela concerne le fort))","Seulement au fort",null,null,"1 oui, 2 non","non","non","Non","Combat à mains nues, Romance, Joutes verbales/insultes, Chanter, Danser, Jeux, violence, chantage, superstition, camaraderie, animations","J'aimerais bcp que tu reussises à générer une partie de quête au trésor autour d indices compris dans des chants marins plus confidentiels que les 3-4 qu'on connaît tous : ceci pour donner dubsens à mon carnet de chant qui aurait inspiré ce code. ET pour pousser les gens à écouter les chansons et à questionner les interprètes sur les lègendes ayant amené leur création. Idem sur les contes et legendes de marins que je t'avais relayé sur YOU tube par le stryx... lien si besoin par MP...","Bien plus ! Je suis un Vétéran !","liberté","Tu as déja vu la série","Entre les deux","Peu d'objectif, je me débrouille en jeu.","Oui","En groupe","petit fut (le vrai et celui de ma V1), Mathis ","oui","Absolument pas, je suis fort en apnéisme ! discipline qui consiste à se cacher sous le niveau de la mer pendant toute la duree dun combat.","Ouiiiiiiiiiiiiiii !!","un peu","Oui et je peux apporter du matériel","bolas et jonglage de base, pitreries!","oui","de la déco mais que si tu mets dans un camion (tentes, fûts, filets...) car dans ma voiture je préférerais mettre des covoitureurs (le GN est déjà cher une fois tout compris. d'ailleurs évite si possible les restaurants à 40€ car 400+ hotels+ déplacement + 2 restaurants chers on est pas loin de l UW..\n\nBonne orga ma chérie !! et merci de continuer à nous faire vivre de si beaux moments.","Tu manges de tout, Tu es allergique à l'eau !",null,"Oui","Oui",null,"https://drive.google.com/open?id=1dXNpFK-OWEhGUqWtPMX5Po2PBGrWNnng","Tu participeras tout de même sur la version fort et seras remboursé de 200€",null,"Super joueur, très bon interprète et très sympathique"]
["2025-01-20T13:32:08.811",null,null,"kiddykidds7@gmail.com","Delahaye ","Damien",null,"H","damien-kidds@hotmail.fr","18 rue René dieras 35470 Guichen ","07-85-94-49-12","18/10/1992","Kidds teach Rackham ","Oui","7 et 8 juin 2025, 13 et 14 septembre 2025","PJ/PNJ (il s'agit d'un moment du GN, le reste du temps tu joues ton perso. Cela concerne le fort))","Navire et fort, peu importe (si tu as une préférence, coche cette case et ta préférence)",null,null,"1 oui, 2 oui","Peu importe ","Peu importe ","oui","Combat à l'épée, Romance, Joutes verbales/insultes, Danser, Jeux, vices, superstition, camaraderie, animations",null,"Aucun ! C'est ma première fois !","La liberté, la rébellion face à l'état.","Déja vu mais tu comptes la revoir pour t'immerger un max","Entre les deux","Impliqué autant que possible !!","Modérement","Peu importe","Mini-mew chatouxe ( Charline Lefebvre) si elle c'est inscrite.","oui","Autour de jeu que j'anime dans mon travail.","Je chante faux mais je m'en fous, j'aime ça !","Je me suis jamais posé la question mais je ne pense pas.","oui et je peux même animer","Guitare, musique.","oui","J'ai des dê pour davantage jeu, et quelques décors","Tu manges de tout",null,"Non","Oui","Tu es un gros ronfleur","https://drive.google.com/open?id=1Xv5dVidNu6KfnYlfXoaBTkXtyr7UETQU"]
["2025-01-20T16:43:30.986",null,null,"charline.lefebvre7@orange.fr","Lefebvre","Charline",null,"F","charline.lefebvre7@orange.fr","18 Rue René Dieras 35580 Guichen","0762276863","23/07/1998","Mini-Mew Chatouxe","Oui","Les deux dates sont possibles","PJ/PNJ (il s'agit d'un moment du GN, le reste du temps tu joues ton perso. Cela concerne le fort))","Navire et fort, peu importe (si tu as une préférence, coche cette case et ta préférence)",null,null,"1 Non, 2 non","Non","Pas de moment intime","oui","Combat à l'épée, superstition",null,"Aucun ! C'est ma première fois !","Mon compagnon est fan de pirate donc il m'explique beaucoup de choses. Pour moi ça symbolise la rébellion, l'envie de liberté","Déja vu mais tu comptes la revoir pour t'immerger un max","Entre les deux","Impliqué autant que possible !!","Non","En groupe","Kidds Teach-rackam (Damien DeLahaye)","oui","Absolument pas","Je préfère éviter, j'encouragerai les autres en tapant dans les mains ou avec mon godet !","Non","Non","Dessin (manga) !","oui","Objets décoration pirate","Tu manges de tout",null,"Oui","Oui",null,"https://drive.google.com/open?id=1j9DfRvKi6tOa0A8V8NOlb9f3doJmHz0N","Tu participeras tout de même sur la version fort et seras remboursé de 200€"]
["2025-01-20T22:29:35.424",null,null,"valentine.pressoir@gmail.com","Pressoir","Valentine",null,"F","valentine.pressoir@gmail.com","244 Rue du Coin, 74970, Marignier","0645130094","23/02/1998","Valentine ","Oui","7 et 8 juin 2025","Pur PJ, PJ/PNJ (il s'agit d'un moment du GN, le reste du temps tu joues ton perso. Cela concerne le fort))","Seulement au fort",null,null,"1 oui, 2 non","Non c'est ok! Tant que je peux le jouer simplement 😊","C'est ok même si ça sera une première...!","Non","Danser, Jeux, camaraderie","Chant ok et partante! mais pas en solo ni sur le devant de la scène 😉","Aucun ! C'est ma première fois !","Liberté, honneur, partage, festoiement !","pas encore vu mais tu as hâte de découvrir le charisme exceptionnel de ses perso :D","Discret","D'avantage sur les quêtes secondaire.","Non","En groupe","Oui! Cf James Hawkins & co","oui","Quelques bases mais pas forcément communes (passes préparées et travaillées entre amis/ en troupe...)","Ouiiiiiiiiiiiiiii !!","Quelques termes... Compréhension ok, l'expression j'espère apprendre et appliquer !","Oui et ça me plairait de pratiquer lors du gn","Je danse pas trop mal! (A ce qu'on dit 😉)\nJe suis très manuelle, peux bricoler,\nJe m'en sors pas mal en couture ","oui",null,"Tu as des allergies alimentaires (à préciser dans la question ci dessous)","Fruits et légumes crus, fruits à coque ","Non","Oui",null,"https://drive.google.com/open?id=1LX8OKvRiW4pEVd-2y6sE-X21uzx91fPB"]
["2025-01-21T15:10:34.025",null,null,"sebvoinot@yahoo.fr","VOINOT","Sébastien",null,"H","sebvoinot@yahoo.fr","4 rue d'Avron, 94170 Le Perreux-sur-Marne","0603087308","07 avril 1974","Sébastien VOINOT","Oui","13 et 14 septembre 2025","Pur PJ","Navire et fort",null,null,"1 Non, 2 non","Non","Non","Non","Combat à l'épée, Romance, Jeux, superstition","Non","Bien plus ! Je suis un Vétéran !","J'ai lu des ouvrages et regardé des documentaires, ainsi que les séries Black Sails, Crossbones, Dans le sillage des pirates (Netflix) ou Pirates, au-delà des légendes. Je perçois donc la réalité historique de la piraterie par rapport à certaines représentations cinématographiques.","Déja vu mais tu comptes la revoir pour t'immerger un max","Entre les deux","Impliqué autant que possible !!","Modérement","Peu importe","Je suis ouvert à toutes les propositions !","oui","J'ai suivi des cours d'escrime (indique ton niveau stp dans la case \"Autre\" ci-dessous si c'est le cas ! :D ), Esentiellemennt des AMHE mediévaux, mais transposables sur un GN piraterie.","Je chante faux mais je m'en fous, j'aime ça !","Un peu, j'ai travaillé à une époque pour la Marine Nationale, j'ai gardé certains vocabulaires.","Oui et je peux apporter du matériel","Malheureusement non.","oui","Je peux apporter des jeux de dés.","Tu manges de tout",null,"Oui","Oui",null,"https://drive.google.com/open?id=1lLhtaawRCWTNbeQUCzZpbPZeyNHNYrw1","Tu participeras tout de même sur la version fort et seras remboursé de 200€"]
["2025-01-21T22:27:55.980",null,null,"moulin.philippe@gmail.com","Moulin","Philippe",null,"H","moulin.philippe@gmail.com","49 rue de Châtenay 92160 Antony","0662476913","15/06/1970","https://www.facebook.com/moulinp1","Oui","7 et 8 juin 2025, 13 et 14 septembre 2025, Les deux dates sont possibles","PJ/PNJ (il s'agit d'un moment du GN, le reste du temps tu joues ton perso. Cela concerne le fort))","Navire et fort",null,null,"1 Non, 2 non","aucun","aucune","oui","Combat à l'épée, Romance, Joutes verbales/insultes, Jeux, menaces, chantage, vices, superstition, camaraderie, animations",null,"Entre 6 et 10,","Pas assez -> Je cours regarder Black Sails","pas encore vu mais tu as hâte de découvrir le charisme exceptionnel de ses perso :D","Entre les deux","Impliqué autant que possible !!","Modérement","Peu importe",null,"oui","Je suis autodidacte et pratique en GN, J'ai suivi des cours de Naginata","Je chante faux mais je m'en fous, j'aime ça !","J'ai des connaissances de base en voile, et un bon niveau en plongée ","Non",null,"oui",null,"Tu es végétarien",null,"Oui","Oui",null,"https://drive.google.com/open?id=1XHgv_pbsiUGZlxTEGSK6Zpp691HqtedR","Tu participeras tout de même sur la version fort et seras remboursé de 200€"]
["2025-01-21T22:50:49.288",null,null,"ninon.rys@gmail.com","Rys","Ninon",null,"F","ninon.rys@gmail.com","138 rue Etienne Marcel","0625906212","06/04/1989","Ninon Ysr","Oui","7 et 8 juin 2025","Pur PJ, PJ/PNJ (il s'agit d'un moment du GN, le reste du temps tu joues ton perso. Cela concerne le fort))","Navire et fort, peu importe (si tu as une préférence, coche cette case et ta préférence)",null,null,"1 oui, 2 oui","En jeu je ne veux pas vivre ou assister à une quelconque scène de violence sur des animaux ni même un rat. Eviter les drogues dures mais ça devrait aller ! ","Rien à signaler. ","oui","Combat à l'épée, Romance, Joutes verbales/insultes, Chanter, Danser, Jeux, violence, menaces, chantage, vices, superstition, camaraderie",null,"Entre 1 et 5,","Chacun pour sa peau et en même temps de la solidarité, des aliés, de la camaraderie, un monde parfois violent et impitoyable","pas encore vu mais tu as hâte de découvrir le charisme exceptionnel de ses perso :D","Entre les deux","D'avantage sur les quêtes secondaire.","Oui","Peu importe","Je sais que Laurent et Arnaud se sont inscrits, ce serait marrant de les avoir en équipage","oui","Absolument pas","Ouiiiiiiiiiiiiiii !!","Un nœud de 8 ? ","Non","Violon après ça tangue sur un bateau","oui","Ah ben on y vient au violon ","Tu manges de tout","Éviter trop de fromage (lactose) ","Non","Oui","Tu penses avoir le mal de mer","https://drive.google.com/open?id=1OQT1fkBot04bmgZP35QrPo0vTcWAe5-v","Tu participeras tout de même sur la version fort et seras remboursé de 200€"]
["2025-01-21T23:21:16.755",null,null,"hulrek@gmail.com","picano","benjamin",null,"H","hulrek@gmail.com","694 av de mazargues","0664754371","01/08/1981","benjamin picano","Oui","7 et 8 juin 2025","Pur PJ","Navire et fort",null,null,"1 oui, 2 non","non","non","oui","Combat à l'épée, Combat à mains nues, Romance, Joutes verbales/insultes, Chanter, Danser, Jeux, violence, menaces, chantage, vices, superstition, camaraderie, animations",null,"Bien plus ! Je suis un Vétéran !","chasse au trésor  ","Tu as déja vu la série","Sur le devant de la scène","Impliqué autant que possible !!","Modérement","En groupe","amelia bonfy et la team de solline testard ","oui","Je suis autodidacte et pratique en GN","Je chante faux mais je m'en fous, j'aime ça !","très vites oui je navigues en méditerranée sur bateau a moteur ","Non","non","oui","non","Tu es allergique à l'eau !",null,"Oui","Oui","Tu es un gros ronfleur","https://drive.google.com/open?id=1HfyrVdaJmgnkMIYHOy0QD6GBf79Y4BGu","Tu participeras tout de même sur la version fort et seras remboursé de 200€"]
["2025-01-22T18:07:01.110",null,null,"zfressange@gmail.com","Fressange","Zoé",null,"F","zfressange@gmail.com","8bis allée saint joseph 18570 Trouy","0666012226","22 mars 1991","Zoé des Lilas","Oui","7 et 8 juin 2025","Pur PJ, PJ/PNJ (il s'agit d'un moment du GN, le reste du temps tu joues ton perso. Cela concerne le fort))","Seulement au fort","oui","Je préfère jouer mon perso mais je peux en jouer un autre si cela n'est pas possible, Cela ne me pose pas de problème de changer de perso","1 oui, 2 oui","je préfère éviter la question du viol (surtout en jeu!), ça peut faire partie du bg (c'était pertinent pr la violence de mon perso sur le premier opus). ","devoir m'en prendre physiquement/violemment à Denis (j'en suis incapable) ou être en opposition frontale avec lui. Laisser une femme se faire violer ou en être à l'origine. (pas de soucis pour gérer un bordel par contre)","oui","Combat à mains nues, Romance, Joutes verbales/insultes, Chanter, violence, menaces, chantage, vices, superstition, camaraderie","je ne souhaite pas de triangle amoureux avec Denis Glapa, ni de situation de trahison (amoureuse ou amicale) J'adore inventer des chansons sur des airs connus ! Je n'ai aucun soucis à jouer une \"méchante\" si je suis pas seule au monde.","Bien plus ! Je suis un Vétéran !","On a maté les 3 premières saisons de Black Sails avec Denis avant l'opus 1. C'est du carpe diem aux caraibes, avec toute la violence et l'incertitude de l'époque. Et des costumes stylés malgré la crasse ^^' esprit de camaraderie, soutien d'un équipage, volonté de s'enrichir...","Tu as déja vu la série","Sur le devant de la scène","Impliqué autant que possible !!","Oui","En groupe","Denis Glapa !, Thomas Grunemwald ! , Circé Olthae, Yannick Lailler, Mathis Gibert, Chloé Sardine, Quentin Herisson, Spike, Antoine Chalubert, Elodie Circlepuk...\nA l'inverse, je ne souhaite pas être dans l'équipage de Maxime Crozier, Dante Onyrium ou Mickael Huneau, ni jouer de romance ou de jeu proche. ","oui","Absolument pas","Je chante faux mais je m'en fous, j'aime ça !","J'ai vécu 6 mois sur un bateau enfant aux antilles, j'ai fait 2 ans d'optimiste, plusieurs sorties en mer et je sais pécher.","Oui et je peux apporter du matériel","Je peux écrire diatribes, lettres, poèmes, déclamer... je fais un peu de burlesque aussi mais je vois pas trop le délire à Nassau xD","oui","Comme mentionné plus haut, j'adore jouer avec Denis mais je suis pas capable de m'en prendre à lui ou d'être en opposition frontale. Déjà essayé, déjà échoué xD De même, j'ai déjà joué sa fille alors que l'ex amour de son perso était aussi dans notre camp, pas foufou comme expérience. Si on peut éviter la gauquitude, je prends ^^' \nJe ne suis pas contre reprendre mon perso mais pas grave s'il est déjà donné. J'ai bien aimé jouer les \"vraies méchantes\" et j'ai adoré me comporter comme un mec (dans ce qu'il y a de \"pire\") tout un GN xD \nMais ça ne me dérange pas d'être en second plan, sur un autre perso ou autre ; tant que je ne suis pas la gentille naive un peu concon qui se fait avoir... ^^' Je vous fais confiance selon vos besoins et ce qu'il reste :)\nIl y a des gens avec qui je serais très très emmerdée de devoir jouer en équipage, je les ai mis plus haut. ","Tu as des allergies alimentaires (à préciser dans la question ci dessous)","chou ^^'","Oui","Oui",null,"https://drive.google.com/open?id=1SVetVTZe1NpKQEqTHsakmkOXShRtFeQL","Tu participeras tout de même sur la version fort et seras remboursé de 200€"]
["2025-01-22T18:08:03.443",null,null,"dojirowasp@gmail.com","Glapa","Denis",null,"H","d.glapa@laposte.net","8 bis allee st joseph, 18570 Trouy","0660570605","6 Mai 1982","Denis Carcajou Bondissant","Oui","7 et 8 juin 2025","Pur PJ, PJ/PNJ (il s'agit d'un moment du GN, le reste du temps tu joues ton perso. Cela concerne le fort))","Seulement au fort","Non","Cela ne me pose pas de problème de changer de perso","1 oui, 2 oui, 2 non","Nope","Etre balancé à la mer (je tape des crises de panique dans l'eau quand j'ai pas pied ^^)","oui","Combat à mains nues, Romance, Joutes verbales/insultes, Jeux, violence, menaces, chantage, vices, superstition, camaraderie, animations","Nope","Bien plus ! Je suis un Vétéran !","Pas plus que ça...mais j'ai joué l'opus 1 en ayant lu tous les docs ! :D","Déja vu mais tu comptes la revoir pour t'immerger un max","Discret","Peu d'objectif, je me débrouille en jeu.","Oui","En groupe","Zoé, Max, Manu, Benoit...en fait ça dépendra surtout du cast et de qui est sur le bateau/fort\n","oui","Je suis autodidacte et pratique en GN","Je préfère éviter, j'encouragerai les autres en tapant dans les mains ou avec mon godet !","Pas plus que depuis la dernière fois :D","Oui et ça me plairait de pratiquer lors du gn","La torture... :D","oui","En fonction, y'a le stock asso. :)\n\nJe reviens juste sur la question du type de rôle souhaité...en fait je m'en tape un peu, j'ai pas vraiment de préférence. C'était très drôle de jouer De Vire...mais on peut partir sur totalement autre chose au besoin ;) ","Tu manges de tout",null,"Oui","Oui",null,"https://drive.google.com/open?id=1S77fL-40DjNE6zskZWzWCkZALFzjtU96","Tu participeras tout de même sur la version fort et seras remboursé de 200€"]
["2025-01-23T08:53:06.848",null,null,"cecile.rollin@gmail.com"," Rollin","Cecile",null,"F","cecile.rollin@gmail.com","30B rue Paul et Camille Thomoux 93330 Neuilly sur Marne ","0615362940","23/05/1976","Cécilia Thor Diaz","Oui","13 et 14 septembre 2025","Pur PJ","Navire et fort",null,null,"1 oui, 2 non","Pas spécialement, le viol éventuellement en BG mais pas en jeu.","Les combats ou toute situation où on peut prendre physiquement des coups. Les combats à mains nues, s'ils sont totalement simulés, ça va, mais je suis nulle","Non","Romance, Chanter, Danser, Jeux, vices, superstition, camaraderie, animations",null,"Bien plus ! Je suis un Vétéran !","Assez peu, je m'imagine une ambiance entre la série Black Sails et ce qui est décrit dans le JDR Pavillon noir. L'ambiance qui en ressort est riche, sale, retorse, opportuniste, joyeuse et de courte durée ","Déja vu mais tu comptes la revoir pour t'immerger un max","Entre les deux","Peu d'objectif, je me débrouille en jeu.","Oui","En groupe","Vincent Petit, mais le ne jouera que sur le fort","oui","Absolument pas","Ouiiiiiiiiiiiiiii !!","La base, suite à fréquentation de bretons et de vocabulaire appris dans les chants de marins","oui et je peux même animer","Musique, chants et danse","oui","Je peux apporter des instruments (flûte et vielle a roue)","Tu manges de tout",null,"Oui","Oui","Tu es un gros ronfleur","https://drive.google.com/open?id=1J9FWqwNfJa3fwonT6OceXSfMk-UGW138","Tu préfères ne pas participer"]

{"sheet":"feuille technique intermediaire","index":16,"n_rows":500,"n_cols":19,"rows_kept":500,"cut":false,"hidden":false,"merged":[]}
["date",{"$f":"'Réponses au formulaire - copy-c'!E1","v":"Nom"},{"$f":"'Réponses au formulaire - copy-c'!F1","v":"Prénom"},{"$f":"'Réponses au formulaire - copy-c'!H1","v":"genre"},"age","age H","age F",null,{"$f":"'Réponses au formulaire - copy-c'!I1","v":"Adresse e-mail"},{"$f":"'Réponses au formulaire - copy-c'!M1","v":"Pseudo facebook"},{"$f":"'Réponses au formulaire - copy-c'!K1","v":"Numéro de téléphone"},"-",{"$f":"'Réponses au formulaire - copy-c'!O1","v":"Sur quelle session souhaites tu jouer? "},"=> session",{"$f":"'Réponses au formulaire - copy-c'!Q1","v":"souhaites jouer: "},"=> lieu",null,"=> type"]
[{"$f":"DATE(YEAR('Réponses au formulaire - copy-c'!A2), MONTH('Réponses au formulaire - copy-c'!A2), DAY('Réponses au formulaire - copy-c'!A2))","v":"2024-01-12"},{"$f":"'Réponses au formulaire - copy-c'!E2","v":"ARVIN-BEROD "},{"$f":"'Réponses au formulaire - copy-c'!F2","v":"Florence"},{"$f":"'Réponses au formulaire - copy-c'!H2","v":"F"},{"$f":"IFERROR(INT((DATEVALUE(TODAY())-DATEVALUE(TRIM('Réponses au formulaire - copy-c'!L2)))/365), \"?\")","v":33},{"$f":"IF(D2=\"H\", E2, NA())","v":"#N/A"},{"$f":"IF(D2=\"F\", E2, NA())","v":33},{"$f":"COUNTIFS($B$2:$B, D2, $A$2:$A, \"H\")","v":"#ERROR!"},{"$f":"'Réponses au formulaire - copy-c'!I2","v":"flofloab@yahoo.fr"},{"$f":"'Réponses au formulaire - copy-c'!M2","v":"Florence ARVIN-BEROD "},{"$f":"'Réponses au formulaire - copy-c'!K2","v":"0617161474"},"-",{"$f":"'Réponses au formulaire - copy-c'!O2","v":"7 et 8 juin 2025"},{"$f":"SWITCH(M2,\"7 et 8 juin 2025, Les deux dates sont possibles\", \"Les deux\", \"7 et 8 juin 2025\", \"juin\", \"13 et 14 septembre 2025\", \"septembre\", \"Les deux dates sont possibles\", \"Les deux\", \"7 et 8 juin 2025, 13 et 14 septembre 2025\", \"Les deux\", \"Non précisé\")","v":"juin"},{"$f":"'Réponses au formulaire - copy-c'!Q2","v":"Navire et fort"},{"$f":"SWITCH(O2,\"Navire et fort\", \"Navire et fort\", \"Seulement au fort\", \"Seulement au fort\", \"Peu importe\")","v":"Navire et fort"},{"$f":"'Réponses au formulaire - copy-c'!P2","v":"Pur PJ"},{"$f":"SWITCH(Q2,\"Pur PJ\", \"Pur PJ\", \"PNJ\", \"PNJ\", \"PJ+PNJ\")","v":"Pur PJ"},{"$f":"'Réponses au formulaire - copy-c'!R2","v":""}]
[{"$f":"DATE(YEAR('Réponses au formulaire - copy-c'!A3), MONTH('Réponses au formulaire - copy-c'!A3), DAY('Réponses au formulaire - copy-c'!A3))","v":"2024-01-12"},{"$f":"'Réponses au formulaire - copy-c'!E3","v":"Bergeret "},{"$f":"'Réponses au formulaire - copy-c'!F3","v":"Mathieu / Leo Gueguen ,dit la teigne"},{"$f":"'Réponses au formulaire - copy-c'!H3","v":"H"},{"$f":"IFERROR(INT((DATEVALUE(TODAY())-DATEVALUE(TRIM('Réponses au formulaire - copy-c'!L3)))/365), \"?\")","v":38},38,"#N/A",null,{"$f":"'Réponses au formulaire - copy-c'!I3","v":"bergeretmathieu.pro@gmail.com"},{"$f":"'Réponses au formulaire - copy-c'!M3","v":"Spoiler TheThird "},{"$f":"'Réponses au formulaire - copy-c'!K3","v":"0684346225"},"-",{"$f":"'Réponses au formulaire - copy-c'!O3","v":""},"Non précisé",{"$f":"'Réponses au formulaire - copy-c'!Q3","v":"Navire et fort"},"Navire et fort",{"$f":"'Réponses au formulaire - copy-c'!P3","v":"Pur PJ"},"Pur PJ"]
[{"$f":"DATE(YEAR('Réponses au formulaire - copy-c'!A4), MONTH('Réponses au formulaire - copy-c'!A4), DAY('Réponses au formulaire - copy-c'!A4))","v":"2024-04-23"},{"$f":"'Réponses au formulaire - copy-c'!E4","v":"Bessière"},{"$f":"'Réponses au formulaire - copy-c'!F4","v":"Johanna"},{"$f":"'Réponses au formulaire - copy-c'!H4","v":"F"},{"$f":"IFERROR(INT((DATEVALUE(TODAY())-DATEVALUE(TRIM('Réponses au formulaire - copy-c'!L4)))/365), \"?\")","v":41},"#N/A",41,null,{"$f":"'Réponses au formulaire - copy-c'!I4","v":"johanna.bessiere@gmail.com"},{"$f":"'Réponses au formulaire - copy-c'!M4","v":"Johanna Be"},{"$f":"'Réponses au formulaire - copy-c'!K4","v":"0682042682"},"-",{"$f":"'Réponses au formulaire - copy-c'!O4","v":"7 et 8 juin 2025, Les deux dates sont possibles"},"Les deux",{"$f":"'Réponses au formulaire - copy-c'!Q4","v":"Navire et fort"},"Navire et fort",{"$f":"'Réponses au formulaire - copy-c'!P4","v":"Pur PJ"},"Pur PJ"]
[{"$f":"DATE(YEAR('Réponses au formulaire - copy-c'!A5), MONTH('Réponses au formulaire - copy-c'!A5), DAY('Réponses au formulaire - copy-c'!A5))","v":"2024-01-12"},{"$f":"'Réponses au formulaire - copy-c'!E5","v":"Bouchet"},{"$f":"'Réponses au formulaire - copy-c'!F5","v":"Mathis"},{"$f":"'Réponses au formulaire - copy-c'!H5","v":"H"},{"$f":"IFERROR(INT((DATEVALUE(TODAY())-DATEVALUE(TRIM('Réponses au formulaire - copy-c'!L5)))/365), \"?\")","v":31},31,"#N/A",null,{"$f":"'Réponses au formulaire - copy-c'!I5","v":"mathis.a.bouchet@gmail.com"},{"$f":"'Réponses au formulaire - copy-c'!M5","v":"Mathis Gibert"},{"$f":"'Réponses au formulaire - copy-c'!K5","v":"0658061778"},"-",{"$f":"'Réponses au formulaire - copy-c'!O5","v":""},"Non précisé",{"$f":"'Réponses au formulaire - copy-c'!Q5","v":"Navire et fort, peu importe (si tu as une préférence, coche cette case et ta préférence)"},"Peu importe",{"$f":"'Réponses au formulaire - copy-c'!P5","v":"Pur PJ"},"Pur PJ"]
[{"$f":"DATE(YEAR('Réponses au formulaire - copy-c'!A6), MONTH('Réponses au formulaire - copy-c'!A6), DAY('Réponses au formulaire - copy-c'!A6))","v":"2024-01-12"},{"$f":"'Réponses au formulaire - copy-c'!E6","v":"Bourdette"},{"$f":"'Réponses au formulaire - copy-c'!F6","v":"Julien"},{"$f":"'Réponses au formulaire - copy-c'!H6","v":"H"},{"$f":"IFERROR(INT((DATEVALUE(TODAY())-DATEVALUE(TRIM('Réponses au formulaire - copy-c'!L6)))/365), \"?\")","v":43},43,"#N/A",null,{"$f":"'Réponses au formulaire - copy-c'!I6","v":"clodoweg@gmail.com"},{"$f":"'Réponses au formulaire - copy-c'!M6","v":"ju.bourdette"},{"$f":"'Réponses au formulaire - copy-c'!K6","v":"0641780852"},"-",{"$f":"'Réponses au formulaire - copy-c'!O6","v":""},"Non précisé",{"$f":"'Réponses au formulaire - copy-c'!Q6","v":"Navire et fort"},"Navire et fort",{"$f":"'Réponses au formulaire - copy-c'!P6","v":"Pur PJ"},"Pur PJ"]
[{"$f":"DATE(YEAR('Réponses au formulaire - copy-c'!A7), MONTH('Réponses au formulaire - copy-c'!A7), DAY('Réponses au formulaire - copy-c'!A7))","v":"2024-01-12"},{"$f":"'Réponses au formulaire - copy-c'!E7","v":"BUCAS"},{"$f":"'Réponses au formulaire - copy-c'!F7","v":"Ced"},{"$f":"'Réponses au formulaire - copy-c'!H7","v":"H"},{"$f":"IFERROR(INT((DATEVALUE(TODAY())-DATEVALUE(TRIM('Réponses au formulaire - copy-c'!L7)))/365), \"?\")","v":50},50,"#N/A",null,{"$f":"'Réponses au formulaire - copy-c'!I7","v":"sacub@sfr.fr"},{"$f":"'Réponses au formulaire - copy-c'!M7","v":"Cire de Sacub"},{"$f":"'Réponses au formulaire - copy-c'!K7","v":"0675585665"},"-",{"$f":"'Réponses au formulaire - copy-c'!O7","v":""},"Non précisé",{"$f":"'Réponses au formulaire - copy-c'!Q7","v":"Navire et fort"},"Navire et fort",{"$f":"'Réponses au formulaire - copy-c'!P7","v":"Pur PJ"},"Pur PJ"]
[{"$f":"DATE(YEAR('Réponses au formulaire - copy-c'!A8), MONTH('Réponses au formulaire - copy-c'!A8), DAY('Réponses au formulaire - copy-c'!A8))","v":"2024-01-12"},{"$f":"'Réponses au formulaire - copy-c'!E8","v":"CERUTTI"},{"$f":"'Réponses au formulaire - copy-c'!F8","v":"Laëtitia"},{"$f":"'Réponses au formulaire - copy-c'!H8","v":"F"},{"$f":"IFERROR(INT((DATEVALUE(TODAY())-DATEVALUE(TRIM('Réponses au formulaire - copy-c'!L8)))/365), \"?\")","v":35},"#N/A",35,null,{"$f":"'Réponses au formulaire - copy-c'!I8","v":"laetitia.cerutti@gozmail.bzh"},{"$f":"'Réponses au formulaire - copy-c'!M8","v":"Laëtitia Elune"},{"$f":"'Réponses au formulaire - copy-c'!K8","v":689400155},"-",{"$f":"'Réponses au formulaire - copy-c'!O8","v":""},"Non précisé",{"$f":"'Réponses au formulaire - copy-c'!Q8","v":"Navire et fort"},"Navire et fort",{"$f":"'Réponses au formulaire - copy-c'!P8","v":"Pur PJ, PJ/PNJ (il s'agit d'un moment du GN, le reste du temps tu joues ton perso. Cela concerne le fort))"},"PJ+PNJ"]
[{"$f":"DATE(YEAR('Réponses au formulaire - copy-c'!A9), MONTH('Réponses au formulaire - copy-c'!A9), DAY('Réponses au formulaire - copy-c'!A9))","v":"2024-02-04"},{"$f":"'Réponses au formulaire - copy-c'!E9","v":"Culot "},{"$f":"'Réponses au formulaire - copy-c'!F9","v":"Grégoire"},{"$f":"'Réponses au formulaire - copy-c'!H9","v":"H"},{"$f":"IFERROR(INT((DATEVALUE(TODAY())-DATEVALUE(TRIM('Réponses au formulaire - copy-c'!L9)))/365), \"?\")","v":40},40,"#N/A",null,{"$f":"'Réponses au formulaire - copy-c'!I9","v":"gregoire.culot@gmail.com"},{"$f":"'Réponses au formulaire - copy-c'!M9","v":"Grégoire Culot"},{"$f":"'Réponses au formulaire - copy-c'!K9","v":"0672817191"},"-",{"$f":"'Réponses au formulaire - copy-c'!O9","v":"7 et 8 juin 2025"},"juin",{"$f":"'Réponses au formulaire - copy-c'!Q9","v":"Navire et fort"},"Navire et fort",{"$f":"'Réponses au formulaire - copy-c'!P9","v":"Pur PJ"},"Pur PJ"]
[{"$f":"DATE(YEAR('Réponses au formulaire - copy-c'!A10), MONTH('Réponses au formulaire - copy-c'!A10), DAY('Réponses au formulaire - copy-c'!A10))","v":"2024-04-08"},{"$f":"'Réponses au formulaire - copy-c'!E10","v":"David"},{"$f":"'Réponses au formulaire - copy-c'!F10","v":"Cédric"},{"$f":"'Réponses au formulaire - copy-c'!H10","v":"H"},{"$f":"IFERROR(INT((DATEVALUE(TODAY())-DATEVALUE(TRIM('Réponses au formulaire - copy-c'!L10)))/365), \"?\")","v":44},44,"#N/A",null,{"$f":"'Réponses au formulaire - copy-c'!I10","v":"tremblechene@gmail.com"},{"$f":"'Réponses au formulaire - copy-c'!M10","v":"cédric abitbol"},{"$f":"'Réponses au formulaire - copy-c'!K10","v":"0695107890"},"-",{"$f":"'Réponses au formulaire - copy-c'!O10","v":"13 et 14 septembre 2025"},"septembre",{"$f":"'Réponses au formulaire - copy-c'!Q10","v":"Navire et fort, peu importe (si tu as une préférence, coche cette case et ta préférence)"},"Peu importe",{"$f":"'Réponses au formulaire - copy-c'!P10","v":"Pur PJ, PJ/PNJ (il s'agit d'un moment du GN, le reste du temps tu joues ton perso. Cela concerne le fort))"},"PJ+PNJ"]
[{"$f":"DATE(YEAR('Réponses au formulaire - copy-c'!A11), MONTH('Réponses au formulaire - copy-c'!A11), DAY('Réponses au formulaire - copy-c'!A11))","v":"2024-06-03"},{"$f":"'Réponses au formulaire - copy-c'!E11","v":"De Maupertuis"},{"$f":"'Réponses au formulaire - copy-c'!F11","v":"Renart"},{"$f":"'Réponses au formulaire - copy-c'!H11","v":"H"},{"$f":"IFERROR(INT((DATEVALUE(TODAY())-DATEVALUE(TRIM('Réponses au formulaire - copy-c'!L11)))/365), \"?\")","v":44},44,"#N/A",null,{"$f":"'Réponses au formulaire - copy-c'!I11","v":"mithridate.vi@gmail.com"},{"$f":"'Réponses au formulaire - copy-c'!M11","v":"Renart de Maupertuis"},{"$f":"'Réponses au formulaire - copy-c'!K11","v":"0617175397"},"-",{"$f":"'Réponses au formulaire - copy-c'!O11","v":"Les deux dates sont possibles"},"Les deux",{"$f":"'Réponses au formulaire - copy-c'!Q11","v":"Navire et fort"},"Navire et fort",{"$f":"'Réponses au formulaire - copy-c'!P11","v":"Pur PJ"},"Pur PJ"]
[{"$f":"DATE(YEAR('Réponses au formulaire - copy-c'!A12), MONTH('Réponses au formulaire - copy-c'!A12), DAY('Réponses au formulaire - copy-c'!A12))","v":"2024-06-22"},{"$f":"'Réponses au formulaire - copy-c'!E12","v":"DELAPORTE"},{"$f":"'Réponses au formulaire - copy-c'!F12","v":"Arnaud"},{"$f":"'Réponses au formulaire - copy-c'!H12","v":"H"},{"$f":"IFERROR(INT((DATEVALUE(TODAY())-DATEVALUE(TRIM('Réponses au formulaire - copy-c'!L12)))/365), \"?\")","v":48},48,"#N/A",null,{"$f":"'Réponses au formulaire - copy-c'!I12","v":"lordfiendel@wanadoo.fr"},{"$f":"'Réponses au formulaire - copy-c'!M12","v":"Arnaud Delaporte"},{"$f":"'Réponses au formulaire - copy-c'!K12","v":"0660682995"},"-",{"$f":"'Réponses au formulaire - copy-c'!O12","v":"Les deux dates sont possibles"},"Les deux",{"$f":"'Réponses au formulaire - copy-c'!Q12","v":"Navire et fort, peu importe (si tu as une préférence, coche cette case et ta préférence)"},"Peu importe",{"$f":"'Réponses au formulaire - copy-c'!P12","v":"Pur PJ, PJ/PNJ (il s'agit d'un moment du GN, le reste du temps tu joues ton perso. Cela concerne le fort))"},"PJ+PNJ"]
[{"$f":"DATE(YEAR('Réponses au formulaire - copy-c'!A13), MONTH('Réponses au formulaire - copy-c'!A13), DAY('Réponses au formulaire - copy-c'!A13))","v":"2024-01-19"},{"$f":"'Réponses au formulaire - copy-c'!E13","v":"Dumas"},{"$f":"'Réponses au formulaire - copy-c'!F13","v":"Marc"},{"$f":"'Réponses au formulaire - copy-c'!H13","v":"H"},{"$f":"IFERROR(INT((DATEVALUE(TODAY())-DATEVALUE(TRIM('Réponses au formulaire - copy-c'!L13)))/365), \"?\")","v":54},54,"#N/A",null,{"$f":"'Réponses au formulaire - copy-c'!I13","v":"markal.dumas@gmail.com"},{"$f":"'Réponses au formulaire - copy-c'!M13","v":"Marc-Alain Dumas"},{"$f":"'Réponses au formulaire - copy-c'!K13","v":"0603192840"},"-",{"$f":"'Réponses au formulaire - copy-c'!O13","v":"7 et 8 juin 2025"},"juin",{"$f":"'Réponses au formulaire - copy-c'!Q13","v":"Seulement au fort"},"Seulement au fort",{"$f":"'Réponses au formulaire - copy-c'!P13","v":"PJ/PNJ (il s'agit d'un moment du GN, le reste du temps tu joues ton perso. Cela concerne le fort))"},"PJ+PNJ"]
[{"$f":"DATE(YEAR('Réponses au formulaire - copy-c'!A14), MONTH('Réponses au formulaire - copy-c'!A14), DAY('Réponses au formulaire - copy-c'!A14))","v":"2024-02-10"},{"$f":"'Réponses au formulaire - copy-c'!E14","v":"Duvert"},{"$f":"'Réponses au formulaire - copy-c'!F14","v":"Guy-Roger"},{"$f":"'Réponses au formulaire - copy-c'!H14","v":"H"},{"$f":"IFERROR(INT((DATEVALUE(TODAY())-DATEVALUE(TRIM('Réponses au formulaire - copy-c'!L14)))/365), \"?\")","v":49},49,"#N/A",null,{"$f":"'Réponses au formulaire - copy-c'!I14","v":"grmuse@yahoo.fr"},{"$f":"'Réponses au formulaire - copy-c'!M14","v":"Guy-Roger Duvert"},{"$f":"'Réponses au formulaire - copy-c'!K14","v":"0616133285"},"-",{"$f":"'Réponses au formulaire - copy-c'!O14","v":"13 et 14 septembre 2025"},"septembre",{"$f":"'Réponses au formulaire - copy-c'!Q14","v":"Navire et fort, peu importe (si tu as une préférence, coche cette case et ta préférence)"},"Peu importe",{"$f":"'Réponses au formulaire - copy-c'!P14","v":"Pur PJ"},"Pur PJ"]
[{"$f":"DATE(YEAR('Réponses au formulaire - copy-c'!A15), MONTH('Réponses au formulaire - copy-c'!A15), DAY('Réponses au formulaire - copy-c'!A15))","v":"2024-06-18"},{"$f":"'Réponses au formulaire - copy-c'!E15","v":"Fabre"},{"$f":"'Réponses au formulaire - copy-c'!F15","v":"Alexandre"},{"$f":"'Réponses au formulaire - copy-c'!H15","v":"H"},{"$f":"IFERROR(INT((DATEVALUE(TODAY())-DATEVALUE(TRIM('Réponses au formulaire - copy-c'!L15)))/365), \"?\")","v":39},39,"#N/A",null,{"$f":"'Réponses au formulaire - copy-c'!I15","v":"alexandre.fabre@free.fr"},{"$f":"'Réponses au formulaire - copy-c'!M15","v":"Alexandre Fabre"},{"$f":"'Réponses au formulaire - copy-c'!K15","v":"0607341244"},"-",{"$f":"'Réponses au formulaire - copy-c'!O15","v":"Les deux dates sont possibles"},"Les deux",{"$f":"'Réponses au formulaire - copy-c'!Q15","v":"Navire et fort"},"Navire et fort",{"$f":"'Réponses au formulaire - copy-c'!P15","v":"Pur PJ"},"Pur PJ"]
[{"$f":"DATE(YEAR('Réponses au formulaire - copy-c'!A16), MONTH('Réponses au formulaire - copy-c'!A16), DAY('Réponses au formulaire - copy-c'!A16))","v":"2024-01-12"},{"$f":"'Réponses au formulaire - copy-c'!E16","v":"Faure "},{"$f":"'Réponses au formulaire - copy-c'!F16","v":"Guillaume"},{"$f":"'Réponses au formulaire - copy-c'!H16","v":"H"},{"$f":"IFERROR(INT((DATEVALUE(TODAY())-DATEVALUE(TRIM('Réponses au formulaire - copy-c'!L16)))/365), \"?\")","v":36},36,"#N/A",null,{"$f":"'Réponses au formulaire - copy-c'!I16","v":"Versangre@gmail.com"},{"$f":"'Réponses au formulaire - copy-c'!M16","v":"Yôm Guillaume Faure "},{"$f":"'Réponses au formulaire - copy-c'!K16","v":"0681454981"},"-",{"$f":"'Réponses au formulaire - copy-c'!O16","v":""},"Non précisé",{"$f":"'Réponses au formulaire - copy-c'!Q16","v":"Seulement au fort, peu importe (si tu as une préférence, coche cette case et ta préférence)"},"Peu importe",{"$f":"'Réponses au formulaire - copy-c'!P16","v":"Pur PJ, PJ/PNJ (il s'agit d'un moment du GN, le reste du temps tu joues ton perso. Cela concerne le fort)), PNJ"},"PJ+PNJ"]
[{"$f":"DATE(YEAR('Réponses au formulaire - copy-c'!A17), MONTH('Réponses au formulaire - copy-c'!A17), DAY('Réponses au formulaire - copy-c'!A17))","v":"2024-01-22"},{"$f":"'Réponses au formulaire - copy-c'!E17","v":"GANTET"},{"$f":"'Réponses au formulaire - copy-c'!F17","v":"Guillaume"},{"$f":"'Réponses au formulaire - copy-c'!H17","v":"H"},{"$f":"IFERROR(INT((DATEVALUE(TODAY())-DATEVALUE(TRIM('Réponses au formulaire - copy-c'!L17)))/365), \"?\")","v":40},40,"#N/A",null,{"$f":"'Réponses au formulaire - copy-c'!I17","v":"guilland@gmail.com"},{"$f":"'Réponses au formulaire - copy-c'!M17","v":"Guillaume GANTET"},{"$f":"'Réponses au formulaire - copy-c'!K17","v":649193710},"-",{"$f":"'Réponses au formulaire - copy-c'!O17","v":"Les deux dates sont possibles"},"Les deux",{"$f":"'Réponses au formulaire - copy-c'!Q17","v":"Navire et fort"},"Navire et fort",{"$f":"'Réponses au formulaire - copy-c'!P17","v":"Pur PJ"},"Pur PJ"]
[{"$f":"DATE(YEAR('Réponses au formulaire - copy-c'!A18), MONTH('Réponses au formulaire - copy-c'!A18), DAY('Réponses au formulaire - copy-c'!A18))","v":"2024-07-22"},{"$f":"'Réponses au formulaire - copy-c'!E18","v":"gerberon "},{"$f":"'Réponses au formulaire - copy-c'!F18","v":"Elodie"},{"$f":"'Réponses au formulaire - copy-c'!H18","v":"F"},{"$f":"IFERROR(INT((DATEVALUE(TODAY())-DATEVALUE(TRIM('Réponses au formulaire - copy-c'!L18)))/365), \"?\")","v":43},"#N/A",43,null,{"$f":"'Réponses au formulaire - copy-c'!I18","v":"dodimails@gmail.com"},{"$f":"'Réponses au formulaire - copy-c'!M18","v":"Élodie Circlepuke "},{"$f":"'Réponses au formulaire - copy-c'!K18","v":"0666617248"},"-",{"$f":"'Réponses au formulaire - copy-c'!O18","v":"7 et 8 juin 2025"},"juin",{"$f":"'Réponses au formulaire - copy-c'!Q18","v":"Navire et fort"},"Navire et fort",{"$f":"'Réponses au formulaire - copy-c'!P18","v":"Pur PJ"},"Pur PJ"]
[{"$f":"DATE(YEAR('Réponses au formulaire - copy-c'!A19), MONTH('Réponses au formulaire - copy-c'!A19), DAY('Réponses au formulaire - copy-c'!A19))","v":"2024-01-14"},{"$f":"'Réponses au formulaire - copy-c'!E19","v":"Harrand "},{"$f":"'Réponses au formulaire - copy-c'!F19","v":"Chloé"},{"$f":"'Réponses au formulaire - copy-c'!H19","v":"F"},{"$f":"IFERROR(INT((DATEVALUE(TODAY())-DATEVALUE(TRIM('Réponses au formulaire - copy-c'!L19)))/365), \"?\")","v":29},"#N/A",29,null,{"$f":"'Réponses au formulaire - copy-c'!I19","v":"chloeharrand@gmail.com"},{"$f":"'Réponses au formulaire - copy-c'!M19","v":"Chloé Sardine"},{"$f":"'Réponses au formulaire - copy-c'!K19","v":611290595},"-",{"$f":"'Réponses au formulaire - copy-c'!O19","v":""},"Non précisé",{"$f":"'Réponses au formulaire - copy-c'!Q19","v":"Navire et fort"},"Navire et fort",{"$f":"'Réponses au formulaire - copy-c'!P19","v":"Pur PJ, PJ/PNJ (il s'agit d'un moment du GN, le reste du temps tu joues ton perso. Cela concerne le fort))"},"PJ+PNJ"]
[{"$f":"DATE(YEAR('Réponses au formulaire - copy-c'!A20), MONTH('Réponses au formulaire - copy-c'!A20), DAY('Réponses au formulaire - copy-c'!A20))","v":"2024-01-12"},{"$f":"'Réponses au formulaire - copy-c'!E20","v":"Hawkins "},{"$f":"'Réponses au formulaire - copy-c'!F20","v":"James"},{"$f":"'Réponses au formulaire - copy-c'!H20","v":"H"},{"$f":"IFERROR(INT((DATEVALUE(TODAY())-DATEVALUE(TRIM('Réponses au formulaire - copy-c'!L20)))/365), \"?\")","v":33},33,"#N/A",null,{"$f":"'Réponses au formulaire - copy-c'!I20","v":"stevenlecointre0@gmail.com"},{"$f":"'Réponses au formulaire - copy-c'!M20","v":"James Hawkins "},{"$f":"'Réponses au formulaire - copy-c'!K20","v":"0631587139"},"-",{"$f":"'Réponses au formulaire - copy-c'!O20","v":""},"Non précisé",{"$f":"'Réponses au formulaire - copy-c'!Q20","v":"Seulement au fort"},"Seulement au fort",{"$f":"'Réponses au formulaire - copy-c'!P20","v":"PJ/PNJ (il s'agit d'un moment du GN, le reste du temps tu joues ton perso. Cela concerne le fort))"},"PJ+PNJ"]
[{"$f":"DATE(YEAR('Réponses au formulaire - copy-c'!A21), MONTH('Réponses au formulaire - copy-c'!A21), DAY('Réponses au formulaire - copy-c'!A21))","v":"2024-01-12"},{"$f":"'Réponses au formulaire - copy-c'!E21","v":"Jacq"},{"$f":"'Réponses au formulaire - copy-c'!F21","v":"Gaëlle"},{"$f":"'Réponses au formulaire - copy-c'!H21","v":"F"},{"$f":"IFERROR(INT((DATEVALUE(TODAY())-DATEVALUE(TRIM('Réponses au formulaire - copy-c'!L21)))/365), \"?\")","v":47},"#N/A",47,null,{"$f":"'Réponses au formulaire - copy-c'!I21","v":"gaellejacq@yahoo.com"},{"$f":"'Réponses au formulaire - copy-c'!M21","v":"Adira GJ"},{"$f":"'Réponses au formulaire - copy-c'!K21","v":630975006},"-",{"$f":"'Réponses au formulaire - copy-c'!O21","v":"7 et 8 juin 2025"},"juin",{"$f":"'Réponses au formulaire - copy-c'!Q21","v":"Navire et fort"},"Navire et fort",{"$f":"'Réponses au formulaire - copy-c'!P21","v":"Pur PJ"},"Pur PJ"]
[{"$f":"DATE(YEAR('Réponses au formulaire - copy-c'!A22), MONTH('Réponses au formulaire - copy-c'!A22), DAY('Réponses au formulaire - copy-c'!A22))","v":"2024-02-10"},{"$f":"'Réponses au formulaire - copy-c'!E22","v":"Lamberdière "},{"$f":"'Réponses au formulaire - copy-c'!F22","v":"Kilian"},{"$f":"'Réponses au formulaire - copy-c'!H22","v":"H"},{"$f":"IFERROR(INT((DATEVALUE(TODAY())-DATEVALUE(TRIM('Réponses au formulaire - copy-c'!L22)))/365), \"?\")","v":"?"},"?","#N/A",null,{"$f":"'Réponses au formulaire - copy-c'!I22","v":"kilian.lamberdiere@gmail.com"},{"$f":"'Réponses au formulaire - copy-c'!M22","v":"Kilian Lamberdière "},{"$f":"'Réponses au formulaire - copy-c'!K22","v":"+33688637635"},"-",{"$f":"'Réponses au formulaire - copy-c'!O22","v":"7 et 8 juin 2025, Les deux dates sont possibles"},"Les deux",{"$f":"'Réponses au formulaire - copy-c'!Q22","v":"Navire et fort, peu importe (si tu as une préférence, coche cette case et ta préférence)"},"Peu importe",{"$f":"'Réponses au formulaire - copy-c'!P22","v":"Pur PJ"},"Pur PJ"]
[{"$f":"DATE(YEAR('Réponses au formulaire - copy-c'!A23), MONTH('Réponses au formulaire - copy-c'!A23), DAY('Réponses au formulaire - copy-c'!A23))","v":"2024-06-16"},{"$f":"'Réponses au formulaire - copy-c'!E23","v":"LEHMANN"},{"$f":"'Réponses au formulaire - copy-c'!F23","v":"Christian"},{"$f":"'Réponses au formulaire - copy-c'!H23","v":"H"},{"$f":"IFERROR(INT((DATEVALUE(TODAY())-DATEVALUE(TRIM('Réponses au formulaire - copy-c'!L23)))/365), \"?\")","v":66},66,"#N/A",null,{"$f":"'Réponses au formulaire - copy-c'!I23","v":"drclehmann@aol.com"},{"$f":"'Réponses au formulaire - copy-c'!M23","v":"christian lehmann"},{"$f":"'Réponses au formulaire - copy-c'!K23","v":"0686883068"},"-",{"$f":"'Réponses au formulaire - copy-c'!O23","v":"Les deux dates sont possibles"},"Les deux",{"$f":"'Réponses au formulaire - copy-c'!Q23","v":"Navire et fort"},"Navire et fort",{"$f":"'Réponses au formulaire - copy-c'!P23","v":"Pur PJ"},"Pur PJ"]
[{"$f":"DATE(YEAR('Réponses au formulaire - copy-c'!A24), MONTH('Réponses au formulaire - copy-c'!A24), DAY('Réponses au formulaire - copy-c'!A24))","v":"2024-01-12"},{"$f":"'Réponses au formulaire - copy-c'!E24","v":"Letteron "},{"$f":"'Réponses au formulaire - copy-c'!F24","v":"Seb"},{"$f":"'Réponses au formulaire - copy-c'!H24","v":"H"},{"$f":"IFERROR(INT((DATEVALUE(TODAY())-DATEVALUE(TRIM('Réponses au formulaire - copy-c'!L24)))/365), \"?\")","v":56},56,"#N/A",null,{"$f":"'Réponses au formulaire - copy-c'!I24","v":"rencata@aliceadsl.fr"},{"$f":"'Réponses au formulaire - copy-c'!M24","v":"Seb Lett"},{"$f":"'Réponses au formulaire - copy-c'!K24","v":"0622546336"},"-",{"$f":"'Réponses au formulaire - copy-c'!O24","v":""},"Non précisé",{"$f":"'Réponses au formulaire - copy-c'!Q24","v":"Seulement au fort"},"Seulement au fort",{"$f":"'Réponses au formulaire - copy-c'!P24","v":"PJ/PNJ (il s'agit d'un moment du GN, le reste du temps tu joues ton perso. Cela concerne le fort))"},"PJ+PNJ"]
[{"$f":"DATE(YEAR('Réponses au formulaire - copy-c'!A25), MONTH('Réponses au formulaire - copy-c'!A25), DAY('Réponses au formulaire - copy-c'!A25))","v":"2024-01-12"},{"$f":"'Réponses au formulaire - copy-c'!E25","v":"Lorente"},{"$f":"'Réponses au formulaire - copy-c'!F25","v":"Matthieu"},{"$f":"'Réponses au formulaire - copy-c'!H25","v":"H"},{"$f":"IFERROR(INT((DATEVALUE(TODAY())-DATEVALUE(TRIM('Réponses au formulaire - copy-c'!L25)))/365), \"?\")","v":41},41,"#N/A",null,{"$f":"'Réponses au formulaire - copy-c'!I25","v":"lorentemathieu@gmail.com"},{"$f":"'Réponses au formulaire - copy-c'!M25","v":"Mathieu LORENTE"},{"$f":"'Réponses au formulaire - copy-c'!K25","v":"0647832624"},"-",{"$f":"'Réponses au formulaire - copy-c'!O25","v":"13 et 14 septembre 2025"},"septembre",{"$f":"'Réponses au formulaire - copy-c'!Q25","v":"Seulement au fort"},"Seulement au fort",{"$f":"'Réponses au formulaire - copy-c'!P25","v":"Pur PJ"},"Pur PJ"]
[{"$f":"DATE(YEAR('Réponses au formulaire - copy-c'!A26), MONTH('Réponses au formulaire - copy-c'!A26), DAY('Réponses au formulaire - copy-c'!A26))","v":"2024-01-12"},{"$f":"'Réponses au formulaire - copy-c'!E26","v":"Lorente"},{"$f":"'Réponses au formulaire - copy-c'!F26","v":"Yann"},{"$f":"'Réponses au formulaire - copy-c'!H26","v":"H"},{"$f":"IFERROR(INT((DATEVALUE(TODAY())-DATEVALUE(TRIM('Réponses au formulaire - copy-c'!L26)))/365), \"?\")","v":42},42,"#N/A",null,{"$f":"'Réponses au formulaire - copy-c'!I26","v":"yann.lorente@gmail.com"},{"$f":"'Réponses au formulaire - copy-c'!M26","v":"Yann lo"},{"$f":"'Réponses au formulaire - copy-c'!K26","v":"+33630208984"},"-",{"$f":"'Réponses au formulaire - copy-c'!O26","v":""},"Non précisé",{"$f":"'Réponses au formulaire - copy-c'!Q26","v":"Navire et fort"},"Navire et fort",{"$f":"'Réponses au formulaire - copy-c'!P26","v":"Pur PJ, PJ/PNJ (il s'agit d'un moment du GN, le reste du temps tu joues ton perso. Cela concerne le fort))"},"PJ+PNJ"]
[{"$f":"DATE(YEAR('Réponses au formulaire - copy-c'!A27), MONTH('Réponses au formulaire - copy-c'!A27), DAY('Réponses au formulaire - copy-c'!A27))","v":"2024-01-14"},{"$f":"'Réponses au formulaire - copy-c'!E27","v":"MAGNANT"},{"$f":"'Réponses au formulaire - copy-c'!F27","v":"Catherine"},{"$f":"'Réponses au formulaire - copy-c'!H27","v":"F"},{"$f":"IFERROR(INT((DATEVALUE(TODAY())-DATEVALUE(TRIM('Réponses au formulaire - copy-c'!L27)))/365), \"?\")","v":49},"#N/A",49,null,{"$f":"'Réponses au formulaire - copy-c'!I27","v":"catherine.magnant@orange.fr"},{"$f":"'Réponses au formulaire - copy-c'!M27","v":"Catherine Magnant"},{"$f":"'Réponses au formulaire - copy-c'!K27","v":""},"-",{"$f":"'Réponses au formulaire - copy-c'!O27","v":""},"Non précisé",{"$f":"'Réponses au formulaire - copy-c'!Q27","v":"Navire et fort, peu importe (si tu as une préférence, coche cette case et ta préférence)"},"Peu importe",{"$f":"'Réponses au formulaire - copy-c'!P27","v":"PJ/PNJ (il s'agit d'un moment du GN, le reste du temps tu joues ton perso. Cela concerne le fort))"},"PJ+PNJ"]
[{"$f":"DATE(YEAR('Réponses au formulaire - copy-c'!A28), MONTH('Réponses au formulaire - copy-c'!A28), DAY('Réponses au formulaire - copy-c'!A28))","v":"2024-01-12"},{"$f":"'Réponses au formulaire - copy-c'!E28","v":"MAILLOT"},{"$f":"'Réponses au formulaire - copy-c'!F28","v":"Roland"},{"$f":"'Réponses au formulaire - copy-c'!H28","v":"H"},{"$f":"IFERROR(INT((DATEVALUE(TODAY())-DATEVALUE(TRIM('Réponses au formulaire - copy-c'!L28)))/365), \"?\")","v":65},65,"#N/A",null,{"$f":"'Réponses au formulaire - copy-c'!I28","v":"combatmedievalroland@hotmail.fr"},{"$f":"'Réponses au formulaire - copy-c'!M28","v":"Roland Maillot"},{"$f":"'Réponses au formulaire - copy-c'!K28","v":"0660768099"},"-",{"$f":"'Réponses au formulaire - copy-c'!O28","v":""},"Non précisé",{"$f":"'Réponses au formulaire - copy-c'!Q28","v":"Navire et fort"},"Navire et fort",{"$f":"'Réponses au formulaire - copy-c'!P28","v":"Pur PJ, PJ/PNJ (il s'agit d'un moment du GN, le reste du temps tu joues ton perso. Cela concerne le fort)), PNJ"},"PJ+PNJ"]
[{"$f":"DATE(YEAR('Réponses au formulaire - copy-c'!A29), MONTH('Réponses au formulaire - copy-c'!A29), DAY('Réponses au formulaire - copy-c'!A29))","v":"2024-02-10"},{"$f":"'Réponses au formulaire - copy-c'!E29","v":"Perianwyr"},{"$f":"'Réponses au formulaire - copy-c'!F29","v":"Renaud"},{"$f":"'Réponses au formulaire - copy-c'!H29","v":"H"},{"$f":"IFERROR(INT((DATEVALUE(TODAY())-DATEVALUE(TRIM('Réponses au formulaire - copy-c'!L29)))/365), \"?\")","v":47},47,"#N/A",null,{"$f":"'Réponses au formulaire - copy-c'!I29","v":"perianwyr@protonmail.com"},{"$f":"'Réponses au formulaire - copy-c'!M29","v":"pas de facebook, ni de comptes RS"},{"$f":"'Réponses au formulaire - copy-c'!K29","v":"+33667250984"},"-",{"$f":"'Réponses au formulaire - copy-c'!O29","v":"7 et 8 juin 2025"},"juin",{"$f":"'Réponses au formulaire - copy-c'!Q29","v":"Navire et fort"},"Navire et fort",{"$f":"'Réponses au formulaire - copy-c'!P29","v":"Pur PJ"},"Pur PJ"]
[{"$f":"DATE(YEAR('Réponses au formulaire - copy-c'!A30), MONTH('Réponses au formulaire - copy-c'!A30), DAY('Réponses au formulaire - copy-c'!A30))","v":"2024-01-12"},{"$f":"'Réponses au formulaire - copy-c'!E30","v":"PHILBERT"},{"$f":"'Réponses au formulaire - copy-c'!F30","v":"Charles"},{"$f":"'Réponses au formulaire - copy-c'!H30","v":"H"},{"$f":"IFERROR(INT((DATEVALUE(TODAY())-DATEVALUE(TRIM('Réponses au formulaire - copy-c'!L30)))/365), \"?\")","v":42},42,"#N/A",null,{"$f":"'Réponses au formulaire - copy-c'!I30","v":"Philbert.charles@neuf.fr"},{"$f":"'Réponses au formulaire - copy-c'!M30","v":"charles PHILBERT"},{"$f":"'Réponses au formulaire - copy-c'!K30","v":"0688981791"},"-",{"$f":"'Réponses au formulaire - copy-c'!O30","v":""},"Non précisé",{"$f":"'Réponses au formulaire - copy-c'!Q30","v":"Navire et fort"},"Navire et fort",{"$f":"'Réponses au formulaire - copy-c'!P30","v":"PJ/PNJ (il s'agit d'un moment du GN, le reste du temps tu joues ton perso. Cela concerne le fort))"},"PJ+PNJ"]
[{"$f":"DATE(YEAR('Réponses au formulaire - copy-c'!A31), MONTH('Réponses au formulaire - copy-c'!A31), DAY('Réponses au formulaire - copy-c'!A31))","v":"2024-01-19"},{"$f":"'Réponses au formulaire - copy-c'!E31","v":"Pitel"},{"$f":"'Réponses au formulaire - copy-c'!F31","v":"Marion"},{"$f":"'Réponses au formulaire - copy-c'!H31","v":"F"},{"$f":"IFERROR(INT((DATEVALUE(TODAY())-DATEVALUE(TRIM('Réponses au formulaire - copy-c'!L31)))/365), \"?\")","v":29},"#N/A",29,null,{"$f":"'Réponses au formulaire - copy-c'!I31","v":"marionpitel.scott@gmail.com"},{"$f":"'Réponses au formulaire - copy-c'!M31","v":"Mads Croc"},{"$f":"'Réponses au formulaire - copy-c'!K31","v":"0673467578"},"-",{"$f":"'Réponses au formulaire - copy-c'!O31","v":"7 et 8 juin 2025"},"juin",{"$f":"'Réponses au formulaire - copy-c'!Q31","v":"Seulement au fort"},"Seulement au fort",{"$f":"'Réponses au formulaire - copy-c'!P31","v":"Pur PJ, PJ/PNJ (il s'agit d'un moment du GN, le reste du temps tu joues ton perso. Cela concerne le fort))"},"PJ+PNJ"]
[{"$f":"DATE(YEAR('Réponses au formulaire - copy-c'!A32), MONTH('Réponses au formulaire - copy-c'!A32), DAY('Réponses au formulaire - copy-c'!A32))","v":"2024-01-12"},{"$f":"'Réponses au formulaire - copy-c'!E32","v":"Richard"},{"$f":"'Réponses au formulaire - copy-c'!F32","v":"Marion"},{"$f":"'Réponses au formulaire - copy-c'!H32","v":"F"},{"$f":"IFERROR(INT((DATEVALUE(TODAY())-DATEVALUE(TRIM('Réponses au formulaire - copy-c'!L32)))/365), \"?\")","v":36},"#N/A",36,null,{"$f":"'Réponses au formulaire - copy-c'!I32","v":"marionjsphand@yahoo.fr"},{"$f":"'Réponses au formulaire - copy-c'!M32","v":"Handmar"},{"$f":"'Réponses au formulaire - copy-c'!K32","v":781107844},"-",{"$f":"'Réponses au formulaire - copy-c'!O32","v":"7 et 8 juin 2025"},"juin",{"$f":"'Réponses au formulaire - copy-c'!Q32","v":"Navire et fort"},"Navire et fort",{"$f":"'Réponses au formulaire - copy-c'!P32","v":"Pur PJ"},"Pur PJ"]
[{"$f":"DATE(YEAR('Réponses au formulaire - copy-c'!A33), MONTH('Réponses au formulaire - copy-c'!A33), DAY('Réponses au formulaire - copy-c'!A33))","v":"2024-04-25"},{"$f":"'Réponses au formulaire - copy-c'!E33","v":"Rozier-Peltier"},{"$f":"'Réponses au formulaire - copy-c'!F33","v":"Morgan"},{"$f":"'Réponses au formulaire - copy-c'!H33","v":"H"},{"$f":"IFERROR(INT((DATEVALUE(TODAY())-DATEVALUE(TRIM('Réponses au formulaire - copy-c'!L33)))/365), \"?\")","v":37},37,"#N/A",null,{"$f":"'Réponses au formulaire - copy-c'!I33","v":"morgane.rozier@gmail.com"},{"$f":"'Réponses au formulaire - copy-c'!M33","v":"Morgan Rozier"},{"$f":"'Réponses au formulaire - copy-c'!K33","v":"0652838378"},"-",{"$f":"'Réponses au formulaire - copy-c'!O33","v":"7 et 8 juin 2025, Les deux dates sont possibles"},"Les deux",{"$f":"'Réponses au formulaire - copy-c'!Q35","v":"Navire et fort, peu importe (si tu as une préférence, coche cette case et ta préférence)"},"Peu importe",{"$f":"'Réponses au formulaire - copy-c'!P35","v":"Pur PJ, PJ/PNJ (il s'agit d'un moment du GN, le reste du temps tu joues ton perso. Cela concerne le fort))"},"PJ+PNJ"]
[{"$f":"DATE(YEAR('Réponses au formulaire - copy-c'!A34), MONTH('Réponses au formulaire - copy-c'!A34), DAY('Réponses au formulaire - copy-c'!A34))","v":"2024-04-30"},{"$f":"'Réponses au formulaire - copy-c'!E34","v":"ROZIER-PELTIER"},{"$f":"'Réponses au formulaire - copy-c'!F34","v":"Jean-Philippe"},{"$f":"'Réponses au formulaire - copy-c'!H34","v":"H"},{"$f":"IFERROR(INT((DATEVALUE(TODAY())-DATEVALUE(TRIM('Réponses au formulaire - copy-c'!L34)))/365), \"?\")","v":39},39,"#N/A",null,{"$f":"'Réponses au formulaire - copy-c'!I34","v":"jean.philippe.peltier@gmail.com"},{"$f":"'Réponses au formulaire - copy-c'!M34","v":"Jean-Philippe PELTIER"},{"$f":"'Réponses au formulaire - copy-c'!K34","v":671075759},"-",{"$f":"'Réponses au formulaire - copy-c'!O34","v":"7 et 8 juin 2025, Les deux dates sont possibles"},"Les deux",{"$f":"'Réponses au formulaire - copy-c'!Q36","v":"Seulement au fort"},"Seulement au fort",{"$f":"'Réponses au formulaire - copy-c'!P36","v":"Pur PJ"},"Pur PJ"]
[{"$f":"DATE(YEAR('Réponses au formulaire - copy-c'!A37), MONTH('Réponses au formulaire - copy-c'!A37), DAY('Réponses au formulaire - copy-c'!A37))","v":"2024-06-17"},{"$f":"'Réponses au formulaire - copy-c'!E37","v":"Vacari"},{"$f":"'Réponses au formulaire - copy-c'!F37","v":"Lydia"},{"$f":"'Réponses au formulaire - copy-c'!H37","v":"F"},{"$f":"IFERROR(INT((DATEVALUE(TODAY())-DATEVALUE(TRIM('Réponses au formulaire - copy-c'!L37)))/365), \"?\")","v":35},"#N/A",35,null,{"$f":"'Réponses au formulaire - copy-c'!I37","v":"vacarilydia@hotmail.fr"},{"$f":"'Réponses au formulaire - copy-c'!J37","v":"20 chemin de Nicol 31200 Toulouse"},{"$f":"'Réponses au formulaire - copy-c'!K37","v":"0607341244"},"-",{"$f":"'Réponses au formulaire - copy-c'!O37","v":"13 et 14 septembre 2025"},"septembre",{"$f":"'Réponses au formulaire - copy-c'!Q37","v":"Seulement au fort"},"Seulement au fort",{"$f":"'Réponses au formulaire - copy-c'!P37","v":"Pur PJ, PNJ"},"PJ+PNJ"]
[{"$f":"DATE(YEAR('Réponses au formulaire - copy-c'!A38), MONTH('Réponses au formulaire - copy-c'!A38), DAY('Réponses au formulaire - copy-c'!A38))","v":"2024-01-12"},{"$f":"'Réponses au formulaire - copy-c'!E38","v":"Warszawski "},{"$f":"'Réponses au formulaire - copy-c'!F38","v":"Jessica"},{"$f":"'Réponses au formulaire - copy-c'!H38","v":"F"},{"$f":"IFERROR(INT((DATEVALUE(TODAY())-DATEVALUE(TRIM('Réponses au formulaire - copy-c'!L38)))/365), \"?\")","v":35},"#N/A",35,null,{"$f":"'Réponses au formulaire - copy-c'!I38","v":"jessica.warszawski@gmail.com"},{"$f":"'Réponses au formulaire - copy-c'!J38","v":"10 rue leopold bellan 75002"},{"$f":"'Réponses au formulaire - copy-c'!K38","v":"0689440259"},"-",{"$f":"'Réponses au formulaire - copy-c'!O38","v":"13 et 14 septembre 2025"},"septembre",{"$f":"'Réponses au formulaire - copy-c'!Q38","v":"Navire et fort"},"Navire et fort",{"$f":"'Réponses au formulaire - copy-c'!P38","v":"Pur PJ, PJ/PNJ (il s'agit d'un moment du GN, le reste du temps tu joues ton perso. Cela concerne le fort))"},"PJ+PNJ"]
[{"$f":"DATE(YEAR('Réponses au formulaire - copy-c'!A39), MONTH('Réponses au formulaire - copy-c'!A39), DAY('Réponses au formulaire - copy-c'!A39))","v":"2024-02-10"},{"$f":"'Réponses au formulaire - copy-c'!E39","v":"Hurel"},{"$f":"'Réponses au formulaire - copy-c'!F39","v":"Marcouf"},{"$f":"'Réponses au formulaire - copy-c'!H39","v":"H"},{"$f":"IFERROR(INT((DATEVALUE(TODAY())-DATEVALUE(TRIM('Réponses au formulaire - copy-c'!L39)))/365), \"?\")","v":37},37,"#N/A",null,{"$f":"'Réponses au formulaire - copy-c'!I39","v":"marcouf.hurel@gmail.com"},{"$f":"'Réponses au formulaire - copy-c'!J39","v":"Rue des Follaterres 54, 1920 Martigny, Suisse"},{"$f":"'Réponses au formulaire - copy-c'!K39","v":"+33619763483"},"-",{"$f":"'Réponses au formulaire - copy-c'!O39","v":"7 et 8 juin 2025"},"juin",{"$f":"'Réponses au formulaire - copy-c'!Q39","v":"Navire et fort"},"Navire et fort",{"$f":"'Réponses au formulaire - copy-c'!P39","v":"Pur PJ"},"Pur PJ"]
[{"$f":"DATE(YEAR('Réponses au formulaire - copy-c'!A40), MONTH('Réponses au formulaire - copy-c'!A40), DAY('Réponses au formulaire - copy-c'!A40))","v":"2024-01-19"},{"$f":"'Réponses au formulaire - copy-c'!E40","v":"Barraban"},{"$f":"'Réponses au formulaire - copy-c'!F40","v":"Clémentine "},{"$f":"'Réponses au formulaire - copy-c'!H40","v":"F"},{"$f":"IFERROR(INT((DATEVALUE(TODAY())-DATEVALUE(TRIM('Réponses au formulaire - copy-c'!L40)))/365), \"?\")","v":35},"#N/A",35,null,{"$f":"'Réponses au formulaire - copy-c'!I40","v":"clementine.barraban@gmail.com"},{"$f":"'Réponses au formulaire - copy-c'!J40","v":"62 rue des Foulons"},{"$f":"'Réponses au formulaire - copy-c'!K40","v":"0618267633"},"-",{"$f":"'Réponses au formulaire - copy-c'!O40","v":"Les deux dates sont possibles"},"Les deux",{"$f":"'Réponses au formulaire - copy-c'!Q40","v":"Navire et fort"},"Navire et fort",{"$f":"'Réponses au formulaire - copy-c'!P40","v":"Pur PJ"},"Pur PJ"]
[{"$f":"DATE(YEAR('Réponses au formulaire - copy-c'!A41), MONTH('Réponses au formulaire - copy-c'!A41), DAY('Réponses au formulaire - copy-c'!A41))","v":"2024-01-21"},{"$f":"'Réponses au formulaire - copy-c'!E41","v":"Doche De Laquintane "},{"$f":"'Réponses au formulaire - copy-c'!F41","v":"Nicolas "},{"$f":"'Réponses au formulaire - copy-c'!H41","v":"H"},{"$f":"IFERROR(INT((DATEVALUE(TODAY())-DATEVALUE(TRIM('Réponses au formulaire - copy-c'!L41)))/365), \"?\")","v":44},44,"#N/A",null,{"$f":"'Réponses au formulaire - copy-c'!I41","v":"jeanflur@gmail.com"},{"$f":"'Réponses au formulaire - copy-c'!J41","v":"5, rue souveraine"},{"$f":"'Réponses au formulaire - copy-c'!K41","v":"0672711392"},"-",{"$f":"'Réponses au formulaire - copy-c'!O41","v":"7 et 8 juin 2025, Les deux dates sont possibles"},"Les deux",{"$f":"'Réponses au formulaire - copy-c'!Q41","v":"Navire et fort, peu importe (si tu as une préférence, coche cette case et ta préférence)"},"Peu importe",{"$f":"'Réponses au formulaire - copy-c'!P41","v":"Pur PJ, PJ/PNJ (il s'agit d'un moment du GN, le reste du temps tu joues ton perso. Cela concerne le fort)), PNJ"},"PJ+PNJ"]
[{"$f":"DATE(YEAR('Réponses au formulaire - copy-c'!A42), MONTH('Réponses au formulaire - copy-c'!A42), DAY('Réponses au formulaire - copy-c'!A42))","v":"2024-02-20"},{"$f":"'Réponses au formulaire - copy-c'!E42","v":"Giraud"},{"$f":"'Réponses au formulaire - copy-c'!F42","v":"Caroline"},{"$f":"'Réponses au formulaire - copy-c'!H42","v":"F"},{"$f":"IFERROR(INT((DATEVALUE(TODAY())-DATEVALUE(TRIM('Réponses au formulaire - copy-c'!L42)))/365), \"?\")","v":43},"#N/A",43,null,{"$f":"'Réponses au formulaire - copy-c'!I42","v":"blue.hirondelle@gmail.com"},{"$f":"'Réponses au formulaire - copy-c'!J42","v":"2 rue des Orfèvres, 77160 Provins"},{"$f":"'Réponses au formulaire - copy-c'!K42","v":"0754053891"},"-",{"$f":"'Réponses au formulaire - copy-c'!O42","v":"13 et 14 septembre 2025"},"septembre",{"$f":"'Réponses au formulaire - copy-c'!Q42","v":"Navire et fort, peu importe (si tu as une préférence, coche cette case et ta préférence)"},"Peu importe",{"$f":"'Réponses au formulaire - copy-c'!P42","v":"Pur PJ"},"Pur PJ"]
[{"$f":"DATE(YEAR('Réponses au formulaire - copy-c'!A43), MONTH('Réponses au formulaire - copy-c'!A43), DAY('Réponses au formulaire - copy-c'!A43))","v":"2024-01-19"},{"$f":"'Réponses au formulaire - copy-c'!E43","v":"Jallet"},{"$f":"'Réponses au formulaire - copy-c'!F43","v":"Benoit"},{"$f":"'Réponses au formulaire - copy-c'!H43","v":"H"},{"$f":"IFERROR(INT((DATEVALUE(TODAY())-DATEVALUE(TRIM('Réponses au formulaire - copy-c'!L43)))/365), \"?\")","v":39},39,"#N/A",null,{"$f":"'Réponses au formulaire - copy-c'!I43","v":"bjallet@gmail.com"},{"$f":"'Réponses au formulaire - copy-c'!J43","v":"27 Rue des Quatre Lieues 33390 CARTELEGUE"},{"$f":"'Réponses au formulaire - copy-c'!K43","v":"0674223846"},"-",{"$f":"'Réponses au formulaire - copy-c'!O43","v":"7 et 8 juin 2025"},"juin",{"$f":"'Réponses au formulaire - copy-c'!Q43","v":"Navire et fort, peu importe (si tu as une préférence, coche cette case et ta préférence)"},"Peu importe",{"$f":"'Réponses au formulaire - copy-c'!P43","v":"Pur PJ"},"Pur PJ"]
[{"$f":"DATE(YEAR('Réponses au formulaire - copy-c'!A44), MONTH('Réponses au formulaire - copy-c'!A44), DAY('Réponses au formulaire - copy-c'!A44))","v":"2024-02-04"},{"$f":"'Réponses au formulaire - copy-c'!E44","v":"Lair"},{"$f":"'Réponses au formulaire - copy-c'!F44","v":"François"},{"$f":"'Réponses au formulaire - copy-c'!H44","v":"H"},{"$f":"IFERROR(INT((DATEVALUE(TODAY())-DATEVALUE(TRIM('Réponses au formulaire - copy-c'!L44)))/365), \"?\")","v":38},38,"#N/A",null,{"$f":"'Réponses au formulaire - copy-c'!I44","v":"lair.francois@gmail.com"},{"$f":"'Réponses au formulaire - copy-c'!J44","v":"18 impasse de la gruete 79180 chauray"},{"$f":"'Réponses au formulaire - copy-c'!K44","v":"0630479704"},"-",{"$f":"'Réponses au formulaire - copy-c'!O44","v":"Les deux dates sont possibles"},"Les deux",{"$f":"'Réponses au formulaire - copy-c'!Q44","v":"Navire et fort, peu importe (si tu as une préférence, coche cette case et ta préférence)"},"Peu importe",{"$f":"'Réponses au formulaire - copy-c'!P44","v":"Pur PJ"},"Pur PJ"]
[{"$f":"DATE(YEAR('Réponses au formulaire - copy-c'!A45), MONTH('Réponses au formulaire - copy-c'!A45), DAY('Réponses au formulaire - copy-c'!A45))","v":"2024-01-12"},{"$f":"'Réponses au formulaire - copy-c'!E45","v":"Lhoste"},{"$f":"'Réponses au formulaire - copy-c'!F45","v":"Laurie-Anne"},{"$f":"'Réponses au formulaire - copy-c'!H45","v":"F"},{"$f":"IFERROR(INT((DATEVALUE(TODAY())-DATEVALUE(TRIM('Réponses au formulaire - copy-c'!L45)))/365), \"?\")","v":28},"#N/A",28,null,{"$f":"'Réponses au formulaire - copy-c'!I45","v":"laurielhoste@hotmail.fr"},{"$f":"'Réponses au formulaire - copy-c'!J45","v":"38 avenue charles de gaulle, 69230 saint genis laval"},{"$f":"'Réponses au formulaire - copy-c'!K45","v":"0786017276"},"-",{"$f":"'Réponses au formulaire - copy-c'!O45","v":""},"Non précisé",{"$f":"'Réponses au formulaire - copy-c'!Q45","v":"Navire et fort"},"Navire et fort",{"$f":"'Réponses au formulaire - copy-c'!P45","v":"Pur PJ, PJ/PNJ (il s'agit d'un moment du GN, le reste du temps tu joues ton perso. Cela concerne le fort))"},"PJ+PNJ"]
[{"$f":"DATE(YEAR('Réponses au formulaire - copy-c'!A46), MONTH('Réponses au formulaire - copy-c'!A46), DAY('Réponses au formulaire - copy-c'!A46))","v":"2024-01-13"},{"$f":"'Réponses au formulaire - copy-c'!E46","v":"Maitreheu"},{"$f":"'Réponses au formulaire - copy-c'!F46","v":"Mélodie"},{"$f":"'Réponses au formulaire - copy-c'!H46","v":"F"},{"$f":"IFERROR(INT((DATEVALUE(TODAY())-DATEVALUE(TRIM('Réponses au formulaire - copy-c'!L46)))/365), \"?\")","v":35},"#N/A",35,null,{"$f":"'Réponses au formulaire - copy-c'!I46","v":"melodie.maitreheu@gmail.com"},{"$f":"'Réponses au formulaire - copy-c'!J46","v":"6Bis rue Hoche"},{"$f":"'Réponses au formulaire - copy-c'!K46","v":"0623465958"},"-",{"$f":"'Réponses au formulaire - copy-c'!O46","v":""},"Non précisé",{"$f":"'Réponses au formulaire - copy-c'!Q46","v":"Navire et fort"},"Navire et fort",{"$f":"'Réponses au formulaire - copy-c'!P46","v":"Pur PJ"},"Pur PJ"]
[{"$f":"DATE(YEAR('Réponses au formulaire - copy-c'!A47), MONTH('Réponses au formulaire - copy-c'!A47), DAY('Réponses au formulaire - copy-c'!A47))","v":"2024-03-15"},{"$f":"'Réponses au formulaire - copy-c'!E47","v":"Poimboeuf "},{"$f":"'Réponses au formulaire - copy-c'!F47","v":"Thibault "},{"$f":"'Réponses au formulaire - copy-c'!H47","v":"H"},{"$f":"IFERROR(INT((DATEVALUE(TODAY())-DATEVALUE(TRIM('Réponses au formulaire - copy-c'!L47)))/365), \"?\")","v":31},31,"#N/A",null,{"$f":"'Réponses au formulaire - copy-c'!I47","v":"georin@live.fr"},{"$f":"'Réponses au formulaire - copy-c'!J47","v":"40 rue du corps franc Pommiès 31170 Tournefeuille "},{"$f":"'Réponses au formulaire - copy-c'!K47","v":"0679585124"},"-",{"$f":"'Réponses au formulaire - copy-c'!O47","v":"Les deux dates sont possibles"},"Les deux",{"$f":"'Réponses au formulaire - copy-c'!Q47","v":"Navire et fort"},"Navire et fort",{"$f":"'Réponses au formulaire - copy-c'!P47","v":"Pur PJ, PJ/PNJ (il s'agit d'un moment du GN, le reste du temps tu joues ton perso. Cela concerne le fort))"},"PJ+PNJ"]
[{"$f":"DATE(YEAR('Réponses au formulaire - copy-c'!A48), MONTH('Réponses au formulaire - copy-c'!A48), DAY('Réponses au formulaire - copy-c'!A48))","v":"2024-01-22"},{"$f":"'Réponses au formulaire - copy-c'!E48","v":"Raffy"},{"$f":"'Réponses au formulaire - copy-c'!F48","v":"Fabienne "},{"$f":"'Réponses au formulaire - copy-c'!H48","v":"F"},{"$f":"IFERROR(INT((DATEVALUE(TODAY())-DATEVALUE(TRIM('Réponses au formulaire - copy-c'!L48)))/365), \"?\")","v":41},"#N/A",41,null,{"$f":"'Réponses au formulaire - copy-c'!I48","v":"fabienneraffy@hotmail.fr"},{"$f":"'Réponses au formulaire - copy-c'!J48","v":"20allée André Puyade  Domaine de Kent 64600 Anglet"},{"$f":"'Réponses au formulaire - copy-c'!K48","v":675958592},"-",{"$f":"'Réponses au formulaire - copy-c'!O48","v":"Les deux dates sont possibles"},"Les deux",{"$f":"'Réponses au formulaire - copy-c'!Q48","v":"Navire et fort"},"Navire et fort",{"$f":"'Réponses au formulaire - copy-c'!P48","v":"Pur PJ"},"Pur PJ"]
[{"$f":"DATE(YEAR('Réponses au formulaire - copy-c'!A49), MONTH('Réponses au formulaire - copy-c'!A49), DAY('Réponses au formulaire - copy-c'!A49))","v":"2024-01-13"},{"$f":"'Réponses au formulaire - copy-c'!E49","v":"Raimbault "},{"$f":"'Réponses au formulaire - copy-c'!F49","v":"Cécile"},{"$f":"'Réponses au formulaire - copy-c'!H49","v":"F"},{"$f":"IFERROR(INT((DATEVALUE(TODAY())-DATEVALUE(TRIM('Réponses au formulaire - copy-c'!L49)))/365), \"?\")","v":44},"#N/A",44,null,{"$f":"'Réponses au formulaire - copy-c'!I49","v":"llialn@gmail.com"},{"$f":"'Réponses au formulaire - copy-c'!J49","v":"13 avenue pasteur 63400 chamalieres "},{"$f":"'Réponses au formulaire - copy-c'!K49","v":"0620226425"},"-",{"$f":"'Réponses au formulaire - copy-c'!O49","v":"7 et 8 juin 2025"},"juin",{"$f":"'Réponses au formulaire - copy-c'!Q49","v":"Navire et fort"},"Navire et fort",{"$f":"'Réponses au formulaire - copy-c'!P49","v":"Pur PJ"},"Pur PJ"]
[{"$f":"DATE(YEAR('Réponses au formulaire - copy-c'!A50), MONTH('Réponses au formulaire - copy-c'!A50), DAY('Réponses au formulaire - copy-c'!A50))","v":"2024-01-12"},{"$f":"'Réponses au formulaire - copy-c'!E50","v":"RICHARD"},{"$f":"'Réponses au formulaire - copy-c'!F50","v":"Patrice"},{"$f":"'Réponses au formulaire - copy-c'!H50","v":"H"},{"$f":"IFERROR(INT((DATEVALUE(TODAY())-DATEVALUE(TRIM('Réponses au formulaire - copy-c'!L50)))/365), \"?\")","v":47},47,"#N/A",null,{"$f":"'Réponses au formulaire - copy-c'!I50","v":"pastbug@msn.com"},{"$f":"'Réponses au formulaire - copy-c'!J50","v":"32b rue bellevue 81100 castres"},{"$f":"'Réponses au formulaire - copy-c'!K50","v":"0781481945"},"-",{"$f":"'Réponses au formulaire - copy-c'!O50","v":"7 et 8 juin 2025"},"juin",{"$f":"'Réponses au formulaire - copy-c'!Q50","v":"Navire et fort"},"Navire et fort",{"$f":"'Réponses au formulaire - copy-c'!P50","v":"Pur PJ"},"Pur PJ"]
[{"$f":"DATE(YEAR('Réponses au formulaire - copy-c'!A51), MONTH('Réponses au formulaire - copy-c'!A51), DAY('Réponses au formulaire - copy-c'!A51))","v":"2024-01-12"},{"$f":"'Réponses au formulaire - copy-c'!E51","v":"RIGAUD"},{"$f":"'Réponses au formulaire - copy-c'!F51","v":"Véronique"},{"$f":"'Réponses au formulaire - copy-c'!H51","v":"F"},{"$f":"IFERROR(INT((DATEVALUE(TODAY())-DATEVALUE(TRIM('Réponses au formulaire - copy-c'!L51)))/365), \"?\")","v":60},"#N/A",60,null,{"$f":"'Réponses au formulaire - copy-c'!I51","v":"rigaudvero@yahoo.fr"},{"$f":"'Réponses au formulaire - copy-c'!J51","v":"14 rue Franklin Roosevelt 78360 MONTESSON"},{"$f":"'Réponses au formulaire - copy-c'!K51","v":"0613792264"},"-",{"$f":"'Réponses au formulaire - copy-c'!O51","v":"7 et 8 juin 2025"},"juin",{"$f":"'Réponses au formulaire - copy-c'!Q51","v":"Navire et fort"},"Navire et fort",{"$f":"'Réponses au formulaire - copy-c'!P51","v":"Pur PJ"},"Pur PJ"]
[{"$f":"DATE(YEAR('Réponses au formulaire - copy-c'!A52), MONTH('Réponses au formulaire - copy-c'!A52), DAY('Réponses au formulaire - copy-c'!A52))","v":"2024-02-06"},{"$f":"'Réponses au formulaire - copy-c'!E52","v":"Thiriez"},{"$f":"'Réponses au formulaire - copy-c'!F52","v":"maryne"},{"$f":"'Réponses au formulaire - copy-c'!H52","v":"F"},{"$f":"IFERROR(INT((DATEVALUE(TODAY())-DATEVALUE(TRIM('Réponses au formulaire - copy-c'!L52)))/365), \"?\")","v":46},"#N/A",46,null,{"$f":"'Réponses au formulaire - copy-c'!I52","v":"m.thiriez.pro@gmail.com"},{"$f":"'Réponses au formulaire - copy-c'!J52","v":"8 rue gabriel peri "},{"$f":"'Réponses au formulaire - copy-c'!K52","v":"0695477223"},"-",{"$f":"'Réponses au formulaire - copy-c'!O52","v":"7 et 8 juin 2025"},"juin",{"$f":"'Réponses au formulaire - copy-c'!Q52","v":"peu importe (si tu as une préférence, coche cette case et ta préférence)"},"Peu importe",{"$f":"'Réponses au formulaire - copy-c'!P52","v":"Pur PJ"},"Pur PJ"]
[{"$f":"DATE(YEAR('Réponses au formulaire - copy-c'!A53), MONTH('Réponses au formulaire - copy-c'!A53), DAY('Réponses au formulaire - copy-c'!A53))","v":"2024-01-13"},{"$f":"'Réponses au formulaire - copy-c'!E53","v":"VIGIER "},{"$f":"'Réponses au formulaire - copy-c'!F53","v":"Yann"},{"$f":"'Réponses au formulaire - copy-c'!H53","v":"H"},{"$f":"IFERROR(INT((DATEVALUE(TODAY())-DATEVALUE(TRIM('Réponses au formulaire - copy-c'!L53)))/365), \"?\")","v":48},48,"#N/A",null,{"$f":"'Réponses au formulaire - copy-c'!I53","v":"yanvigier63@gmail.com"},{"$f":"'Réponses au formulaire - copy-c'!J53","v":"59 avenue de Royat 63400 Chamalières"},{"$f":"'Réponses au formulaire - copy-c'!K53","v":"0634991751"},"-",{"$f":"'Réponses au formulaire - copy-c'!O53","v":"7 et 8 juin 2025"},"juin",{"$f":"'Réponses au formulaire - copy-c'!Q53","v":"Navire et fort"},"Navire et fort",{"$f":"'Réponses au formulaire - copy-c'!P53","v":"PJ/PNJ (il s'agit d'un moment du GN, le reste du temps tu joues ton perso. Cela concerne le fort))"},"PJ+PNJ"]
[{"$f":"DATE(YEAR('Réponses au formulaire - copy-c'!A54), MONTH('Réponses au formulaire - copy-c'!A54), DAY('Réponses au formulaire - copy-c'!A54))","v":"2024-01-15"},{"$f":"'Réponses au formulaire - copy-c'!E54","v":"Vignier"},{"$f":"'Réponses au formulaire - copy-c'!F54","v":"Fanny"},{"$f":"'Réponses au formulaire - copy-c'!H54","v":"F"},{"$f":"IFERROR(INT((DATEVALUE(TODAY())-DATEVALUE(TRIM('Réponses au formulaire - copy-c'!L54)))/365), \"?\")","v":"?"},"#N/A","?",null,{"$f":"'Réponses au formulaire - copy-c'!I54","v":"fannyvignier@hotmail.fr"},{"$f":"'Réponses au formulaire - copy-c'!J54","v":"4 Avenue de Bretagne"},{"$f":"'Réponses au formulaire - copy-c'!K54","v":""},"-",{"$f":"'Réponses au formulaire - copy-c'!O54","v":"7 et 8 juin 2025, 13 et 14 septembre 2025"},"Les deux",{"$f":"'Réponses au formulaire - copy-c'!Q54","v":"Navire et fort"},"Navire et fort",{"$f":"'Réponses au formulaire - copy-c'!P54","v":"Pur PJ"},"Pur PJ"]
[{"$f":"DATE(YEAR('Réponses au formulaire - copy-c'!A55), MONTH('Réponses au formulaire - copy-c'!A55), DAY('Réponses au formulaire - copy-c'!A55))","v":"2024-02-19"},{"$f":"'Réponses au formulaire - copy-c'!E55","v":"Vaes"},{"$f":"'Réponses au formulaire - copy-c'!F55","v":"Thomas"},{"$f":"'Réponses au formulaire - copy-c'!H55","v":"H"},{"$f":"IFERROR(INT((DATEVALUE(TODAY())-DATEVALUE(TRIM('Réponses au formulaire - copy-c'!L55)))/365), \"?\")","v":31},31,"#N/A",null,{"$f":"'Réponses au formulaire - copy-c'!I55","v":"thomas.vaes@hotmail.com"},{"$f":"'Réponses au formulaire - copy-c'!J55","v":"rue François Lefebvre, 121a\n4000 Liège\nBelgique"},{"$f":"'Réponses au formulaire - copy-c'!K55","v":"0471502173"},"-",{"$f":"'Réponses au formulaire - copy-c'!O55","v":"Les deux dates sont possibles"},"Les deux",{"$f":"'Réponses au formulaire - copy-c'!Q55","v":"Navire et fort"},"Navire et fort",{"$f":"'Réponses au formulaire - copy-c'!P55","v":"Pur PJ, PJ/PNJ (il s'agit d'un moment du GN, le reste du temps tu joues ton perso. Cela concerne le fort)), PNJ"},"PJ+PNJ"]
[{"$f":"DATE(YEAR('Réponses au formulaire - copy-c'!A56), MONTH('Réponses au formulaire - copy-c'!A56), DAY('Réponses au formulaire - copy-c'!A56))","v":"2024-02-16"},{"$f":"'Réponses au formulaire - copy-c'!E56","v":"Vera"},{"$f":"'Réponses au formulaire - copy-c'!F56","v":"Cécile "},{"$f":"'Réponses au formulaire - copy-c'!H56","v":"F"},{"$f":"IFERROR(INT((DATEVALUE(TODAY())-DATEVALUE(TRIM('Réponses au formulaire - copy-c'!L56)))/365), \"?\")","v":31},"#N/A",31,null,{"$f":"'Réponses au formulaire - copy-c'!I56","v":"cecilecv@hotmail.com"},{"$f":"'Réponses au formulaire - copy-c'!J56","v":"10 Rue du Dr charcot, 93130 NOISY-LE-SEC "},{"$f":"'Réponses au formulaire - copy-c'!K56","v":"0778170825"},"-",{"$f":"'Réponses au formulaire - copy-c'!O56","v":"7 et 8 juin 2025, Les deux dates sont possibles"},"Les deux",{"$f":"'Réponses au formulaire - copy-c'!Q56","v":"Seulement au fort, peu importe (si tu as une préférence, coche cette case et ta préférence)"},"Peu importe",{"$f":"'Réponses au formulaire - copy-c'!P56","v":"Pur PJ, PJ/PNJ (il s'agit d'un moment du GN, le reste du temps tu joues ton perso. Cela concerne le fort))"},"PJ+PNJ"]
[{"$f":"DATE(YEAR('Réponses au formulaire - copy-c'!A57), MONTH('Réponses au formulaire - copy-c'!A57), DAY('Réponses au formulaire - copy-c'!A57))","v":"2024-02-20"},{"$f":"'Réponses au formulaire - copy-c'!E57","v":"Bonnecarrère "},{"$f":"'Réponses au formulaire - copy-c'!F57","v":"Julie"},{"$f":"'Réponses au formulaire - copy-c'!H57","v":"F"},{"$f":"IFERROR(INT((DATEVALUE(TODAY())-DATEVALUE(TRIM('Réponses au formulaire - copy-c'!L57)))/365), \"?\")","v":29},"#N/A",29,null,{"$f":"'Réponses au formulaire - copy-c'!I57","v":"julie@nebulae.world"},{"$f":"'Réponses au formulaire - copy-c'!J57","v":"12 rue Miromesnil "},{"$f":"'Réponses au formulaire - copy-c'!K57","v":"0640666077"},"-",{"$f":"'Réponses au formulaire - copy-c'!O57","v":"13 et 14 septembre 2025"},"septembre",{"$f":"'Réponses au formulaire - copy-c'!Q57","v":"Navire et fort"},"Navire et fort",{"$f":"'Réponses au formulaire - copy-c'!P57","v":"Pur PJ"},"Pur PJ"]
[{"$f":"DATE(YEAR('Réponses au formulaire - copy-c'!A58), MONTH('Réponses au formulaire - copy-c'!A58), DAY('Réponses au formulaire - copy-c'!A58))","v":"2024-01-14"},{"$f":"'Réponses au formulaire - copy-c'!E58","v":"Bouroumeau"},{"$f":"'Réponses au formulaire - copy-c'!F58","v":"Kevin"},{"$f":"'Réponses au formulaire - copy-c'!H58","v":"H"},{"$f":"IFERROR(INT((DATEVALUE(TODAY())-DATEVALUE(TRIM('Réponses au formulaire - copy-c'!L58)))/365), \"?\")","v":39},39,"#N/A",null,{"$f":"'Réponses au formulaire - copy-c'!I58","v":"kevinbouroumeau@gmail.com"},{"$f":"'Réponses au formulaire - copy-c'!J58","v":"11 rue Marguerite d'Angoulême "},{"$f":"'Réponses au formulaire - copy-c'!K58","v":"0688492254"},"-",{"$f":"'Réponses au formulaire - copy-c'!O58","v":"7 et 8 juin 2025"},"juin",{"$f":"'Réponses au formulaire - copy-c'!Q58","v":"Navire et fort"},"Navire et fort",{"$f":"'Réponses au formulaire - copy-c'!P58","v":"PJ/PNJ (il s'agit d'un moment du GN, le reste du temps tu joues ton perso. Cela concerne le fort))"},"PJ+PNJ"]
[{"$f":"DATE(YEAR('Réponses au formulaire - copy-c'!A59), MONTH('Réponses au formulaire - copy-c'!A59), DAY('Réponses au formulaire - copy-c'!A59))","v":"2024-01-12"},{"$f":"'Réponses au formulaire - copy-c'!E59","v":"Chasserat"},{"$f":"'Réponses au formulaire - copy-c'!F59","v":"Emmanuel"},{"$f":"'Réponses au formulaire - copy-c'!H59","v":"H"},{"$f":"IFERROR(INT((DATEVALUE(TODAY())-DATEVALUE(TRIM('Réponses au formulaire - copy-c'!L59)))/365), \"?\")","v":39},39,"#N/A",null,{"$f":"'Réponses au formulaire - copy-c'!I59","v":"chasserat@yahoo.fr"},{"$f":"'Réponses au formulaire - copy-c'!J59","v":"9 Place de la Gabare 17440 Aytré"},{"$f":"'Réponses au formulaire - copy-c'!K59","v":"0613517679"},"-",{"$f":"'Réponses au formulaire - copy-c'!O59","v":"7 et 8 juin 2025"},"juin",{"$f":"'Réponses au formulaire - copy-c'!Q59","v":"Navire et fort"},"Navire et fort",{"$f":"'Réponses au formulaire - copy-c'!P59","v":"Pur PJ"},"Pur PJ"]
[{"$f":"DATE(YEAR('Réponses au formulaire - copy-c'!A60), MONTH('Réponses au formulaire - copy-c'!A60), DAY('Réponses au formulaire - copy-c'!A60))","v":"2024-01-12"},{"$f":"'Réponses au formulaire - copy-c'!E60","v":"Colnard "},{"$f":"'Réponses au formulaire - copy-c'!F60","v":"Alexandre"},{"$f":"'Réponses au formulaire - copy-c'!H60","v":"H"},{"$f":"IFERROR(INT((DATEVALUE(TODAY())-DATEVALUE(TRIM('Réponses au formulaire - copy-c'!L60)))/365), \"?\")","v":30},30,"#N/A",null,{"$f":"'Réponses au formulaire - copy-c'!I60","v":"colnard.alexandre@gmail.com"},{"$f":"'Réponses au formulaire - copy-c'!J60","v":"36 rue de la cote du nord 93100 Montreuil "},{"$f":"'Réponses au formulaire - copy-c'!K60","v":"0658075238"},"-",{"$f":"'Réponses au formulaire - copy-c'!O60","v":""},"Non précisé",{"$f":"'Réponses au formulaire - copy-c'!Q60","v":"Navire et fort"},"Navire et fort",{"$f":"'Réponses au formulaire - copy-c'!P60","v":"Pur PJ"},"Pur PJ"]
[{"$f":"DATE(YEAR('Réponses au formulaire - copy-c'!A61), MONTH('Réponses au formulaire - copy-c'!A61), DAY('Réponses au formulaire - copy-c'!A61))","v":"2024-02-20"},{"$f":"'Réponses au formulaire - copy-c'!E61","v":"COSTERG"},{"$f":"'Réponses au formulaire - copy-c'!F61","v":"Gaël"},{"$f":"'Réponses au formulaire - copy-c'!H61","v":"H"},{"$f":"IFERROR(INT((DATEVALUE(TODAY())-DATEVALUE(TRIM('Réponses au formulaire - copy-c'!L61)))/365), \"?\")","v":27},27,"#N/A",null,{"$f":"'Réponses au formulaire - copy-c'!I61","v":"g.costerg@gmail.com"},{"$f":"'Réponses au formulaire - copy-c'!J61","v":"Route de Rans\n23"},{"$f":"'Réponses au formulaire - copy-c'!K61","v":"0638057198"},"-",{"$f":"'Réponses au formulaire - copy-c'!O61","v":"13 et 14 septembre 2025"},"septembre",{"$f":"'Réponses au formulaire - copy-c'!Q61","v":"Navire et fort"},"Navire et fort",{"$f":"'Réponses au formulaire - copy-c'!P61","v":"PJ/PNJ (il s'agit d'un moment du GN, le reste du temps tu joues ton perso. Cela concerne le fort))"},"PJ+PNJ"]
[{"$f":"DATE(YEAR('Réponses au formulaire - copy-c'!A62), MONTH('Réponses au formulaire - copy-c'!A62), DAY('Réponses au formulaire - copy-c'!A62))","v":"2024-02-10"},{"$f":"'Réponses au formulaire - copy-c'!E62","v":"D'Errico "},{"$f":"'Réponses au formulaire - copy-c'!F62","v":"Marina "},{"$f":"'Réponses au formulaire - copy-c'!H62","v":"F"},{"$f":"IFERROR(INT((DATEVALUE(TODAY())-DATEVALUE(TRIM('Réponses au formulaire - copy-c'!L62)))/365), \"?\")","v":31},"#N/A",31,null,{"$f":"'Réponses au formulaire - copy-c'!I62","v":"m.derrico@live.fr"},{"$f":"'Réponses au formulaire - copy-c'!J62","v":"7 le haut du bozet 88220 Xertigny "},{"$f":"'Réponses au formulaire - copy-c'!K62","v":""},"-",{"$f":"'Réponses au formulaire - copy-c'!O62","v":"7 et 8 juin 2025, Les deux dates sont possibles"},"Les deux",{"$f":"'Réponses au formulaire - copy-c'!Q62","v":"Navire et fort"},"Navire et fort",{"$f":"'Réponses au formulaire - copy-c'!P62","v":"Pur PJ"},"Pur PJ"]
[{"$f":"DATE(YEAR('Réponses au formulaire - copy-c'!A63), MONTH('Réponses au formulaire - copy-c'!A63), DAY('Réponses au formulaire - copy-c'!A63))","v":"2024-03-12"},{"$f":"'Réponses au formulaire - copy-c'!E63","v":"Dagrain"},{"$f":"'Réponses au formulaire - copy-c'!F63","v":"Valerie"},{"$f":"'Réponses au formulaire - copy-c'!H63","v":"F"},{"$f":"IFERROR(INT((DATEVALUE(TODAY())-DATEVALUE(TRIM('Réponses au formulaire - copy-c'!L63)))/365), \"?\")","v":51},"#N/A",51,null,{"$f":"'Réponses au formulaire - copy-c'!I63","v":"valerie.dagrain@protonmail.com"},{"$f":"'Réponses au formulaire - copy-c'!J63","v":"32 Avenue Leon Blum"},{"$f":"'Réponses au formulaire - copy-c'!K63","v":"0663614215"},"-",{"$f":"'Réponses au formulaire - copy-c'!O63","v":"Les deux dates sont possibles"},"Les deux",{"$f":"'Réponses au formulaire - copy-c'!Q63","v":"Navire et fort"},"Navire et fort",{"$f":"'Réponses au formulaire - copy-c'!P63","v":"PJ/PNJ (il s'agit d'un moment du GN, le reste du temps tu joues ton perso. Cela concerne le fort))"},"PJ+PNJ"]
[{"$f":"DATE(YEAR('Réponses au formulaire - copy-c'!A64), MONTH('Réponses au formulaire - copy-c'!A64), DAY('Réponses au formulaire - copy-c'!A64))","v":"2024-01-12"},{"$f":"'Réponses au formulaire - copy-c'!E64","v":"Delville"},{"$f":"'Réponses au formulaire - copy-c'!F64","v":"Gil Alima"},{"$f":"'Réponses au formulaire - copy-c'!H64","v":"H"},{"$f":"IFERROR(INT((DATEVALUE(TODAY())-DATEVALUE(TRIM('Réponses au formulaire - copy-c'!L64)))/365), \"?\")","v":48},48,"#N/A",null,{"$f":"'Réponses au formulaire - copy-c'!I64","v":"alima.shoptider@gmail.com"},{"$f":"'Réponses au formulaire - copy-c'!J64","v":"62 rue des Foulons - 59500 Douai"},{"$f":"'Réponses au formulaire - copy-c'!K64","v":"06-60-48-26-56"},"-",{"$f":"'Réponses au formulaire - copy-c'!O64","v":""},"Non précisé",{"$f":"'Réponses au formulaire - copy-c'!Q64","v":"Navire et fort"},"Navire et fort",{"$f":"'Réponses au formulaire - copy-c'!P64","v":"Pur PJ"},"Pur PJ"]
[{"$f":"DATE(YEAR('Réponses au formulaire - copy-c'!A65), MONTH('Réponses au formulaire - copy-c'!A65), DAY('Réponses au formulaire - copy-c'!A65))","v":"2024-01-24"},{"$f":"'Réponses au formulaire - copy-c'!E65","v":"EUVE"},{"$f":"'Réponses au formulaire - copy-c'!F65","v":"MAXIME"},{"$f":"'Réponses au formulaire - copy-c'!H65","v":"H"},{"$f":"IFERROR(INT((DATEVALUE(TODAY())-DATEVALUE(TRIM('Réponses au formulaire - copy-c'!L65)))/365), \"?\")","v":42},42,"#N/A",null,{"$f":"'Réponses au formulaire - copy-c'!I65","v":"maxime.euve@gmail.com"},{"$f":"'Réponses au formulaire - copy-c'!J65","v":"83 rue Marcelin Jourdan - 33200 BORDEAUX"},{"$f":"'Réponses au formulaire - copy-c'!K65","v":671542820},"-",{"$f":"'Réponses au formulaire - copy-c'!O65","v":"7 et 8 juin 2025"},"juin",{"$f":"'Réponses au formulaire - copy-c'!Q65","v":"Navire et fort"},"Navire et fort",{"$f":"'Réponses au formulaire - copy-c'!P65","v":"Pur PJ, PJ/PNJ (il s'agit d'un moment du GN, le reste du temps tu joues ton perso. Cela concerne le fort))"},"PJ+PNJ"]
[{"$f":"DATE(YEAR('Réponses au formulaire - copy-c'!A66), MONTH('Réponses au formulaire - copy-c'!A66), DAY('Réponses au formulaire - copy-c'!A66))","v":"2024-01-12"},{"$f":"'Réponses au formulaire - copy-c'!E66","v":"Goury"},{"$f":"'Réponses au formulaire - copy-c'!F66","v":"Fabien"},{"$f":"'Réponses au formulaire - copy-c'!H66","v":"H"},{"$f":"IFERROR(INT((DATEVALUE(TODAY())-DATEVALUE(TRIM('Réponses au formulaire - copy-c'!L66)))/365), \"?\")","v":33},33,"#N/A",null,{"$f":"'Réponses au formulaire - copy-c'!I66","v":"gouryfabien@gmail.com"},{"$f":"'Réponses au formulaire - copy-c'!J66","v":"295 Route de Vienne 69200 Vénissieux"},{"$f":"'Réponses au formulaire - copy-c'!K66","v":"0623498552"},"-",{"$f":"'Réponses au formulaire - copy-c'!O66","v":""},"Non précisé",{"$f":"'Réponses au formulaire - copy-c'!Q66","v":"Navire et fort"},"Navire et fort",{"$f":"'Réponses au formulaire - copy-c'!P66","v":"Pur PJ"},"Pur PJ"]
[{"$f":"DATE(YEAR('Réponses au formulaire - copy-c'!A67), MONTH('Réponses au formulaire - copy-c'!A67), DAY('Réponses au formulaire - copy-c'!A67))","v":"2024-01-12"},{"$f":"'Réponses au formulaire - copy-c'!E67","v":"Lucarelli"},{"$f":"'Réponses au formulaire - copy-c'!F67","v":"Jean-Yves"},{"$f":"'Réponses au formulaire - copy-c'!H67","v":"H"},{"$f":"IFERROR(INT((DATEVALUE(TODAY())-DATEVALUE(TRIM('Réponses au formulaire - copy-c'!L67)))/365), \"?\")","v":39},39,"#N/A",null,{"$f":"'Réponses au formulaire - copy-c'!I67","v":"lucarelli.jy@gmail.com"},{"$f":"'Réponses au formulaire - copy-c'!J67","v":"1 avenue de Figueres 13700 MARIGNANE"},{"$f":"'Réponses au formulaire - copy-c'!K67","v":"0667748530"},"-",{"$f":"'Réponses au formulaire - copy-c'!O67","v":"7 et 8 juin 2025"},"juin",{"$f":"'Réponses au formulaire - copy-c'!Q67","v":"Navire et fort"},"Navire et fort",{"$f":"'Réponses au formulaire - copy-c'!P67","v":"Pur PJ"},"Pur PJ"]
[{"$f":"DATE(YEAR('Réponses au formulaire - copy-c'!A68), MONTH('Réponses au formulaire - copy-c'!A68), DAY('Réponses au formulaire - copy-c'!A68))","v":"2024-02-10"},{"$f":"'Réponses au formulaire - copy-c'!E68","v":"Moynier"},{"$f":"'Réponses au formulaire - copy-c'!F68","v":"Bérénice"},{"$f":"'Réponses au formulaire - copy-c'!H68","v":"F"},{"$f":"IFERROR(INT((DATEVALUE(TODAY())-DATEVALUE(TRIM('Réponses au formulaire - copy-c'!L68)))/365), \"?\")","v":30},"#N/A",30,null,{"$f":"'Réponses au formulaire - copy-c'!I68","v":"berenicemoynier@gmail.com"},{"$f":"'Réponses au formulaire - copy-c'!J68","v":"2 quai du Cheval-Blanc, 1227 Carouge, Suisse"},{"$f":"'Réponses au formulaire - copy-c'!K68","v":"00.41.77.449.23.78"},"-",{"$f":"'Réponses au formulaire - copy-c'!O68","v":"7 et 8 juin 2025, Les deux dates sont possibles"},"Les deux",{"$f":"'Réponses au formulaire - copy-c'!Q68","v":"Navire et fort"},"Navire et fort",{"$f":"'Réponses au formulaire - copy-c'!P68","v":"Pur PJ"},"Pur PJ"]
[{"$f":"DATE(YEAR('Réponses au formulaire - copy-c'!A69), MONTH('Réponses au formulaire - copy-c'!A69), DAY('Réponses au formulaire - copy-c'!A69))","v":"2024-02-10"},{"$f":"'Réponses au formulaire - copy-c'!E69","v":"Piodella"},{"$f":"'Réponses au formulaire - copy-c'!F69","v":"Geoffrey"},{"$f":"'Réponses au formulaire - copy-c'!H69","v":"H"},{"$f":"IFERROR(INT((DATEVALUE(TODAY())-DATEVALUE(TRIM('Réponses au formulaire - copy-c'!L69)))/365), \"?\")","v":34},34,"#N/A",null,{"$f":"'Réponses au formulaire - copy-c'!I69","v":"piodella-geoffrey@hotmail.fr"},{"$f":"'Réponses au formulaire - copy-c'!J69","v":"821 route de chez Dubois 74130 Faucigny"},{"$f":"'Réponses au formulaire - copy-c'!K69","v":"0670631495"},"-",{"$f":"'Réponses au formulaire - copy-c'!O69","v":"7 et 8 juin 2025, 13 et 14 septembre 2025, Les deux dates sont possibles"},"Non précisé",{"$f":"'Réponses au formulaire - copy-c'!Q69","v":"Navire et fort"},"Navire et fort",{"$f":"'Réponses au formulaire - copy-c'!P69","v":"Pur PJ, PJ/PNJ (il s'agit d'un moment du GN, le reste du temps tu joues ton perso. Cela concerne le fort))"},"PJ+PNJ"]
[{"$f":"DATE(YEAR('Réponses au formulaire - copy-c'!A70), MONTH('Réponses au formulaire - copy-c'!A70), DAY('Réponses au formulaire - copy-c'!A70))","v":"2024-02-10"},{"$f":"'Réponses au formulaire - copy-c'!E70","v":"Quenet"},{"$f":"'Réponses au formulaire - copy-c'!F70","v":"Camille"},{"$f":"'Réponses au formulaire - copy-c'!H70","v":"F"},{"$f":"IFERROR(INT((DATEVALUE(TODAY())-DATEVALUE(TRIM('Réponses au formulaire - copy-c'!L70)))/365), \"?\")","v":31},"#N/A",31,null,{"$f":"'Réponses au formulaire - copy-c'!I70","v":"melicente@gmail.com"},{"$f":"'Réponses au formulaire - copy-c'!J70","v":"36 rue de la côte du Nord"},{"$f":"'Réponses au formulaire - copy-c'!K70","v":"0626915513"},"-",{"$f":"'Réponses au formulaire - copy-c'!O70","v":"Les deux dates sont possibles"},"Les deux",{"$f":"'Réponses au formulaire - copy-c'!Q70","v":"Navire et fort"},"Navire et fort",{"$f":"'Réponses au formulaire - copy-c'!P70","v":"Pur PJ"},"Pur PJ"]
[{"$f":"DATE(YEAR('Réponses au formulaire - copy-c'!A71), MONTH('Réponses au formulaire - copy-c'!A71), DAY('Réponses au formulaire - copy-c'!A71))","v":"2024-01-12"},{"$f":"'Réponses au formulaire - copy-c'!E71","v":"RODRIGUEZ"},{"$f":"'Réponses au formulaire - copy-c'!F71","v":"Charlotte "},{"$f":"'Réponses au formulaire - copy-c'!H71","v":"F"},{"$f":"IFERROR(INT((DATEVALUE(TODAY())-DATEVALUE(TRIM('Réponses au formulaire - copy-c'!L71)))/365), \"?\")","v":27},"#N/A",27,null,{"$f":"'Réponses au formulaire - copy-c'!I71","v":"charlotte.rodriguez07@orange.fr"},{"$f":"'Réponses au formulaire - copy-c'!J71","v":"450 avenue des Valérianes"},{"$f":"'Réponses au formulaire - copy-c'!K71","v":"0760921030"},"-",{"$f":"'Réponses au formulaire - copy-c'!O71","v":""},"Non précisé",{"$f":"'Réponses au formulaire - copy-c'!Q71","v":"Navire et fort"},"Navire et fort",{"$f":"'Réponses au formulaire - copy-c'!P71","v":"Pur PJ"},"Pur PJ"]
[{"$f":"DATE(YEAR('Réponses au formulaire - copy-c'!A72), MONTH('Réponses au formulaire - copy-c'!A72), DAY('Réponses au formulaire - copy-c'!A72))","v":"2024-01-12"},{"$f":"'Réponses au formulaire - copy-c'!E72","v":"Ser-Istin"},{"$f":"'Réponses au formulaire - copy-c'!F72","v":"Julie"},{"$f":"'Réponses au formulaire - copy-c'!H72","v":"F"},{"$f":"IFERROR(INT((DATEVALUE(TODAY())-DATEVALUE(TRIM('Réponses au formulaire - copy-c'!L72)))/365), \"?\")","v":50},"#N/A",50,null,{"$f":"'Réponses au formulaire - copy-c'!I72","v":"julie.ser@istin.fr"},{"$f":"'Réponses au formulaire - copy-c'!J72","v":"7 rue Titon 75011 Paris"},{"$f":"'Réponses au formulaire - copy-c'!K72","v":"0662109130"},"-",{"$f":"'Réponses au formulaire - copy-c'!O72","v":""},"Non précisé",{"$f":"'Réponses au formulaire - copy-c'!Q72","v":"Navire et fort"},"Navire et fort",{"$f":"'Réponses au formulaire - copy-c'!P72","v":"Pur PJ, PJ/PNJ (il s'agit d'un moment du GN, le reste du temps tu joues ton perso. Cela concerne le fort))"},"PJ+PNJ"]
[{"$f":"DATE(YEAR('Réponses au formulaire - copy-c'!A73), MONTH('Réponses au formulaire - copy-c'!A73), DAY('Réponses au formulaire - copy-c'!A73))","v":"2024-01-12"},{"$f":"'Réponses au formulaire - copy-c'!E73","v":"Servel"},{"$f":"'Réponses au formulaire - copy-c'!F73","v":"Manon"},{"$f":"'Réponses au formulaire - copy-c'!H73","v":"F"},{"$f":"IFERROR(INT((DATEVALUE(TODAY())-DATEVALUE(TRIM('Réponses au formulaire - copy-c'!L73)))/365), \"?\")","v":32},"#N/A",32,null,{"$f":"'Réponses au formulaire - copy-c'!I73","v":"servel.manon@orange.fr"},{"$f":"'Réponses au formulaire - copy-c'!J73","v":"2 rue la Bremaudais - 35450 Dourdain"},{"$f":"'Réponses au formulaire - copy-c'!K73","v":"0668554965"},"-",{"$f":"'Réponses au formulaire - copy-c'!O73","v":""},"Non précisé",{"$f":"'Réponses au formulaire - copy-c'!Q73","v":"Navire et fort"},"Navire et fort",{"$f":"'Réponses au formulaire - copy-c'!P73","v":"Pur PJ, PJ/PNJ (il s'agit d'un moment du GN, le reste du temps tu joues ton perso. Cela concerne le fort))"},"PJ+PNJ"]
[{"$f":"DATE(YEAR('Réponses au formulaire - copy-c'!A74), MONTH('Réponses au formulaire - copy-c'!A74), DAY('Réponses au formulaire - copy-c'!A74))","v":"2024-02-10"},{"$f":"'Réponses au formulaire - copy-c'!E74","v":"Trocquet"},{"$f":"'Réponses au formulaire - copy-c'!F74","v":"Daniel"},{"$f":"'Réponses au formulaire - copy-c'!H74","v":"H"},{"$f":"IFERROR(INT((DATEVALUE(TODAY())-DATEVALUE(TRIM('Réponses au formulaire - copy-c'!L74)))/365), \"?\")","v":74},74,"#N/A",null,{"$f":"'Réponses au formulaire - copy-c'!I74","v":"trocquetdaniel@gmail.com"},{"$f":"'Réponses au formulaire - copy-c'!J74","v":"Impasse de la saboterie, 37220 l'Île Bouchard"},{"$f":"'Réponses au formulaire - copy-c'!K74","v":"0762920768"},"-",{"$f":"'Réponses au formulaire - copy-c'!O74","v":"7 et 8 juin 2025"},"juin",{"$f":"'Réponses au formulaire - copy-c'!Q74","v":"Navire et fort"},"Navire et fort",{"$f":"'Réponses au formulaire - copy-c'!P74","v":""},"PJ+PNJ"]
[{"$f":"DATE(YEAR('Réponses au formulaire - copy-c'!A75), MONTH('Réponses au formulaire - copy-c'!A75), DAY('Réponses au formulaire - copy-c'!A75))","v":"2024-07-21"},{"$f":"'Réponses au formulaire - copy-c'!E75","v":"Moussi-beylie"},{"$f":"'Réponses au formulaire - copy-c'!F75","v":"Florian"},{"$f":"'Réponses au formulaire - copy-c'!H75","v":"H"},{"$f":"IFERROR(INT((DATEVALUE(TODAY())-DATEVALUE(TRIM('Réponses au formulaire - copy-c'!L75)))/365), \"?\")","v":28},28,"#N/A",null,{"$f":"'Réponses au formulaire - copy-c'!I75","v":"oreillepointue@gmail.com"},{"$f":"'Réponses au formulaire - copy-c'!J75","v":"29 Rue Michelin neuilly plaisance 93360 "},{"$f":"'Réponses au formulaire - copy-c'!K75","v":"0679866556"},"-",{"$f":"'Réponses au formulaire - copy-c'!O75","v":"7 et 8 juin 2025"},"juin",{"$f":"'Réponses au formulaire - copy-c'!Q75","v":"Navire et fort, peu importe (si tu as une préférence, coche cette case et ta préférence)"},"Peu importe",{"$f":"'Réponses au formulaire - copy-c'!P75","v":"PJ/PNJ (il s'agit d'un moment du GN, le reste du temps tu joues ton perso. Cela concerne le fort))"},"PJ+PNJ"]
[{"$f":"DATE(YEAR('Réponses au formulaire - copy-c'!A76), MONTH('Réponses au formulaire - copy-c'!A76), DAY('Réponses au formulaire - copy-c'!A76))","v":"2024-07-21"},{"$f":"'Réponses au formulaire - copy-c'!E76","v":"Moussi-Beylie"},{"$f":"'Réponses au formulaire - copy-c'!F76","v":"Clement"},{"$f":"'Réponses au formulaire - copy-c'!H76","v":"H"},{"$f":"IFERROR(INT((DATEVALUE(TODAY())-DATEVALUE(TRIM('Réponses au formulaire - copy-c'!L76)))/365), \"?\")","v":26},26,"#N/A",null,{"$f":"'Réponses au formulaire - copy-c'!I76","v":"oreillepointue@gmail.com"},{"$f":"'Réponses au formulaire - copy-c'!J76","v":"8 rue de chèvre 77200 Torcy"},{"$f":"'Réponses au formulaire - copy-c'!K76","v":"0651877786"},"-",{"$f":"'Réponses au formulaire - copy-c'!O76","v":"7 et 8 juin 2025"},"juin",{"$f":"'Réponses au formulaire - copy-c'!Q76","v":"Navire et fort"},"Navire et fort",{"$f":"'Réponses au formulaire - copy-c'!P76","v":"Pur PJ"},"Pur PJ"]
[{"$f":"DATE(YEAR('Réponses au formulaire - copy-c'!A77), MONTH('Réponses au formulaire - copy-c'!A77), DAY('Réponses au formulaire - copy-c'!A77))","v":"2024-07-21"},{"$f":"'Réponses au formulaire - copy-c'!E77","v":"Lallier "},{"$f":"'Réponses au formulaire - copy-c'!F77","v":"Frédéric "},{"$f":"'Réponses au formulaire - copy-c'!H77","v":"H"},{"$f":"IFERROR(INT((DATEVALUE(TODAY())-DATEVALUE(TRIM('Réponses au formulaire - copy-c'!L77)))/365), \"?\")","v":54},54,"#N/A",null,{"$f":"'Réponses au formulaire - copy-c'!I77","v":"lallierf@gmail.com"},{"$f":"'Réponses au formulaire - copy-c'!J77","v":"14 rue de la Paix 57100 Thionville "},{"$f":"'Réponses au formulaire - copy-c'!K77","v":"0611029361"},"-",{"$f":"'Réponses au formulaire - copy-c'!O77","v":"7 et 8 juin 2025"},"juin",{"$f":"'Réponses au formulaire - copy-c'!Q77","v":"Navire et fort"},"Navire et fort",{"$f":"'Réponses au formulaire - copy-c'!P77","v":"Pur PJ"},"Pur PJ"]
[{"$f":"DATE(YEAR('Réponses au formulaire - copy-c'!A78), MONTH('Réponses au formulaire - copy-c'!A78), DAY('Réponses au formulaire - copy-c'!A78))","v":"2024-07-21"},{"$f":"'Réponses au formulaire - copy-c'!E78","v":"Bullier "},{"$f":"'Réponses au formulaire - copy-c'!F78","v":"Maxime "},{"$f":"'Réponses au formulaire - copy-c'!H78","v":"H"},{"$f":"IFERROR(INT((DATEVALUE(TODAY())-DATEVALUE(TRIM('Réponses au formulaire - copy-c'!L78)))/365), \"?\")","v":42},42,"#N/A",null,{"$f":"'Réponses au formulaire - copy-c'!I78","v":"maxime.bullier@hotmail.fr"},{"$f":"'Réponses au formulaire - copy-c'!J78","v":"123 la ville Macé 35750 saint maugan"},{"$f":"'Réponses au formulaire - copy-c'!K78","v":"0669056818"},"-",{"$f":"'Réponses au formulaire - copy-c'!O78","v":"13 et 14 septembre 2025"},"septembre",{"$f":"'Réponses au formulaire - copy-c'!Q78","v":"Navire et fort, peu importe (si tu as une préférence, coche cette case et ta préférence)"},"Peu importe",{"$f":"'Réponses au formulaire - copy-c'!P78","v":"Pur PJ"},"Pur PJ"]
[{"$f":"DATE(YEAR('Réponses au formulaire - copy-c'!A79), MONTH('Réponses au formulaire - copy-c'!A79), DAY('Réponses au formulaire - copy-c'!A79))","v":"2024-07-21"},{"$f":"'Réponses au formulaire - copy-c'!E79","v":"Chiodo "},{"$f":"'Réponses au formulaire - copy-c'!F79","v":"Benoît "},{"$f":"'Réponses au formulaire - copy-c'!H79","v":"H"},{"$f":"IFERROR(INT((DATEVALUE(TODAY())-DATEVALUE(TRIM('Réponses au formulaire - copy-c'!L79)))/365), \"?\")","v":37},37,"#N/A",null,{"$f":"'Réponses au formulaire - copy-c'!I79","v":"benoitgaia@hotmail.com"},{"$f":"'Réponses au formulaire - copy-c'!J79","v":"222 rue de l'abreuvoir 76520 franqueville Saint Pierre "},{"$f":"'Réponses au formulaire - copy-c'!K79","v":659969475},"-",{"$f":"'Réponses au formulaire - copy-c'!O79","v":"7 et 8 juin 2025"},"juin",{"$f":"'Réponses au formulaire - copy-c'!Q79","v":"Navire et fort"},"Navire et fort",{"$f":"'Réponses au formulaire - copy-c'!P79","v":"Pur PJ"},"Pur PJ"]
[{"$f":"DATE(YEAR('Réponses au formulaire - copy-c'!A80), MONTH('Réponses au formulaire - copy-c'!A80), DAY('Réponses au formulaire - copy-c'!A80))","v":"2024-07-21"},{"$f":"'Réponses au formulaire - copy-c'!E80","v":"Lenouvel "},{"$f":"'Réponses au formulaire - copy-c'!F80","v":"Maryline "},{"$f":"'Réponses au formulaire - copy-c'!H80","v":"F"},{"$f":"IFERROR(INT((DATEVALUE(TODAY())-DATEVALUE(TRIM('Réponses au formulaire - copy-c'!L80)))/365), \"?\")","v":"?"},"#N/A","?",null,{"$f":"'Réponses au formulaire - copy-c'!I80","v":"lylou_07@hotmail.com"},{"$f":"'Réponses au formulaire - copy-c'!J80","v":"123 La Ville Macé 35750 Saint-Maugan"},{"$f":"'Réponses au formulaire - copy-c'!K80","v":""},"-",{"$f":"'Réponses au formulaire - copy-c'!O80","v":"13 et 14 septembre 2025"},"septembre",{"$f":"'Réponses au formulaire - copy-c'!Q80","v":"Seulement au fort"},"Seulement au fort",{"$f":"'Réponses au formulaire - copy-c'!P80","v":"Pur PJ"},"Pur PJ"]
[{"$f":"DATE(YEAR('Réponses au formulaire - copy-c'!A81), MONTH('Réponses au formulaire - copy-c'!A81), DAY('Réponses au formulaire - copy-c'!A81))","v":"2024-07-21"},{"$f":"'Réponses au formulaire - copy-c'!E81","v":"Brule"},{"$f":"'Réponses au formulaire - copy-c'!F81","v":"Mélanie "},{"$f":"'Réponses au formulaire - copy-c'!H81","v":"F"},{"$f":"IFERROR(INT((DATEVALUE(TODAY())-DATEVALUE(TRIM('Réponses au formulaire - copy-c'!L81)))/365), \"?\")","v":23},"#N/A",23,null,{"$f":"'Réponses au formulaire - copy-c'!I81","v":"melanie.brule1906@orange.fr"},{"$f":"'Réponses au formulaire - copy-c'!J81","v":"34 Grande Rue"},{"$f":"'Réponses au formulaire - copy-c'!K81","v":"0762198427"},"-",{"$f":"'Réponses au formulaire - copy-c'!O81","v":"7 et 8 juin 2025, 13 et 14 septembre 2025, Les deux dates sont possibles"},"Non précisé",{"$f":"'Réponses au formulaire - copy-c'!Q81","v":"Navire et fort"},"Navire et fort",{"$f":"'Réponses au formulaire - copy-c'!P81","v":"Pur PJ, PJ/PNJ (il s'agit d'un moment du GN, le reste du temps tu joues ton perso. Cela concerne le fort)), PNJ"},"PJ+PNJ"]
[{"$f":"DATE(YEAR('Réponses au formulaire - copy-c'!A82), MONTH('Réponses au formulaire - copy-c'!A82), DAY('Réponses au formulaire - copy-c'!A82))","v":"2024-07-22"},{"$f":"'Réponses au formulaire - copy-c'!E82","v":"MUNARO"},{"$f":"'Réponses au formulaire - copy-c'!F82","v":"Perrine"},{"$f":"'Réponses au formulaire - copy-c'!H82","v":"F"},{"$f":"IFERROR(INT((DATEVALUE(TODAY())-DATEVALUE(TRIM('Réponses au formulaire - copy-c'!L82)))/365), \"?\")","v":40},"#N/A",40,null,{"$f":"'Réponses au formulaire - copy-c'!I82","v":"perrine.munaro@gmail.com"},{"$f":"'Réponses au formulaire - copy-c'!J82","v":"19, Chemin des Vignes"},{"$f":"'Réponses au formulaire - copy-c'!K82","v":"0673120151"},"-",{"$f":"'Réponses au formulaire - copy-c'!O82","v":"Les deux dates sont possibles"},"Les deux",{"$f":"'Réponses au formulaire - copy-c'!Q82","v":"Navire et fort"},"Navire et fort",{"$f":"'Réponses au formulaire - copy-c'!P82","v":"Pur PJ"},"Pur PJ"]
[{"$f":"DATE(YEAR('Réponses au formulaire - copy-c'!A83), MONTH('Réponses au formulaire - copy-c'!A83), DAY('Réponses au formulaire - copy-c'!A83))","v":"2024-07-22"},{"$f":"'Réponses au formulaire - copy-c'!E83","v":"Yogananthan "},{"$f":"'Réponses au formulaire - copy-c'!F83","v":"Karuna"},{"$f":"'Réponses au formulaire - copy-c'!H83","v":"H"},{"$f":"IFERROR(INT((DATEVALUE(TODAY())-DATEVALUE(TRIM('Réponses au formulaire - copy-c'!L83)))/365), \"?\")","v":119},119,"#N/A",null,{"$f":"'Réponses au formulaire - copy-c'!I83","v":"karuna.yogananthan@gmail.com"},{"$f":"'Réponses au formulaire - copy-c'!J83","v":"3 Impasse Pierre Sorin"},{"$f":"'Réponses au formulaire - copy-c'!K83","v":"0610838975"},"-",{"$f":"'Réponses au formulaire - copy-c'!O83","v":"Les deux dates sont possibles"},"Les deux",{"$f":"'Réponses au formulaire - copy-c'!Q83","v":"Navire et fort"},"Navire et fort",{"$f":"'Réponses au formulaire - copy-c'!P83","v":"Pur PJ"},"Pur PJ"]
[{"$f":"DATE(YEAR('Réponses au formulaire - copy-c'!A84), MONTH('Réponses au formulaire - copy-c'!A84), DAY('Réponses au formulaire - copy-c'!A84))","v":"2024-07-22"},{"$f":"'Réponses au formulaire - copy-c'!E84","v":"VOumard"},{"$f":"'Réponses au formulaire - copy-c'!F84","v":"Zohnya Chloé"},{"$f":"'Réponses au formulaire - copy-c'!H84","v":"H"},{"$f":"IFERROR(INT((DATEVALUE(TODAY())-DATEVALUE(TRIM('Réponses au formulaire - copy-c'!L84)))/365), \"?\")","v":31},31,"#N/A",null,{"$f":"'Réponses au formulaire - copy-c'!I84","v":"chloe.voumard@gmail.com"},{"$f":"'Réponses au formulaire - copy-c'!J84","v":"Avenue d'Epenex 17, 1027 Ecublens, Suisse"},{"$f":"'Réponses au formulaire - copy-c'!K84","v":"0041765748109"},"-",{"$f":"'Réponses au formulaire - copy-c'!O84","v":"13 et 14 septembre 2025, Les deux dates sont possibles"},"Non précisé",{"$f":"'Réponses au formulaire - copy-c'!Q84","v":"Navire et fort"},"Navire et fort",{"$f":"'Réponses au formulaire - copy-c'!P84","v":"Pur PJ"},"Pur PJ"]
[{"$f":"DATE(YEAR('Réponses au formulaire - copy-c'!A85), MONTH('Réponses au formulaire - copy-c'!A85), DAY('Réponses au formulaire - copy-c'!A85))","v":"2024-07-22"},{"$f":"'Réponses au formulaire - copy-c'!E85","v":"Cornaz"},{"$f":"'Réponses au formulaire - copy-c'!F85","v":"Thomas"},{"$f":"'Réponses au formulaire - copy-c'!H85","v":"F"},{"$f":"IFERROR(INT((DATEVALUE(TODAY())-DATEVALUE(TRIM('Réponses au formulaire - copy-c'!L85)))/365), \"?\")","v":"?"},"#N/A","?",null,{"$f":"'Réponses au formulaire - copy-c'!I85","v":"swissnuggetz@gmail.com"},{"$f":"'Réponses au formulaire - copy-c'!J85","v":"Rue des Bossons 2 Onex  Suisse"},{"$f":"'Réponses au formulaire - copy-c'!K85","v":""},"-",{"$f":"'Réponses au formulaire - copy-c'!O85","v":"13 et 14 septembre 2025"},"septembre",{"$f":"'Réponses au formulaire - copy-c'!Q85","v":"Navire et fort"},"Navire et fort",{"$f":"'Réponses au formulaire - copy-c'!P85","v":"Pur PJ"},"Pur PJ"]
[{"$f":"DATE(YEAR('Réponses au formulaire - copy-c'!A86), MONTH('Réponses au formulaire - copy-c'!A86), DAY('Réponses au formulaire - copy-c'!A86))","v":"2024-07-22"},{"$f":"'Réponses au formulaire - copy-c'!E86","v":"le merdy"},{"$f":"'Réponses au formulaire - copy-c'!F86","v":"claire"},{"$f":"'Réponses au formulaire - copy-c'!H86","v":"F"},{"$f":"IFERROR(INT((DATEVALUE(TODAY())-DATEVALUE(TRIM('Réponses au formulaire - copy-c'!L86)))/365), \"?\")","v":32},"#N/A",32,null,{"$f":"'Réponses au formulaire - copy-c'!I86","v":"claire.lem@hotmail.fr"},{"$f":"'Réponses au formulaire - copy-c'!J86","v":"38 rue noire "},{"$f":"'Réponses au formulaire - copy-c'!K86","v":674802559},"-",{"$f":"'Réponses au formulaire - copy-c'!O86","v":"Les deux dates sont possibles"},"Les deux",{"$f":"'Réponses au formulaire - copy-c'!Q86","v":"Navire et fort, peu importe (si tu as une préférence, coche cette case et ta préférence)"},"Peu importe",{"$f":"'Réponses au formulaire - copy-c'!P86","v":"PNJ"},"PNJ"]
[{"$f":"DATE(YEAR('Réponses au formulaire - copy-c'!A87), MONTH('Réponses au formulaire - copy-c'!A87), DAY('Réponses au formulaire - copy-c'!A87))","v":"2024-07-22"},{"$f":"'Réponses au formulaire - copy-c'!E87","v":"Gayot"},{"$f":"'Réponses au formulaire - copy-c'!F87","v":"Eléna"},{"$f":"'Réponses au formulaire - copy-c'!H87","v":"F"},{"$f":"IFERROR(INT((DATEVALUE(TODAY())-DATEVALUE(TRIM('Réponses au formulaire - copy-c'!L87)))/365), \"?\")","v":25},"#N/A",25,null,{"$f":"'Réponses au formulaire - copy-c'!I87","v":"elena.gayot@gmail.com"},{"$f":"'Réponses au formulaire - copy-c'!J87","v":"32 chemin des prés ronds, 74600 Montagny-les-Lanches"},{"$f":"'Réponses au formulaire - copy-c'!K87","v":"0750498366"},"-",{"$f":"'Réponses au formulaire - copy-c'!O87","v":"7 et 8 juin 2025"},"juin",{"$f":"'Réponses au formulaire - copy-c'!Q87","v":"Navire et fort"},"Navire et fort",{"$f":"'Réponses au formulaire - copy-c'!P87","v":"Pur PJ"},"Pur PJ"]
[{"$f":"DATE(YEAR('Réponses au formulaire - copy-c'!A88), MONTH('Réponses au formulaire - copy-c'!A88), DAY('Réponses au formulaire - copy-c'!A88))","v":"2024-07-22"},{"$f":"'Réponses au formulaire - copy-c'!E88","v":"cornu"},{"$f":"'Réponses au formulaire - copy-c'!F88","v":"FRANCOISE"},{"$f":"'Réponses au formulaire - copy-c'!H88","v":"F"},{"$f":"IFERROR(INT((DATEVALUE(TODAY())-DATEVALUE(TRIM('Réponses au formulaire - copy-c'!L88)))/365), \"?\")","v":64},"#N/A",64,null,{"$f":"'Réponses au formulaire - copy-c'!I88","v":"wamael@aol.com"},{"$f":"'Réponses au formulaire - copy-c'!J88","v":"53 Rue de Nantouar 53 , 22660 Trélévern, Bretagne France"},{"$f":"'Réponses au formulaire - copy-c'!K88","v":"0681186863"},"-",{"$f":"'Réponses au formulaire - copy-c'!O88","v":"Les deux dates sont possibles"},"Les deux",{"$f":"'Réponses au formulaire - copy-c'!Q88","v":"Navire et fort"},"Navire et fort",{"$f":"'Réponses au formulaire - copy-c'!P88","v":"PNJ"},"PNJ"]
[{"$f":"DATE(YEAR('Réponses au formulaire - copy-c'!A89), MONTH('Réponses au formulaire - copy-c'!A89), DAY('Réponses au formulaire - copy-c'!A89))","v":"2024-07-22"},{"$f":"'Réponses au formulaire - copy-c'!E89","v":"HUARD"},{"$f":"'Réponses au formulaire - copy-c'!F89","v":"Tristan"},{"$f":"'Réponses au formulaire - copy-c'!H89","v":"H"},{"$f":"IFERROR(INT((DATEVALUE(TODAY())-DATEVALUE(TRIM('Réponses au formulaire - copy-c'!L89)))/365), \"?\")","v":34},34,"#N/A",null,{"$f":"'Réponses au formulaire - copy-c'!I89","v":"tristan.huard@outlook.fr"},{"$f":"'Réponses au formulaire - copy-c'!J89","v":"3ifa 45 rue du roselet"},{"$f":"'Réponses au formulaire - copy-c'!K89","v":"0628587885"},"-",{"$f":"'Réponses au formulaire - copy-c'!O89","v":"Les deux dates sont possibles"},"Les deux",{"$f":"'Réponses au formulaire - copy-c'!Q89","v":"Navire et fort"},"Navire et fort",{"$f":"'Réponses au formulaire - copy-c'!P89","v":"Pur PJ, PJ/PNJ (il s'agit d'un moment du GN, le reste du temps tu joues ton perso. Cela concerne le fort))"},"PJ+PNJ"]
[{"$f":"DATE(YEAR('Réponses au formulaire - copy-c'!A90), MONTH('Réponses au formulaire - copy-c'!A90), DAY('Réponses au formulaire - copy-c'!A90))","v":"2024-07-22"},{"$f":"'Réponses au formulaire - copy-c'!E90","v":"Ardalan"},{"$f":"'Réponses au formulaire - copy-c'!F90","v":"Pouria"},{"$f":"'Réponses au formulaire - copy-c'!H90","v":"H"},{"$f":"IFERROR(INT((DATEVALUE(TODAY())-DATEVALUE(TRIM('Réponses au formulaire - copy-c'!L90)))/365), \"?\")","v":42},42,"#N/A",null,{"$f":"'Réponses au formulaire - copy-c'!I90","v":"pepebicho@yahoo.com"},{"$f":"'Réponses au formulaire - copy-c'!J90","v":"8 Rue François Verdier"},{"$f":"'Réponses au formulaire - copy-c'!K90","v":"0622217382"},"-",{"$f":"'Réponses au formulaire - copy-c'!O90","v":"7 et 8 juin 2025"},"juin",{"$f":"'Réponses au formulaire - copy-c'!Q90","v":"Seulement au fort"},"Seulement au fort",{"$f":"'Réponses au formulaire - copy-c'!P90","v":"Pur PJ, PJ/PNJ (il s'agit d'un moment du GN, le reste du temps tu joues ton perso. Cela concerne le fort))"},"PJ+PNJ"]
[{"$f":"DATE(YEAR('Réponses au formulaire - copy-c'!A91), MONTH('Réponses au formulaire - copy-c'!A91), DAY('Réponses au formulaire - copy-c'!A91))","v":"2024-07-23"},{"$f":"'Réponses au formulaire - copy-c'!E91","v":"Petit "},{"$f":"'Réponses au formulaire - copy-c'!F91","v":"Vincent "},{"$f":"'Réponses au formulaire - copy-c'!H91","v":"H"},{"$f":"IFERROR(INT((DATEVALUE(TODAY())-DATEVALUE(TRIM('Réponses au formulaire - copy-c'!L91)))/365), \"?\")","v":48},48,"#N/A",null,{"$f":"'Réponses au formulaire - copy-c'!I91","v":"vincentsterne@yahoo.fr"},{"$f":"'Réponses au formulaire - copy-c'!J91","v":"8 rue du Révérend Père Aubry 94120 Fontenay sous Bois "},{"$f":"'Réponses au formulaire - copy-c'!K91","v":"0619600814"},"-",{"$f":"'Réponses au formulaire - copy-c'!O91","v":"13 et 14 septembre 2025"},"septembre",{"$f":"'Réponses au formulaire - copy-c'!Q91","v":"Seulement au fort, peu importe (si tu as une préférence, coche cette case et ta préférence)"},"Peu importe",{"$f":"'Réponses au formulaire - copy-c'!P91","v":"PJ/PNJ (il s'agit d'un moment du GN, le reste du temps tu joues ton perso. Cela concerne le fort))"},"PJ+PNJ"]
[{"$f":"DATE(YEAR('Réponses au formulaire - copy-c'!A92), MONTH('Réponses au formulaire - copy-c'!A92), DAY('Réponses au formulaire - copy-c'!A92))","v":"2024-07-23"},{"$f":"'Réponses au formulaire - copy-c'!E92","v":"battung"},{"$f":"'Réponses au formulaire - copy-c'!F92","v":"coralie"},{"$f":"'Réponses au formulaire - copy-c'!H92","v":"F"},{"$f":"IFERROR(INT((DATEVALUE(TODAY())-DATEVALUE(TRIM('Réponses au formulaire - copy-c'!L92)))/365), \"?\")","v":34},"#N/A",34,null,{"$f":"'Réponses au formulaire - copy-c'!I92","v":"corabattung@gmail.com"},{"$f":"'Réponses au formulaire - copy-c'!J92","v":"28 carrière de la funquée"},{"$f":"'Réponses au formulaire - copy-c'!K92","v":"0611246957"},"-",{"$f":"'Réponses au formulaire - copy-c'!O92","v":"7 et 8 juin 2025"},"juin",{"$f":"'Réponses au formulaire - copy-c'!Q92","v":"Navire et fort"},"Navire et fort",{"$f":"'Réponses au formulaire - copy-c'!P92","v":"Pur PJ"},"Pur PJ"]
[{"$f":"DATE(YEAR('Réponses au formulaire - copy-c'!A93), MONTH('Réponses au formulaire - copy-c'!A93), DAY('Réponses au formulaire - copy-c'!A93))","v":"2024-07-23"},{"$f":"'Réponses au formulaire - copy-c'!E93","v":"FRACHON"},{"$f":"'Réponses au formulaire - copy-c'!F93","v":"Aurélia"},{"$f":"'Réponses au formulaire - copy-c'!H93","v":"F"},{"$f":"IFERROR(INT((DATEVALUE(TODAY())-DATEVALUE(TRIM('Réponses au formulaire - copy-c'!L93)))/365), \"?\")","v":119},"#N/A",119,null,{"$f":"'Réponses au formulaire - copy-c'!I93","v":"aureliafrachon@gmail.com"},{"$f":"'Réponses au formulaire - copy-c'!J93","v":"17bis rue de la République, 77210 Avon"},{"$f":"'Réponses au formulaire - copy-c'!K93","v":"0643592580"},"-",{"$f":"'Réponses au formulaire - copy-c'!O93","v":"7 et 8 juin 2025"},"juin",{"$f":"'Réponses au formulaire - copy-c'!Q93","v":"Navire et fort"},"Navire et fort",{"$f":"'Réponses au formulaire - copy-c'!P93","v":"Pur PJ, PJ/PNJ (il s'agit d'un moment du GN, le reste du temps tu joues ton perso. Cela concerne le fort))"},"PJ+PNJ"]
[{"$f":"DATE(YEAR('Réponses au formulaire - copy-c'!A94), MONTH('Réponses au formulaire - copy-c'!A94), DAY('Réponses au formulaire - copy-c'!A94))","v":"2024-07-23"},{"$f":"'Réponses au formulaire - copy-c'!E94","v":"Cornu "},{"$f":"'Réponses au formulaire - copy-c'!F94","v":"Nathan"},{"$f":"'Réponses au formulaire - copy-c'!H94","v":"H"},{"$f":"IFERROR(INT((DATEVALUE(TODAY())-DATEVALUE(TRIM('Réponses au formulaire - copy-c'!L94)))/365), \"?\")","v":30},30,"#N/A",null,{"$f":"'Réponses au formulaire - copy-c'!I94","v":"nathancornu@gmail.com"},{"$f":"'Réponses au formulaire - copy-c'!J94","v":"97 RTE de lanleff 22290 plehedel"},{"$f":"'Réponses au formulaire - copy-c'!K94","v":"0646031612"},"-",{"$f":"'Réponses au formulaire - copy-c'!O94","v":"Les deux dates sont possibles"},"Les deux",{"$f":"'Réponses au formulaire - copy-c'!Q94","v":"Seulement au fort, Navire et fort, peu importe (si tu as une préférence, coche cette case et ta préférence)"},"Peu importe",{"$f":"'Réponses au formulaire - copy-c'!P94","v":"PNJ"},"PNJ"]
[{"$f":"DATE(YEAR('Réponses au formulaire - copy-c'!A95), MONTH('Réponses au formulaire - copy-c'!A95), DAY('Réponses au formulaire - copy-c'!A95))","v":"2024-07-24"},{"$f":"'Réponses au formulaire - copy-c'!E95","v":"orfeuvre"},{"$f":"'Réponses au formulaire - copy-c'!F95","v":"emilie"},{"$f":"'Réponses au formulaire - copy-c'!H95","v":"F"},{"$f":"IFERROR(INT((DATEVALUE(TODAY())-DATEVALUE(TRIM('Réponses au formulaire - copy-c'!L95)))/365), \"?\")","v":35},"#N/A",35,null,{"$f":"'Réponses au formulaire - copy-c'!I95","v":"emilie.orfeuvre@gmail.com"},{"$f":"'Réponses au formulaire - copy-c'!J95","v":"28 rue des fleurs 69500 BRON"},{"$f":"'Réponses au formulaire - copy-c'!K95","v":"0688550880"},"-",{"$f":"'Réponses au formulaire - copy-c'!O95","v":"13 et 14 septembre 2025"},"septembre",{"$f":"'Réponses au formulaire - copy-c'!Q95","v":"Seulement au fort"},"Seulement au fort",{"$f":"'Réponses au formulaire - copy-c'!P95","v":"Pur PJ, PJ/PNJ (il s'agit d'un moment du GN, le reste du temps tu joues ton perso. Cela concerne le fort))"},"PJ+PNJ"]
[{"$f":"DATE(YEAR('Réponses au formulaire - copy-c'!A96), MONTH('Réponses au formulaire - copy-c'!A96), DAY('Réponses au formulaire - copy-c'!A96))","v":"2024-07-25"},{"$f":"'Réponses au formulaire - copy-c'!E96","v":"Planquette "},{"$f":"'Réponses au formulaire - copy-c'!F96","v":"Thomas"},{"$f":"'Réponses au formulaire - copy-c'!H96","v":"H"},{"$f":"IFERROR(INT((DATEVALUE(TODAY())-DATEVALUE(TRIM('Réponses au formulaire - copy-c'!L96)))/365), \"?\")","v":47},47,"#N/A",null,{"$f":"'Réponses au formulaire - copy-c'!I96","v":"thomas_atome@hotmail.com"},{"$f":"'Réponses au formulaire - copy-c'!J96","v":"43 rue du président loubet"},{"$f":"'Réponses au formulaire - copy-c'!K96","v":764840623},"-",{"$f":"'Réponses au formulaire - copy-c'!O96","v":"Les deux dates sont possibles"},"Les deux",{"$f":"'Réponses au formulaire - copy-c'!Q96","v":"Navire et fort"},"Navire et fort",{"$f":"'Réponses au formulaire - copy-c'!P96","v":"Pur PJ"},"Pur PJ"]
[{"$f":"DATE(YEAR('Réponses au formulaire - copy-c'!A97), MONTH('Réponses au formulaire - copy-c'!A97), DAY('Réponses au formulaire - copy-c'!A97))","v":"2024-07-25"},{"$f":"'Réponses au formulaire - copy-c'!E97","v":"Blanchard Quentin"},{"$f":"'Réponses au formulaire - copy-c'!F97","v":"Quentin"},{"$f":"'Réponses au formulaire - copy-c'!H97","v":"H"},{"$f":"IFERROR(INT((DATEVALUE(TODAY())-DATEVALUE(TRIM('Réponses au formulaire - copy-c'!L97)))/365), \"?\")","v":32},32,"#N/A",null,{"$f":"'Réponses au formulaire - copy-c'!I97","v":"blanchard.quentin1@gmail.com"},{"$f":"'Réponses au formulaire - copy-c'!J97","v":"9 place des sorbiers 91560 crosne"},{"$f":"'Réponses au formulaire - copy-c'!K97","v":"0676788950"},"-",{"$f":"'Réponses au formulaire - copy-c'!O97","v":"13 et 14 septembre 2025"},"septembre",{"$f":"'Réponses au formulaire - copy-c'!Q97","v":"Navire et fort"},"Navire et fort",{"$f":"'Réponses au formulaire - copy-c'!P97","v":"PJ/PNJ (il s'agit d'un moment du GN, le reste du temps tu joues ton perso. Cela concerne le fort))"},"PJ+PNJ"]
[{"$f":"DATE(YEAR('Réponses au formulaire - copy-c'!A98), MONTH('Réponses au formulaire - copy-c'!A98), DAY('Réponses au formulaire - copy-c'!A98))","v":"2024-07-25"},{"$f":"'Réponses au formulaire - copy-c'!E98","v":"Maestracci"},{"$f":"'Réponses au formulaire - copy-c'!F98","v":"Céline"},{"$f":"'Réponses au formulaire - copy-c'!H98","v":"F"},{"$f":"IFERROR(INT((DATEVALUE(TODAY())-DATEVALUE(TRIM('Réponses au formulaire - copy-c'!L98)))/365), \"?\")","v":39},"#N/A",39,null,{"$f":"'Réponses au formulaire - copy-c'!I98","v":"celine.gulby.1@gmail.com"},{"$f":"'Réponses au formulaire - copy-c'!J98","v":"119 Rue de Verdun"},{"$f":"'Réponses au formulaire - copy-c'!K98","v":"0688579737"},"-",{"$f":"'Réponses au formulaire - copy-c'!O98","v":"7 et 8 juin 2025"},"juin",{"$f":"'Réponses au formulaire - copy-c'!Q98","v":"Navire et fort"},"Navire et fort",{"$f":"'Réponses au formulaire - copy-c'!P98","v":"Pur PJ, PJ/PNJ (il s'agit d'un moment du GN, le reste du temps tu joues ton perso. Cela concerne le fort))"},"PJ+PNJ"]
[{"$f":"DATE(YEAR('Réponses au formulaire - copy-c'!A99), MONTH('Réponses au formulaire - copy-c'!A99), DAY('Réponses au formulaire - copy-c'!A99))","v":"2024-07-25"},{"$f":"'Réponses au formulaire - copy-c'!E99","v":"BRANDELY"},{"$f":"'Réponses au formulaire - copy-c'!F99","v":"Guillaume"},{"$f":"'Réponses au formulaire - copy-c'!H99","v":"H"},{"$f":"IFERROR(INT((DATEVALUE(TODAY())-DATEVALUE(TRIM('Réponses au formulaire - copy-c'!L99)))/365), \"?\")","v":51},51,"#N/A",null,{"$f":"'Réponses au formulaire - copy-c'!I99","v":"yom@mythoz.org"},{"$f":"'Réponses au formulaire - copy-c'!J99","v":"3 rue du Château, 31380 Montastruc-la-conseillère"},{"$f":"'Réponses au formulaire - copy-c'!K99","v":"+33661799673"},"-",{"$f":"'Réponses au formulaire - copy-c'!O99","v":"7 et 8 juin 2025, 13 et 14 septembre 2025, Les deux dates sont possibles"},"Non précisé",{"$f":"'Réponses au formulaire - copy-c'!Q99","v":"Navire et fort"},"Navire et fort",{"$f":"'Réponses au formulaire - copy-c'!P99","v":"Pur PJ"},"Pur PJ"]
[{"$f":"DATE(YEAR('Réponses au formulaire - copy-c'!A100), MONTH('Réponses au formulaire - copy-c'!A100), DAY('Réponses au formulaire - copy-c'!A100))","v":"2024-07-26"},{"$f":"'Réponses au formulaire - copy-c'!E100","v":"Birat "},{"$f":"'Réponses au formulaire - copy-c'!F100","v":"Stéphanie "},{"$f":"'Réponses au formulaire - copy-c'!H100","v":"F"},{"$f":"IFERROR(INT((DATEVALUE(TODAY())-DATEVALUE(TRIM('Réponses au formulaire - copy-c'!L100)))/365), \"?\")","v":35},"#N/A",35,null,{"$f":"'Réponses au formulaire - copy-c'!I100","v":"birat.stephanie@gmail.com"},{"$f":"'Réponses au formulaire - copy-c'!J100","v":"14 rue de Lorraine 16800 Soyaux"},{"$f":"'Réponses au formulaire - copy-c'!K100","v":695850677},"-",{"$f":"'Réponses au formulaire - copy-c'!O100","v":"13 et 14 septembre 2025"},"septembre",{"$f":"'Réponses au formulaire - copy-c'!Q100","v":"Navire et fort"},"Navire et fort",{"$f":"'Réponses au formulaire - copy-c'!P100","v":"PJ/PNJ (il s'agit d'un moment du GN, le reste du temps tu joues ton perso. Cela concerne le fort))"},"PJ+PNJ"]
[{"$f":"DATE(YEAR('Réponses au formulaire - copy-c'!A101), MONTH('Réponses au formulaire - copy-c'!A101), DAY('Réponses au formulaire - copy-c'!A101))","v":"2024-07-27"},{"$f":"'Réponses au formulaire - copy-c'!E101","v":"Wolfrum "},{"$f":"'Réponses au formulaire - copy-c'!F101","v":"Lisa"},{"$f":"'Réponses au formulaire - copy-c'!H101","v":"F"},{"$f":"IFERROR(INT((DATEVALUE(TODAY())-DATEVALUE(TRIM('Réponses au formulaire - copy-c'!L101)))/365), \"?\")","v":31},"#N/A",31,null,{"$f":"'Réponses au formulaire - copy-c'!I101","v":"lisa.wolfrum@gmail.com"},{"$f":"'Réponses au formulaire - copy-c'!J101","v":"Clos des Oliviers 26110 Vinsobres"},{"$f":"'Réponses au formulaire - copy-c'!K101","v":"0606506988"},"-",{"$f":"'Réponses au formulaire - copy-c'!O101","v":"13 et 14 septembre 2025"},"septembre",{"$f":"'Réponses au formulaire - copy-c'!Q101","v":"Navire et fort"},"Navire et fort",{"$f":"'Réponses au formulaire - copy-c'!P101","v":"Pur PJ"},"Pur PJ"]
[{"$f":"DATE(YEAR('Réponses au formulaire - copy-c'!A102), MONTH('Réponses au formulaire - copy-c'!A102), DAY('Réponses au formulaire - copy-c'!A102))","v":"2024-08-04"},{"$f":"'Réponses au formulaire - copy-c'!E102","v":"Lafosse"},{"$f":"'Réponses au formulaire - copy-c'!F102","v":"Candice"},{"$f":"'Réponses au formulaire - copy-c'!H102","v":"F"},{"$f":"IFERROR(INT((DATEVALUE(TODAY())-DATEVALUE(TRIM('Réponses au formulaire - copy-c'!L102)))/365), \"?\")","v":51},"#N/A",51,null,{"$f":"'Réponses au formulaire - copy-c'!I102","v":"candice.lafosse@gmail.com"},{"$f":"'Réponses au formulaire - copy-c'!J102","v":"240 boulevard Voltaire 75011 Paris"},{"$f":"'Réponses au formulaire - copy-c'!K102","v":"0613046704"},"-",{"$f":"'Réponses au formulaire - copy-c'!O102","v":"7 et 8 juin 2025"},"juin",{"$f":"'Réponses au formulaire - copy-c'!Q102","v":"Navire et fort"},"Navire et fort",{"$f":"'Réponses au formulaire - copy-c'!P102","v":"Pur PJ"},"Pur PJ"]
[{"$f":"DATE(YEAR('Réponses au formulaire - copy-c'!A103), MONTH('Réponses au formulaire - copy-c'!A103), DAY('Réponses au formulaire - copy-c'!A103))","v":"2024-08-24"},{"$f":"'Réponses au formulaire - copy-c'!E103","v":"Villalonga"},{"$f":"'Réponses au formulaire - copy-c'!F103","v":"Cyril"},{"$f":"'Réponses au formulaire - copy-c'!H103","v":"H"},{"$f":"IFERROR(INT((DATEVALUE(TODAY())-DATEVALUE(TRIM('Réponses au formulaire - copy-c'!L103)))/365), \"?\")","v":50},50,"#N/A",null,{"$f":"'Réponses au formulaire - copy-c'!I103","v":"cyril.villalonga@gmail.com"},{"$f":"'Réponses au formulaire - copy-c'!J103","v":"80B vieux chemin des figons 13510 Eguilles"},{"$f":"'Réponses au formulaire - copy-c'!K103","v":"0603100681"},"-",{"$f":"'Réponses au formulaire - copy-c'!O103","v":"7 et 8 juin 2025"},"juin",{"$f":"'Réponses au formulaire - copy-c'!Q103","v":"Navire et fort"},"Navire et fort",{"$f":"'Réponses au formulaire - copy-c'!P103","v":"Pur PJ"},"Pur PJ"]
[{"$f":"DATE(YEAR('Réponses au formulaire - copy-c'!A104), MONTH('Réponses au formulaire - copy-c'!A104), DAY('Réponses au formulaire - copy-c'!A104))","v":"2024-09-05"},{"$f":"'Réponses au formulaire - copy-c'!E104","v":"Lallier"},{"$f":"'Réponses au formulaire - copy-c'!F104","v":"Olivier"},{"$f":"'Réponses au formulaire - copy-c'!H104","v":"H"},{"$f":"IFERROR(INT((DATEVALUE(TODAY())-DATEVALUE(TRIM('Réponses au formulaire - copy-c'!L104)))/365), \"?\")","v":51},51,"#N/A",null,{"$f":"'Réponses au formulaire - copy-c'!I104","v":"olivier.lallier@gmail.com"},{"$f":"'Réponses au formulaire - copy-c'!J104","v":"46 rue du laurencon 77600 conches"},{"$f":"'Réponses au formulaire - copy-c'!K104","v":"0627213127"},"-",{"$f":"'Réponses au formulaire - copy-c'!O104","v":"7 et 8 juin 2025"},"juin",{"$f":"'Réponses au formulaire - copy-c'!Q104","v":"Navire et fort, peu importe (si tu as une préférence, coche cette case et ta préférence)"},"Peu importe",{"$f":"'Réponses au formulaire - copy-c'!P104","v":"Pur PJ, PJ/PNJ (il s'agit d'un moment du GN, le reste du temps tu joues ton perso. Cela concerne le fort))"},"PJ+PNJ"]
[{"$f":"DATE(YEAR('Réponses au formulaire - copy-c'!A105), MONTH('Réponses au formulaire - copy-c'!A105), DAY('Réponses au formulaire - copy-c'!A105))","v":"2024-09-05"},{"$f":"'Réponses au formulaire - copy-c'!E105","v":"Lefebvre "},{"$f":"'Réponses au formulaire - copy-c'!F105","v":"Gregoire "},{"$f":"'Réponses au formulaire - copy-c'!H105","v":"H"},{"$f":"IFERROR(INT((DATEVALUE(TODAY())-DATEVALUE(TRIM('Réponses au formulaire - copy-c'!L105)))/365), \"?\")","v":51},51,"#N/A",null,{"$f":"'Réponses au formulaire - copy-c'!I105","v":"gregoire.lefebvre38@gmail.com"},{"$f":"'Réponses au formulaire - copy-c'!J105","v":"85 rue Saint Marc Orléans "},{"$f":"'Réponses au formulaire - copy-c'!K105","v":"0615337655"},"-",{"$f":"'Réponses au formulaire - copy-c'!O105","v":"7 et 8 juin 2025"},"juin",{"$f":"'Réponses au formulaire - copy-c'!Q105","v":"peu importe (si tu as une préférence, coche cette case et ta préférence)"},"Peu importe",{"$f":"'Réponses au formulaire - copy-c'!P105","v":"PJ/PNJ (il s'agit d'un moment du GN, le reste du temps tu joues ton perso. Cela concerne le fort))"},"PJ+PNJ"]
[{"$f":"DATE(YEAR('Réponses au formulaire - copy-c'!A106), MONTH('Réponses au formulaire - copy-c'!A106), DAY('Réponses au formulaire - copy-c'!A106))","v":"2024-09-06"},{"$f":"'Réponses au formulaire - copy-c'!E106","v":"Vadot"},{"$f":"'Réponses au formulaire - copy-c'!F106","v":"Pauline"},{"$f":"'Réponses au formulaire - copy-c'!H106","v":"F"},{"$f":"IFERROR(INT((DATEVALUE(TODAY())-DATEVALUE(TRIM('Réponses au formulaire - copy-c'!L106)))/365), \"?\")","v":20},"#N/A",20,null,{"$f":"'Réponses au formulaire - copy-c'!I106","v":"pbm.vadot@gmail.com"},{"$f":"'Réponses au formulaire - copy-c'!J106","v":"42 rue des Péjoces Dijon"},{"$f":"'Réponses au formulaire - copy-c'!K106","v":"0782744346"},"-",{"$f":"'Réponses au formulaire - copy-c'!O106","v":"7 et 8 juin 2025"},"juin",{"$f":"'Réponses au formulaire - copy-c'!Q106","v":"Navire et fort"},"Navire et fort",{"$f":"'Réponses au formulaire - copy-c'!P106","v":"PJ/PNJ (il s'agit d'un moment du GN, le reste du temps tu joues ton perso. Cela concerne le fort))"},"PJ+PNJ"]
[{"$f":"DATE(YEAR('Réponses au formulaire - copy-c'!A107), MONTH('Réponses au formulaire - copy-c'!A107), DAY('Réponses au formulaire - copy-c'!A107))","v":"2024-09-07"},{"$f":"'Réponses au formulaire - copy-c'!E107","v":"Abbé"},{"$f":"'Réponses au formulaire - copy-c'!F107","v":"Valentin "},{"$f":"'Réponses au formulaire - copy-c'!H107","v":"H"},{"$f":"IFERROR(INT((DATEVALUE(TODAY())-DATEVALUE(TRIM('Réponses au formulaire - copy-c'!L107)))/365), \"?\")","v":31},31,"#N/A",null,{"$f":"'Réponses au formulaire - copy-c'!I107","v":"abbe.valentin@gmail.com"},{"$f":"'Réponses au formulaire - copy-c'!J107","v":"187A rue de la Touviere 74540 Saint-Felix"},{"$f":"'Réponses au formulaire - copy-c'!K107","v":"0621641087"},"-",{"$f":"'Réponses au formulaire - copy-c'!O107","v":"7 et 8 juin 2025"},"juin",{"$f":"'Réponses au formulaire - copy-c'!Q107","v":"Seulement au fort"},"Seulement au fort",{"$f":"'Réponses au formulaire - copy-c'!P107","v":"Pur PJ"},"Pur PJ"]
[{"$f":"DATE(YEAR('Réponses au formulaire - copy-c'!A108), MONTH('Réponses au formulaire - copy-c'!A108), DAY('Réponses au formulaire - copy-c'!A108))","v":"2024-09-08"},{"$f":"'Réponses au formulaire - copy-c'!E108","v":"grunemwald"},{"$f":"'Réponses au formulaire - copy-c'!F108","v":"thomas"},{"$f":"'Réponses au formulaire - copy-c'!H108","v":"H"},{"$f":"IFERROR(INT((DATEVALUE(TODAY())-DATEVALUE(TRIM('Réponses au formulaire - copy-c'!L108)))/365), \"?\")","v":50},50,"#N/A",null,{"$f":"'Réponses au formulaire - copy-c'!I108","v":"virtualthomas@yahoo.fr"},{"$f":"'Réponses au formulaire - copy-c'!J108","v":"88 RUE DE LA FOLIE MERICOURT"},{"$f":"'Réponses au formulaire - copy-c'!K108","v":"0630609519"},"-",{"$f":"'Réponses au formulaire - copy-c'!O108","v":"7 et 8 juin 2025"},"juin",{"$f":"'Réponses au formulaire - copy-c'!Q108","v":"Navire et fort"},"Navire et fort",{"$f":"'Réponses au formulaire - copy-c'!P108","v":"Pur PJ"},"Pur PJ"]
[{"$f":"DATE(YEAR('Réponses au formulaire - copy-c'!A109), MONTH('Réponses au formulaire - copy-c'!A109), DAY('Réponses au formulaire - copy-c'!A109))","v":"2024-09-09"},{"$f":"'Réponses au formulaire - copy-c'!E109","v":"Nicolet"},{"$f":"'Réponses au formulaire - copy-c'!F109","v":"Robin"},{"$f":"'Réponses au formulaire - copy-c'!H109","v":"H"},{"$f":"IFERROR(INT((DATEVALUE(TODAY())-DATEVALUE(TRIM('Réponses au formulaire - copy-c'!L109)))/365), \"?\")","v":34},34,"#N/A",null,{"$f":"'Réponses au formulaire - copy-c'!I109","v":"robin.nicolet@gadz.org"},{"$f":"'Réponses au formulaire - copy-c'!J109","v":"6 impasse des Lavandes 13700 Marignane"},{"$f":"'Réponses au formulaire - copy-c'!K109","v":"0615493964"},"-",{"$f":"'Réponses au formulaire - copy-c'!O109","v":"7 et 8 juin 2025"},"juin",{"$f":"'Réponses au formulaire - copy-c'!Q109","v":"Navire et fort"},"Navire et fort",{"$f":"'Réponses au formulaire - copy-c'!P109","v":"Pur PJ"},"Pur PJ"]
[{"$f":"DATE(YEAR('Réponses au formulaire - copy-c'!A110), MONTH('Réponses au formulaire - copy-c'!A110), DAY('Réponses au formulaire - copy-c'!A110))","v":"2024-09-09"},{"$f":"'Réponses au formulaire - copy-c'!E110","v":"Guex"},{"$f":"'Réponses au formulaire - copy-c'!F110","v":"Benjamin"},{"$f":"'Réponses au formulaire - copy-c'!H110","v":"H"},{"$f":"IFERROR(INT((DATEVALUE(TODAY())-DATEVALUE(TRIM('Réponses au formulaire - copy-c'!L110)))/365), \"?\")","v":33},33,"#N/A",null,{"$f":"'Réponses au formulaire - copy-c'!I110","v":"benji91@netplus.ch"},{"$f":"'Réponses au formulaire - copy-c'!J110","v":"Ch. de la Rasse 17, 1921 Martigny-Croix, Suisse"},{"$f":"'Réponses au formulaire - copy-c'!K110","v":"+41792687562"},"-",{"$f":"'Réponses au formulaire - copy-c'!O110","v":"7 et 8 juin 2025"},"juin",{"$f":"'Réponses au formulaire - copy-c'!Q110","v":"Navire et fort"},"Navire et fort",{"$f":"'Réponses au formulaire - copy-c'!P110","v":"Pur PJ, PJ/PNJ (il s'agit d'un moment du GN, le reste du temps tu joues ton perso. Cela concerne le fort))"},"PJ+PNJ"]
[{"$f":"DATE(YEAR('Réponses au formulaire - copy-c'!A111), MONTH('Réponses au formulaire - copy-c'!A111), DAY('Réponses au formulaire - copy-c'!A111))","v":"2024-09-13"},{"$f":"'Réponses au formulaire - copy-c'!E111","v":"Bouhedja "},{"$f":"'Réponses au formulaire - copy-c'!F111","v":"Nawel"},{"$f":"'Réponses au formulaire - copy-c'!H111","v":"F"},{"$f":"IFERROR(INT((DATEVALUE(TODAY())-DATEVALUE(TRIM('Réponses au formulaire - copy-c'!L111)))/365), \"?\")","v":46},"#N/A",46,null,{"$f":"'Réponses au formulaire - copy-c'!I111","v":"nawelbouhedja2000@gmail.com"},{"$f":"'Réponses au formulaire - copy-c'!J111","v":"2A rue de Cernay 95130 Franconville "},{"$f":"'Réponses au formulaire - copy-c'!K111","v":"0650643633"},"-",{"$f":"'Réponses au formulaire - copy-c'!O111","v":"7 et 8 juin 2025"},"juin",{"$f":"'Réponses au formulaire - copy-c'!Q111","v":"Navire et fort"},"Navire et fort",{"$f":"'Réponses au formulaire - copy-c'!P111","v":"Pur PJ"},"Pur PJ"]
[{"$f":"DATE(YEAR('Réponses au formulaire - copy-c'!A112), MONTH('Réponses au formulaire - copy-c'!A112), DAY('Réponses au formulaire - copy-c'!A112))","v":"2024-09-14"},{"$f":"'Réponses au formulaire - copy-c'!E112","v":"Besnard"},{"$f":"'Réponses au formulaire - copy-c'!F112","v":"Audrey"},{"$f":"'Réponses au formulaire - copy-c'!H112","v":"F"},{"$f":"IFERROR(INT((DATEVALUE(TODAY())-DATEVALUE(TRIM('Réponses au formulaire - copy-c'!L112)))/365), \"?\")","v":37},"#N/A",37,null,{"$f":"'Réponses au formulaire - copy-c'!I112","v":"besnardau@gmail.com"},{"$f":"'Réponses au formulaire - copy-c'!J112","v":"7 rue Christian Dewet, 75012 Paris"},{"$f":"'Réponses au formulaire - copy-c'!K112","v":"0678718660"},"-",{"$f":"'Réponses au formulaire - copy-c'!O112","v":"Les deux dates sont possibles"},"Les deux",{"$f":"'Réponses au formulaire - copy-c'!Q112","v":"Navire et fort"},"Navire et fort",{"$f":"'Réponses au formulaire - copy-c'!P112","v":"Pur PJ"},"Pur PJ"]
[{"$f":"DATE(YEAR('Réponses au formulaire - copy-c'!A113), MONTH('Réponses au formulaire - copy-c'!A113), DAY('Réponses au formulaire - copy-c'!A113))","v":"2024-09-14"},{"$f":"'Réponses au formulaire - copy-c'!E113","v":"Richet "},{"$f":"'Réponses au formulaire - copy-c'!F113","v":"Bruno"},{"$f":"'Réponses au formulaire - copy-c'!H113","v":"H"},{"$f":"IFERROR(INT((DATEVALUE(TODAY())-DATEVALUE(TRIM('Réponses au formulaire - copy-c'!L113)))/365), \"?\")","v":51},51,"#N/A",null,{"$f":"'Réponses au formulaire - copy-c'!I113","v":"macfly.bruno@gmail.com"},{"$f":"'Réponses au formulaire - copy-c'!J113","v":"30 avenue de la gare "},{"$f":"'Réponses au formulaire - copy-c'!K113","v":"0660745209"},"-",{"$f":"'Réponses au formulaire - copy-c'!O113","v":"13 et 14 septembre 2025, Les deux dates sont possibles"},"Non précisé",{"$f":"'Réponses au formulaire - copy-c'!Q113","v":"Navire et fort"},"Navire et fort",{"$f":"'Réponses au formulaire - copy-c'!P113","v":"Pur PJ"},"Pur PJ"]
[{"$f":"DATE(YEAR('Réponses au formulaire - copy-c'!A114), MONTH('Réponses au formulaire - copy-c'!A114), DAY('Réponses au formulaire - copy-c'!A114))","v":"2024-09-16"},{"$f":"'Réponses au formulaire - copy-c'!E114","v":"Picq"},{"$f":"'Réponses au formulaire - copy-c'!F114","v":"Dylan"},{"$f":"'Réponses au formulaire - copy-c'!H114","v":"H"},{"$f":"IFERROR(INT((DATEVALUE(TODAY())-DATEVALUE(TRIM('Réponses au formulaire - copy-c'!L114)))/365), \"?\")","v":34},34,"#N/A",null,{"$f":"'Réponses au formulaire - copy-c'!I114","v":"dylanp.yg@live.fr"},{"$f":"'Réponses au formulaire - copy-c'!J114","v":"6 impasse Laurendon 33000 Bordeaux"},{"$f":"'Réponses au formulaire - copy-c'!K114","v":"0680536919"},"-",{"$f":"'Réponses au formulaire - copy-c'!O114","v":"7 et 8 juin 2025"},"juin",{"$f":"'Réponses au formulaire - copy-c'!Q114","v":"Seulement au fort"},"Seulement au fort",{"$f":"'Réponses au formulaire - copy-c'!P114","v":"Pur PJ, PJ/PNJ (il s'agit d'un moment du GN, le reste du temps tu joues ton perso. Cela concerne le fort))"},"PJ+PNJ"]
[{"$f":"DATE(YEAR('Réponses au formulaire - copy-c'!A115), MONTH('Réponses au formulaire - copy-c'!A115), DAY('Réponses au formulaire - copy-c'!A115))","v":"2024-09-16"},{"$f":"'Réponses au formulaire - copy-c'!E115","v":"Dejarnac "},{"$f":"'Réponses au formulaire - copy-c'!F115","v":"Pierre "},{"$f":"'Réponses au formulaire - copy-c'!H115","v":"H"},{"$f":"IFERROR(INT((DATEVALUE(TODAY())-DATEVALUE(TRIM('Réponses au formulaire - copy-c'!L115)))/365), \"?\")","v":37},37,"#N/A",null,{"$f":"'Réponses au formulaire - copy-c'!I115","v":"pierre.dejarnac@gmail.com"},{"$f":"'Réponses au formulaire - copy-c'!J115","v":"222 rue de Suzon\nRésidence le Voltaire appt 256"},{"$f":"'Réponses au formulaire - copy-c'!K115","v":"0610366894"},"-",{"$f":"'Réponses au formulaire - copy-c'!O115","v":"7 et 8 juin 2025"},"juin",{"$f":"'Réponses au formulaire - copy-c'!Q115","v":"Navire et fort, peu importe (si tu as une préférence, coche cette case et ta préférence)"},"Peu importe",{"$f":"'Réponses au formulaire - copy-c'!P115","v":"Pur PJ"},"Pur PJ"]
[{"$f":"DATE(YEAR('Réponses au formulaire - copy-c'!A116), MONTH('Réponses au formulaire - copy-c'!A116), DAY('Réponses au formulaire - copy-c'!A116))","v":"2024-09-16"},{"$f":"'Réponses au formulaire - copy-c'!E116","v":"Sempéré"},{"$f":"'Réponses au formulaire - copy-c'!F116","v":"Lionel"},{"$f":"'Réponses au formulaire - copy-c'!H116","v":"H"},{"$f":"IFERROR(INT((DATEVALUE(TODAY())-DATEVALUE(TRIM('Réponses au formulaire - copy-c'!L116)))/365), \"?\")","v":36},36,"#N/A",null,{"$f":"'Réponses au formulaire - copy-c'!I116","v":"semplio@hotmail.fr"},{"$f":"'Réponses au formulaire - copy-c'!J116","v":"12 rue d'Arcachon 31200 Toulouse"},{"$f":"'Réponses au formulaire - copy-c'!K116","v":"0687966454"},"-",{"$f":"'Réponses au formulaire - copy-c'!O116","v":"7 et 8 juin 2025"},"juin",{"$f":"'Réponses au formulaire - copy-c'!Q116","v":"Seulement au fort"},"Seulement au fort",{"$f":"'Réponses au formulaire - copy-c'!P116","v":"Pur PJ, PJ/PNJ (il s'agit d'un moment du GN, le reste du temps tu joues ton perso. Cela concerne le fort))"},"PJ+PNJ"]
[{"$f":"DATE(YEAR('Réponses au formulaire - copy-c'!A117), MONTH('Réponses au formulaire - copy-c'!A117), DAY('Réponses au formulaire - copy-c'!A117))","v":"2024-09-18"},{"$f":"'Réponses au formulaire - copy-c'!E117","v":"Testard "},{"$f":"'Réponses au formulaire - copy-c'!F117","v":"Soline "},{"$f":"'Réponses au formulaire - copy-c'!H117","v":"F"},{"$f":"IFERROR(INT((DATEVALUE(TODAY())-DATEVALUE(TRIM('Réponses au formulaire - copy-c'!L117)))/365), \"?\")","v":34},"#N/A",34,null,{"$f":"'Réponses au formulaire - copy-c'!I117","v":"tsoline30@gmail.com"},{"$f":"'Réponses au formulaire - copy-c'!J117","v":"101 chemin des hauts de St Joseph 30130 Pont-saint-esprit "},{"$f":"'Réponses au formulaire - copy-c'!K117","v":760113818},"-",{"$f":"'Réponses au formulaire - copy-c'!O117","v":"Les deux dates sont possibles"},"Les deux",{"$f":"'Réponses au formulaire - copy-c'!Q117","v":"Navire et fort"},"Navire et fort",{"$f":"'Réponses au formulaire - copy-c'!P117","v":"Pur PJ, PJ/PNJ (il s'agit d'un moment du GN, le reste du temps tu joues ton perso. Cela concerne le fort))"},"PJ+PNJ"]
[{"$f":"DATE(YEAR('Réponses au formulaire - copy-c'!A118), MONTH('Réponses au formulaire - copy-c'!A118), DAY('Réponses au formulaire - copy-c'!A118))","v":"2024-09-18"},{"$f":"'Réponses au formulaire - copy-c'!E118","v":"Chapelon "},{"$f":"'Réponses au formulaire - copy-c'!F118","v":"Romain "},{"$f":"'Réponses au formulaire - copy-c'!H118","v":"H"},{"$f":"IFERROR(INT((DATEVALUE(TODAY())-DATEVALUE(TRIM('Réponses au formulaire - copy-c'!L118)))/365), \"?\")","v":30},30,"#N/A",null,{"$f":"'Réponses au formulaire - copy-c'!I118","v":"romain.chapelon@gmail.com"},{"$f":"'Réponses au formulaire - copy-c'!J118","v":"43 rue du 19 mars 1962 30130 Pont Saint Esprit "},{"$f":"'Réponses au formulaire - copy-c'!K118","v":632456597},"-",{"$f":"'Réponses au formulaire - copy-c'!O118","v":"Les deux dates sont possibles"},"Les deux",{"$f":"'Réponses au formulaire - copy-c'!Q118","v":"peu importe (si tu as une préférence, coche cette case et ta préférence)"},"Peu importe",{"$f":"'Réponses au formulaire - copy-c'!P118","v":"Pur PJ"},"Pur PJ"]
[{"$f":"DATE(YEAR('Réponses au formulaire - copy-c'!A119), MONTH('Réponses au formulaire - copy-c'!A119), DAY('Réponses au formulaire - copy-c'!A119))","v":"2024-09-18"},{"$f":"'Réponses au formulaire - copy-c'!E119","v":"Jegonday "},{"$f":"'Réponses au formulaire - copy-c'!F119","v":"Xavier"},{"$f":"'Réponses au formulaire - copy-c'!H119","v":"H"},{"$f":"IFERROR(INT((DATEVALUE(TODAY())-DATEVALUE(TRIM('Réponses au formulaire - copy-c'!L119)))/365), \"?\")","v":32},32,"#N/A",null,{"$f":"'Réponses au formulaire - copy-c'!I119","v":"Xavier.jegonday@hotmail.fr"},{"$f":"'Réponses au formulaire - copy-c'!J119","v":"1 avenue Paul Langevin\nAppartement 59"},{"$f":"'Réponses au formulaire - copy-c'!K119","v":"0786189956"},"-",{"$f":"'Réponses au formulaire - copy-c'!O119","v":"Les deux dates sont possibles"},"Les deux",{"$f":"'Réponses au formulaire - copy-c'!Q119","v":"Navire et fort"},"Navire et fort",{"$f":"'Réponses au formulaire - copy-c'!P119","v":"Pur PJ"},"Pur PJ"]
[{"$f":"DATE(YEAR('Réponses au formulaire - copy-c'!A120), MONTH('Réponses au formulaire - copy-c'!A120), DAY('Réponses au formulaire - copy-c'!A120))","v":"2024-09-18"},{"$f":"'Réponses au formulaire - copy-c'!E120","v":"Bonfy"},{"$f":"'Réponses au formulaire - copy-c'!F120","v":"Amélia "},{"$f":"'Réponses au formulaire - copy-c'!H120","v":"F"},{"$f":"IFERROR(INT((DATEVALUE(TODAY())-DATEVALUE(TRIM('Réponses au formulaire - copy-c'!L120)))/365), \"?\")","v":31},"#N/A",31,null,{"$f":"'Réponses au formulaire - copy-c'!I120","v":"Amelia.Bonfy@gmail.com"},{"$f":"'Réponses au formulaire - copy-c'!J120","v":"14 rue André thomé 30200 Bagnols-sur-cèze "},{"$f":"'Réponses au formulaire - copy-c'!K120","v":681619704},"-",{"$f":"'Réponses au formulaire - copy-c'!O120","v":"Les deux dates sont possibles"},"Les deux",{"$f":"'Réponses au formulaire - copy-c'!Q120","v":"Navire et fort"},"Navire et fort",{"$f":"'Réponses au formulaire - copy-c'!P120","v":"Pur PJ"},"Pur PJ"]
[{"$f":"DATE(YEAR('Réponses au formulaire - copy-c'!A121), MONTH('Réponses au formulaire - copy-c'!A121), DAY('Réponses au formulaire - copy-c'!A121))","v":"2024-09-18"},{"$f":"'Réponses au formulaire - copy-c'!E121","v":"Chamontin"},{"$f":"'Réponses au formulaire - copy-c'!F121","v":"Florian"},{"$f":"'Réponses au formulaire - copy-c'!H121","v":"H"},{"$f":"IFERROR(INT((DATEVALUE(TODAY())-DATEVALUE(TRIM('Réponses au formulaire - copy-c'!L121)))/365), \"?\")","v":29},29,"#N/A",null,{"$f":"'Réponses au formulaire - copy-c'!I121","v":"chamontinflorian@hotmail.fr"},{"$f":"'Réponses au formulaire - copy-c'!J121","v":"21 rue des coquelicots 26700 Pierrelatte"},{"$f":"'Réponses au formulaire - copy-c'!K121","v":"0604422064"},"-",{"$f":"'Réponses au formulaire - copy-c'!O121","v":"Les deux dates sont possibles"},"Les deux",{"$f":"'Réponses au formulaire - copy-c'!Q121","v":"Navire et fort"},"Navire et fort",{"$f":"'Réponses au formulaire - copy-c'!P121","v":"Pur PJ"},"Pur PJ"]
[{"$f":"DATE(YEAR('Réponses au formulaire - copy-c'!A122), MONTH('Réponses au formulaire - copy-c'!A122), DAY('Réponses au formulaire - copy-c'!A122))","v":"2024-09-20"},{"$f":"'Réponses au formulaire - copy-c'!E122","v":"Mayor "},{"$f":"'Réponses au formulaire - copy-c'!F122","v":"Tom Bonaventure "},{"$f":"'Réponses au formulaire - copy-c'!H122","v":"H"},{"$f":"IFERROR(INT((DATEVALUE(TODAY())-DATEVALUE(TRIM('Réponses au formulaire - copy-c'!L122)))/365), \"?\")","v":27},27,"#N/A",null,{"$f":"'Réponses au formulaire - copy-c'!I122","v":"tom.bonaventure.mayor@gmail.com"},{"$f":"'Réponses au formulaire - copy-c'!J122","v":"18 rue Jean-Violette, 1205 Genève "},{"$f":"'Réponses au formulaire - copy-c'!K122","v":"+41 77 268 19 97"},"-",{"$f":"'Réponses au formulaire - copy-c'!O122","v":"Les deux dates sont possibles"},"Les deux",{"$f":"'Réponses au formulaire - copy-c'!Q122","v":"Navire et fort"},"Navire et fort",{"$f":"'Réponses au formulaire - copy-c'!P122","v":"Pur PJ"},"Pur PJ"]
[{"$f":"DATE(YEAR('Réponses au formulaire - copy-c'!A123), MONTH('Réponses au formulaire - copy-c'!A123), DAY('Réponses au formulaire - copy-c'!A123))","v":"2024-09-20"},{"$f":"'Réponses au formulaire - copy-c'!E123","v":"Capitaine"},{"$f":"'Réponses au formulaire - copy-c'!F123","v":"Bobby"},{"$f":"'Réponses au formulaire - copy-c'!H123","v":"H"},{"$f":"IFERROR(INT((DATEVALUE(TODAY())-DATEVALUE(TRIM('Réponses au formulaire - copy-c'!L123)))/365), \"?\")","v":339},339,"#N/A",null,{"$f":"'Réponses au formulaire - copy-c'!I123","v":"scheuber.joachim@gmail.com"},{"$f":"'Réponses au formulaire - copy-c'!J123","v":"246 chemin du Furgou Bas 24560 MONTAUT"},{"$f":"'Réponses au formulaire - copy-c'!K123","v":"0619802857"},"-",{"$f":"'Réponses au formulaire - copy-c'!O123","v":"Les deux dates sont possibles"},"Les deux",{"$f":"'Réponses au formulaire - copy-c'!Q123","v":"Navire et fort"},"Navire et fort",{"$f":"'Réponses au formulaire - copy-c'!P123","v":"PJ/PNJ (il s'agit d'un moment du GN, le reste du temps tu joues ton perso. Cela concerne le fort))"},"PJ+PNJ"]
[{"$f":"DATE(YEAR('Réponses au formulaire - copy-c'!A124), MONTH('Réponses au formulaire - copy-c'!A124), DAY('Réponses au formulaire - copy-c'!A124))","v":"2024-09-20"},{"$f":"'Réponses au formulaire - copy-c'!E124","v":"Tudoux"},{"$f":"'Réponses au formulaire - copy-c'!F124","v":"Charly"},{"$f":"'Réponses au formulaire - copy-c'!H124","v":"H"},{"$f":"IFERROR(INT((DATEVALUE(TODAY())-DATEVALUE(TRIM('Réponses au formulaire - copy-c'!L124)))/365), \"?\")","v":50},50,"#N/A",null,{"$f":"'Réponses au formulaire - copy-c'!I124","v":"cet49@wanadoo.fr"},{"$f":"'Réponses au formulaire - copy-c'!J124","v":"9 rue des hauts prés 49123 Champtocé"},{"$f":"'Réponses au formulaire - copy-c'!K124","v":"0683159265"},"-",{"$f":"'Réponses au formulaire - copy-c'!O124","v":"Les deux dates sont possibles"},"Les deux",{"$f":"'Réponses au formulaire - copy-c'!Q124","v":"peu importe (si tu as une préférence, coche cette case et ta préférence)"},"Peu importe",{"$f":"'Réponses au formulaire - copy-c'!P124","v":"Pur PJ, PJ/PNJ (il s'agit d'un moment du GN, le reste du temps tu joues ton perso. Cela concerne le fort))"},"PJ+PNJ"]
[{"$f":"DATE(YEAR('Réponses au formulaire - copy-c'!A125), MONTH('Réponses au formulaire - copy-c'!A125), DAY('Réponses au formulaire - copy-c'!A125))","v":"2024-09-21"},{"$f":"'Réponses au formulaire - copy-c'!E125","v":"Maréchal"},{"$f":"'Réponses au formulaire - copy-c'!F125","v":"William"},{"$f":"'Réponses au formulaire - copy-c'!H125","v":"H"},{"$f":"IFERROR(INT((DATEVALUE(TODAY())-DATEVALUE(TRIM('Réponses au formulaire - copy-c'!L125)))/365), \"?\")","v":37},37,"#N/A",null,null,{"$f":"'Réponses au formulaire - copy-c'!J125","v":"159 avenue Maurice Utrillo apt 223 95100 Argenteuil"},{"$f":"'Réponses au formulaire - copy-c'!K125","v":"+33679462220"},"-",{"$f":"'Réponses au formulaire - copy-c'!O125","v":"Les deux dates sont possibles"},"Les deux",{"$f":"'Réponses au formulaire - copy-c'!Q125","v":"Navire et fort"},"Navire et fort",{"$f":"'Réponses au formulaire - copy-c'!P125","v":"PJ/PNJ (il s'agit d'un moment du GN, le reste du temps tu joues ton perso. Cela concerne le fort)), PNJ"},"PJ+PNJ"]
[{"$f":"DATE(YEAR('Réponses au formulaire - copy-c'!A126), MONTH('Réponses au formulaire - copy-c'!A126), DAY('Réponses au formulaire - copy-c'!A126))","v":"2024-09-22"},{"$f":"'Réponses au formulaire - copy-c'!E126","v":"Amoureux"},{"$f":"'Réponses au formulaire - copy-c'!F126","v":"Erwan"},{"$f":"'Réponses au formulaire - copy-c'!H126","v":"H"},{"$f":"IFERROR(INT((DATEVALUE(TODAY())-DATEVALUE(TRIM('Réponses au formulaire - copy-c'!L126)))/365), \"?\")","v":"?"},"?","#N/A",null,{"$f":"'Réponses au formulaire - copy-c'!I126","v":"erwan.amoureux@gmail.com"},{"$f":"'Réponses au formulaire - copy-c'!J126","v":"7 rue de belfort"},{"$f":"'Réponses au formulaire - copy-c'!K126","v":"0620489095"},"-",{"$f":"'Réponses au formulaire - copy-c'!O126","v":"13 et 14 septembre 2025"},"septembre",{"$f":"'Réponses au formulaire - copy-c'!Q126","v":"Navire et fort, peu importe (si tu as une préférence, coche cette case et ta préférence)"},"Peu importe",{"$f":"'Réponses au formulaire - copy-c'!P126","v":"PJ/PNJ (il s'agit d'un moment du GN, le reste du temps tu joues ton perso. Cela concerne le fort))"},"PJ+PNJ"]
[{"$f":"DATE(YEAR('Réponses au formulaire - copy-c'!A127), MONTH('Réponses au formulaire - copy-c'!A127), DAY('Réponses au formulaire - copy-c'!A127))","v":"2024-09-22"},{"$f":"'Réponses au formulaire - copy-c'!E127","v":"Vandroux "},{"$f":"'Réponses au formulaire - copy-c'!F127","v":"Karine "},{"$f":"'Réponses au formulaire - copy-c'!H127","v":"F"},{"$f":"IFERROR(INT((DATEVALUE(TODAY())-DATEVALUE(TRIM('Réponses au formulaire - copy-c'!L127)))/365), \"?\")","v":55},"#N/A",55,null,{"$f":"'Réponses au formulaire - copy-c'!I127","v":"kadroux@gmail.com"},{"$f":"'Réponses au formulaire - copy-c'!J127","v":"94210 la varenne st hilaire"},{"$f":"'Réponses au formulaire - copy-c'!K127","v":"0662101693"},"-",{"$f":"'Réponses au formulaire - copy-c'!O127","v":"Les deux dates sont possibles"},"Les deux",{"$f":"'Réponses au formulaire - copy-c'!Q127","v":"Navire et fort"},"Navire et fort",{"$f":"'Réponses au formulaire - copy-c'!P127","v":"PJ/PNJ (il s'agit d'un moment du GN, le reste du temps tu joues ton perso. Cela concerne le fort))"},"PJ+PNJ"]
[{"$f":"DATE(YEAR('Réponses au formulaire - copy-c'!A128), MONTH('Réponses au formulaire - copy-c'!A128), DAY('Réponses au formulaire - copy-c'!A128))","v":"2024-09-23"},{"$f":"'Réponses au formulaire - copy-c'!E128","v":"Supiot"},{"$f":"'Réponses au formulaire - copy-c'!F128","v":"Lara"},{"$f":"'Réponses au formulaire - copy-c'!H128","v":"F"},{"$f":"IFERROR(INT((DATEVALUE(TODAY())-DATEVALUE(TRIM('Réponses au formulaire - copy-c'!L128)))/365), \"?\")","v":134},"#N/A",134,null,{"$f":"'Réponses au formulaire - copy-c'!I128","v":"larasupiot@gmail.com"},{"$f":"'Réponses au formulaire - copy-c'!J128","v":"8 rue de Valenton"},{"$f":"'Réponses au formulaire - copy-c'!K128","v":670468778},"-",{"$f":"'Réponses au formulaire - copy-c'!O128","v":"Les deux dates sont possibles"},"Les deux",{"$f":"'Réponses au formulaire - copy-c'!Q128","v":"Navire et fort"},"Navire et fort",{"$f":"'Réponses au formulaire - copy-c'!P128","v":"PJ/PNJ (il s'agit d'un moment du GN, le reste du temps tu joues ton perso. Cela concerne le fort))"},"PJ+PNJ"]
[{"$f":"DATE(YEAR('Réponses au formulaire - copy-c'!A129), MONTH('Réponses au formulaire - copy-c'!A129), DAY('Réponses au formulaire - copy-c'!A129))","v":"2024-09-25"},{"$f":"'Réponses au formulaire - copy-c'!E129","v":"Réveil"},{"$f":"'Réponses au formulaire - copy-c'!F129","v":"Jean Carly"},{"$f":"'Réponses au formulaire - copy-c'!H129","v":"H"},{"$f":"IFERROR(INT((DATEVALUE(TODAY())-DATEVALUE(TRIM('Réponses au formulaire - copy-c'!L129)))/365), \"?\")","v":28},28,"#N/A",null,{"$f":"'Réponses au formulaire - copy-c'!I129","v":"cest.ticaly@gmail.com"},{"$f":"'Réponses au formulaire - copy-c'!J129","v":"Route du Velodrome 6, 1228 Plan-les-Ouates, Suisse"},{"$f":"'Réponses au formulaire - copy-c'!K129","v":"+41782687980"},"-",{"$f":"'Réponses au formulaire - copy-c'!O129","v":"Les deux dates sont possibles"},"Les deux",{"$f":"'Réponses au formulaire - copy-c'!Q129","v":"Navire et fort"},"Navire et fort",{"$f":"'Réponses au formulaire - copy-c'!P129","v":"Pur PJ"},"Pur PJ"]
[{"$f":"DATE(YEAR('Réponses au formulaire - copy-c'!A130), MONTH('Réponses au formulaire - copy-c'!A130), DAY('Réponses au formulaire - copy-c'!A130))","v":"2024-09-25"},{"$f":"'Réponses au formulaire - copy-c'!E130","v":"PAYEN"},{"$f":"'Réponses au formulaire - copy-c'!F130","v":"Renaud"},{"$f":"'Réponses au formulaire - copy-c'!H130","v":"H"},{"$f":"IFERROR(INT((DATEVALUE(TODAY())-DATEVALUE(TRIM('Réponses au formulaire - copy-c'!L130)))/365), \"?\")","v":46},46,"#N/A",null,{"$f":"'Réponses au formulaire - copy-c'!I130","v":"rpayen@outlook.com"},{"$f":"'Réponses au formulaire - copy-c'!J130","v":"27 rue Victor Recourat, 94170 Le perreux sur Marne"},{"$f":"'Réponses au formulaire - copy-c'!K130","v":""},"-",{"$f":"'Réponses au formulaire - copy-c'!O130","v":"Les deux dates sont possibles"},"Les deux",{"$f":"'Réponses au formulaire - copy-c'!Q130","v":"Navire et fort"},"Navire et fort",{"$f":"'Réponses au formulaire - copy-c'!P130","v":"Pur PJ"},"Pur PJ"]
[{"$f":"DATE(YEAR('Réponses au formulaire - copy-c'!A131), MONTH('Réponses au formulaire - copy-c'!A131), DAY('Réponses au formulaire - copy-c'!A131))","v":"2024-09-29"},{"$f":"'Réponses au formulaire - copy-c'!E131","v":"Maury"},{"$f":"'Réponses au formulaire - copy-c'!F131","v":"Aurélie"},{"$f":"'Réponses au formulaire - copy-c'!H131","v":"F"},{"$f":"IFERROR(INT((DATEVALUE(TODAY())-DATEVALUE(TRIM('Réponses au formulaire - copy-c'!L131)))/365), \"?\")","v":29},"#N/A",29,null,{"$f":"'Réponses au formulaire - copy-c'!I131","v":"riedweg.aurelie@gmail.com"},{"$f":"'Réponses au formulaire - copy-c'!J131","v":"22 route du Vélodrome 1228 Plan les Ouates (CH)"},{"$f":"'Réponses au formulaire - copy-c'!K131","v":"+41797681703"},"-",{"$f":"'Réponses au formulaire - copy-c'!O131","v":"7 et 8 juin 2025"},"juin",{"$f":"'Réponses au formulaire - copy-c'!Q131","v":"Navire et fort"},"Navire et fort",{"$f":"'Réponses au formulaire - copy-c'!P131","v":"Pur PJ"},"Pur PJ"]
[{"$f":"DATE(YEAR('Réponses au formulaire - copy-c'!A132), MONTH('Réponses au formulaire - copy-c'!A132), DAY('Réponses au formulaire - copy-c'!A132))","v":"2024-09-29"},{"$f":"'Réponses au formulaire - copy-c'!E132","v":"Maury"},{"$f":"'Réponses au formulaire - copy-c'!F132","v":"Raphael"},{"$f":"'Réponses au formulaire - copy-c'!H132","v":"H"},{"$f":"IFERROR(INT((DATEVALUE(TODAY())-DATEVALUE(TRIM('Réponses au formulaire - copy-c'!L132)))/365), \"?\")","v":33},33,"#N/A",null,{"$f":"'Réponses au formulaire - copy-c'!I132","v":"raphael.maury@hotmail.com"},{"$f":"'Réponses au formulaire - copy-c'!J132","v":"Route du Vélodrome 22, 1228 Plan-les-Ouates, Suisse"},{"$f":"'Réponses au formulaire - copy-c'!K132","v":"+41 76 496 31 79"},"-",{"$f":"'Réponses au formulaire - copy-c'!O132","v":"7 et 8 juin 2025"},"juin",{"$f":"'Réponses au formulaire - copy-c'!Q132","v":"Navire et fort"},"Navire et fort",{"$f":"'Réponses au formulaire - copy-c'!P132","v":"Pur PJ"},"Pur PJ"]
[{"$f":"DATE(YEAR('Réponses au formulaire - copy-c'!A133), MONTH('Réponses au formulaire - copy-c'!A133), DAY('Réponses au formulaire - copy-c'!A133))","v":"2024-09-29"},{"$f":"'Réponses au formulaire - copy-c'!E133","v":"DANCOT "},{"$f":"'Réponses au formulaire - copy-c'!F133","v":"Olivier "},{"$f":"'Réponses au formulaire - copy-c'!H133","v":"H"},{"$f":"IFERROR(INT((DATEVALUE(TODAY())-DATEVALUE(TRIM('Réponses au formulaire - copy-c'!L133)))/365), \"?\")","v":44},44,"#N/A",null,{"$f":"'Réponses au formulaire - copy-c'!I133","v":"olivier.dancot@hotmail.fr"},{"$f":"'Réponses au formulaire - copy-c'!J133","v":"4 chemin de Lou Jun 33610 Cestas"},{"$f":"'Réponses au formulaire - copy-c'!K133","v":"0625484900"},"-",{"$f":"'Réponses au formulaire - copy-c'!O133","v":"7 et 8 juin 2025"},"juin",{"$f":"'Réponses au formulaire - copy-c'!Q133","v":"Navire et fort"},"Navire et fort",{"$f":"'Réponses au formulaire - copy-c'!P133","v":"Pur PJ, PJ/PNJ (il s'agit d'un moment du GN, le reste du temps tu joues ton perso. Cela concerne le fort))"},"PJ+PNJ"]
[{"$f":"DATE(YEAR('Réponses au formulaire - copy-c'!A134), MONTH('Réponses au formulaire - copy-c'!A134), DAY('Réponses au formulaire - copy-c'!A134))","v":"2024-09-29"},{"$f":"'Réponses au formulaire - copy-c'!E134","v":"Schmid "},{"$f":"'Réponses au formulaire - copy-c'!F134","v":"Priscillia "},{"$f":"'Réponses au formulaire - copy-c'!H134","v":"F"},{"$f":"IFERROR(INT((DATEVALUE(TODAY())-DATEVALUE(TRIM('Réponses au formulaire - copy-c'!L134)))/365), \"?\")","v":38},"#N/A",38,null,{"$f":"'Réponses au formulaire - copy-c'!I134","v":"richerpriscillia@gmail.com"},{"$f":"'Réponses au formulaire - copy-c'!J134","v":"2 allée du mail 33121 carcans "},{"$f":"'Réponses au formulaire - copy-c'!K134","v":"0663055621"},"-",{"$f":"'Réponses au formulaire - copy-c'!O134","v":"7 et 8 juin 2025"},"juin",{"$f":"'Réponses au formulaire - copy-c'!Q134","v":"Navire et fort"},"Navire et fort",{"$f":"'Réponses au formulaire - copy-c'!P134","v":"Pur PJ, PJ/PNJ (il s'agit d'un moment du GN, le reste du temps tu joues ton perso. Cela concerne le fort))"},"PJ+PNJ"]
[{"$f":"DATE(YEAR('Réponses au formulaire - copy-c'!A135), MONTH('Réponses au formulaire - copy-c'!A135), DAY('Réponses au formulaire - copy-c'!A135))","v":"2024-10-09"},{"$f":"'Réponses au formulaire - copy-c'!E135","v":"Mérand"},{"$f":"'Réponses au formulaire - copy-c'!F135","v":"Nicolas"},{"$f":"'Réponses au formulaire - copy-c'!H135","v":"H"},{"$f":"IFERROR(INT((DATEVALUE(TODAY())-DATEVALUE(TRIM('Réponses au formulaire - copy-c'!L135)))/365), \"?\")","v":47},47,"#N/A",null,{"$f":"'Réponses au formulaire - copy-c'!I135","v":"hillgrob@hotmail.com"},{"$f":"'Réponses au formulaire - copy-c'!J135","v":"1 allée du mail, 37600 Ferrière sur Beaulieu"},{"$f":"'Réponses au formulaire - copy-c'!K135","v":"0623412629"},"-",{"$f":"'Réponses au formulaire - copy-c'!O135","v":"7 et 8 juin 2025"},"juin",{"$f":"'Réponses au formulaire - copy-c'!Q135","v":"Navire et fort"},"Navire et fort",{"$f":"'Réponses au formulaire - copy-c'!P135","v":"Pur PJ"},"Pur PJ"]
[{"$f":"DATE(YEAR('Réponses au formulaire - copy-c'!A136), MONTH('Réponses au formulaire - copy-c'!A136), DAY('Réponses au formulaire - copy-c'!A136))","v":"2024-10-11"},{"$f":"'Réponses au formulaire - copy-c'!E136","v":"Garcia-Cotte"},{"$f":"'Réponses au formulaire - copy-c'!F136","v":"Hugo"},{"$f":"'Réponses au formulaire - copy-c'!H136","v":"H"},{"$f":"IFERROR(INT((DATEVALUE(TODAY())-DATEVALUE(TRIM('Réponses au formulaire - copy-c'!L136)))/365), \"?\")","v":37},37,"#N/A",null,{"$f":"'Réponses au formulaire - copy-c'!I136","v":"hugo@garcia-cotte.com"},{"$f":"'Réponses au formulaire - copy-c'!J136","v":"5 rue aux prêtres 77650 Savins"},{"$f":"'Réponses au formulaire - copy-c'!K136","v":"+33698964090"},"-",{"$f":"'Réponses au formulaire - copy-c'!O136","v":"7 et 8 juin 2025, Les deux dates sont possibles"},"Les deux",{"$f":"'Réponses au formulaire - copy-c'!Q136","v":"Navire et fort"},"Navire et fort",{"$f":"'Réponses au formulaire - copy-c'!P136","v":"Pur PJ, PJ/PNJ (il s'agit d'un moment du GN, le reste du temps tu joues ton perso. Cela concerne le fort))"},"PJ+PNJ"]
[{"$f":"DATE(YEAR('Réponses au formulaire - copy-c'!A137), MONTH('Réponses au formulaire - copy-c'!A137), DAY('Réponses au formulaire - copy-c'!A137))","v":"2024-10-11"},{"$f":"'Réponses au formulaire - copy-c'!E137","v":"Secher"},{"$f":"'Réponses au formulaire - copy-c'!F137","v":"Gaël"},{"$f":"'Réponses au formulaire - copy-c'!H137","v":"H"},{"$f":"IFERROR(INT((DATEVALUE(TODAY())-DATEVALUE(TRIM('Réponses au formulaire - copy-c'!L137)))/365), \"?\")","v":30},30,"#N/A",null,{"$f":"'Réponses au formulaire - copy-c'!I137","v":"maitre-chaos@hotmail.fr"},{"$f":"'Réponses au formulaire - copy-c'!J137","v":"15 rue des fougères"},{"$f":"'Réponses au formulaire - copy-c'!K137","v":"0637877378"},"-",{"$f":"'Réponses au formulaire - copy-c'!O137","v":"Les deux dates sont possibles"},"Les deux",{"$f":"'Réponses au formulaire - copy-c'!Q137","v":"Navire et fort"},"Navire et fort",{"$f":"'Réponses au formulaire - copy-c'!P137","v":"Pur PJ, PJ/PNJ (il s'agit d'un moment du GN, le reste du temps tu joues ton perso. Cela concerne le fort))"},"PJ+PNJ"]
[{"$f":"DATE(YEAR('Réponses au formulaire - copy-c'!A138), MONTH('Réponses au formulaire - copy-c'!A138), DAY('Réponses au formulaire - copy-c'!A138))","v":"2024-10-12"},{"$f":"'Réponses au formulaire - copy-c'!E138","v":"Chojnicki"},{"$f":"'Réponses au formulaire - copy-c'!F138","v":"Solenn"},{"$f":"'Réponses au formulaire - copy-c'!H138","v":"F"},{"$f":"IFERROR(INT((DATEVALUE(TODAY())-DATEVALUE(TRIM('Réponses au formulaire - copy-c'!L138)))/365), \"?\")","v":"?"},"#N/A","?",null,{"$f":"'Réponses au formulaire - copy-c'!I138","v":"solenn.chojnicki@gmail.com"},{"$f":"'Réponses au formulaire - copy-c'!J138","v":"248 C rue de nantes "},{"$f":"'Réponses au formulaire - copy-c'!K138","v":"0664300187"},"-",{"$f":"'Réponses au formulaire - copy-c'!O138","v":"7 et 8 juin 2025"},"juin",{"$f":"'Réponses au formulaire - copy-c'!Q138","v":"Navire et fort"},"Navire et fort",{"$f":"'Réponses au formulaire - copy-c'!P138","v":"Pur PJ, PJ/PNJ (il s'agit d'un moment du GN, le reste du temps tu joues ton perso. Cela concerne le fort))"},"PJ+PNJ"]
[{"$f":"DATE(YEAR('Réponses au formulaire - copy-c'!A139), MONTH('Réponses au formulaire - copy-c'!A139), DAY('Réponses au formulaire - copy-c'!A139))","v":"2024-10-12"},{"$f":"'Réponses au formulaire - copy-c'!E139","v":"Carpentier "},{"$f":"'Réponses au formulaire - copy-c'!F139","v":"Guillaume "},{"$f":"'Réponses au formulaire - copy-c'!H139","v":"H"},{"$f":"IFERROR(INT((DATEVALUE(TODAY())-DATEVALUE(TRIM('Réponses au formulaire - copy-c'!L139)))/365), \"?\")","v":32},32,"#N/A",null,{"$f":"'Réponses au formulaire - copy-c'!I139","v":"guillaume.surflife@gmail.com"},{"$f":"'Réponses au formulaire - copy-c'!J139","v":"62 Rue de l'Alma, 35000 Rennes, France"},{"$f":"'Réponses au formulaire - copy-c'!K139","v":"0670134925"},"-",{"$f":"'Réponses au formulaire - copy-c'!O139","v":"7 et 8 juin 2025"},"juin",{"$f":"'Réponses au formulaire - copy-c'!Q139","v":"Navire et fort"},"Navire et fort",{"$f":"'Réponses au formulaire - copy-c'!P139","v":"Pur PJ, PJ/PNJ (il s'agit d'un moment du GN, le reste du temps tu joues ton perso. Cela concerne le fort))"},"PJ+PNJ"]
[{"$f":"DATE(YEAR('Réponses au formulaire - copy-c'!A140), MONTH('Réponses au formulaire - copy-c'!A140), DAY('Réponses au formulaire - copy-c'!A140))","v":"2024-10-16"},{"$f":"'Réponses au formulaire - copy-c'!E140","v":"Whittaker"},{"$f":"'Réponses au formulaire - copy-c'!F140","v":"Isabelle"},{"$f":"'Réponses au formulaire - copy-c'!H140","v":"F"},{"$f":"IFERROR(INT((DATEVALUE(TODAY())-DATEVALUE(TRIM('Réponses au formulaire - copy-c'!L140)))/365), \"?\")","v":37},"#N/A",37,null,{"$f":"'Réponses au formulaire - copy-c'!I140","v":"isabelle.whittaker@gmail.com"},{"$f":"'Réponses au formulaire - copy-c'!J140","v":"5 rue Antoine Darquier 31000 Toulouse"},{"$f":"'Réponses au formulaire - copy-c'!K140","v":"0786144580"},"-",{"$f":"'Réponses au formulaire - copy-c'!O140","v":"7 et 8 juin 2025"},"juin",{"$f":"'Réponses au formulaire - copy-c'!Q140","v":"Navire et fort, peu importe (si tu as une préférence, coche cette case et ta préférence)"},"Peu importe",{"$f":"'Réponses au formulaire - copy-c'!P140","v":"Pur PJ"},"Pur PJ"]
[{"$f":"DATE(YEAR('Réponses au formulaire - copy-c'!A141), MONTH('Réponses au formulaire - copy-c'!A141), DAY('Réponses au formulaire - copy-c'!A141))","v":"2024-10-20"},{"$f":"'Réponses au formulaire - copy-c'!E141","v":"Petitdemange"},{"$f":"'Réponses au formulaire - copy-c'!F141","v":"Floriane"},{"$f":"'Réponses au formulaire - copy-c'!H141","v":"F"},{"$f":"IFERROR(INT((DATEVALUE(TODAY())-DATEVALUE(TRIM('Réponses au formulaire - copy-c'!L141)))/365), \"?\")","v":36},"#N/A",36,null,{"$f":"'Réponses au formulaire - copy-c'!I141","v":"floriane.petitdemange@gmail.com"},{"$f":"'Réponses au formulaire - copy-c'!J141","v":"4 rue de Bollwiller - 67100 Strasbourg"},{"$f":"'Réponses au formulaire - copy-c'!K141","v":"06.02.36.57.68."},"-",{"$f":"'Réponses au formulaire - copy-c'!O141","v":"Les deux dates sont possibles"},"Les deux",{"$f":"'Réponses au formulaire - copy-c'!Q141","v":"Navire et fort"},"Navire et fort",{"$f":"'Réponses au formulaire - copy-c'!P141","v":"Pur PJ"},"Pur PJ"]
[{"$f":"DATE(YEAR('Réponses au formulaire - copy-c'!A142), MONTH('Réponses au formulaire - copy-c'!A142), DAY('Réponses au formulaire - copy-c'!A142))","v":"2024-10-20"},{"$f":"'Réponses au formulaire - copy-c'!E142","v":"Stoltz "},{"$f":"'Réponses au formulaire - copy-c'!F142","v":"Charline"},{"$f":"'Réponses au formulaire - copy-c'!H142","v":"F"},{"$f":"IFERROR(INT((DATEVALUE(TODAY())-DATEVALUE(TRIM('Réponses au formulaire - copy-c'!L142)))/365), \"?\")","v":34},"#N/A",34,null,{"$f":"'Réponses au formulaire - copy-c'!I142","v":"charline.stoltz@gmail.com"},{"$f":"'Réponses au formulaire - copy-c'!J142","v":"8 Rue De La Paix 57000 Thionville "},{"$f":"'Réponses au formulaire - copy-c'!K142","v":"0687014130"},"-",{"$f":"'Réponses au formulaire - copy-c'!O142","v":"Les deux dates sont possibles"},"Les deux",{"$f":"'Réponses au formulaire - copy-c'!Q142","v":"Navire et fort"},"Navire et fort",{"$f":"'Réponses au formulaire - copy-c'!P142","v":"Pur PJ"},"Pur PJ"]
[{"$f":"DATE(YEAR('Réponses au formulaire - copy-c'!A143), MONTH('Réponses au formulaire - copy-c'!A143), DAY('Réponses au formulaire - copy-c'!A143))","v":"2024-10-21"},{"$f":"'Réponses au formulaire - copy-c'!E143","v":"Gutierrez"},{"$f":"'Réponses au formulaire - copy-c'!F143","v":"Jeremy"},{"$f":"'Réponses au formulaire - copy-c'!H143","v":"H"},{"$f":"IFERROR(INT((DATEVALUE(TODAY())-DATEVALUE(TRIM('Réponses au formulaire - copy-c'!L143)))/365), \"?\")","v":30},30,"#N/A",null,{"$f":"'Réponses au formulaire - copy-c'!I143","v":"jeremy.gutierrez.pharma@gmail.com"},{"$f":"'Réponses au formulaire - copy-c'!J143","v":"74 bvd pdt Franklin Rossevelt, 33800 Bordeaux"},{"$f":"'Réponses au formulaire - copy-c'!K143","v":"0633788347"},"-",{"$f":"'Réponses au formulaire - copy-c'!O143","v":"Les deux dates sont possibles"},"Les deux",{"$f":"'Réponses au formulaire - copy-c'!Q143","v":"Seulement au fort"},"Seulement au fort",{"$f":"'Réponses au formulaire - copy-c'!P143","v":"Pur PJ"},"Pur PJ"]
[{"$f":"DATE(YEAR('Réponses au formulaire - copy-c'!A144), MONTH('Réponses au formulaire - copy-c'!A144), DAY('Réponses au formulaire - copy-c'!A144))","v":"2024-10-21"},{"$f":"'Réponses au formulaire - copy-c'!E144","v":"FLAMMANN"},{"$f":"'Réponses au formulaire - copy-c'!F144","v":"Sasha"},{"$f":"'Réponses au formulaire - copy-c'!H144","v":"H"},{"$f":"IFERROR(INT((DATEVALUE(TODAY())-DATEVALUE(TRIM('Réponses au formulaire - copy-c'!L144)))/365), \"?\")","v":30},30,"#N/A",null,{"$f":"'Réponses au formulaire - copy-c'!I144","v":"sasha.flammann@gmail.com"},{"$f":"'Réponses au formulaire - copy-c'!J144","v":"7b rue du général picquart 67000 Strasbourg"},{"$f":"'Réponses au formulaire - copy-c'!K144","v":"0659086247"},"-",{"$f":"'Réponses au formulaire - copy-c'!O144","v":"Les deux dates sont possibles"},"Les deux",{"$f":"'Réponses au formulaire - copy-c'!Q144","v":"Navire et fort"},"Navire et fort",{"$f":"'Réponses au formulaire - copy-c'!P144","v":"Pur PJ, PJ/PNJ (il s'agit d'un moment du GN, le reste du temps tu joues ton perso. Cela concerne le fort))"},"PJ+PNJ"]
[{"$f":"DATE(YEAR('Réponses au formulaire - copy-c'!A145), MONTH('Réponses au formulaire - copy-c'!A145), DAY('Réponses au formulaire - copy-c'!A145))","v":"2024-10-23"},{"$f":"'Réponses au formulaire - copy-c'!E145","v":"FAR"},{"$f":"'Réponses au formulaire - copy-c'!F145","v":"William"},{"$f":"'Réponses au formulaire - copy-c'!H145","v":"H"},{"$f":"IFERROR(INT((DATEVALUE(TODAY())-DATEVALUE(TRIM('Réponses au formulaire - copy-c'!L145)))/365), \"?\")","v":31},31,"#N/A",null,{"$f":"'Réponses au formulaire - copy-c'!I145","v":"william.daniel.far@gmail.com"},{"$f":"'Réponses au formulaire - copy-c'!J145","v":"57 route d'orléans 91310 MONTLHERY"},{"$f":"'Réponses au formulaire - copy-c'!K145","v":"0681330259"},"-",{"$f":"'Réponses au formulaire - copy-c'!O145","v":"7 et 8 juin 2025, 13 et 14 septembre 2025, Les deux dates sont possibles"},"Non précisé",{"$f":"'Réponses au formulaire - copy-c'!Q145","v":"Navire et fort"},"Navire et fort",{"$f":"'Réponses au formulaire - copy-c'!P145","v":"Pur PJ"},"Pur PJ"]
[{"$f":"DATE(YEAR('Réponses au formulaire - copy-c'!A146), MONTH('Réponses au formulaire - copy-c'!A146), DAY('Réponses au formulaire - copy-c'!A146))","v":"2024-10-31"},{"$f":"'Réponses au formulaire - copy-c'!E146","v":"Gresset"},{"$f":"'Réponses au formulaire - copy-c'!F146","v":"Véronique "},{"$f":"'Réponses au formulaire - copy-c'!H146","v":"F"},{"$f":"IFERROR(INT((DATEVALUE(TODAY())-DATEVALUE(TRIM('Réponses au formulaire - copy-c'!L146)))/365), \"?\")","v":56},"#N/A",56,null,{"$f":"'Réponses au formulaire - copy-c'!I146","v":"veronique.gresset@gmail.com"},{"$f":"'Réponses au formulaire - copy-c'!J146","v":"26 VILLA AUGUSTE BLANQUI"},{"$f":"'Réponses au formulaire - copy-c'!K146","v":"0783736968"},"-",{"$f":"'Réponses au formulaire - copy-c'!O146","v":"13 et 14 septembre 2025"},"septembre",{"$f":"'Réponses au formulaire - copy-c'!Q146","v":"Seulement au fort"},"Seulement au fort",{"$f":"'Réponses au formulaire - copy-c'!P146","v":"Pur PJ"},"Pur PJ"]
[{"$f":"DATE(YEAR('Réponses au formulaire - copy-c'!A147), MONTH('Réponses au formulaire - copy-c'!A147), DAY('Réponses au formulaire - copy-c'!A147))","v":"2024-11-01"},{"$f":"'Réponses au formulaire - copy-c'!E147","v":"Ortalo"},{"$f":"'Réponses au formulaire - copy-c'!F147","v":"Pierre"},{"$f":"'Réponses au formulaire - copy-c'!H147","v":"H"},{"$f":"IFERROR(INT((DATEVALUE(TODAY())-DATEVALUE(TRIM('Réponses au formulaire - copy-c'!L147)))/365), \"?\")","v":34},34,"#N/A",null,{"$f":"'Réponses au formulaire - copy-c'!I147","v":"pierre@yuzupulse.eu"},{"$f":"'Réponses au formulaire - copy-c'!J147","v":"61 rue du Curoir"},{"$f":"'Réponses au formulaire - copy-c'!K147","v":""},"-",{"$f":"'Réponses au formulaire - copy-c'!O147","v":"Les deux dates sont possibles"},"Les deux",{"$f":"'Réponses au formulaire - copy-c'!Q147","v":"Navire et fort"},"Navire et fort",{"$f":"'Réponses au formulaire - copy-c'!P147","v":"Pur PJ, PJ/PNJ (il s'agit d'un moment du GN, le reste du temps tu joues ton perso. Cela concerne le fort)), PNJ"},"PJ+PNJ"]
[{"$f":"DATE(YEAR('Réponses au formulaire - copy-c'!A148), MONTH('Réponses au formulaire - copy-c'!A148), DAY('Réponses au formulaire - copy-c'!A148))","v":"2024-11-09"},{"$f":"'Réponses au formulaire - copy-c'!E148","v":"Garros"},{"$f":"'Réponses au formulaire - copy-c'!F148","v":"Alban"},{"$f":"'Réponses au formulaire - copy-c'!H148","v":"H"},{"$f":"IFERROR(INT((DATEVALUE(TODAY())-DATEVALUE(TRIM('Réponses au formulaire - copy-c'!L148)))/365), \"?\")","v":38},38,"#N/A",null,{"$f":"'Réponses au formulaire - copy-c'!I148","v":"alban.garros@gmail.com"},{"$f":"'Réponses au formulaire - copy-c'!J148","v":"8 rue d'aulede 33490 st Macaire"},{"$f":"'Réponses au formulaire - copy-c'!K148","v":"0686285280"},"-",{"$f":"'Réponses au formulaire - copy-c'!O148","v":"13 et 14 septembre 2025"},"septembre",{"$f":"'Réponses au formulaire - copy-c'!Q148","v":"Navire et fort, peu importe (si tu as une préférence, coche cette case et ta préférence)"},"Peu importe",{"$f":"'Réponses au formulaire - copy-c'!P148","v":"Pur PJ, PJ/PNJ (il s'agit d'un moment du GN, le reste du temps tu joues ton perso. Cela concerne le fort))"},"PJ+PNJ"]
[{"$f":"DATE(YEAR('Réponses au formulaire - copy-c'!A149), MONTH('Réponses au formulaire - copy-c'!A149), DAY('Réponses au formulaire - copy-c'!A149))","v":"2024-11-17"},{"$f":"'Réponses au formulaire - copy-c'!E149","v":"quintero y perez"},{"$f":"'Réponses au formulaire - copy-c'!F149","v":"Flori"},{"$f":"'Réponses au formulaire - copy-c'!H149","v":"F"},{"$f":"IFERROR(INT((DATEVALUE(TODAY())-DATEVALUE(TRIM('Réponses au formulaire - copy-c'!L149)))/365), \"?\")","v":42},"#N/A",42,null,{"$f":"'Réponses au formulaire - copy-c'!I149","v":"florieveillon@hotmail.fr"},{"$f":"'Réponses au formulaire - copy-c'!J149","v":"29 Rue de la Landille 33290 Blanquefort "},{"$f":"'Réponses au formulaire - copy-c'!K149","v":"0642989902"},"-",{"$f":"'Réponses au formulaire - copy-c'!O149","v":"Les deux dates sont possibles"},"Les deux",{"$f":"'Réponses au formulaire - copy-c'!Q149","v":"Seulement au fort"},"Seulement au fort",{"$f":"'Réponses au formulaire - copy-c'!P149","v":"Pur PJ, PJ/PNJ (il s'agit d'un moment du GN, le reste du temps tu joues ton perso. Cela concerne le fort))"},"PJ+PNJ"]
[{"$f":"DATE(YEAR('Réponses au formulaire - copy-c'!A150), MONTH('Réponses au formulaire - copy-c'!A150), DAY('Réponses au formulaire - copy-c'!A150))","v":"2024-11-21"},{"$f":"'Réponses au formulaire - copy-c'!E150","v":"Trémoulière"},{"$f":"'Réponses au formulaire - copy-c'!F150","v":"Claire"},{"$f":"'Réponses au formulaire - copy-c'!H150","v":"F"},{"$f":"IFERROR(INT((DATEVALUE(TODAY())-DATEVALUE(TRIM('Réponses au formulaire - copy-c'!L150)))/365), \"?\")","v":30},"#N/A",30,null,{"$f":"'Réponses au formulaire - copy-c'!I150","v":"claire.tremouliere@gmail.com"},{"$f":"'Réponses au formulaire - copy-c'!J150","v":"14 rue de la préjentais 22100 Dinan"},{"$f":"'Réponses au formulaire - copy-c'!K150","v":"0647932215"},"-",{"$f":"'Réponses au formulaire - copy-c'!O150","v":"13 et 14 septembre 2025"},"septembre",{"$f":"'Réponses au formulaire - copy-c'!Q150","v":"Seulement au fort"},"Seulement au fort",{"$f":"'Réponses au formulaire - copy-c'!P150","v":"Pur PJ"},"Pur PJ"]
[{"$f":"DATE(YEAR('Réponses au formulaire - copy-c'!A151), MONTH('Réponses au formulaire - copy-c'!A151), DAY('Réponses au formulaire - copy-c'!A151))","v":"2024-11-22"},{"$f":"'Réponses au formulaire - copy-c'!E151","v":"Fustec"},{"$f":"'Réponses au formulaire - copy-c'!F151","v":"Timothée"},{"$f":"'Réponses au formulaire - copy-c'!H151","v":"H"},{"$f":"IFERROR(INT((DATEVALUE(TODAY())-DATEVALUE(TRIM('Réponses au formulaire - copy-c'!L151)))/365), \"?\")","v":31},31,"#N/A",null,{"$f":"'Réponses au formulaire - copy-c'!I151","v":"timothee.fustec@gmail.com"},{"$f":"'Réponses au formulaire - copy-c'!J151","v":"1 Ty Ar Bonniec 22140 Brélidy"},{"$f":"'Réponses au formulaire - copy-c'!K151","v":"0679313968"},"-",{"$f":"'Réponses au formulaire - copy-c'!O151","v":"13 et 14 septembre 2025"},"septembre",{"$f":"'Réponses au formulaire - copy-c'!Q151","v":"peu importe (si tu as une préférence, coche cette case et ta préférence)"},"Peu importe",{"$f":"'Réponses au formulaire - copy-c'!P151","v":"Pur PJ, PJ/PNJ (il s'agit d'un moment du GN, le reste du temps tu joues ton perso. Cela concerne le fort))"},"PJ+PNJ"]
[{"$f":"DATE(YEAR('Réponses au formulaire - copy-c'!A152), MONTH('Réponses au formulaire - copy-c'!A152), DAY('Réponses au formulaire - copy-c'!A152))","v":"2024-12-16"},{"$f":"'Réponses au formulaire - copy-c'!E152","v":"Tallon"},{"$f":"'Réponses au formulaire - copy-c'!F152","v":"Anais (Anya)"},{"$f":"'Réponses au formulaire - copy-c'!H152","v":"F"},{"$f":"IFERROR(INT((DATEVALUE(TODAY())-DATEVALUE(TRIM('Réponses au formulaire - copy-c'!L152)))/365), \"?\")","v":32},"#N/A",32,null,{"$f":"'Réponses au formulaire - copy-c'!I152","v":"anya.tallon@gmail.com"},{"$f":"'Réponses au formulaire - copy-c'!J152","v":"Rankenstrasse 5, 26121, Oldenburg, Allemagne"},{"$f":"'Réponses au formulaire - copy-c'!K152","v":"0780727728"},"-",{"$f":"'Réponses au formulaire - copy-c'!O152","v":"13 et 14 septembre 2025"},"septembre",{"$f":"'Réponses au formulaire - copy-c'!Q152","v":"Seulement au fort"},"Seulement au fort",{"$f":"'Réponses au formulaire - copy-c'!P152","v":"PJ/PNJ (il s'agit d'un moment du GN, le reste du temps tu joues ton perso. Cela concerne le fort))"},"PJ+PNJ"]
[{"$f":"DATE(YEAR('Réponses au formulaire - copy-c'!A153), MONTH('Réponses au formulaire - copy-c'!A153), DAY('Réponses au formulaire - copy-c'!A153))","v":"2025-01-03"},{"$f":"'Réponses au formulaire - copy-c'!E153","v":"Vidal "},{"$f":"'Réponses au formulaire - copy-c'!F153","v":"Jules"},{"$f":"'Réponses au formulaire - copy-c'!H153","v":"H"},{"$f":"IFERROR(INT((DATEVALUE(TODAY())-DATEVALUE(TRIM('Réponses au formulaire - copy-c'!L153)))/365), \"?\")","v":31},31,"#N/A",null,{"$f":"'Réponses au formulaire - copy-c'!I153","v":"jules.vidal@live.fr"},{"$f":"'Réponses au formulaire - copy-c'!J153","v":"85 Bd de la Perche, 17200 Royan, France"},{"$f":"'Réponses au formulaire - copy-c'!K153","v":645063353},"-",{"$f":"'Réponses au formulaire - copy-c'!O153","v":"Les deux dates sont possibles"},"Les deux",{"$f":"'Réponses au formulaire - copy-c'!Q153","v":"Navire et fort"},"Navire et fort",{"$f":"'Réponses au formulaire - copy-c'!P153","v":"Pur PJ, PJ/PNJ (il s'agit d'un moment du GN, le reste du temps tu joues ton perso. Cela concerne le fort))"},"PJ+PNJ"]
[{"$f":"DATE(YEAR('Réponses au formulaire - copy-c'!A154), MONTH('Réponses au formulaire - copy-c'!A154), DAY('Réponses au formulaire - copy-c'!A154))","v":"2025-01-04"},{"$f":"'Réponses au formulaire - copy-c'!E154","v":"marcelin-gabriel"},{"$f":"'Réponses au formulaire - copy-c'!F154","v":"magali"},{"$f":"'Réponses au formulaire - copy-c'!H154","v":"F"},{"$f":"IFERROR(INT((DATEVALUE(TODAY())-DATEVALUE(TRIM('Réponses au formulaire - copy-c'!L154)))/365), \"?\")","v":57},"#N/A",57,null,{"$f":"'Réponses au formulaire - copy-c'!I154","v":"magalimarcelin@orange.fr"},{"$f":"'Réponses au formulaire - copy-c'!J154","v":"637 rue de nicot 46350 cales"},{"$f":"'Réponses au formulaire - copy-c'!K154","v":"0684115179"},"-",{"$f":"'Réponses au formulaire - copy-c'!O154","v":"Les deux dates sont possibles"},"Les deux",{"$f":"'Réponses au formulaire - copy-c'!Q154","v":""},"Peu importe",{"$f":"'Réponses au formulaire - copy-c'!P154","v":""},"PJ+PNJ"]
[{"$f":"DATE(YEAR('Réponses au formulaire - copy-c'!A155), MONTH('Réponses au formulaire - copy-c'!A155), DAY('Réponses au formulaire - copy-c'!A155))","v":"2025-01-04"},{"$f":"'Réponses au formulaire - copy-c'!E155","v":"Barrere"},{"$f":"'Réponses au formulaire - copy-c'!F155","v":"Ludovic"},{"$f":"'Réponses au formulaire - copy-c'!H155","v":"H"},{"$f":"IFERROR(INT((DATEVALUE(TODAY())-DATEVALUE(TRIM('Réponses au formulaire - copy-c'!L155)))/365), \"?\")","v":-68648},-68648,"#N/A",null,{"$f":"'Réponses au formulaire - copy-c'!I155","v":"ludobarrere@hotmail.fr"},{"$f":"'Réponses au formulaire - copy-c'!J155","v":"8 rue auguste gué "},{"$f":"'Réponses au formulaire - copy-c'!K155","v":"0617981351"},"-",{"$f":"'Réponses au formulaire - copy-c'!O155","v":"13 et 14 septembre 2025"},"septembre",{"$f":"'Réponses au formulaire - copy-c'!Q155","v":"Navire et fort"},"Navire et fort",{"$f":"'Réponses au formulaire - copy-c'!P155","v":"Pur PJ"},"Pur PJ"]
[{"$f":"DATE(YEAR('Réponses au formulaire - copy-c'!A156), MONTH('Réponses au formulaire - copy-c'!A156), DAY('Réponses au formulaire - copy-c'!A156))","v":"2025-01-04"},{"$f":"'Réponses au formulaire - copy-c'!E156","v":"Dubois "},{"$f":"'Réponses au formulaire - copy-c'!F156","v":"Patrick "},{"$f":"'Réponses au formulaire - copy-c'!H156","v":"H"},{"$f":"IFERROR(INT((DATEVALUE(TODAY())-DATEVALUE(TRIM('Réponses au formulaire - copy-c'!L156)))/365), \"?\")","v":54},54,"#N/A",null,{"$f":"'Réponses au formulaire - copy-c'!I156","v":"caninepointue@yahoo.fr"},{"$f":"'Réponses au formulaire - copy-c'!J156","v":"16 rue de la mairie 29370 Elliant"},{"$f":"'Réponses au formulaire - copy-c'!K156","v":"0681649536"},"-",{"$f":"'Réponses au formulaire - copy-c'!O156","v":"7 et 8 juin 2025"},"juin",{"$f":"'Réponses au formulaire - copy-c'!Q156","v":"Navire et fort, peu importe (si tu as une préférence, coche cette case et ta préférence)"},"Peu importe",{"$f":"'Réponses au formulaire - copy-c'!P156","v":"Pur PJ"},"Pur PJ"]
[{"$f":"DATE(YEAR('Réponses au formulaire - copy-c'!A157), MONTH('Réponses au formulaire - copy-c'!A157), DAY('Réponses au formulaire - copy-c'!A157))","v":"2025-01-05"},{"$f":"'Réponses au formulaire - copy-c'!E157","v":"Kerfriden "},{"$f":"'Réponses au formulaire - copy-c'!F157","v":"Claire "},{"$f":"'Réponses au formulaire - copy-c'!H157","v":"F"},{"$f":"IFERROR(INT((DATEVALUE(TODAY())-DATEVALUE(TRIM('Réponses au formulaire - copy-c'!L157)))/365), \"?\")","v":22},"#N/A",22,null,{"$f":"'Réponses au formulaire - copy-c'!I157","v":"claire.kerfriden@gmail.com"},{"$f":"'Réponses au formulaire - copy-c'!J157","v":"Kerganet, ma nouvelle piscine "},{"$f":"'Réponses au formulaire - copy-c'!K157","v":"06-09-73-55-13 "},"-",{"$f":"'Réponses au formulaire - copy-c'!O157","v":"7 et 8 juin 2025"},"juin",{"$f":"'Réponses au formulaire - copy-c'!Q157","v":"peu importe (si tu as une préférence, coche cette case et ta préférence)"},"Peu importe",{"$f":"'Réponses au formulaire - copy-c'!P157","v":"Pur PJ"},"Pur PJ"]
[{"$f":"DATE(YEAR('Réponses au formulaire - copy-c'!A158), MONTH('Réponses au formulaire - copy-c'!A158), DAY('Réponses au formulaire - copy-c'!A158))","v":"2025-01-06"},{"$f":"'Réponses au formulaire - copy-c'!E158","v":"JONAS"},{"$f":"'Réponses au formulaire - copy-c'!F158","v":"Thomas"},{"$f":"'Réponses au formulaire - copy-c'!H158","v":"H"},{"$f":"IFERROR(INT((DATEVALUE(TODAY())-DATEVALUE(TRIM('Réponses au formulaire - copy-c'!L158)))/365), \"?\")","v":"?"},"?","#N/A",null,{"$f":"'Réponses au formulaire - copy-c'!I158","v":"black_writer@hotmail.fr"},{"$f":"'Réponses au formulaire - copy-c'!J158","v":"10 rue du Priez 59800 Lille"},{"$f":"'Réponses au formulaire - copy-c'!K158","v":"0651389187"},"-",{"$f":"'Réponses au formulaire - copy-c'!O158","v":"13 et 14 septembre 2025"},"septembre",{"$f":"'Réponses au formulaire - copy-c'!Q158","v":"Navire et fort"},"Navire et fort",{"$f":"'Réponses au formulaire - copy-c'!P158","v":"Pur PJ"},"Pur PJ"]
[{"$f":"DATE(YEAR('Réponses au formulaire - copy-c'!A159), MONTH('Réponses au formulaire - copy-c'!A159), DAY('Réponses au formulaire - copy-c'!A159))","v":"2025-01-07"},{"$f":"'Réponses au formulaire - copy-c'!E159","v":"leveque"},{"$f":"'Réponses au formulaire - copy-c'!F159","v":"Jonathan"},{"$f":"'Réponses au formulaire - copy-c'!H159","v":"H"},{"$f":"IFERROR(INT((DATEVALUE(TODAY())-DATEVALUE(TRIM('Réponses au formulaire - copy-c'!L159)))/365), \"?\")","v":39},39,"#N/A",null,{"$f":"'Réponses au formulaire - copy-c'!I159","v":"j.leveque44@gmail.com"},{"$f":"'Réponses au formulaire - copy-c'!J159","v":"Rue saint germain 140 1410 waterloo"},{"$f":"'Réponses au formulaire - copy-c'!K159","v":"0474450053"},"-",{"$f":"'Réponses au formulaire - copy-c'!O159","v":"7 et 8 juin 2025, 13 et 14 septembre 2025"},"Les deux",{"$f":"'Réponses au formulaire - copy-c'!Q159","v":"Navire et fort"},"Navire et fort",{"$f":"'Réponses au formulaire - copy-c'!P159","v":"Pur PJ, PJ/PNJ (il s'agit d'un moment du GN, le reste du temps tu joues ton perso. Cela concerne le fort)), PNJ"},"PJ+PNJ"]
[{"$f":"DATE(YEAR('Réponses au formulaire - copy-c'!A160), MONTH('Réponses au formulaire - copy-c'!A160), DAY('Réponses au formulaire - copy-c'!A160))","v":"2025-01-12"},{"$f":"'Réponses au formulaire - copy-c'!E160","v":"Méron "},{"$f":"'Réponses au formulaire - copy-c'!F160","v":"Thomas "},{"$f":"'Réponses au formulaire - copy-c'!H160","v":"H"},{"$f":"IFERROR(INT((DATEVALUE(TODAY())-DATEVALUE(TRIM('Réponses au formulaire - copy-c'!L160)))/365), \"?\")","v":37},37,"#N/A",null,{"$f":"'Réponses au formulaire - copy-c'!I160","v":"meronthomas6@gmail.com"},{"$f":"'Réponses au formulaire - copy-c'!J160","v":"77 allée de Mortier 49680 Vivy "},{"$f":"'Réponses au formulaire - copy-c'!K160","v":624838163},"-",{"$f":"'Réponses au formulaire - copy-c'!O160","v":"7 et 8 juin 2025"},"juin",{"$f":"'Réponses au formulaire - copy-c'!Q160","v":"Navire et fort"},"Navire et fort",{"$f":"'Réponses au formulaire - copy-c'!P160","v":"PJ/PNJ (il s'agit d'un moment du GN, le reste du temps tu joues ton perso. Cela concerne le fort))"},"PJ+PNJ"]
[{"$f":"DATE(YEAR('Réponses au formulaire - copy-c'!A161), MONTH('Réponses au formulaire - copy-c'!A161), DAY('Réponses au formulaire - copy-c'!A161))","v":"2025-01-13"},{"$f":"'Réponses au formulaire - copy-c'!E161","v":" Saada"},{"$f":"'Réponses au formulaire - copy-c'!F161","v":"laurent"},{"$f":"'Réponses au formulaire - copy-c'!H161","v":"H"},{"$f":"IFERROR(INT((DATEVALUE(TODAY())-DATEVALUE(TRIM('Réponses au formulaire - copy-c'!L161)))/365), \"?\")","v":48},48,"#N/A",null,{"$f":"'Réponses au formulaire - copy-c'!I161","v":"laursaad@gmail.com"},{"$f":"'Réponses au formulaire - copy-c'!J161","v":"13 rue carnot"},{"$f":"'Réponses au formulaire - copy-c'!K161","v":"0614462023"},"-",{"$f":"'Réponses au formulaire - copy-c'!O161","v":"7 et 8 juin 2025"},"juin",{"$f":"'Réponses au formulaire - copy-c'!Q161","v":"Navire et fort"},"Navire et fort",{"$f":"'Réponses au formulaire - copy-c'!P161","v":"Pur PJ"},"Pur PJ"]
[{"$f":"DATE(YEAR('Réponses au formulaire - copy-c'!A162), MONTH('Réponses au formulaire - copy-c'!A162), DAY('Réponses au formulaire - copy-c'!A162))","v":"2025-01-14"},{"$f":"'Réponses au formulaire - copy-c'!E162","v":"Guyot"},{"$f":"'Réponses au formulaire - copy-c'!F162","v":"Romain"},{"$f":"'Réponses au formulaire - copy-c'!H162","v":"H"},{"$f":"IFERROR(INT((DATEVALUE(TODAY())-DATEVALUE(TRIM('Réponses au formulaire - copy-c'!L162)))/365), \"?\")","v":34},34,"#N/A",null,{"$f":"'Réponses au formulaire - copy-c'!I162","v":"rogguyot@gmail.com"},{"$f":"'Réponses au formulaire - copy-c'!J162","v":"60 rue jean le galleu 94200 Ivry sur Seine"},{"$f":"'Réponses au formulaire - copy-c'!K162","v":"0680168165"},"-",{"$f":"'Réponses au formulaire - copy-c'!O162","v":"Les deux dates sont possibles"},"Les deux",{"$f":"'Réponses au formulaire - copy-c'!Q162","v":"Navire et fort"},"Navire et fort",{"$f":"'Réponses au formulaire - copy-c'!P162","v":"Pur PJ"},"Pur PJ"]
[{"$f":"DATE(YEAR('Réponses au formulaire - copy-c'!A163), MONTH('Réponses au formulaire - copy-c'!A163), DAY('Réponses au formulaire - copy-c'!A163))","v":"2025-01-15"},{"$f":"'Réponses au formulaire - copy-c'!E163","v":"Flamant"},{"$f":"'Réponses au formulaire - copy-c'!F163","v":"Julien"},{"$f":"'Réponses au formulaire - copy-c'!H163","v":"H"},{"$f":"IFERROR(INT((DATEVALUE(TODAY())-DATEVALUE(TRIM('Réponses au formulaire - copy-c'!L163)))/365), \"?\")","v":42},42,"#N/A",null,{"$f":"'Réponses au formulaire - copy-c'!I163","v":"julien.flamant@gmail.com"},{"$f":"'Réponses au formulaire - copy-c'!J163","v":"31 Allée des Bouleaux"},{"$f":"'Réponses au formulaire - copy-c'!K163","v":"0679705430"},"-",{"$f":"'Réponses au formulaire - copy-c'!O163","v":"13 et 14 septembre 2025"},"septembre",{"$f":"'Réponses au formulaire - copy-c'!Q163","v":"Seulement au fort"},"Seulement au fort",{"$f":"'Réponses au formulaire - copy-c'!P163","v":"Pur PJ"},"Pur PJ"]
[{"$f":"DATE(YEAR('Réponses au formulaire - copy-c'!A164), MONTH('Réponses au formulaire - copy-c'!A164), DAY('Réponses au formulaire - copy-c'!A164))","v":"2025-01-16"},{"$f":"'Réponses au formulaire - copy-c'!E164","v":"Jullien"},{"$f":"'Réponses au formulaire - copy-c'!F164","v":"Agnes"},{"$f":"'Réponses au formulaire - copy-c'!H164","v":"F"},{"$f":"IFERROR(INT((DATEVALUE(TODAY())-DATEVALUE(TRIM('Réponses au formulaire - copy-c'!L164)))/365), \"?\")","v":44},"#N/A",44,null,{"$f":"'Réponses au formulaire - copy-c'!I164","v":"ag9734@yahoo.com"},{"$f":"'Réponses au formulaire - copy-c'!J164","v":"3 rue Leopold Sedar Senghor 31520 Ramonville Saint Agne"},{"$f":"'Réponses au formulaire - copy-c'!K164","v":"0642584516"},"-",{"$f":"'Réponses au formulaire - copy-c'!O164","v":"13 et 14 septembre 2025"},"septembre",{"$f":"'Réponses au formulaire - copy-c'!Q164","v":"Navire et fort, peu importe (si tu as une préférence, coche cette case et ta préférence)"},"Peu importe",{"$f":"'Réponses au formulaire - copy-c'!P164","v":"Pur PJ"},"Pur PJ"]
[{"$f":"DATE(YEAR('Réponses au formulaire - copy-c'!A165), MONTH('Réponses au formulaire - copy-c'!A165), DAY('Réponses au formulaire - copy-c'!A165))","v":"2025-01-16"},{"$f":"'Réponses au formulaire - copy-c'!E165","v":"Navarro"},{"$f":"'Réponses au formulaire - copy-c'!F165","v":"Grégory "},{"$f":"'Réponses au formulaire - copy-c'!H165","v":"H"},{"$f":"IFERROR(INT((DATEVALUE(TODAY())-DATEVALUE(TRIM('Réponses au formulaire - copy-c'!L165)))/365), \"?\")","v":45},45,"#N/A",null,{"$f":"'Réponses au formulaire - copy-c'!I165","v":"gregory.navarro@googlemail.com"},{"$f":"'Réponses au formulaire - copy-c'!J165","v":"15 rue Marie Thérèse Eyquem 31520 Ramonville Saint Agne "},{"$f":"'Réponses au formulaire - copy-c'!K165","v":""},"-",{"$f":"'Réponses au formulaire - copy-c'!O165","v":"13 et 14 septembre 2025"},"septembre",{"$f":"'Réponses au formulaire - copy-c'!Q165","v":"Navire et fort"},"Navire et fort",{"$f":"'Réponses au formulaire - copy-c'!P165","v":"Pur PJ"},"Pur PJ"]
[{"$f":"DATE(YEAR('Réponses au formulaire - copy-c'!A166), MONTH('Réponses au formulaire - copy-c'!A166), DAY('Réponses au formulaire - copy-c'!A166))","v":"2025-01-16"},{"$f":"'Réponses au formulaire - copy-c'!E166","v":"Pichot"},{"$f":"'Réponses au formulaire - copy-c'!F166","v":"Claire"},{"$f":"'Réponses au formulaire - copy-c'!H166","v":"F"},{"$f":"IFERROR(INT((DATEVALUE(TODAY())-DATEVALUE(TRIM('Réponses au formulaire - copy-c'!L166)))/365), \"?\")","v":30},"#N/A",30,null,{"$f":"'Réponses au formulaire - copy-c'!I166","v":"pichot.cl@gmail.com"},{"$f":"'Réponses au formulaire - copy-c'!J166","v":"1 rue Alexis Piecq 78700 Conflans sainte Honorine "},{"$f":"'Réponses au formulaire - copy-c'!K166","v":"0684298287"},"-",{"$f":"'Réponses au formulaire - copy-c'!O166","v":"13 et 14 septembre 2025"},"septembre",{"$f":"'Réponses au formulaire - copy-c'!Q166","v":"Navire et fort, peu importe (si tu as une préférence, coche cette case et ta préférence)"},"Peu importe",{"$f":"'Réponses au formulaire - copy-c'!P166","v":"Pur PJ"},"Pur PJ"]
[{"$f":"DATE(YEAR('Réponses au formulaire - copy-c'!A167), MONTH('Réponses au formulaire - copy-c'!A167), DAY('Réponses au formulaire - copy-c'!A167))","v":"2025-01-17"},{"$f":"'Réponses au formulaire - copy-c'!E167","v":"Mousset "},{"$f":"'Réponses au formulaire - copy-c'!F167","v":"Valérie "},{"$f":"'Réponses au formulaire - copy-c'!H167","v":"F"},{"$f":"IFERROR(INT((DATEVALUE(TODAY())-DATEVALUE(TRIM('Réponses au formulaire - copy-c'!L167)))/365), \"?\")","v":46},"#N/A",46,null,{"$f":"'Réponses au formulaire - copy-c'!I167","v":"valmousset@gmail.com"},{"$f":"'Réponses au formulaire - copy-c'!J167","v":"15 rue Marie Thérèse Eyquem 31520 Ramonville Saint Agne "},{"$f":"'Réponses au formulaire - copy-c'!K167","v":"0620784623"},"-",{"$f":"'Réponses au formulaire - copy-c'!O167","v":"13 et 14 septembre 2025"},"septembre",{"$f":"'Réponses au formulaire - copy-c'!Q167","v":"Navire et fort"},"Navire et fort",{"$f":"'Réponses au formulaire - copy-c'!P167","v":"Pur PJ"},"Pur PJ"]
[{"$f":"DATE(YEAR('Réponses au formulaire - copy-c'!A168), MONTH('Réponses au formulaire - copy-c'!A168), DAY('Réponses au formulaire - copy-c'!A168))","v":"2025-01-17"},{"$f":"'Réponses au formulaire - copy-c'!E168","v":"Trébosc"},{"$f":"'Réponses au formulaire - copy-c'!F168","v":"David"},{"$f":"'Réponses au formulaire - copy-c'!H168","v":"H"},{"$f":"IFERROR(INT((DATEVALUE(TODAY())-DATEVALUE(TRIM('Réponses au formulaire - copy-c'!L168)))/365), \"?\")","v":41},41,"#N/A",null,{"$f":"'Réponses au formulaire - copy-c'!I168","v":"trebosc.david@gmail.com"},{"$f":"'Réponses au formulaire - copy-c'!J168","v":"1259 route de Manzeix 87130 Linards"},{"$f":"'Réponses au formulaire - copy-c'!K168","v":618811757},"-",{"$f":"'Réponses au formulaire - copy-c'!O168","v":"13 et 14 septembre 2025"},"septembre",{"$f":"'Réponses au formulaire - copy-c'!Q168","v":"Seulement au fort"},"Seulement au fort",{"$f":"'Réponses au formulaire - copy-c'!P168","v":"PJ/PNJ (il s'agit d'un moment du GN, le reste du temps tu joues ton perso. Cela concerne le fort))"},"PJ+PNJ"]
[{"$f":"DATE(YEAR('Réponses au formulaire - copy-c'!A169), MONTH('Réponses au formulaire - copy-c'!A169), DAY('Réponses au formulaire - copy-c'!A169))","v":"2024-07-24"},{"$f":"'Réponses au formulaire - copy-c'!E169","v":"orfeuvre"},{"$f":"'Réponses au formulaire - copy-c'!F169","v":"emilie"},{"$f":"'Réponses au formulaire - copy-c'!H169","v":"F"},{"$f":"IFERROR(INT((DATEVALUE(TODAY())-DATEVALUE(TRIM('Réponses au formulaire - copy-c'!L169)))/365), \"?\")","v":35},"#N/A",35,null,{"$f":"'Réponses au formulaire - copy-c'!I169","v":"emilie.orfeuvre@gmail.com"},{"$f":"'Réponses au formulaire - copy-c'!J169","v":"28 rue des fleurs 69500 BRON"},{"$f":"'Réponses au formulaire - copy-c'!K169","v":"0688550880"},"-",{"$f":"'Réponses au formulaire - copy-c'!O169","v":"13 et 14 septembre 2025"},"septembre",{"$f":"'Réponses au formulaire - copy-c'!Q169","v":"Seulement au fort"},"Seulement au fort",{"$f":"'Réponses au formulaire - copy-c'!P169","v":"Pur PJ, PJ/PNJ (il s'agit d'un moment du GN, le reste du temps tu joues ton perso. Cela concerne le fort))"},"PJ+PNJ"]
[{"$f":"DATE(YEAR('Réponses au formulaire - copy-c'!A170), MONTH('Réponses au formulaire - copy-c'!A170), DAY('Réponses au formulaire - copy-c'!A170))","v":"2025-01-19"},{"$f":"'Réponses au formulaire - copy-c'!E170","v":"saison"},{"$f":"'Réponses au formulaire - copy-c'!F170","v":"arthur"},{"$f":"'Réponses au formulaire - copy-c'!H170","v":"H"},{"$f":"IFERROR(INT((DATEVALUE(TODAY())-DATEVALUE(TRIM('Réponses au formulaire - copy-c'!L170)))/365), \"?\")","v":25},25,"#N/A",null,{"$f":"'Réponses au formulaire - copy-c'!I170","v":"arthur.saison@hotmail.com"},{"$f":"'Réponses au formulaire - copy-c'!J170","v":"arthur.saison@hotmail.com"},{"$f":"'Réponses au formulaire - copy-c'!K170","v":"0674426558"},"-",{"$f":"'Réponses au formulaire - copy-c'!O170","v":"13 et 14 septembre 2025"},"septembre",{"$f":"'Réponses au formulaire - copy-c'!Q170","v":"Navire et fort"},"Navire et fort",{"$f":"'Réponses au formulaire - copy-c'!P170","v":"Pur PJ"},"Pur PJ"]
[{"$f":"DATE(YEAR('Réponses au formulaire - copy-c'!A171), MONTH('Réponses au formulaire - copy-c'!A171), DAY('Réponses au formulaire - copy-c'!A171))","v":"2025-01-19"},{"$f":"'Réponses au formulaire - copy-c'!E171","v":"Richard"},{"$f":"'Réponses au formulaire - copy-c'!F171","v":"Lea"},{"$f":"'Réponses au formulaire - copy-c'!H171","v":"F"},{"$f":"IFERROR(INT((DATEVALUE(TODAY())-DATEVALUE(TRIM('Réponses au formulaire - copy-c'!L171)))/365), \"?\")","v":32},"#N/A",32,null,{"$f":"'Réponses au formulaire - copy-c'!I171","v":"lea.p.y.richard@outlook.fr"},{"$f":"'Réponses au formulaire - copy-c'!J171","v":"Chau. de Charleroi 26, 1060 Saint-Gilles, Belgium"},{"$f":"'Réponses au formulaire - copy-c'!K171","v":"0032494182566"},"-",{"$f":"'Réponses au formulaire - copy-c'!O171","v":"Les deux dates sont possibles"},"Les deux",{"$f":"'Réponses au formulaire - copy-c'!Q171","v":"peu importe (si tu as une préférence, coche cette case et ta préférence)"},"Peu importe",{"$f":"'Réponses au formulaire - copy-c'!P171","v":"Pur PJ, PJ/PNJ (il s'agit d'un moment du GN, le reste du temps tu joues ton perso. Cela concerne le fort)), PNJ"},"PJ+PNJ"]
[{"$f":"DATE(YEAR('Réponses au formulaire - copy-c'!A172), MONTH('Réponses au formulaire - copy-c'!A172), DAY('Réponses au formulaire - copy-c'!A172))","v":"2025-01-19"},{"$f":"'Réponses au formulaire - copy-c'!E172","v":"Beeckman"},{"$f":"'Réponses au formulaire - copy-c'!F172","v":"Nathan"},{"$f":"'Réponses au formulaire - copy-c'!H172","v":"H"},{"$f":"IFERROR(INT((DATEVALUE(TODAY())-DATEVALUE(TRIM('Réponses au formulaire - copy-c'!L172)))/365), \"?\")","v":30},30,"#N/A",null,{"$f":"'Réponses au formulaire - copy-c'!I172","v":"nbee@live.be"},{"$f":"'Réponses au formulaire - copy-c'!J172","v":"Avenue d'Itterbeek 105 Anderlecht Bruxelles"},{"$f":"'Réponses au formulaire - copy-c'!K172","v":"+32 471541547"},"-",{"$f":"'Réponses au formulaire - copy-c'!O172","v":"13 et 14 septembre 2025"},"septembre",{"$f":"'Réponses au formulaire - copy-c'!Q172","v":"Navire et fort"},"Navire et fort",{"$f":"'Réponses au formulaire - copy-c'!P172","v":"Pur PJ"},"Pur PJ"]
[{"$f":"DATE(YEAR('Réponses au formulaire - copy-c'!A173), MONTH('Réponses au formulaire - copy-c'!A173), DAY('Réponses au formulaire - copy-c'!A173))","v":"2025-01-19"},{"$f":"'Réponses au formulaire - copy-c'!E173","v":"Philbert"},{"$f":"'Réponses au formulaire - copy-c'!F173","v":"SOPHIE"},{"$f":"'Réponses au formulaire - copy-c'!H173","v":"F"},{"$f":"IFERROR(INT((DATEVALUE(TODAY())-DATEVALUE(TRIM('Réponses au formulaire - copy-c'!L173)))/365), \"?\")","v":41},"#N/A",41,null,{"$f":"'Réponses au formulaire - copy-c'!I173","v":"sofides@wanadoo.fr"},{"$f":"'Réponses au formulaire - copy-c'!J173","v":"24 bis rue Pierre joigneaux bois colombes"},{"$f":"'Réponses au formulaire - copy-c'!K173","v":"0669724980"},"-",{"$f":"'Réponses au formulaire - copy-c'!O173","v":"13 et 14 septembre 2025"},"septembre",{"$f":"'Réponses au formulaire - copy-c'!Q173","v":"Seulement au fort"},"Seulement au fort",{"$f":"'Réponses au formulaire - copy-c'!P173","v":"PJ/PNJ (il s'agit d'un moment du GN, le reste du temps tu joues ton perso. Cela concerne le fort))"},"PJ+PNJ"]
[{"$f":"DATE(YEAR('Réponses au formulaire - copy-c'!A174), MONTH('Réponses au formulaire - copy-c'!A174), DAY('Réponses au formulaire - copy-c'!A174))","v":"2024-01-12"},{"$f":"'Réponses au formulaire - copy-c'!E174","v":"PHILBERT"},{"$f":"'Réponses au formulaire - copy-c'!F174","v":"Charles"},{"$f":"'Réponses au formulaire - copy-c'!H174","v":"H"},{"$f":"IFERROR(INT((DATEVALUE(TODAY())-DATEVALUE(TRIM('Réponses au formulaire - copy-c'!L174)))/365), \"?\")","v":42},42,"#N/A",null,{"$f":"'Réponses au formulaire - copy-c'!I174","v":"Philbert.charles@neuf.fr"},{"$f":"'Réponses au formulaire - copy-c'!J174","v":"24 bis rue pierre joigneaux 92270 bois colombes"},{"$f":"'Réponses au formulaire - copy-c'!K174","v":"0688981791"},"-",{"$f":"'Réponses au formulaire - copy-c'!O174","v":"13 et 14 septembre 2025"},"septembre",{"$f":"'Réponses au formulaire - copy-c'!Q174","v":"Seulement au fort"},"Seulement au fort",{"$f":"'Réponses au formulaire - copy-c'!P174","v":"PJ/PNJ (il s'agit d'un moment du GN, le reste du temps tu joues ton perso. Cela concerne le fort))"},"PJ+PNJ"]
[{"$f":"DATE(YEAR('Réponses au formulaire - copy-c'!A175), MONTH('Réponses au formulaire - copy-c'!A175), DAY('Réponses au formulaire - copy-c'!A175))","v":"2025-01-20"},{"$f":"'Réponses au formulaire - copy-c'!E175","v":"Delahaye "},{"$f":"'Réponses au formulaire - copy-c'!F175","v":"Damien"},{"$f":"'Réponses au formulaire - copy-c'!H175","v":"H"},{"$f":"IFERROR(INT((DATEVALUE(TODAY())-DATEVALUE(TRIM('Réponses au formulaire - copy-c'!L175)))/365), \"?\")","v":32},32,"#N/A",null,{"$f":"'Réponses au formulaire - copy-c'!I175","v":"damien-kidds@hotmail.fr"},{"$f":"'Réponses au formulaire - copy-c'!J175","v":"18 rue René dieras 35470 Guichen "},{"$f":"'Réponses au formulaire - copy-c'!K175","v":"07-85-94-49-12"},"-",{"$f":"'Réponses au formulaire - copy-c'!O175","v":"7 et 8 juin 2025, 13 et 14 septembre 2025"},"Les deux",{"$f":"'Réponses au formulaire - copy-c'!Q175","v":"Navire et fort, peu importe (si tu as une préférence, coche cette case et ta préférence)"},"Peu importe",{"$f":"'Réponses au formulaire - copy-c'!P175","v":"PJ/PNJ (il s'agit d'un moment du GN, le reste du temps tu joues ton perso. Cela concerne le fort))"},"PJ+PNJ"]
[{"$f":"DATE(YEAR('Réponses au formulaire - copy-c'!A176), MONTH('Réponses au formulaire - copy-c'!A176), DAY('Réponses au formulaire - copy-c'!A176))","v":"2025-01-20"},{"$f":"'Réponses au formulaire - copy-c'!E176","v":"Lefebvre"},{"$f":"'Réponses au formulaire - copy-c'!F176","v":"Charline"},{"$f":"'Réponses au formulaire - copy-c'!H176","v":"F"},{"$f":"IFERROR(INT((DATEVALUE(TODAY())-DATEVALUE(TRIM('Réponses au formulaire - copy-c'!L176)))/365), \"?\")","v":26},"#N/A",26,null,{"$f":"'Réponses au formulaire - copy-c'!I176","v":"charline.lefebvre7@orange.fr"},{"$f":"'Réponses au formulaire - copy-c'!J176","v":"18 Rue René Dieras 35580 Guichen"},{"$f":"'Réponses au formulaire - copy-c'!K176","v":"0762276863"},"-",{"$f":"'Réponses au formulaire - copy-c'!O176","v":"Les deux dates sont possibles"},"Les deux",{"$f":"'Réponses au formulaire - copy-c'!Q176","v":"Navire et fort, peu importe (si tu as une préférence, coche cette case et ta préférence)"},"Peu importe",{"$f":"'Réponses au formulaire - copy-c'!P176","v":"PJ/PNJ (il s'agit d'un moment du GN, le reste du temps tu joues ton perso. Cela concerne le fort))"},"PJ+PNJ"]
[{"$f":"DATE(YEAR('Réponses au formulaire - copy-c'!A177), MONTH('Réponses au formulaire - copy-c'!A177), DAY('Réponses au formulaire - copy-c'!A177))","v":"2025-01-20"},{"$f":"'Réponses au formulaire - copy-c'!E177","v":"Pressoir"},{"$f":"'Réponses au formulaire - copy-c'!F177","v":"Valentine"},{"$f":"'Réponses au formulaire - copy-c'!H177","v":"F"},{"$f":"IFERROR(INT((DATEVALUE(TODAY())-DATEVALUE(TRIM('Réponses au formulaire - copy-c'!L177)))/365), \"?\")","v":26},"#N/A",26,null,{"$f":"'Réponses au formulaire - copy-c'!I177","v":"valentine.pressoir@gmail.com"},{"$f":"'Réponses au formulaire - copy-c'!J177","v":"244 Rue du Coin, 74970, Marignier"},{"$f":"'Réponses au formulaire - copy-c'!K177","v":"0645130094"},"-",{"$f":"'Réponses au formulaire - copy-c'!O177","v":"7 et 8 juin 2025"},"juin",{"$f":"'Réponses au formulaire - copy-c'!Q177","v":"Seulement au fort"},"Seulement au fort",{"$f":"'Réponses au formulaire - copy-c'!P177","v":"Pur PJ, PJ/PNJ (il s'agit d'un moment du GN, le reste du temps tu joues ton perso. Cela concerne le fort))"},"PJ+PNJ"]
[{"$f":"DATE(YEAR('Réponses au formulaire - copy-c'!A178), MONTH('Réponses au formulaire - copy-c'!A178), DAY('Réponses au formulaire - copy-c'!A178))","v":"2025-01-21"},{"$f":"'Réponses au formulaire - copy-c'!E178","v":"VOINOT"},{"$f":"'Réponses au formulaire - copy-c'!F178","v":"Sébastien"},{"$f":"'Réponses au formulaire - copy-c'!H178","v":"H"},{"$f":"IFERROR(INT((DATEVALUE(TODAY())-DATEVALUE(TRIM('Réponses au formulaire - copy-c'!L178)))/365), \"?\")","v":50},50,"#N/A",null,{"$f":"'Réponses au formulaire - copy-c'!I178","v":"sebvoinot@yahoo.fr"},{"$f":"'Réponses au formulaire - copy-c'!J178","v":"4 rue d'Avron, 94170 Le Perreux-sur-Marne"},{"$f":"'Réponses au formulaire - copy-c'!K178","v":"0603087308"},"-",{"$f":"'Réponses au formulaire - copy-c'!O178","v":"13 et 14 septembre 2025"},"septembre",{"$f":"'Réponses au formulaire - copy-c'!Q178","v":"Navire et fort"},"Navire et fort",{"$f":"'Réponses au formulaire - copy-c'!P178","v":"Pur PJ"},"Pur PJ"]
[{"$f":"DATE(YEAR('Réponses au formulaire - copy-c'!A179), MONTH('Réponses au formulaire - copy-c'!A179), DAY('Réponses au formulaire - copy-c'!A179))","v":"2025-01-21"},{"$f":"'Réponses au formulaire - copy-c'!E179","v":"Moulin"},{"$f":"'Réponses au formulaire - copy-c'!F179","v":"Philippe"},{"$f":"'Réponses au formulaire - copy-c'!H179","v":"H"},{"$f":"IFERROR(INT((DATEVALUE(TODAY())-DATEVALUE(TRIM('Réponses au formulaire - copy-c'!L179)))/365), \"?\")","v":54},54,"#N/A",null,{"$f":"'Réponses au formulaire - copy-c'!I179","v":"moulin.philippe@gmail.com"},{"$f":"'Réponses au formulaire - copy-c'!J179","v":"49 rue de Châtenay 92160 Antony"},{"$f":"'Réponses au formulaire - copy-c'!K179","v":"0662476913"},"-",{"$f":"'Réponses au formulaire - copy-c'!O179","v":"7 et 8 juin 2025, 13 et 14 septembre 2025, Les deux dates sont possibles"},"Non précisé",{"$f":"'Réponses au formulaire - copy-c'!Q179","v":"Navire et fort"},"Navire et fort",{"$f":"'Réponses au formulaire - copy-c'!P179","v":"PJ/PNJ (il s'agit d'un moment du GN, le reste du temps tu joues ton perso. Cela concerne le fort))"},"PJ+PNJ"]
[{"$f":"DATE(YEAR('Réponses au formulaire - copy-c'!A180), MONTH('Réponses au formulaire - copy-c'!A180), DAY('Réponses au formulaire - copy-c'!A180))","v":"2025-01-21"},{"$f":"'Réponses au formulaire - copy-c'!E180","v":"Rys"},{"$f":"'Réponses au formulaire - copy-c'!F180","v":"Ninon"},{"$f":"'Réponses au formulaire - copy-c'!H180","v":"F"},{"$f":"IFERROR(INT((DATEVALUE(TODAY())-DATEVALUE(TRIM('Réponses au formulaire - copy-c'!L180)))/365), \"?\")","v":35},"#N/A",35,null,{"$f":"'Réponses au formulaire - copy-c'!I180","v":"ninon.rys@gmail.com"},{"$f":"'Réponses au formulaire - copy-c'!J180","v":"138 rue Etienne Marcel"},{"$f":"'Réponses au formulaire - copy-c'!K180","v":"0625906212"},"-",{"$f":"'Réponses au formulaire - copy-c'!O180","v":"7 et 8 juin 2025"},"juin",{"$f":"'Réponses au formulaire - copy-c'!Q180","v":"Navire et fort, peu importe (si tu as une préférence, coche cette case et ta préférence)"},"Peu importe",{"$f":"'Réponses au formulaire - copy-c'!P180","v":"Pur PJ, PJ/PNJ (il s'agit d'un moment du GN, le reste du temps tu joues ton perso. Cela concerne le fort))"},"PJ+PNJ"]
[{"$f":"DATE(YEAR('Réponses au formulaire - copy-c'!A181), MONTH('Réponses au formulaire - copy-c'!A181), DAY('Réponses au formulaire - copy-c'!A181))","v":"2025-01-21"},{"$f":"'Réponses au formulaire - copy-c'!E181","v":"picano"},{"$f":"'Réponses au formulaire - copy-c'!F181","v":"benjamin"},{"$f":"'Réponses au formulaire - copy-c'!H181","v":"H"},{"$f":"IFERROR(INT((DATEVALUE(TODAY())-DATEVALUE(TRIM('Réponses au formulaire - copy-c'!L181)))/365), \"?\")","v":43},43,"#N/A",null,{"$f":"'Réponses au formulaire - copy-c'!I181","v":"hulrek@gmail.com"},{"$f":"'Réponses au formulaire - copy-c'!J181","v":"694 av de mazargues"},{"$f":"'Réponses au formulaire - copy-c'!K181","v":"0664754371"},"-",{"$f":"'Réponses au formulaire - copy-c'!O181","v":"7 et 8 juin 2025"},"juin",{"$f":"'Réponses au formulaire - copy-c'!Q181","v":"Navire et fort"},"Navire et fort",{"$f":"'Réponses au formulaire - copy-c'!P181","v":"Pur PJ"},"Pur PJ"]
[{"$f":"DATE(YEAR('Réponses au formulaire - copy-c'!A182), MONTH('Réponses au formulaire - copy-c'!A182), DAY('Réponses au formulaire - copy-c'!A182))","v":"2025-01-22"},{"$f":"'Réponses au formulaire - copy-c'!E182","v":"Fressange"},{"$f":"'Réponses au formulaire - copy-c'!F182","v":"Zoé"},{"$f":"'Réponses au formulaire - copy-c'!H182","v":"F"},{"$f":"IFERROR(INT((DATEVALUE(TODAY())-DATEVALUE(TRIM('Réponses au formulaire - copy-c'!L182)))/365), \"?\")","v":33},"#N/A",33,null,{"$f":"'Réponses au formulaire - copy-c'!I182","v":"zfressange@gmail.com"},{"$f":"'Réponses au formulaire - copy-c'!J182","v":"8bis allée saint joseph 18570 Trouy"},{"$f":"'Réponses au formulaire - copy-c'!K182","v":"0666012226"},"-",{"$f":"'Réponses au formulaire - copy-c'!O182","v":"7 et 8 juin 2025"},"juin",{"$f":"'Réponses au formulaire - copy-c'!Q182","v":"Seulement au fort"},"Seulement au fort",{"$f":"'Réponses au formulaire - copy-c'!P182","v":"Pur PJ, PJ/PNJ (il s'agit d'un moment du GN, le reste du temps tu joues ton perso. Cela concerne le fort))"},"PJ+PNJ"]
[{"$f":"DATE(YEAR('Réponses au formulaire - copy-c'!A183), MONTH('Réponses au formulaire - copy-c'!A183), DAY('Réponses au formulaire - copy-c'!A183))","v":"2025-01-22"},{"$f":"'Réponses au formulaire - copy-c'!E183","v":"Glapa"},{"$f":"'Réponses au formulaire - copy-c'!F183","v":"Denis"},{"$f":"'Réponses au formulaire - copy-c'!H183","v":"H"},{"$f":"IFERROR(INT((DATEVALUE(TODAY())-DATEVALUE(TRIM('Réponses au formulaire - copy-c'!L183)))/365), \"?\")","v":42},42,"#N/A",null,{"$f":"'Réponses au formulaire - copy-c'!I183","v":"d.glapa@laposte.net"},{"$f":"'Réponses au formulaire - copy-c'!J183","v":"8 bis allee st joseph, 18570 Trouy"},{"$f":"'Réponses au formulaire - copy-c'!K183","v":"0660570605"},"-",{"$f":"'Réponses au formulaire - copy-c'!O183","v":"7 et 8 juin 2025"},"juin",{"$f":"'Réponses au formulaire - copy-c'!Q183","v":"Seulement au fort"},"Seulement au fort",{"$f":"'Réponses au formulaire - copy-c'!P183","v":"Pur PJ, PJ/PNJ (il s'agit d'un moment du GN, le reste du temps tu joues ton perso. Cela concerne le fort))"},"PJ+PNJ"]
[{"$f":"DATE(YEAR('Réponses au formulaire - copy-c'!A184), MONTH('Réponses au formulaire - copy-c'!A184), DAY('Réponses au formulaire - copy-c'!A184))","v":"2025-01-23"},{"$f":"'Réponses au formulaire - copy-c'!E184","v":" Rollin"},{"$f":"'Réponses au formulaire - copy-c'!F184","v":"Cecile"},{"$f":"'Réponses au formulaire - copy-c'!H184","v":"F"},{"$f":"IFERROR(INT((DATEVALUE(TODAY())-DATEVALUE(TRIM('Réponses au formulaire - copy-c'!L184)))/365), \"?\")","v":48},"#N/A",48,null,{"$f":"'Réponses au formulaire - copy-c'!I184","v":"cecile.rollin@gmail.com"},{"$f":"'Réponses au formulaire - copy-c'!J184","v":"30B rue Paul et Camille Thomoux 93330 Neuilly sur Marne "},{"$f":"'Réponses au formulaire - copy-c'!K184","v":"0615362940"},"-",{"$f":"'Réponses au formulaire - copy-c'!O184","v":"13 et 14 septembre 2025"},"septembre",{"$f":"'Réponses au formulaire - copy-c'!Q184","v":"Navire et fort"},"Navire et fort",{"$f":"'Réponses au formulaire - copy-c'!P184","v":"Pur PJ"},"Pur PJ"]
[{"$f":"DATE(YEAR('Réponses au formulaire - copy-c'!A185), MONTH('Réponses au formulaire - copy-c'!A185), DAY('Réponses au formulaire - copy-c'!A185))","v":"3799-12-30"},{"$f":"'Réponses au formulaire - copy-c'!E185","v":""},{"$f":"'Réponses au formulaire - copy-c'!F185","v":""},{"$f":"'Réponses au formulaire - copy-c'!H185","v":""},{"$f":"IFERROR(INT((DATEVALUE(TODAY())-DATEVALUE(TRIM('Réponses au formulaire - copy-c'!L185)))/365), \"?\")","v":"?"},"#N/A","#N/A",null,{"$f":"'Réponses au formulaire - copy-c'!I185","v":""},{"$f":"'Réponses au formulaire - copy-c'!J185","v":""},{"$f":"'Réponses au formulaire - copy-c'!K185","v":""},"-",{"$f":"'Réponses au formulaire - copy-c'!O185","v":""},"Non précisé",{"$f":"'Réponses au formulaire - copy-c'!Q185","v":""},"Peu importe",{"$f":"'Réponses au formulaire - copy-c'!P185","v":""},"PJ+PNJ"]
[{"$f":"DATE(YEAR('Réponses au formulaire - copy-c'!A186), MONTH('Réponses au formulaire - copy-c'!A186), DAY('Réponses au formulaire - copy-c'!A186))","v":"3799-12-30"},{"$f":"'Réponses au formulaire - copy-c'!E186","v":""},{"$f":"'Réponses au formulaire - copy-c'!F186","v":""},{"$f":"'Réponses au formulaire - copy-c'!H186","v":""},{"$f":"IFERROR(INT((DATEVALUE(TODAY())-DATEVALUE(TRIM('Réponses au formulaire - copy-c'!L186)))/365), \"?\")","v":"?"},"#N/A","#N/A",null,{"$f":"'Réponses au formulaire - copy-c'!I186","v":""},{"$f":"'Réponses au formulaire - copy-c'!J186","v":""},{"$f":"'Réponses au formulaire - copy-c'!K186","v":""},"-",{"$f":"'Réponses au formulaire - copy-c'!O186","v":""},"Non précisé",{"$f":"'Réponses au formulaire - copy-c'!Q186","v":""},"Peu importe",{"$f":"'Réponses au formulaire - copy-c'!P186","v":""},"PJ+PNJ"]
[{"$f":"DATE(YEAR('Réponses au formulaire - copy-c'!A187), MONTH('Réponses au formulaire - copy-c'!A187), DAY('Réponses au formulaire - copy-c'!A187))","v":"3799-12-30"},{"$f":"'Réponses au formulaire - copy-c'!E187","v":""},{"$f":"'Réponses au formulaire - copy-c'!F187","v":""},{"$f":"'Réponses au formulaire - copy-c'!H187","v":""},{"$f":"IFERROR(INT((DATEVALUE(TODAY())-DATEVALUE(TRIM('Réponses au formulaire - copy-c'!L187)))/365), \"?\")","v":"?"},"#N/A","#N/A",null,{"$f":"'Réponses au formulaire - copy-c'!I187","v":""},{"$f":"'Réponses au formulaire - copy-c'!J187","v":""},{"$f":"'Réponses au formulaire - copy-c'!K187","v":""},"-",{"$f":"'Réponses au formulaire - copy-c'!O187","v":""},"Non précisé",{"$f":"'Réponses au formulaire - copy-c'!Q187","v":""},"Peu importe",{"$f":"'Réponses au formulaire - copy-c'!P187","v":""},"PJ+PNJ"]
[{"$f":"DATE(YEAR('Réponses au formulaire - copy-c'!A188), MONTH('Réponses au formulaire - copy-c'!A188), DAY('Réponses au formulaire - copy-c'!A188))","v":"3799-12-30"},{"$f":"'Réponses au formulaire - copy-c'!E188","v":""},{"$f":"'Réponses au formulaire - copy-c'!F188","v":""},{"$f":"'Réponses au formulaire - copy-c'!H188","v":""},{"$f":"IFERROR(INT((DATEVALUE(TODAY())-DATEVALUE(TRIM('Réponses au formulaire - copy-c'!L188)))/365), \"?\")","v":"?"},"#N/A","#N/A",null,{"$f":"'Réponses au formulaire - copy-c'!I188","v":""},{"$f":"'Réponses au formulaire - copy-c'!J188","v":""},{"$f":"'Réponses au formulaire - copy-c'!K188","v":""},"-",{"$f":"'Réponses au formulaire - copy-c'!O188","v":""},"Non précisé",{"$f":"'Réponses au formulaire - copy-c'!Q188","v":""},"Peu importe",{"$f":"'Réponses au formulaire - copy-c'!P188","v":""},"PJ+PNJ"]
[{"$f":"DATE(YEAR('Réponses au formulaire - copy-c'!A189), MONTH('Réponses au formulaire - copy-c'!A189), DAY('Réponses au formulaire - copy-c'!A189))","v":"3799-12-30"},{"$f":"'Réponses au formulaire - copy-c'!E189","v":""},{"$f":"'Réponses au formulaire - copy-c'!F189","v":""},{"$f":"'Réponses au formulaire - copy-c'!H189","v":""},{"$f":"IFERROR(INT((DATEVALUE(TODAY())-DATEVALUE(TRIM('Réponses au formulaire - copy-c'!L189)))/365), \"?\")","v":"?"},"#N/A","#N/A",null,{"$f":"'Réponses au formulaire - copy-c'!I189","v":""},{"$f":"'Réponses au formulaire - copy-c'!J189","v":""},{"$f":"'Réponses au formulaire - copy-c'!K189","v":""},"-",{"$f":"'Réponses au formulaire - copy-c'!O189","v":""},"Non précisé",{"$f":"'Réponses au formulaire - copy-c'!Q189","v":""},"Peu importe",{"$f":"'Réponses au formulaire - copy-c'!P189","v":""},"PJ+PNJ"]
[{"$f":"DATE(YEAR('Réponses au formulaire - copy-c'!A190), MONTH('Réponses au formulaire - copy-c'!A190), DAY('Réponses au formulaire - copy-c'!A190))","v":"3799-12-30"},{"$f":"'Réponses au formulaire - copy-c'!E190","v":""},{"$f":"'Réponses au formulaire - copy-c'!F190","v":""},{"$f":"'Réponses au formulaire - copy-c'!H190","v":""},{"$f":"IFERROR(INT((DATEVALUE(TODAY())-DATEVALUE(TRIM('Réponses au formulaire - copy-c'!L190)))/365), \"?\")","v":"?"},"#N/A","#N/A",null,{"$f":"'Réponses au formulaire - copy-c'!I190","v":""},{"$f":"'Réponses au formulaire - copy-c'!J190","v":""},{"$f":"'Réponses au formulaire - copy-c'!K190","v":""},"-",{"$f":"'Réponses au formulaire - copy-c'!O190","v":""},"Non précisé",{"$f":"'Réponses au formulaire - copy-c'!Q190","v":""},"Peu importe",{"$f":"'Réponses au formulaire - copy-c'!P190","v":""},"PJ+PNJ"]
[{"$f":"DATE(YEAR('Réponses au formulaire - copy-c'!A191), MONTH('Réponses au formulaire - copy-c'!A191), DAY('Réponses au formulaire - copy-c'!A191))","v":"3799-12-30"},{"$f":"'Réponses au formulaire - copy-c'!E191","v":""},{"$f":"'Réponses au formulaire - copy-c'!F191","v":""},{"$f":"'Réponses au formulaire - copy-c'!H191","v":""},{"$f":"IFERROR(INT((DATEVALUE(TODAY())-DATEVALUE(TRIM('Réponses au formulaire - copy-c'!L191)))/365), \"?\")","v":"?"},"#N/A","#N/A",null,{"$f":"'Réponses au formulaire - copy-c'!I191","v":""},{"$f":"'Réponses au formulaire - copy-c'!J191","v":""},{"$f":"'Réponses au formulaire - copy-c'!K191","v":""},"-",{"$f":"'Réponses au formulaire - copy-c'!O191","v":""},"Non précisé",{"$f":"'Réponses au formulaire - copy-c'!Q191","v":""},"Peu importe",{"$f":"'Réponses au formulaire - copy-c'!P191","v":""},"PJ+PNJ"]
[{"$f":"DATE(YEAR('Réponses au formulaire - copy-c'!A192), MONTH('Réponses au formulaire - copy-c'!A192), DAY('Réponses au formulaire - copy-c'!A192))","v":"3799-12-30"},{"$f":"'Réponses au formulaire - copy-c'!E192","v":""},{"$f":"'Réponses au formulaire - copy-c'!F192","v":""},{"$f":"'Réponses au formulaire - copy-c'!H192","v":""},{"$f":"IFERROR(INT((DATEVALUE(TODAY())-DATEVALUE(TRIM('Réponses au formulaire - copy-c'!L192)))/365), \"?\")","v":"?"},"#N/A","#N/A",null,{"$f":"'Réponses au formulaire - copy-c'!I192","v":""},{"$f":"'Réponses au formulaire - copy-c'!J192","v":""},{"$f":"'Réponses au formulaire - copy-c'!K192","v":""},"-",{"$f":"'Réponses au formulaire - copy-c'!O192","v":""},"Non précisé",{"$f":"'Réponses au formulaire - copy-c'!Q192","v":""},"Peu importe",{"$f":"'Réponses au formulaire - copy-c'!P192","v":""},"PJ+PNJ"]
[{"$f":"DATE(YEAR('Réponses au formulaire - copy-c'!A193), MONTH('Réponses au formulaire - copy-c'!A193), DAY('Réponses au formulaire - copy-c'!A193))","v":"3799-12-30"},{"$f":"'Réponses au formulaire - copy-c'!E193","v":""},{"$f":"'Réponses au formulaire - copy-c'!F193","v":""},{"$f":"'Réponses au formulaire - copy-c'!H193","v":""},{"$f":"IFERROR(INT((DATEVALUE(TODAY())-DATEVALUE(TRIM('Réponses au formulaire - copy-c'!L193)))/365), \"?\")","v":"?"},"#N/A","#N/A",null,{"$f":"'Réponses au formulaire - copy-c'!I193","v":""},{"$f":"'Réponses au formulaire - copy-c'!J193","v":""},{"$f":"'Réponses au formulaire - copy-c'!K193","v":""},"-",{"$f":"'Réponses au formulaire - copy-c'!O193","v":""},"Non précisé",{"$f":"'Réponses au formulaire - copy-c'!Q193","v":""},"Peu importe",{"$f":"'Réponses au formulaire - copy-c'!P193","v":""},"PJ+PNJ"]
[{"$f":"DATE(YEAR('Réponses au formulaire - copy-c'!A194), MONTH('Réponses au formulaire - copy-c'!A194), DAY('Réponses au formulaire - copy-c'!A194))","v":"3799-12-30"},{"$f":"'Réponses au formulaire - copy-c'!E194","v":""},{"$f":"'Réponses au formulaire - copy-c'!F194","v":""},{"$f":"'Réponses au formulaire - copy-c'!H194","v":""},{"$f":"IFERROR(INT((DATEVALUE(TODAY())-DATEVALUE(TRIM('Réponses au formulaire - copy-c'!L194)))/365), \"?\")","v":"?"},"#N/A","#N/A",null,{"$f":"'Réponses au formulaire - copy-c'!I194","v":""},{"$f":"'Réponses au formulaire - copy-c'!J194","v":""},{"$f":"'Réponses au formulaire - copy-c'!K194","v":""},"-",{"$f":"'Réponses au formulaire - copy-c'!O194","v":""},"Non précisé",{"$f":"'Réponses au formulaire - copy-c'!Q194","v":""},"Peu importe",{"$f":"'Réponses au formulaire - copy-c'!P194","v":""},"PJ+PNJ"]
[{"$f":"DATE(YEAR('Réponses au formulaire - copy-c'!A195), MONTH('Réponses au formulaire - copy-c'!A195), DAY('Réponses au formulaire - copy-c'!A195))","v":"3799-12-30"},{"$f":"'Réponses au formulaire - copy-c'!E195","v":""},{"$f":"'Réponses au formulaire - copy-c'!F195","v":""},{"$f":"'Réponses au formulaire - copy-c'!H195","v":""},{"$f":"IFERROR(INT((DATEVALUE(TODAY())-DATEVALUE(TRIM('Réponses au formulaire - copy-c'!L195)))/365), \"?\")","v":"?"},"#N/A","#N/A",null,{"$f":"'Réponses au formulaire - copy-c'!I195","v":""},{"$f":"'Réponses au formulaire - copy-c'!J195","v":""},{"$f":"'Réponses au formulaire - copy-c'!K195","v":""},"-",{"$f":"'Réponses au formulaire - copy-c'!O195","v":""},"Non précisé",{"$f":"'Réponses au formulaire - copy-c'!Q195","v":""},"Peu importe",{"$f":"'Réponses au formulaire - copy-c'!P195","v":""},"PJ+PNJ"]
[{"$f":"DATE(YEAR('Réponses au formulaire - copy-c'!A196), MONTH('Réponses au formulaire - copy-c'!A196), DAY('Réponses au formulaire - copy-c'!A196))","v":"3799-12-30"},{"$f":"'Réponses au formulaire - copy-c'!E196","v":""},{"$f":"'Réponses au formulaire - copy-c'!F196","v":""},{"$f":"'Réponses au formulaire - copy-c'!H196","v":""},{"$f":"IFERROR(INT((DATEVALUE(TODAY())-DATEVALUE(TRIM('Réponses au formulaire - copy-c'!L196)))/365), \"?\")","v":"?"},"#N/A","#N/A",null,{"$f":"'Réponses au formulaire - copy-c'!I196","v":""},{"$f":"'Réponses au formulaire - copy-c'!J196","v":""},{"$f":"'Réponses au formulaire - copy-c'!K196","v":""},"-",{"$f":"'Réponses au formulaire - copy-c'!O196","v":""},"Non précisé",{"$f":"'Réponses au formulaire - copy-c'!Q196","v":""},"Peu importe",{"$f":"'Réponses au formulaire - copy-c'!P196","v":""},"PJ+PNJ"]
[{"$f":"DATE(YEAR('Réponses au formulaire - copy-c'!A197), MONTH('Réponses au formulaire - copy-c'!A197), DAY('Réponses au formulaire - copy-c'!A197))","v":"3799-12-30"},{"$f":"'Réponses au formulaire - copy-c'!E197","v":""},{"$f":"'Réponses au formulaire - copy-c'!F197","v":""},{"$f":"'Réponses au formulaire - copy-c'!H197","v":""},{"$f":"IFERROR(INT((DATEVALUE(TODAY())-DATEVALUE(TRIM('Réponses au formulaire - copy-c'!L197)))/365), \"?\")","v":"?"},"#N/A","#N/A",null,{"$f":"'Réponses au formulaire - copy-c'!I197","v":""},{"$f":"'Réponses au formulaire - copy-c'!J197","v":""},{"$f":"'Réponses au formulaire - copy-c'!K197","v":""},"-",{"$f":"'Réponses au formulaire - copy-c'!O197","v":""},"Non précisé",{"$f":"'Réponses au formulaire - copy-c'!Q197","v":""},"Peu importe",{"$f":"'Réponses au formulaire - copy-c'!P197","v":""},"PJ+PNJ"]
[{"$f":"DATE(YEAR('Réponses au formulaire - copy-c'!A198), MONTH('Réponses au formulaire - copy-c'!A198), DAY('Réponses au formulaire - copy-c'!A198))","v":"3799-12-30"},{"$f":"'Réponses au formulaire - copy-c'!E198","v":""},{"$f":"'Réponses au formulaire - copy-c'!F198","v":""},{"$f":"'Réponses au formulaire - copy-c'!H198","v":""},{"$f":"IFERROR(INT((DATEVALUE(TODAY())-DATEVALUE(TRIM('Réponses au formulaire - copy-c'!L198)))/365), \"?\")","v":"?"},"#N/A","#N/A",null,{"$f":"'Réponses au formulaire - copy-c'!I198","v":""},{"$f":"'Réponses au formulaire - copy-c'!J198","v":""},{"$f":"'Réponses au formulaire - copy-c'!K198","v":""},"-",{"$f":"'Réponses au formulaire - copy-c'!O198","v":""},"Non précisé",{"$f":"'Réponses au formulaire - copy-c'!Q198","v":""},"Peu importe",{"$f":"'Réponses au formulaire - copy-c'!P198","v":""},"PJ+PNJ"]
[{"$f":"DATE(YEAR('Réponses au formulaire - copy-c'!A199), MONTH('Réponses au formulaire - copy-c'!A199), DAY('Réponses au formulaire - copy-c'!A199))","v":"3799-12-30"},{"$f":"'Réponses au formulaire - copy-c'!E199","v":""},{"$f":"'Réponses au formulaire - copy-c'!F199","v":""},{"$f":"'Réponses au formulaire - copy-c'!H199","v":""},{"$f":"IFERROR(INT((DATEVALUE(TODAY())-DATEVALUE(TRIM('Réponses au formulaire - copy-c'!L199)))/365), \"?\")","v":"?"},"#N/A","#N/A",null,{"$f":"'Réponses au formulaire - copy-c'!I199","v":""},{"$f":"'Réponses au formulaire - copy-c'!J199","v":""},{"$f":"'Réponses au formulaire - copy-c'!K199","v":""},"-",{"$f":"'Réponses au formulaire - copy-c'!O199","v":""},"Non précisé",{"$f":"'Réponses au formulaire - copy-c'!Q199","v":""},"Peu importe",{"$f":"'Réponses au formulaire - copy-c'!P199","v":""},"PJ+PNJ"]
[{"$f":"DATE(YEAR('Réponses au formulaire - copy-c'!A200), MONTH('Réponses au formulaire - copy-c'!A200), DAY('Réponses au formulaire - copy-c'!A200))","v":"3799-12-30"},{"$f":"'Réponses au formulaire - copy-c'!E200","v":""},{"$f":"'Réponses au formulaire - copy-c'!F200","v":""},{"$f":"'Réponses au formulaire - copy-c'!H200","v":""},{"$f":"IFERROR(INT((DATEVALUE(TODAY())-DATEVALUE(TRIM('Réponses au formulaire - copy-c'!L200)))/365), \"?\")","v":"?"},"#N/A","#N/A",null,{"$f":"'Réponses au formulaire - copy-c'!I200","v":""},{"$f":"'Réponses au formulaire - copy-c'!J200","v":""},{"$f":"'Réponses au formulaire - copy-c'!K200","v":""},"-",{"$f":"'Réponses au formulaire - copy-c'!O200","v":""},"Non précisé",{"$f":"'Réponses au formulaire - copy-c'!Q200","v":""},"Peu importe",{"$f":"'Réponses au formulaire - copy-c'!P200","v":""},"PJ+PNJ"]
[{"$f":"DATE(YEAR('Réponses au formulaire - copy-c'!A201), MONTH('Réponses au formulaire - copy-c'!A201), DAY('Réponses au formulaire - copy-c'!A201))","v":"3799-12-30"},{"$f":"'Réponses au formulaire - copy-c'!E201","v":""},{"$f":"'Réponses au formulaire - copy-c'!F201","v":""},{"$f":"'Réponses au formulaire - copy-c'!H201","v":""},{"$f":"IFERROR(INT((DATEVALUE(TODAY())-DATEVALUE(TRIM('Réponses au formulaire - copy-c'!L201)))/365), \"?\")","v":"?"},"#N/A","#N/A",null,{"$f":"'Réponses au formulaire - copy-c'!I201","v":""},{"$f":"'Réponses au formulaire - copy-c'!J201","v":""},{"$f":"'Réponses au formulaire - copy-c'!K201","v":""},"-",{"$f":"'Réponses au formulaire - copy-c'!O201","v":""},"Non précisé",{"$f":"'Réponses au formulaire - copy-c'!Q201","v":""},"Peu importe",{"$f":"'Réponses au formulaire - copy-c'!P201","v":""},"PJ+PNJ"]
[{"$f":"DATE(YEAR('Réponses au formulaire - copy-c'!A202), MONTH('Réponses au formulaire - copy-c'!A202), DAY('Réponses au formulaire - copy-c'!A202))","v":"3799-12-30"},{"$f":"'Réponses au formulaire - copy-c'!E202","v":""},{"$f":"'Réponses au formulaire - copy-c'!F202","v":""},{"$f":"'Réponses au formulaire - copy-c'!H202","v":""},{"$f":"IFERROR(INT((DATEVALUE(TODAY())-DATEVALUE(TRIM('Réponses au formulaire - copy-c'!L202)))/365), \"?\")","v":"?"},"#N/A","#N/A",null,{"$f":"'Réponses au formulaire - copy-c'!I202","v":""},{"$f":"'Réponses au formulaire - copy-c'!J202","v":""},{"$f":"'Réponses au formulaire - copy-c'!K202","v":""},"-",{"$f":"'Réponses au formulaire - copy-c'!O202","v":""},"Non précisé",{"$f":"'Réponses au formulaire - copy-c'!Q202","v":""},"Peu importe",{"$f":"'Réponses au formulaire - copy-c'!P202","v":""},"PJ+PNJ"]
[{"$f":"DATE(YEAR('Réponses au formulaire - copy-c'!A203), MONTH('Réponses au formulaire - copy-c'!A203), DAY('Réponses au formulaire - copy-c'!A203))","v":"3799-12-30"},{"$f":"'Réponses au formulaire - copy-c'!E203","v":""},{"$f":"'Réponses au formulaire - copy-c'!F203","v":""},{"$f":"'Réponses au formulaire - copy-c'!H203","v":""},{"$f":"IFERROR(INT((DATEVALUE(TODAY())-DATEVALUE(TRIM('Réponses au formulaire - copy-c'!L203)))/365), \"?\")","v":"?"},"#N/A","#N/A",null,{"$f":"'Réponses au formulaire - copy-c'!I203","v":""},{"$f":"'Réponses au formulaire - copy-c'!J203","v":""},{"$f":"'Réponses au formulaire - copy-c'!K203","v":""},"-",{"$f":"'Réponses au formulaire - copy-c'!O203","v":""},"Non précisé",{"$f":"'Réponses au formulaire - copy-c'!Q203","v":""},"Peu importe",{"$f":"'Réponses au formulaire - copy-c'!P203","v":""},"PJ+PNJ"]
[{"$f":"DATE(YEAR('Réponses au formulaire - copy-c'!A204), MONTH('Réponses au formulaire - copy-c'!A204), DAY('Réponses au formulaire - copy-c'!A204))","v":"3799-12-30"},{"$f":"'Réponses au formulaire - copy-c'!E204","v":""},{"$f":"'Réponses au formulaire - copy-c'!F204","v":""},{"$f":"'Réponses au formulaire - copy-c'!H204","v":""},{"$f":"IFERROR(INT((DATEVALUE(TODAY())-DATEVALUE(TRIM('Réponses au formulaire - copy-c'!L204)))/365), \"?\")","v":"?"},"#N/A","#N/A",null,{"$f":"'Réponses au formulaire - copy-c'!I204","v":""},{"$f":"'Réponses au formulaire - copy-c'!J204","v":""},{"$f":"'Réponses au formulaire - copy-c'!K204","v":""},"-",{"$f":"'Réponses au formulaire - copy-c'!O204","v":""},"Non précisé",{"$f":"'Réponses au formulaire - copy-c'!Q204","v":""},"Peu importe",{"$f":"'Réponses au formulaire - copy-c'!P204","v":""},"PJ+PNJ"]
[{"$f":"DATE(YEAR('Réponses au formulaire - copy-c'!A205), MONTH('Réponses au formulaire - copy-c'!A205), DAY('Réponses au formulaire - copy-c'!A205))","v":"3799-12-30"},{"$f":"'Réponses au formulaire - copy-c'!E205","v":""},{"$f":"'Réponses au formulaire - copy-c'!F205","v":""},{"$f":"'Réponses au formulaire - copy-c'!H205","v":""},{"$f":"IFERROR(INT((DATEVALUE(TODAY())-DATEVALUE(TRIM('Réponses au formulaire - copy-c'!L205)))/365), \"?\")","v":"?"},"#N/A","#N/A",null,{"$f":"'Réponses au formulaire - copy-c'!I205","v":""},{"$f":"'Réponses au formulaire - copy-c'!J205","v":""},{"$f":"'Réponses au formulaire - copy-c'!K205","v":""},"-",{"$f":"'Réponses au formulaire - copy-c'!O205","v":""},"Non précisé",{"$f":"'Réponses au formulaire - copy-c'!Q205","v":""},"Peu importe",{"$f":"'Réponses au formulaire - copy-c'!P205","v":""},"PJ+PNJ"]
[{"$f":"DATE(YEAR('Réponses au formulaire - copy-c'!A206), MONTH('Réponses au formulaire - copy-c'!A206), DAY('Réponses au formulaire - copy-c'!A206))","v":"3799-12-30"},{"$f":"'Réponses au formulaire - copy-c'!E206","v":""},{"$f":"'Réponses au formulaire - copy-c'!F206","v":""},{"$f":"'Réponses au formulaire - copy-c'!H206","v":""},{"$f":"IFERROR(INT((DATEVALUE(TODAY())-DATEVALUE(TRIM('Réponses au formulaire - copy-c'!L206)))/365), \"?\")","v":"?"},"#N/A","#N/A",null,{"$f":"'Réponses au formulaire - copy-c'!I206","v":""},{"$f":"'Réponses au formulaire - copy-c'!J206","v":""},{"$f":"'Réponses au formulaire - copy-c'!K206","v":""},"-",{"$f":"'Réponses au formulaire - copy-c'!O206","v":""},"Non précisé",{"$f":"'Réponses au formulaire - copy-c'!Q206","v":""},"Peu importe",{"$f":"'Réponses au formulaire - copy-c'!P206","v":""},"PJ+PNJ"]
[{"$f":"DATE(YEAR('Réponses au formulaire - copy-c'!A207), MONTH('Réponses au formulaire - copy-c'!A207), DAY('Réponses au formulaire - copy-c'!A207))","v":"3799-12-30"},{"$f":"'Réponses au formulaire - copy-c'!E207","v":""},{"$f":"'Réponses au formulaire - copy-c'!F207","v":""},{"$f":"'Réponses au formulaire - copy-c'!H207","v":""},{"$f":"IFERROR(INT((DATEVALUE(TODAY())-DATEVALUE(TRIM('Réponses au formulaire - copy-c'!L207)))/365), \"?\")","v":"?"},"#N/A","#N/A",null,{"$f":"'Réponses au formulaire - copy-c'!I207","v":""},{"$f":"'Réponses au formulaire - copy-c'!J207","v":""},{"$f":"'Réponses au formulaire - copy-c'!K207","v":""},"-",{"$f":"'Réponses au formulaire - copy-c'!O207","v":""},"Non précisé",{"$f":"'Réponses au formulaire - copy-c'!Q207","v":""},"Peu importe",{"$f":"'Réponses au formulaire - copy-c'!P207","v":""},"PJ+PNJ"]
[{"$f":"DATE(YEAR('Réponses au formulaire - copy-c'!A208), MONTH('Réponses au formulaire - copy-c'!A208), DAY('Réponses au formulaire - copy-c'!A208))","v":"3799-12-30"},{"$f":"'Réponses au formulaire - copy-c'!E208","v":""},{"$f":"'Réponses au formulaire - copy-c'!F208","v":""},{"$f":"'Réponses au formulaire - copy-c'!H208","v":""},{"$f":"IFERROR(INT((DATEVALUE(TODAY())-DATEVALUE(TRIM('Réponses au formulaire - copy-c'!L208)))/365), \"?\")","v":"?"},"#N/A","#N/A",null,{"$f":"'Réponses au formulaire - copy-c'!I208","v":""},{"$f":"'Réponses au formulaire - copy-c'!J208","v":""},{"$f":"'Réponses au formulaire - copy-c'!K208","v":""},"-",{"$f":"'Réponses au formulaire - copy-c'!O208","v":""},"Non précisé",{"$f":"'Réponses au formulaire - copy-c'!Q208","v":""},"Peu importe",{"$f":"'Réponses au formulaire - copy-c'!P208","v":""},"PJ+PNJ"]
[{"$f":"DATE(YEAR('Réponses au formulaire - copy-c'!A209), MONTH('Réponses au formulaire - copy-c'!A209), DAY('Réponses au formulaire - copy-c'!A209))","v":"3799-12-30"},{"$f":"'Réponses au formulaire - copy-c'!E209","v":""},{"$f":"'Réponses au formulaire - copy-c'!F209","v":""},{"$f":"'Réponses au formulaire - copy-c'!H209","v":""},{"$f":"IFERROR(INT((DATEVALUE(TODAY())-DATEVALUE(TRIM('Réponses au formulaire - copy-c'!L209)))/365), \"?\")","v":"?"},"#N/A","#N/A",null,{"$f":"'Réponses au formulaire - copy-c'!I209","v":""},{"$f":"'Réponses au formulaire - copy-c'!J209","v":""},{"$f":"'Réponses au formulaire - copy-c'!K209","v":""},"-",{"$f":"'Réponses au formulaire - copy-c'!O209","v":""},"Non précisé",{"$f":"'Réponses au formulaire - copy-c'!Q209","v":""},"Peu importe",{"$f":"'Réponses au formulaire - copy-c'!P209","v":""},"PJ+PNJ"]
[{"$f":"DATE(YEAR('Réponses au formulaire - copy-c'!A210), MONTH('Réponses au formulaire - copy-c'!A210), DAY('Réponses au formulaire - copy-c'!A210))","v":"3799-12-30"},{"$f":"'Réponses au formulaire - copy-c'!E210","v":""},{"$f":"'Réponses au formulaire - copy-c'!F210","v":""},{"$f":"'Réponses au formulaire - copy-c'!H210","v":""},{"$f":"IFERROR(INT((DATEVALUE(TODAY())-DATEVALUE(TRIM('Réponses au formulaire - copy-c'!L210)))/365), \"?\")","v":"?"},"#N/A","#N/A",null,{"$f":"'Réponses au formulaire - copy-c'!I210","v":""},{"$f":"'Réponses au formulaire - copy-c'!J210","v":""},{"$f":"'Réponses au formulaire - copy-c'!K210","v":""},"-",{"$f":"'Réponses au formulaire - copy-c'!O210","v":""},"Non précisé",{"$f":"'Réponses au formulaire - copy-c'!Q210","v":""},"Peu importe",{"$f":"'Réponses au formulaire - copy-c'!P210","v":""},"PJ+PNJ"]
[{"$f":"DATE(YEAR('Réponses au formulaire - copy-c'!A211), MONTH('Réponses au formulaire - copy-c'!A211), DAY('Réponses au formulaire - copy-c'!A211))","v":"3799-12-30"},{"$f":"'Réponses au formulaire - copy-c'!E211","v":""},{"$f":"'Réponses au formulaire - copy-c'!F211","v":""},{"$f":"'Réponses au formulaire - copy-c'!H211","v":""},{"$f":"IFERROR(INT((DATEVALUE(TODAY())-DATEVALUE(TRIM('Réponses au formulaire - copy-c'!L211)))/365), \"?\")","v":"?"},"#N/A","#N/A",null,{"$f":"'Réponses au formulaire - copy-c'!I211","v":""},{"$f":"'Réponses au formulaire - copy-c'!J211","v":""},{"$f":"'Réponses au formulaire - copy-c'!K211","v":""},"-",{"$f":"'Réponses au formulaire - copy-c'!O211","v":""},"Non précisé",{"$f":"'Réponses au formulaire - copy-c'!Q211","v":""},"Peu importe",{"$f":"'Réponses au formulaire - copy-c'!P211","v":""},"PJ+PNJ"]
[{"$f":"DATE(YEAR('Réponses au formulaire - copy-c'!A212), MONTH('Réponses au formulaire - copy-c'!A212), DAY('Réponses au formulaire - copy-c'!A212))","v":"3799-12-30"},{"$f":"'Réponses au formulaire - copy-c'!E212","v":""},{"$f":"'Réponses au formulaire - copy-c'!F212","v":""},{"$f":"'Réponses au formulaire - copy-c'!H212","v":""},{"$f":"IFERROR(INT((DATEVALUE(TODAY())-DATEVALUE(TRIM('Réponses au formulaire - copy-c'!L212)))/365), \"?\")","v":"?"},"#N/A","#N/A",null,{"$f":"'Réponses au formulaire - copy-c'!I212","v":""},{"$f":"'Réponses au formulaire - copy-c'!J212","v":""},{"$f":"'Réponses au formulaire - copy-c'!K212","v":""},"-",{"$f":"'Réponses au formulaire - copy-c'!O212","v":""},"Non précisé",{"$f":"'Réponses au formulaire - copy-c'!Q212","v":""},"Peu importe",{"$f":"'Réponses au formulaire - copy-c'!P212","v":""},"PJ+PNJ"]
[{"$f":"DATE(YEAR('Réponses au formulaire - copy-c'!A213), MONTH('Réponses au formulaire - copy-c'!A213), DAY('Réponses au formulaire - copy-c'!A213))","v":"3799-12-30"},{"$f":"'Réponses au formulaire - copy-c'!E213","v":""},{"$f":"'Réponses au formulaire - copy-c'!F213","v":""},{"$f":"'Réponses au formulaire - copy-c'!H213","v":""},{"$f":"IFERROR(INT((DATEVALUE(TODAY())-DATEVALUE(TRIM('Réponses au formulaire - copy-c'!L213)))/365), \"?\")","v":"?"},"#N/A","#N/A",null,{"$f":"'Réponses au formulaire - copy-c'!I213","v":""},{"$f":"'Réponses au formulaire - copy-c'!J213","v":""},{"$f":"'Réponses au formulaire - copy-c'!K213","v":""},"-",{"$f":"'Réponses au formulaire - copy-c'!O213","v":""},"Non précisé",{"$f":"'Réponses au formulaire - copy-c'!Q213","v":""},"Peu importe",{"$f":"'Réponses au formulaire - copy-c'!P213","v":""},"PJ+PNJ"]
[{"$f":"DATE(YEAR('Réponses au formulaire - copy-c'!A214), MONTH('Réponses au formulaire - copy-c'!A214), DAY('Réponses au formulaire - copy-c'!A214))","v":"3799-12-30"},{"$f":"'Réponses au formulaire - copy-c'!E214","v":""},{"$f":"'Réponses au formulaire - copy-c'!F214","v":""},{"$f":"'Réponses au formulaire - copy-c'!H214","v":""},{"$f":"IFERROR(INT((DATEVALUE(TODAY())-DATEVALUE(TRIM('Réponses au formulaire - copy-c'!L214)))/365), \"?\")","v":"?"},"#N/A","#N/A",null,{"$f":"'Réponses au formulaire - copy-c'!I214","v":""},{"$f":"'Réponses au formulaire - copy-c'!J214","v":""},{"$f":"'Réponses au formulaire - copy-c'!K214","v":""},"-",{"$f":"'Réponses au formulaire - copy-c'!O214","v":""},"Non précisé",{"$f":"'Réponses au formulaire - copy-c'!Q214","v":""},"Peu importe",{"$f":"'Réponses au formulaire - copy-c'!P214","v":""},"PJ+PNJ"]
[{"$f":"DATE(YEAR('Réponses au formulaire - copy-c'!A215), MONTH('Réponses au formulaire - copy-c'!A215), DAY('Réponses au formulaire - copy-c'!A215))","v":"3799-12-30"},{"$f":"'Réponses au formulaire - copy-c'!E215","v":""},{"$f":"'Réponses au formulaire - copy-c'!F215","v":""},{"$f":"'Réponses au formulaire - copy-c'!H215","v":""},{"$f":"IFERROR(INT((DATEVALUE(TODAY())-DATEVALUE(TRIM('Réponses au formulaire - copy-c'!L215)))/365), \"?\")","v":"?"},"#N/A","#N/A",null,{"$f":"'Réponses au formulaire - copy-c'!I215","v":""},{"$f":"'Réponses au formulaire - copy-c'!J215","v":""},{"$f":"'Réponses au formulaire - copy-c'!K215","v":""},"-",{"$f":"'Réponses au formulaire - copy-c'!O215","v":""},"Non précisé",{"$f":"'Réponses au formulaire - copy-c'!Q215","v":""},"Peu importe",{"$f":"'Réponses au formulaire - copy-c'!P215","v":""},"PJ+PNJ"]
[{"$f":"DATE(YEAR('Réponses au formulaire - copy-c'!A216), MONTH('Réponses au formulaire - copy-c'!A216), DAY('Réponses au formulaire - copy-c'!A216))","v":"3799-12-30"},{"$f":"'Réponses au formulaire - copy-c'!E216","v":""},{"$f":"'Réponses au formulaire - copy-c'!F216","v":""},{"$f":"'Réponses au formulaire - copy-c'!H216","v":""},{"$f":"IFERROR(INT((DATEVALUE(TODAY())-DATEVALUE(TRIM('Réponses au formulaire - copy-c'!L216)))/365), \"?\")","v":"?"},"#N/A","#N/A",null,{"$f":"'Réponses au formulaire - copy-c'!I216","v":""},{"$f":"'Réponses au formulaire - copy-c'!J216","v":""},{"$f":"'Réponses au formulaire - copy-c'!K216","v":""},"-",{"$f":"'Réponses au formulaire - copy-c'!O216","v":""},"Non précisé",{"$f":"'Réponses au formulaire - copy-c'!Q216","v":""},"Peu importe",{"$f":"'Réponses au formulaire - copy-c'!P216","v":""},"PJ+PNJ"]
[{"$f":"DATE(YEAR('Réponses au formulaire - copy-c'!A217), MONTH('Réponses au formulaire - copy-c'!A217), DAY('Réponses au formulaire - copy-c'!A217))","v":"3799-12-30"},{"$f":"'Réponses au formulaire - copy-c'!E217","v":""},{"$f":"'Réponses au formulaire - copy-c'!F217","v":""},{"$f":"'Réponses au formulaire - copy-c'!H217","v":""},{"$f":"IFERROR(INT((DATEVALUE(TODAY())-DATEVALUE(TRIM('Réponses au formulaire - copy-c'!L217)))/365), \"?\")","v":"?"},"#N/A","#N/A",null,{"$f":"'Réponses au formulaire - copy-c'!I217","v":""},{"$f":"'Réponses au formulaire - copy-c'!J217","v":""},{"$f":"'Réponses au formulaire - copy-c'!K217","v":""},"-",{"$f":"'Réponses au formulaire - copy-c'!O217","v":""},"Non précisé",{"$f":"'Réponses au formulaire - copy-c'!Q217","v":""},"Peu importe",{"$f":"'Réponses au formulaire - copy-c'!P217","v":""},"PJ+PNJ"]
[{"$f":"DATE(YEAR('Réponses au formulaire - copy-c'!A218), MONTH('Réponses au formulaire - copy-c'!A218), DAY('Réponses au formulaire - copy-c'!A218))","v":"3799-12-30"},{"$f":"'Réponses au formulaire - copy-c'!E218","v":""},{"$f":"'Réponses au formulaire - copy-c'!F218","v":""},{"$f":"'Réponses au formulaire - copy-c'!H218","v":""},{"$f":"IFERROR(INT((DATEVALUE(TODAY())-DATEVALUE(TRIM('Réponses au formulaire - copy-c'!L218)))/365), \"?\")","v":"?"},"#N/A","#N/A",null,{"$f":"'Réponses au formulaire - copy-c'!I218","v":""},{"$f":"'Réponses au formulaire - copy-c'!J218","v":""},{"$f":"'Réponses au formulaire - copy-c'!K218","v":""},"-",{"$f":"'Réponses au formulaire - copy-c'!O218","v":""},"Non précisé",{"$f":"'Réponses au formulaire - copy-c'!Q218","v":""},"Peu importe",{"$f":"'Réponses au formulaire - copy-c'!P218","v":""},"PJ+PNJ"]
[{"$f":"DATE(YEAR('Réponses au formulaire - copy-c'!A219), MONTH('Réponses au formulaire - copy-c'!A219), DAY('Réponses au formulaire - copy-c'!A219))","v":"3799-12-30"},{"$f":"'Réponses au formulaire - copy-c'!E219","v":""},{"$f":"'Réponses au formulaire - copy-c'!F219","v":""},{"$f":"'Réponses au formulaire - copy-c'!H219","v":""},{"$f":"IFERROR(INT((DATEVALUE(TODAY())-DATEVALUE(TRIM('Réponses au formulaire - copy-c'!L219)))/365), \"?\")","v":"?"},"#N/A","#N/A",null,{"$f":"'Réponses au formulaire - copy-c'!I219","v":""},{"$f":"'Réponses au formulaire - copy-c'!J219","v":""},{"$f":"'Réponses au formulaire - copy-c'!K219","v":""},"-",{"$f":"'Réponses au formulaire - copy-c'!O219","v":""},"Non précisé",{"$f":"'Réponses au formulaire - copy-c'!Q219","v":""},"Peu importe",{"$f":"'Réponses au formulaire - copy-c'!P219","v":""},"PJ+PNJ"]
[{"$f":"DATE(YEAR('Réponses au formulaire - copy-c'!A220), MONTH('Réponses au formulaire - copy-c'!A220), DAY('Réponses au formulaire - copy-c'!A220))","v":"3799-12-30"},{"$f":"'Réponses au formulaire - copy-c'!E220","v":""},{"$f":"'Réponses au formulaire - copy-c'!F220","v":""},{"$f":"'Réponses au formulaire - copy-c'!H220","v":""},{"$f":"IFERROR(INT((DATEVALUE(TODAY())-DATEVALUE(TRIM('Réponses au formulaire - copy-c'!L220)))/365), \"?\")","v":"?"},"#N/A","#N/A",null,{"$f":"'Réponses au formulaire - copy-c'!I220","v":""},{"$f":"'Réponses au formulaire - copy-c'!J220","v":""},{"$f":"'Réponses au formulaire - copy-c'!K220","v":""},"-",{"$f":"'Réponses au formulaire - copy-c'!O220","v":""},"Non précisé",{"$f":"'Réponses au formulaire - copy-c'!Q220","v":""},"Peu importe",{"$f":"'Réponses au formulaire - copy-c'!P220","v":""},"PJ+PNJ"]
[{"$f":"DATE(YEAR('Réponses au formulaire - copy-c'!A221), MONTH('Réponses au formulaire - copy-c'!A221), DAY('Réponses au formulaire - copy-c'!A221))","v":"3799-12-30"},{"$f":"'Réponses au formulaire - copy-c'!E221","v":""},{"$f":"'Réponses au formulaire - copy-c'!F221","v":""},{"$f":"'Réponses au formulaire - copy-c'!H221","v":""},{"$f":"IFERROR(INT((DATEVALUE(TODAY())-DATEVALUE(TRIM('Réponses au formulaire - copy-c'!L221)))/365), \"?\")","v":"?"},"#N/A","#N/A",null,{"$f":"'Réponses au formulaire - copy-c'!I221","v":""},{"$f":"'Réponses au formulaire - copy-c'!J221","v":""},{"$f":"'Réponses au formulaire - copy-c'!K221","v":""},"-",{"$f":"'Réponses au formulaire - copy-c'!O221","v":""},"Non précisé",{"$f":"'Réponses au formulaire - copy-c'!Q221","v":""},"Peu importe",{"$f":"'Réponses au formulaire - copy-c'!P221","v":""},"PJ+PNJ"]
[{"$f":"DATE(YEAR('Réponses au formulaire - copy-c'!A222), MONTH('Réponses au formulaire - copy-c'!A222), DAY('Réponses au formulaire - copy-c'!A222))","v":"3799-12-30"},{"$f":"'Réponses au formulaire - copy-c'!E222","v":""},{"$f":"'Réponses au formulaire - copy-c'!F222","v":""},{"$f":"'Réponses au formulaire - copy-c'!H222","v":""},{"$f":"IFERROR(INT((DATEVALUE(TODAY())-DATEVALUE(TRIM('Réponses au formulaire - copy-c'!L222)))/365), \"?\")","v":"?"},"#N/A","#N/A",null,{"$f":"'Réponses au formulaire - copy-c'!I222","v":""},{"$f":"'Réponses au formulaire - copy-c'!J222","v":""},{"$f":"'Réponses au formulaire - copy-c'!K222","v":""},"-",{"$f":"'Réponses au formulaire - copy-c'!O222","v":""},"Non précisé",{"$f":"'Réponses au formulaire - copy-c'!Q222","v":""},"Peu importe",{"$f":"'Réponses au formulaire - copy-c'!P222","v":""},"PJ+PNJ"]
[{"$f":"DATE(YEAR('Réponses au formulaire - copy-c'!A223), MONTH('Réponses au formulaire - copy-c'!A223), DAY('Réponses au formulaire - copy-c'!A223))","v":"3799-12-30"},{"$f":"'Réponses au formulaire - copy-c'!E223","v":""},{"$f":"'Réponses au formulaire - copy-c'!F223","v":""},{"$f":"'Réponses au formulaire - copy-c'!H223","v":""},{"$f":"IFERROR(INT((DATEVALUE(TODAY())-DATEVALUE(TRIM('Réponses au formulaire - copy-c'!L223)))/365), \"?\")","v":"?"},"#N/A","#N/A",null,{"$f":"'Réponses au formulaire - copy-c'!I223","v":""},{"$f":"'Réponses au formulaire - copy-c'!J223","v":""},{"$f":"'Réponses au formulaire - copy-c'!K223","v":""},"-",{"$f":"'Réponses au formulaire - copy-c'!O223","v":""},"Non précisé",{"$f":"'Réponses au formulaire - copy-c'!Q223","v":""},"Peu importe",{"$f":"'Réponses au formulaire - copy-c'!P223","v":""},"PJ+PNJ"]
[{"$f":"DATE(YEAR('Réponses au formulaire - copy-c'!A224), MONTH('Réponses au formulaire - copy-c'!A224), DAY('Réponses au formulaire - copy-c'!A224))","v":"3799-12-30"},{"$f":"'Réponses au formulaire - copy-c'!E224","v":""},{"$f":"'Réponses au formulaire - copy-c'!F224","v":""},{"$f":"'Réponses au formulaire - copy-c'!H224","v":""},{"$f":"IFERROR(INT((DATEVALUE(TODAY())-DATEVALUE(TRIM('Réponses au formulaire - copy-c'!L224)))/365), \"?\")","v":"?"},"#N/A","#N/A",null,{"$f":"'Réponses au formulaire - copy-c'!I224","v":""},{"$f":"'Réponses au formulaire - copy-c'!J224","v":""},{"$f":"'Réponses au formulaire - copy-c'!K224","v":""},"-",{"$f":"'Réponses au formulaire - copy-c'!O224","v":""},"Non précisé",{"$f":"'Réponses au formulaire - copy-c'!Q224","v":""},"Peu importe",{"$f":"'Réponses au formulaire - copy-c'!P224","v":""},"PJ+PNJ"]
[{"$f":"DATE(YEAR('Réponses au formulaire - copy-c'!A225), MONTH('Réponses au formulaire - copy-c'!A225), DAY('Réponses au formulaire - copy-c'!A225))","v":"3799-12-30"},{"$f":"'Réponses au formulaire - copy-c'!E225","v":""},{"$f":"'Réponses au formulaire - copy-c'!F225","v":""},{"$f":"'Réponses au formulaire - copy-c'!H225","v":""},{"$f":"IFERROR(INT((DATEVALUE(TODAY())-DATEVALUE(TRIM('Réponses au formulaire - copy-c'!L225)))/365), \"?\")","v":"?"},"#N/A","#N/A",null,{"$f":"'Réponses au formulaire - copy-c'!I225","v":""},{"$f":"'Réponses au formulaire - copy-c'!J225","v":""},{"$f":"'Réponses au formulaire - copy-c'!K225","v":""},"-",{"$f":"'Réponses au formulaire - copy-c'!O225","v":""},"Non précisé",{"$f":"'Réponses au formulaire - copy-c'!Q225","v":""},"Peu importe",{"$f":"'Réponses au formulaire - copy-c'!P225","v":""},"PJ+PNJ"]
[{"$f":"DATE(YEAR('Réponses au formulaire - copy-c'!A226), MONTH('Réponses au formulaire - copy-c'!A226), DAY('Réponses au formulaire - copy-c'!A226))","v":"3799-12-30"},{"$f":"'Réponses au formulaire - copy-c'!E226","v":""},{"$f":"'Réponses au formulaire - copy-c'!F226","v":""},{"$f":"'Réponses au formulaire - copy-c'!H226","v":""},{"$f":"IFERROR(INT((DATEVALUE(TODAY())-DATEVALUE(TRIM('Réponses au formulaire - copy-c'!L226)))/365), \"?\")","v":"?"},"#N/A","#N/A",null,{"$f":"'Réponses au formulaire - copy-c'!I226","v":""},{"$f":"'Réponses au formulaire - copy-c'!J226","v":""},{"$f":"'Réponses au formulaire - copy-c'!K226","v":""},"-",{"$f":"'Réponses au formulaire - copy-c'!O226","v":""},"Non précisé",{"$f":"'Réponses au formulaire - copy-c'!Q226","v":""},"Peu importe",{"$f":"'Réponses au formulaire - copy-c'!P226","v":""},"PJ+PNJ"]
[{"$f":"DATE(YEAR('Réponses au formulaire - copy-c'!A227), MONTH('Réponses au formulaire - copy-c'!A227), DAY('Réponses au formulaire - copy-c'!A227))","v":"3799-12-30"},{"$f":"'Réponses au formulaire - copy-c'!E227","v":""},{"$f":"'Réponses au formulaire - copy-c'!F227","v":""},{"$f":"'Réponses au formulaire - copy-c'!H227","v":""},{"$f":"IFERROR(INT((DATEVALUE(TODAY())-DATEVALUE(TRIM('Réponses au formulaire - copy-c'!L227)))/365), \"?\")","v":"?"},"#N/A","#N/A",null,{"$f":"'Réponses au formulaire - copy-c'!I227","v":""},{"$f":"'Réponses au formulaire - copy-c'!J227","v":""},{"$f":"'Réponses au formulaire - copy-c'!K227","v":""},"-",{"$f":"'Réponses au formulaire - copy-c'!O227","v":""},"Non précisé",{"$f":"'Réponses au formulaire - copy-c'!Q227","v":""},"Peu importe",{"$f":"'Réponses au formulaire - copy-c'!P227","v":""},"PJ+PNJ"]
[{"$f":"DATE(YEAR('Réponses au formulaire - copy-c'!A228), MONTH('Réponses au formulaire - copy-c'!A228), DAY('Réponses au formulaire - copy-c'!A228))","v":"3799-12-30"},{"$f":"'Réponses au formulaire - copy-c'!E228","v":""},{"$f":"'Réponses au formulaire - copy-c'!F228","v":""},{"$f":"'Réponses au formulaire - copy-c'!H228","v":""},{"$f":"IFERROR(INT((DATEVALUE(TODAY())-DATEVALUE(TRIM('Réponses au formulaire - copy-c'!L228)))/365), \"?\")","v":"?"},"#N/A","#N/A",null,{"$f":"'Réponses au formulaire - copy-c'!I228","v":""},{"$f":"'Réponses au formulaire - copy-c'!J228","v":""},{"$f":"'Réponses au formulaire - copy-c'!K228","v":""},"-",{"$f":"'Réponses au formulaire - copy-c'!O228","v":""},"Non précisé",{"$f":"'Réponses au formulaire - copy-c'!Q228","v":""},"Peu importe",{"$f":"'Réponses au formulaire - copy-c'!P228","v":""},"PJ+PNJ"]
[{"$f":"DATE(YEAR('Réponses au formulaire - copy-c'!A229), MONTH('Réponses au formulaire - copy-c'!A229), DAY('Réponses au formulaire - copy-c'!A229))","v":"3799-12-30"},{"$f":"'Réponses au formulaire - copy-c'!E229","v":""},{"$f":"'Réponses au formulaire - copy-c'!F229","v":""},{"$f":"'Réponses au formulaire - copy-c'!H229","v":""},{"$f":"IFERROR(INT((DATEVALUE(TODAY())-DATEVALUE(TRIM('Réponses au formulaire - copy-c'!L229)))/365), \"?\")","v":"?"},"#N/A","#N/A",null,{"$f":"'Réponses au formulaire - copy-c'!I229","v":""},{"$f":"'Réponses au formulaire - copy-c'!J229","v":""},{"$f":"'Réponses au formulaire - copy-c'!K229","v":""},"-",{"$f":"'Réponses au formulaire - copy-c'!O229","v":""},"Non précisé",{"$f":"'Réponses au formulaire - copy-c'!Q229","v":""},"Peu importe",{"$f":"'Réponses au formulaire - copy-c'!P229","v":""},"PJ+PNJ"]
[{"$f":"DATE(YEAR('Réponses au formulaire - copy-c'!A230), MONTH('Réponses au formulaire - copy-c'!A230), DAY('Réponses au formulaire - copy-c'!A230))","v":"3799-12-30"},{"$f":"'Réponses au formulaire - copy-c'!E230","v":""},{"$f":"'Réponses au formulaire - copy-c'!F230","v":""},{"$f":"'Réponses au formulaire - copy-c'!H230","v":""},{"$f":"IFERROR(INT((DATEVALUE(TODAY())-DATEVALUE(TRIM('Réponses au formulaire - copy-c'!L230)))/365), \"?\")","v":"?"},"#N/A","#N/A",null,{"$f":"'Réponses au formulaire - copy-c'!I230","v":""},{"$f":"'Réponses au formulaire - copy-c'!J230","v":""},{"$f":"'Réponses au formulaire - copy-c'!K230","v":""},"-",{"$f":"'Réponses au formulaire - copy-c'!O230","v":""},"Non précisé",{"$f":"'Réponses au formulaire - copy-c'!Q230","v":""},"Peu importe",{"$f":"'Réponses au formulaire - copy-c'!P230","v":""},"PJ+PNJ"]
[{"$f":"DATE(YEAR('Réponses au formulaire - copy-c'!A231), MONTH('Réponses au formulaire - copy-c'!A231), DAY('Réponses au formulaire - copy-c'!A231))","v":"3799-12-30"},{"$f":"'Réponses au formulaire - copy-c'!E231","v":""},{"$f":"'Réponses au formulaire - copy-c'!F231","v":""},{"$f":"'Réponses au formulaire - copy-c'!H231","v":""},{"$f":"IFERROR(INT((DATEVALUE(TODAY())-DATEVALUE(TRIM('Réponses au formulaire - copy-c'!L231)))/365), \"?\")","v":"?"},"#N/A","#N/A",null,{"$f":"'Réponses au formulaire - copy-c'!I231","v":""},{"$f":"'Réponses au formulaire - copy-c'!J231","v":""},{"$f":"'Réponses au formulaire - copy-c'!K231","v":""},"-",{"$f":"'Réponses au formulaire - copy-c'!O231","v":""},"Non précisé",{"$f":"'Réponses au formulaire - copy-c'!Q231","v":""},"Peu importe",{"$f":"'Réponses au formulaire - copy-c'!P231","v":""},"PJ+PNJ"]
[{"$f":"DATE(YEAR('Réponses au formulaire - copy-c'!A232), MONTH('Réponses au formulaire - copy-c'!A232), DAY('Réponses au formulaire - copy-c'!A232))","v":"3799-12-30"},{"$f":"'Réponses au formulaire - copy-c'!E232","v":""},{"$f":"'Réponses au formulaire - copy-c'!F232","v":""},{"$f":"'Réponses au formulaire - copy-c'!H232","v":""},{"$f":"IFERROR(INT((DATEVALUE(TODAY())-DATEVALUE(TRIM('Réponses au formulaire - copy-c'!L232)))/365), \"?\")","v":"?"},"#N/A","#N/A",null,{"$f":"'Réponses au formulaire - copy-c'!I232","v":""},{"$f":"'Réponses au formulaire - copy-c'!J232","v":""},{"$f":"'Réponses au formulaire - copy-c'!K232","v":""},"-",{"$f":"'Réponses au formulaire - copy-c'!O232","v":""},"Non précisé",{"$f":"'Réponses au formulaire - copy-c'!Q232","v":""},"Peu importe",{"$f":"'Réponses au formulaire - copy-c'!P232","v":""},"PJ+PNJ"]
[{"$f":"DATE(YEAR('Réponses au formulaire - copy-c'!A233), MONTH('Réponses au formulaire - copy-c'!A233), DAY('Réponses au formulaire - copy-c'!A233))","v":"3799-12-30"},{"$f":"'Réponses au formulaire - copy-c'!E233","v":""},{"$f":"'Réponses au formulaire - copy-c'!F233","v":""},{"$f":"'Réponses au formulaire - copy-c'!H233","v":""},{"$f":"IFERROR(INT((DATEVALUE(TODAY())-DATEVALUE(TRIM('Réponses au formulaire - copy-c'!L233)))/365), \"?\")","v":"?"},"#N/A","#N/A",null,{"$f":"'Réponses au formulaire - copy-c'!I233","v":""},{"$f":"'Réponses au formulaire - copy-c'!J233","v":""},{"$f":"'Réponses au formulaire - copy-c'!K233","v":""},"-",{"$f":"'Réponses au formulaire - copy-c'!O233","v":""},"Non précisé",{"$f":"'Réponses au formulaire - copy-c'!Q233","v":""},"Peu importe",{"$f":"'Réponses au formulaire - copy-c'!P233","v":""},"PJ+PNJ"]
{"$rows_empty":268}
[{"$f":"FILTER(personnages!A2:E, personnages!F2:F=\"Le Fort\")","v":"#ERROR!"}]

{"sheet":"Tableau croisé dynamique 1","index":17,"n_rows":0,"n_cols":0,"rows_kept":0,"cut":false,"hidden":false,"merged":[]}

{"sheet":"Jack - prospection FB","index":18,"n_rows":51,"n_cols":23,"rows_kept":51,"cut":false,"hidden":false,"merged":[[0,7,0,8],[0,9,0,10],[0,13,0,14],[0,15,0,16]]}
["contact FB","contact discord","contact mail","discussion ok",null,null,null,"mail envoyé",null,"joueur à mettre en attente",null,"réponse OK",null,"pas d'ambiguité",null,"a checker avec Shindra"]
["2024-01-12","ARVIN-BEROD ","Florence","F",33.0,"flofloab@yahoo.fr","Florence ARVIN-BEROD ","0617161474","Pur PJ","-","juin","Navire et fort","OK","OK","juin","messenger envoyé",null,"PAF non reçue","non reçue","R.A.S.","samedi","Reste"]
["2024-01-12","Bergeret ","Mathieu / Leo Gueguen ,dit la teigne","H","l","bergeretmathieu.pro@gmail.com","Spoiler TheThird ","0684346225","Pur PJ","relancé 8/1","Non précisé","Navire et fort","OK","OK","non attribué","non attribué",267.0,"PAF partielle","non reçue","R.A.S.","samedi","Reste"]
["2024-04-23","Bessière","Johanna","F",40.0,"johanna.bessiere@gmail.com","Johanna Be","0682042682","Pur PJ","KO","Les deux","Navire et fort","OK","OK","juin","Navire & Fort",400.0,"PAF finalisée","non reçue","R.A.S.","samedi","Reste"]
["2024-01-12","Bouchet","Mathis","H",31.0,"mathis.a.bouchet@gmail.com","Mathis Gibert","0658061778","Pur PJ","relancé 8/1","Non précisé","Peu importe","OK","KO","non attribué","Fort seulement",null,"PAF non reçue","non reçue","R.A.S.","samedi","Reste"]
["2024-01-12","Bourdette","Julien","H",43.0,"clodoweg@gmail.com","ju.bourdette","0641780852","Pur PJ","-","Non précisé","Navire et fort","OK","OK","juin","Navire & Fort",400.0,"PAF finalisée","non reçue","R.A.S.","samedi","Reste"]
["2024-01-12","BUCAS","Ced","H",50.0,"sacub@sfr.fr","Cire de Sacub","0675585665","Pur PJ","-","Non précisé","Navire et fort","OK","OK","juin","Navire & Fort",400.0,"PAF finalisée","non reçue","R.A.S.","samedi","Reste"]
["2024-01-12","CERUTTI","Laëtitia","F",35.0,"laetitia.cerutti@gozmail.bzh","Laëtitia Elune",6.89400155E8,"PJ+PNJ","-","Non précisé","Navire et fort","OK","OK","juin","Navire & Fort",267.0,"PAF partielle","non reçue","R.A.S.","samedi","Reste"]
["2024-02-04","Culot ","Grégoire","H",39.0,"gregoire.culot@gmail.com","Grégoire Culot","0672817191","Pur PJ","relancé 6/11 ==> plutot non","juin","Navire et fort","OK","OK","juin","non attribué",null,"PAF non reçue","non reçue","R.A.S.","samedi","Reste"]
["2024-04-08","David","Cédric","H",44.0,"tremblechene@gmail.com","cédric abitbol","0695107890","PJ+PNJ","relancé 8/1","septembre","Peu importe","OK","KO","septembre","Navire & Fort",null,"PAF partielle","non reçue","R.A.S.","samedi","Reste","apparemment il aurait tout payé et on l'a déjà relancé 3 fois depuis"]
["2024-06-03","De Maupertuis","Renart","H",43.0,"mithridate.vi@gmail.com","Renart de Maupertuis","0617175397","Pur PJ","-","Les deux","Navire et fort","OK","OK","juin","Navire & Fort",400.0,"PAF finalisée","non reçue","R.A.S.","samedi","Reste"]
["2024-06-22","DELAPORTE","Arnaud","H",47.0,"lordfiendel@wanadoo.fr","Arnaud Delaporte","0660682995","PJ+PNJ","-","Les deux","Peu importe","OK","KO","non attribué","Navire & Fort",400.0,"PAF finalisée","non reçue","R.A.S.","samedi","Reste"]
["2024-01-19","Dumas","Marc","H",53.0,"markal.dumas@gmail.com","Marc-Alain Dumas","0603192840","PJ+PNJ","-","juin","Seulement au fort","OK","OK","juin","Fort seulement",200.0,"PAF finalisée","non reçue","R.A.S.","samedi","Reste"]
["2024-02-10","Duvert","Guy-Roger","H",49.0,"grmuse@yahoo.fr","Guy-Roger Duvert","0616133285","Pur PJ","-","septembre","Peu importe","OK","OK","septembre","Navire & Fort",405.0,"PAF finalisée","non reçue","R.A.S.","samedi","Reste"]
["2024-06-18","Fabre","Alexandre","H",39.0,"alexandre.fabre@free.fr","Alexandre Fabre","0607341244","Pur PJ","relancé 8/1","Les deux","Navire et fort","OK","OK","non attribué","non attribué",null,"PAF non reçue","non reçue","R.A.S.","samedi","Reste"]
["2024-01-12","Faure ","Guillaume","H",36.0,"Versangre@gmail.com","Yôm Guillaume Faure ","0681454981","PJ+PNJ","relancé 8/1","Non précisé","Peu importe","OK","KO","non attribué","non attribué",null,"PAF non reçue","non reçue","R.A.S.","samedi","Reste"]
["2024-01-22","GANTET","Guillaume","H",39.0,"guilland@gmail.com","Guillaume GANTET",6.4919371E8,"Pur PJ","relancé 8/1","Les deux","Navire et fort","OK","OK","non attribué","non attribué",null,"PAF non reçue","non reçue","R.A.S.","samedi","NON"]
["2024-07-22","gerberon ","Elodie","F",42.0,"dodimails@gmail.com","Élodie Circlepuke ","0666617248","Pur PJ","relancé 8/1","juin","Navire et fort","OK","OK","juin","non attribué",267.0,"PAF partielle","non reçue","R.A.S.","samedi","Reste","a tout payé, preuve à l'appui"]
["2024-01-14","Harrand ","Chloé","F",29.0,"chloeharrand@gmail.com","Chloé Sardine",6.11290595E8,"PJ+PNJ","relancé 8/1 - fort","juin","Navire et fort","OK","OK","non attribué","non attribué",null,"PAF non reçue","non reçue","R.A.S.","samedi","Reste","apparemment elle aurait tout payé"]
["2024-01-12","Hawkins ","James","H",33.0,"stevenlecointre0@gmail.com","James Hawkins ","0631587139","PJ+PNJ","-","Non précisé","Seulement au fort","OK","OK","non attribué","non attribué",0.0,"gratuit","non reçue","R.A.S.","samedi","Reste"]
["2024-01-12","Jacq","Gaëlle","F",46.0,"gaellejacq@yahoo.com","Adira GJ",6.30975006E8,"Pur PJ","-","juin","Navire et fort","OK","OK","juin","non attribué",400.0,"PAF finalisée","non reçue","R.A.S.","samedi","Reste"]
["2024-06-16","LEHMANN","Christian","H",66.0,"drclehmann@aol.com","christian lehmann","0686883068","Pur PJ","KO","Les deux","Navire et fort","OK","OK","non attribué","non attribué",null,"PAF finalisée","non reçue","R.A.S.","samedi","Reste"]
["2024-01-12","Letteron ","Seb","H",56.0,"rencata@aliceadsl.fr","Seb Lett","0622546336","PJ+PNJ","-","Non précisé","Seulement au fort","OK","OK","non attribué","non attribué",205.0,"PAF finalisée","non reçue","R.A.S.","samedi","Reste"]
["2024-01-12","Lorente","Matthieu","H",41.0,"lorentemathieu@gmail.com","Mathieu LORENTE","0647832624","Pur PJ","relancé 6/11 ==> plutot non","septembre","Seulement au fort","OK","KO","non attribué","non attribué",null,"PAF finalisée","non reçue","R.A.S.","samedi","Reste"]
["2024-01-12","Lorente","Yann","H",41.0,"yann.lorente@gmail.com","Yann lo","+33630208984","PJ+PNJ","relancé 8/1","Non précisé","Navire et fort","OK","KO","juin","Navire & Fort",133.4,"PAF partielle","non reçue","R.A.S.","samedi","Reste"]
["2024-01-14","MAGNANT","Catherine","F",48.0,"catherine.magnant@orange.fr","Catherine Magnant",null,"PJ+PNJ","relancé 8/1","Non précisé","Peu importe","OK","KO","juin","Navire & Fort",267.0,"PAF partielle","non reçue","R.A.S.","samedi","Reste","apparemment aurait tout payé"]
[45303.0,"MAILLOT","Roland","H",65.0,"combatmedievalroland@hotmail.fr","Roland Maillot","0660768099","PJ+PNJ","-","Non précisé","Navire et fort","OK","OK","non attribué","non attribué",null,"PAF finalisée","non reçue","R.A.S.","samedi","Reste"]
[45332.0,"Perianwyr","Renaud","H",47.0,"perianwyr@protonmail.com","pas de facebook, ni de comptes RS","+33667250984","Pur PJ","-","juin","Navire et fort","OK","OK","juin","non attribué",null,"PAF finalisée","non reçue","R.A.S.","samedi","NON"]
["2024-01-12","PHILBERT","Charles","H",42.0,"Philbert.charles@neuf.fr","charles PHILBERT","0688981791","PJ+PNJ","-","Non précisé","Navire et fort","OK","OK","non attribué","non attribué",267.0,"PAF partielle","non reçue","R.A.S.","samedi","Reste"]
["2024-01-19","Pitel","Marion","F",29.0,"marionpitel.scott@gmail.com","Mads Croc","0673467578","PJ+PNJ","-","juin","Seulement au fort","OK","OK","juin","Fort seulement",200.0,"PAF finalisée","non reçue","R.A.S.","samedi","Reste"]
["2024-01-12","Richard","Marion","F",35.0,"marionjsphand@yahoo.fr","Handmar",7.81107844E8,"Pur PJ","-","juin","Navire et fort","OK","OK","non attribué","Navire & Fort",800.0,"PAF finalisée","non reçue","R.A.S.","samedi","Reste"]
["2024-04-25","Rozier-Peltier","Morgan","H",36.0,"morgane.rozier@gmail.com","Morgan Rozier","0652838378","PJ+PNJ","-","Les deux","Peu importe","OK","KO","non attribué","Navire & Fort",267.0,"PAF partielle","non reçue","R.A.S.","samedi","Reste"]
["2024-04-30","ROZIER-PELTIER","Jean-Philippe","H",38.0,"jean.philippe.peltier@gmail.com","Jean-Philippe PELTIER",6.71075759E8,"Pur PJ","relancé 8/1","Les deux","Seulement au fort","OK","OK","non attribué","Navire & Fort",null,"PAF partielle","non reçue","R.A.S.","samedi","Reste"]
["2024-06-17","Vacari","Lydia","F",35.0,"vacarilydia@hotmail.fr","Lydia Vacari","0607341244","PJ+PNJ","relancé 8/1","septembre","Seulement au fort","OK","OK","non attribué","non attribué",null,"PAF non reçue","non reçue","R.A.S.","samedi","Reste"]
["2024-01-12","Warszawski ","Jessica","F",35.0,"jessica.warszawski@gmail.com","Jessica warszawski","0689440259","PJ+PNJ","oui : septembre","septembre","Navire et fort","OK","OK","non attribué","non attribué",267.0,"PAF partielle","non reçue","R.A.S.","samedi","Reste"]
["2024-02-10","Hurel","Marcouf","H",36.0,"marcouf.hurel@gmail.com","Dagoth Pat","+33619763483","Pur PJ","-","juin","Navire et fort","OK","OK","juin","non attribué/messenger envoyé",267.0,"PAF partielle","non reçue","R.A.S.","samedi","Reste"]
["2024-01-19","Barraban","Clémentine ","F",35.0,"clementine.barraban@gmail.com","Clémentine Barraban","0618267633","Pur PJ","relancé 8/1","Les deux","Navire et fort","OK","OK","non attribué","non attribué messenger envoyé",0.0,"PAF finalisée","non reçue","R.A.S.","samedi","Reste"]
["2024-01-21","Doche De Laquintane ","Nicolas ","H",44.0,"jeanflur@gmail.com","Jean Flur","0672711392","PJ+PNJ","relancé 8/1","Les deux","Peu importe","OK","OK","non attribué","non attribué messenger envoyé",null,"PAF non reçue","non reçue","R.A.S.","samedi","Reste"]
["2024-02-20","Giraud","Caroline","F",43.0,"blue.hirondelle@gmail.com","Caroline Giraud ","0754053891","Pur PJ","relancé 8/1","septembre","Peu importe","OK","OK","septembre","non attribué messenger envoyé",null,"PAF non reçue","non reçue","R.A.S.","samedi","Reste"]
["2024-01-19","Jallet","Benoit","H",39.0,"bjallet@gmail.com","Benoit Jallet","0674223846","Pur PJ","-","Les deux","Peu importe","OK","OK","juin","Navire & Fort",400.0,"PAF finalisée","non reçue","R.A.S.","samedi","Reste"]
["2024-02-04","Lair","François","H",38.0,"lair.francois@gmail.com","Francois Lair","0630479704","Pur PJ","-","Les deux","Peu importe","OK","OK","non attribué","Navire & Fort messenger envoyé",410.0,"PAF finalisée","non reçue","R.A.S.","samedi","Reste"]
[45303.0,"Lhoste","Laurie-Anne","F",28.0,"laurielhoste@hotmail.fr","Laurie-Anne Lhoste","0786017276","PJ+PNJ","relancé 8/1","Non précisé","Navire et fort","OK","OK","non attribué","non attribué",null,"PAF non reçue","non reçue","R.A.S.","samedi","NON","participation annulée"]
[45304.0,"Maitreheu","Mélodie","F",34.0,"melodie.maitreheu@gmail.com","Mélodie Maitreheu","0623465958","Pur PJ","relancé 8/1","Non précisé","Navire et fort","OK","OK","non attribué","non attribué",null,"PAF non reçue","non reçue","R.A.S.","samedi","Reste"]
["2024-03-15","Poimboeuf ","Thibault ","H",31.0,"georin@live.fr","Kalma San ","0679585124","PJ+PNJ","-","Les deux","Navire et fort","OK","OK","non attribué","Navire & Fort messenger envoyé",400.0,"PAF finalisée","non reçue","R.A.S.","samedi","Reste"]
[45313.0,"Raffy","Fabienne ","F",40.0,"fabienneraffy@hotmail.fr","Sra Philo Fabie",6.75958592E8,"Pur PJ","relancé 8/1","Les deux","Navire et fort","OK","OK","non attribué","non attribué",null,"PAF non reçue","non reçue","R.A.S.","samedi","NON","n'a pas reçu le mail de confirmation"]
["2024-01-13","Raimbault ","Cécile","F",43.0,"llialn@gmail.com","Llialn di Maluisien","0620226425","Pur PJ","-","juin","Navire et fort","OK","OK","juin","non attribué","ok","PAF finalisée","non reçue","R.A.S.","samedi","Reste"]
["2024-01-12","RICHARD","Patrice","H",47.0,"pastbug@msn.com","Patrice rich","0781481945","Pur PJ","-","juin","Navire et fort","OK","OK","non attribué","non attribué","ok","PAF finalisée","non reçue","R.A.S.","samedi","Reste"]
[45303.0,"RIGAUD","Véronique","F",60.0,"rigaudvero@yahoo.fr","Véronique RiZa","0613792264","Pur PJ","-","juin","Navire et fort","OK","OK","non attribué","non attribué",267.0,"PAF partielle","non reçue","R.A.S.","samedi","Reste"]
["2024-02-06","Thiriez","maryne","F",46.0,"m.thiriez.pro@gmail.com","maryne thiriez","0695477223","Pur PJ","-","juin","Peu importe","OK","OK","juin","non attribué",null,"PAF non reçue","non reçue","R.A.S.","samedi","NON"]
["2024-01-13","VIGIER ","Yann","H",48.0,"yanvigier63@gmail.com","Lialn Di Maluisien","0634991751","PJ+PNJ","-","juin","Navire et fort","OK","OK","juin","non attribué",534.0,"PAF partielle","non reçue","R.A.S.","samedi","Reste"]
["2024-01-15","Vignier","Fanny","F","?","fannyvignier@hotmail.fr","Fanny Vgn",null,"Pur PJ","-","Les deux","Navire et fort","OK","OK","non attribué","non attribué",267.0,"PAF partielle","non reçue","R.A.S.","samedi","Reste"]